{"text_format":"1","workbook":"xlsx","n_sheets":5,"sheets":["Instructions","Pupil List","Results","Sheet1","Sheet3"],"not_rendered":{"charts":0,"images":2,"macros":1,"external_links":0,"defined_names":10,"comments":0,"pivot_tables":1},"unopened":[],"bounds":{"document_bytes":16777216,"sheet_cells":100000,"rows_first":2000,"rows_last":500,"rows_between":2000,"halvings":0,"cell_chars":16384,"cell_head_chars":4096},"cells_cut":0,"cells_raw":0,"read":"whole","date_system":"1900"}

{"sheet":"Instructions","index":0,"n_rows":39,"n_cols":3,"rows_kept":39,"cut":false,"hidden":false,"merged":[]}
["Lancashire County Council Key Stage 2 Ready Reckoner - Template"]
[]
[]
["Pupil List",null,"Primary school accountability in 2025: technical guide"]
[]
["Please complete the pupil details in columns A to K within the pupil list sheet"]
[]
["In column L,  add the pupil's KS1 score that will be used for progress measure."]
["This is the average of their KS1 reading & writing converted scores, then the average of this score and their KS1 converted score."]
["(Reading+Writing / 2) + (Maths) / 2"]
["Please see the KS1 Point Scores section in Primary School Accoutability in 2025 Technical Guide:"]
["Primary school accountability in 2025: technical guide"]
[]
["In columns M, N & O add in what the pupil is expected to get at Key Stage 2 - or a scaled score from a practice test. "]
["This should then calculate the expected progress measure in columns P, Q, R."]
[]
["Multiple custom filters can be added to the grouped Results. To do this, first change the  wording in cell I3"]
["from 'Custom', and change any children you want to remove from this group to say \"No\" in the below column. "]
["Repeat in columns J & K for additional custom filters."]
[]
["Results"]
[]
["This shows your schools results by group. Any changes made in the \"Pupil List\" sheet will be reflected in here."]
[]
["Please find below descriptions of each of the columns:"]
["Reading SS                The average Reading Scaled Score"]
["Reading AS+%         Percentage of pupils achieving expected standard or above in their reading test"]
["Reading HSS%         Percentage of pupils achieving a High Scaled Score in their reading test"]
["Maths SS                   The average Maths Scaled Score"]
["Maths AS+%             Percentage of pupils achieving expected standard or above in their maths test"]
["Maths HSS%             Percentage of pupils achieving a High Scaled Score in their maths test"]
["Writing AS+%          Percentage of pupils achieving expected standard or above in their writing teacher assessment"]
["Writing GDS%         Percentage of pupils achieving a Greater Depth of Standard in their reading teacher assessment"]
["RWM %AS                Percentage of pupils achieving expected standard ONLY in reading, writing and maths"]
["RWM %AS+              Percentage of pupils achieving expected standard and above in reading, writing and maths"]
["RWM %HSS              Percentage of pupils achieving High Scaled Score in reading and maths and Greater Depth in writing"]
["Read Prog                 Average Reading Progress (based off the 2016/17 Prior Attainment Group figures)"]
["Writ Prog                  Average Writing Progress (based off the 2016/17 Prior Attainment Group figures)"]
["Math Prog                Average Maths Progress (based off the 2016/17 Prior Attainment Group figures)"]

{"sheet":"Pupil List","index":1,"n_rows":324,"n_cols":67,"rows_kept":324,"cut":false,"hidden":false,"merged":[]}
["KS2 Ready Reckoner - List Of Pupils"]
[]
["Forename","Surname","Include","Gender","Ethnicity","SEN","FSM","FSM6","Custom 1","Custom 2","Custom 3","KS1 Average Point Score For Progress","Reading","Writing TA","Maths","Reading","Writing","Maths","ReadAS","ReadAS+","ReadHSS","MathAS","MathAS+","MathHSS","WritAS","WritAS+","WritHSS","RWMASNo","RWMASFlag","RWMAS+No","RWMAS+Flag","RWMHSSNo","RWMHSSFlag","SEN Read Count","SEN Writ Count","SEN Math Count","SEN Read Count2","SEN Math Count2","band 1","band 2","band 3","band 4","band 5","band 6","band 7","band 8","band 9","band 10","band 11","band 12","band 13","band 14","band 15","band 16","band 17","band 18","band 19","band 20","band 21","band 22","band 23","band 24","Code","Read","Writ","Math","Writ Conv"]
[null,null,"Yes",null,null,null,null,null,null,null,null,null,null,null,null,{"$f":"IFERROR((M4-BL4),\"\")","v":""},{"$f":"IFERROR((BO4-BM4),\"\")","v":""},{"$f":"IFERROR((O4-BN4),\"\")","v":""},{"$f":"IF(A4=\"\",\"\",IF(C4=\"No\",\"\",IF((AND(M4>=100,M4<110)),1,0)))","v":""},{"$f":"IF(A4=\"\",\"\",IF(C4=\"No\",\"\",IF((AND(M4>=100,M4<130)),1,0)))","v":""},{"$f":"IF(A4=\"\",\"\",IF(C4=\"No\",\"\",IF((AND(M4>=110,M4<130)),1,0)))","v":""},{"$f":"IF(A4=\"\",\"\",IF(C4=\"No\",\"\",IF((AND(O4>=100,O4<110)),1,0)))","v":""},{"$f":"IF(A4=\"\",\"\",IF(C4=\"No\",\"\",IF((AND(O4>=100,O4<130)),1,0)))","v":""},{"$f":"IF(A4=\"\",\"\",IF(C4=\"No\",\"\",IF((AND(O4>=110,O4<130)),1,0)))","v":""},{"$f":"IF(A4=\"\",\"\",IF(C4=\"No\",\"\",IF(N4=\"EXS\",1,0)))","v":""},{"$f":"IF(A4=\"\",\"\",IF(C4=\"No\",\"\",IF((OR(N4=\"GDS\",N4=\"EXS\")),1,0)))","v":""},{"$f":"IF(A4=\"\",\"\",IF(C4=\"No\",\"\",IF(N4=\"GDS\",1,0)))","v":""},{"$f":"IF(A4=\"\",\"\",IF(C4=\"No\",\"\",SUM(S4+V4+Y4)))","v":""},{"$f":"IF(A4=\"\",\"\",IF(C4=\"No\",\"\",IF(AB4=3,1,0)))","v":""},{"$f":"IF(A4=\"\",\"\",IF(C4=\"No\",\"\",SUM(T4+W4+Z4)))","v":""},{"$f":"IF(A4=\"\",\"\",IF(C4=\"No\",\"\",IF(AD4=3,1,0)))","v":""},{"$f":"IF(A4=\"\",\"\",IF(C4=\"No\",\"\",SUM(U4+X4+AA4)))","v":""},{"$f":"IF(A4=\"\",\"\",IF(C4=\"No\",\"\",IF(AF4=3,1,0)))","v":""},{"$f":"IF(P4=\"\",\"\",\"Y\")","v":""},{"$f":"IF(Q4=\"\",\"\",\"Y\")","v":""},{"$f":"IF(R4=\"\",\"\",\"Y\")","v":""},{"$f":"IF(M4=\"\",\"\",\"Y\")","v":""},{"$f":"IF(O4=\"\",\"\",\"Y\")","v":""},{"$f":"IF($L4=\"\",\"\",IF(AND($L4>=Sheet1!$F$2,'Pupil List'!$L4<Sheet1!$G$2),Sheet1!$A$2,\"\"))","v":""},{"$f":"IF($L4=\"\",\"\",IF(AND($L4>=Sheet1!$F$3,'Pupil List'!$L4<Sheet1!$G$3),Sheet1!$A$3,\"\"))","v":""},{"$f":"IF($L4=\"\",\"\",IF(AND($L4>=Sheet1!$F$4,'Pupil List'!$L4<Sheet1!$G$4),Sheet1!$A$4,\"\"))","v":""},{"$f":"IF($L4=\"\",\"\",IF(AND($L4>=Sheet1!$F$5,'Pupil List'!$L4<Sheet1!$G$5),Sheet1!$A$5,\"\"))","v":""},{"$f":"IF($L4=\"\",\"\",IF(AND($L4>=Sheet1!$F$6,'Pupil List'!$L4<Sheet1!$G$6),Sheet1!$A$6,\"\"))","v":""},{"$f":"IF($L4=\"\",\"\",IF(AND($L4>=Sheet1!$F$7,'Pupil List'!$L4<Sheet1!$G$7),Sheet1!$A$7,\"\"))","v":""},{"$f":"IF($L4=\"\",\"\",IF(AND($L4>=Sheet1!$F$8,'Pupil List'!$L4<Sheet1!$G$8),Sheet1!$A$8,\"\"))","v":""},{"$f":"IF($L4=\"\",\"\",IF(AND($L4>=Sheet1!$F$9,'Pupil List'!$L4<Sheet1!$G$9),Sheet1!$A$9,\"\"))","v":""},{"$f":"IF($L4=\"\",\"\",IF(AND($L4>=Sheet1!$F$10,'Pupil List'!$L4<Sheet1!$G$10),Sheet1!$A$10,\"\"))","v":""},{"$f":"IF($L4=\"\",\"\",IF(AND($L4>=Sheet1!$F$11,'Pupil List'!$L4<Sheet1!$G$11),Sheet1!$A$11,\"\"))","v":""},{"$f":"IF($L4=\"\",\"\",IF(AND($L4>=Sheet1!$F$12,'Pupil List'!$L4<Sheet1!$G$12),Sheet1!$A$12,\"\"))","v":""},{"$f":"IF($L4=\"\",\"\",IF(AND($L4>=Sheet1!$F$13,'Pupil List'!$L4<Sheet1!$G$13),Sheet1!$A$13,\"\"))","v":""},{"$f":"IF($L4=\"\",\"\",IF(AND($L4>=Sheet1!$F$14,'Pupil List'!$L4<Sheet1!$G$14),Sheet1!$A$14,\"\"))","v":""},{"$f":"IF($L4=\"\",\"\",IF(AND($L4>=Sheet1!$F$15,'Pupil List'!$L4<Sheet1!$G$15),Sheet1!$A$15,\"\"))","v":""},{"$f":"IF($L4=\"\",\"\",IF(AND($L4>=Sheet1!$F$16,'Pupil List'!$L4<Sheet1!$G$16),Sheet1!$A$16,\"\"))","v":""},{"$f":"IF($L4=\"\",\"\",IF(AND($L4>=Sheet1!$F$17,'Pupil List'!$L4<Sheet1!$G$17),Sheet1!$A$17,\"\"))","v":""},{"$f":"IF($L4=\"\",\"\",IF(AND($L4>=Sheet1!$F$18,'Pupil List'!$L4<Sheet1!$G$18),Sheet1!$A$18,\"\"))","v":""},{"$f":"IF($L4=\"\",\"\",IF(AND($L4>=Sheet1!$F$19,'Pupil List'!$L4<Sheet1!$G$19),Sheet1!$A$19,\"\"))","v":""},{"$f":"IF($L4=\"\",\"\",IF(AND($L4>=Sheet1!$F$20,'Pupil List'!$L4<Sheet1!$G$20),Sheet1!$A$20,\"\"))","v":""},{"$f":"IF($L4=\"\",\"\",IF(AND($L4>=Sheet1!$F$21,'Pupil List'!$L4<Sheet1!$G$21),Sheet1!$A$21,\"\"))","v":""},{"$f":"IF($L4=\"\",\"\",IF(AND($L4>=Sheet1!$F$22,'Pupil List'!$L4<Sheet1!$G$22),Sheet1!$A$22,\"\"))","v":""},{"$f":"IF($L4=\"\",\"\",IF(AND($L4>=Sheet1!$F$23,'Pupil List'!$L4<Sheet1!$G$23),Sheet1!$A$23,\"\"))","v":""},{"$f":"IF($L4=\"\",\"\",IF(AND($L4>=Sheet1!$F$24,'Pupil List'!$L4<Sheet1!$G$24),Sheet1!$A$24,\"\"))","v":""},{"$f":"IF($L4=\"\",\"\",IF(AND($L4>=Sheet1!$F$25,'Pupil List'!$L4<Sheet1!$G$25),Sheet1!$A$25,\"\"))","v":""},{"$f":"INDEX(AM4:BJ4,MATCH(TRUE,INDEX((AM4:BJ4<>\"\"),0),0))","v":{"$error":"#N/A"}},{"$f":"IFERROR(VLOOKUP(BK4,Sheet1!$A$2:$E$25,3,FALSE),\"\")","v":""},{"$f":"IFERROR(VLOOKUP(BK4,Sheet1!$A$2:$E$25,4,FALSE),\"\")","v":""},{"$f":"IFERROR(VLOOKUP(BK4,Sheet1!$A$2:$E$25,5,FALSE),\"\")","v":""},{"$f":"IFERROR(VLOOKUP(N4,Sheet1!$A$29:$B$38,2,FALSE),\"\")","v":""}]
[null,null,{"$f":"IF(A5=\"\",\"\",\"Yes\")","v":""},null,null,null,null,null,{"$f":"IF(A5=\"\",\"\",\"Yes\")","v":""},{"$f":"IF(A5=\"\",\"\",\"Yes\")","v":""},{"$f":"IF(A5=\"\",\"\",\"Yes\")","v":""},null,null,null,null,"",{"$f":"IFERROR((BO5-BM5),\"\")","v":""},{"$f":"IFERROR((O5-BN5),\"\")","v":""},"","","","","","","","","","","","","","","","","","","","",{"$f":"IF($L5=\"\",\"\",IF(AND($L5>=Sheet1!$F$2,'Pupil List'!$L5<Sheet1!$G$2),Sheet1!$A$2,\"\"))","v":""},{"$f":"IF($L5=\"\",\"\",IF(AND($L5>=Sheet1!$F$3,'Pupil List'!$L5<Sheet1!$G$3),Sheet1!$A$3,\"\"))","v":""},{"$f":"IF($L5=\"\",\"\",IF(AND($L5>=Sheet1!$F$4,'Pupil List'!$L5<Sheet1!$G$4),Sheet1!$A$4,\"\"))","v":""},{"$f":"IF($L5=\"\",\"\",IF(AND($L5>=Sheet1!$F$5,'Pupil List'!$L5<Sheet1!$G$5),Sheet1!$A$5,\"\"))","v":""},{"$f":"IF($L5=\"\",\"\",IF(AND($L5>=Sheet1!$F$6,'Pupil List'!$L5<Sheet1!$G$6),Sheet1!$A$6,\"\"))","v":""},{"$f":"IF($L5=\"\",\"\",IF(AND($L5>=Sheet1!$F$7,'Pupil List'!$L5<Sheet1!$G$7),Sheet1!$A$7,\"\"))","v":""},{"$f":"IF($L5=\"\",\"\",IF(AND($L5>=Sheet1!$F$8,'Pupil List'!$L5<Sheet1!$G$8),Sheet1!$A$8,\"\"))","v":""},{"$f":"IF($L5=\"\",\"\",IF(AND($L5>=Sheet1!$F$9,'Pupil List'!$L5<Sheet1!$G$9),Sheet1!$A$9,\"\"))","v":""},{"$f":"IF($L5=\"\",\"\",IF(AND($L5>=Sheet1!$F$10,'Pupil List'!$L5<Sheet1!$G$10),Sheet1!$A$10,\"\"))","v":""},{"$f":"IF($L5=\"\",\"\",IF(AND($L5>=Sheet1!$F$11,'Pupil List'!$L5<Sheet1!$G$11),Sheet1!$A$11,\"\"))","v":""},{"$f":"IF($L5=\"\",\"\",IF(AND($L5>=Sheet1!$F$12,'Pupil List'!$L5<Sheet1!$G$12),Sheet1!$A$12,\"\"))","v":""},{"$f":"IF($L5=\"\",\"\",IF(AND($L5>=Sheet1!$F$13,'Pupil List'!$L5<Sheet1!$G$13),Sheet1!$A$13,\"\"))","v":""},{"$f":"IF($L5=\"\",\"\",IF(AND($L5>=Sheet1!$F$14,'Pupil List'!$L5<Sheet1!$G$14),Sheet1!$A$14,\"\"))","v":""},{"$f":"IF($L5=\"\",\"\",IF(AND($L5>=Sheet1!$F$15,'Pupil List'!$L5<Sheet1!$G$15),Sheet1!$A$15,\"\"))","v":""},{"$f":"IF($L5=\"\",\"\",IF(AND($L5>=Sheet1!$F$16,'Pupil List'!$L5<Sheet1!$G$16),Sheet1!$A$16,\"\"))","v":""},{"$f":"IF($L5=\"\",\"\",IF(AND($L5>=Sheet1!$F$17,'Pupil List'!$L5<Sheet1!$G$17),Sheet1!$A$17,\"\"))","v":""},{"$f":"IF($L5=\"\",\"\",IF(AND($L5>=Sheet1!$F$18,'Pupil List'!$L5<Sheet1!$G$18),Sheet1!$A$18,\"\"))","v":""},{"$f":"IF($L5=\"\",\"\",IF(AND($L5>=Sheet1!$F$19,'Pupil List'!$L5<Sheet1!$G$19),Sheet1!$A$19,\"\"))","v":""},{"$f":"IF($L5=\"\",\"\",IF(AND($L5>=Sheet1!$F$20,'Pupil List'!$L5<Sheet1!$G$20),Sheet1!$A$20,\"\"))","v":""},{"$f":"IF($L5=\"\",\"\",IF(AND($L5>=Sheet1!$F$21,'Pupil List'!$L5<Sheet1!$G$21),Sheet1!$A$21,\"\"))","v":""},{"$f":"IF($L5=\"\",\"\",IF(AND($L5>=Sheet1!$F$22,'Pupil List'!$L5<Sheet1!$G$22),Sheet1!$A$22,\"\"))","v":""},{"$f":"IF($L5=\"\",\"\",IF(AND($L5>=Sheet1!$F$23,'Pupil List'!$L5<Sheet1!$G$23),Sheet1!$A$23,\"\"))","v":""},{"$f":"IF($L5=\"\",\"\",IF(AND($L5>=Sheet1!$F$24,'Pupil List'!$L5<Sheet1!$G$24),Sheet1!$A$24,\"\"))","v":""},{"$f":"IF($L5=\"\",\"\",IF(AND($L5>=Sheet1!$F$25,'Pupil List'!$L5<Sheet1!$G$25),Sheet1!$A$25,\"\"))","v":""},{"$f":"INDEX(AM5:BJ5,MATCH(TRUE,INDEX((AM5:BJ5<>\"\"),0),0))","v":{"$error":"#N/A"}},{"$f":"IFERROR(VLOOKUP(BK5,Sheet1!$A$2:$E$25,3,FALSE),\"\")","v":""},{"$f":"IFERROR(VLOOKUP(BK5,Sheet1!$A$2:$E$25,4,FALSE),\"\")","v":""},{"$f":"IFERROR(VLOOKUP(BK5,Sheet1!$A$2:$E$25,5,FALSE),\"\")","v":""},{"$f":"IFERROR(VLOOKUP(N5,Sheet1!$A$29:$B$38,2,FALSE),\"\")","v":""}]
[null,null,"",null,null,null,null,null,{"$f":"IF(A6=\"\",\"\",\"Yes\")","v":""},{"$f":"IF(A6=\"\",\"\",\"Yes\")","v":""},{"$f":"IF(A6=\"\",\"\",\"Yes\")","v":""},null,null,null,null,"","","","","","","","","","","","","","","","","","","","","","","",{"$f":"IF($L6=\"\",\"\",IF(AND($L6>=Sheet1!$F$2,'Pupil List'!$L6<Sheet1!$G$2),Sheet1!$A$2,\"\"))","v":""},{"$f":"IF($L6=\"\",\"\",IF(AND($L6>=Sheet1!$F$3,'Pupil List'!$L6<Sheet1!$G$3),Sheet1!$A$3,\"\"))","v":""},{"$f":"IF($L6=\"\",\"\",IF(AND($L6>=Sheet1!$F$4,'Pupil List'!$L6<Sheet1!$G$4),Sheet1!$A$4,\"\"))","v":""},{"$f":"IF($L6=\"\",\"\",IF(AND($L6>=Sheet1!$F$5,'Pupil List'!$L6<Sheet1!$G$5),Sheet1!$A$5,\"\"))","v":""},{"$f":"IF($L6=\"\",\"\",IF(AND($L6>=Sheet1!$F$6,'Pupil List'!$L6<Sheet1!$G$6),Sheet1!$A$6,\"\"))","v":""},{"$f":"IF($L6=\"\",\"\",IF(AND($L6>=Sheet1!$F$7,'Pupil List'!$L6<Sheet1!$G$7),Sheet1!$A$7,\"\"))","v":""},{"$f":"IF($L6=\"\",\"\",IF(AND($L6>=Sheet1!$F$8,'Pupil List'!$L6<Sheet1!$G$8),Sheet1!$A$8,\"\"))","v":""},{"$f":"IF($L6=\"\",\"\",IF(AND($L6>=Sheet1!$F$9,'Pupil List'!$L6<Sheet1!$G$9),Sheet1!$A$9,\"\"))","v":""},{"$f":"IF($L6=\"\",\"\",IF(AND($L6>=Sheet1!$F$10,'Pupil List'!$L6<Sheet1!$G$10),Sheet1!$A$10,\"\"))","v":""},{"$f":"IF($L6=\"\",\"\",IF(AND($L6>=Sheet1!$F$11,'Pupil List'!$L6<Sheet1!$G$11),Sheet1!$A$11,\"\"))","v":""},{"$f":"IF($L6=\"\",\"\",IF(AND($L6>=Sheet1!$F$12,'Pupil List'!$L6<Sheet1!$G$12),Sheet1!$A$12,\"\"))","v":""},{"$f":"IF($L6=\"\",\"\",IF(AND($L6>=Sheet1!$F$13,'Pupil List'!$L6<Sheet1!$G$13),Sheet1!$A$13,\"\"))","v":""},{"$f":"IF($L6=\"\",\"\",IF(AND($L6>=Sheet1!$F$14,'Pupil List'!$L6<Sheet1!$G$14),Sheet1!$A$14,\"\"))","v":""},{"$f":"IF($L6=\"\",\"\",IF(AND($L6>=Sheet1!$F$15,'Pupil List'!$L6<Sheet1!$G$15),Sheet1!$A$15,\"\"))","v":""},{"$f":"IF($L6=\"\",\"\",IF(AND($L6>=Sheet1!$F$16,'Pupil List'!$L6<Sheet1!$G$16),Sheet1!$A$16,\"\"))","v":""},{"$f":"IF($L6=\"\",\"\",IF(AND($L6>=Sheet1!$F$17,'Pupil List'!$L6<Sheet1!$G$17),Sheet1!$A$17,\"\"))","v":""},{"$f":"IF($L6=\"\",\"\",IF(AND($L6>=Sheet1!$F$18,'Pupil List'!$L6<Sheet1!$G$18),Sheet1!$A$18,\"\"))","v":""},{"$f":"IF($L6=\"\",\"\",IF(AND($L6>=Sheet1!$F$19,'Pupil List'!$L6<Sheet1!$G$19),Sheet1!$A$19,\"\"))","v":""},{"$f":"IF($L6=\"\",\"\",IF(AND($L6>=Sheet1!$F$20,'Pupil List'!$L6<Sheet1!$G$20),Sheet1!$A$20,\"\"))","v":""},{"$f":"IF($L6=\"\",\"\",IF(AND($L6>=Sheet1!$F$21,'Pupil List'!$L6<Sheet1!$G$21),Sheet1!$A$21,\"\"))","v":""},{"$f":"IF($L6=\"\",\"\",IF(AND($L6>=Sheet1!$F$22,'Pupil List'!$L6<Sheet1!$G$22),Sheet1!$A$22,\"\"))","v":""},{"$f":"IF($L6=\"\",\"\",IF(AND($L6>=Sheet1!$F$23,'Pupil List'!$L6<Sheet1!$G$23),Sheet1!$A$23,\"\"))","v":""},{"$f":"IF($L6=\"\",\"\",IF(AND($L6>=Sheet1!$F$24,'Pupil List'!$L6<Sheet1!$G$24),Sheet1!$A$24,\"\"))","v":""},{"$f":"IF($L6=\"\",\"\",IF(AND($L6>=Sheet1!$F$25,'Pupil List'!$L6<Sheet1!$G$25),Sheet1!$A$25,\"\"))","v":""},{"$error":"#N/A"},{"$f":"IFERROR(VLOOKUP(BK6,Sheet1!$A$2:$E$25,3,FALSE),\"\")","v":""},{"$f":"IFERROR(VLOOKUP(BK6,Sheet1!$A$2:$E$25,4,FALSE),\"\")","v":""},{"$f":"IFERROR(VLOOKUP(BK6,Sheet1!$A$2:$E$25,5,FALSE),\"\")","v":""},{"$f":"IFERROR(VLOOKUP(N6,Sheet1!$A$29:$B$38,2,FALSE),\"\")","v":""}]
[null,null,"",null,null,null,null,null,"","","",null,null,null,null,"","","","","","","","","","","","","","","","","","","","","","","",{"$f":"IF($L7=\"\",\"\",IF(AND($L7>=Sheet1!$F$2,'Pupil List'!$L7<Sheet1!$G$2),Sheet1!$A$2,\"\"))","v":""},{"$f":"IF($L7=\"\",\"\",IF(AND($L7>=Sheet1!$F$3,'Pupil List'!$L7<Sheet1!$G$3),Sheet1!$A$3,\"\"))","v":""},{"$f":"IF($L7=\"\",\"\",IF(AND($L7>=Sheet1!$F$4,'Pupil List'!$L7<Sheet1!$G$4),Sheet1!$A$4,\"\"))","v":""},{"$f":"IF($L7=\"\",\"\",IF(AND($L7>=Sheet1!$F$5,'Pupil List'!$L7<Sheet1!$G$5),Sheet1!$A$5,\"\"))","v":""},{"$f":"IF($L7=\"\",\"\",IF(AND($L7>=Sheet1!$F$6,'Pupil List'!$L7<Sheet1!$G$6),Sheet1!$A$6,\"\"))","v":""},{"$f":"IF($L7=\"\",\"\",IF(AND($L7>=Sheet1!$F$7,'Pupil List'!$L7<Sheet1!$G$7),Sheet1!$A$7,\"\"))","v":""},{"$f":"IF($L7=\"\",\"\",IF(AND($L7>=Sheet1!$F$8,'Pupil List'!$L7<Sheet1!$G$8),Sheet1!$A$8,\"\"))","v":""},{"$f":"IF($L7=\"\",\"\",IF(AND($L7>=Sheet1!$F$9,'Pupil List'!$L7<Sheet1!$G$9),Sheet1!$A$9,\"\"))","v":""},{"$f":"IF($L7=\"\",\"\",IF(AND($L7>=Sheet1!$F$10,'Pupil List'!$L7<Sheet1!$G$10),Sheet1!$A$10,\"\"))","v":""},{"$f":"IF($L7=\"\",\"\",IF(AND($L7>=Sheet1!$F$11,'Pupil List'!$L7<Sheet1!$G$11),Sheet1!$A$11,\"\"))","v":""},{"$f":"IF($L7=\"\",\"\",IF(AND($L7>=Sheet1!$F$12,'Pupil List'!$L7<Sheet1!$G$12),Sheet1!$A$12,\"\"))","v":""},{"$f":"IF($L7=\"\",\"\",IF(AND($L7>=Sheet1!$F$13,'Pupil List'!$L7<Sheet1!$G$13),Sheet1!$A$13,\"\"))","v":""},{"$f":"IF($L7=\"\",\"\",IF(AND($L7>=Sheet1!$F$14,'Pupil List'!$L7<Sheet1!$G$14),Sheet1!$A$14,\"\"))","v":""},{"$f":"IF($L7=\"\",\"\",IF(AND($L7>=Sheet1!$F$15,'Pupil List'!$L7<Sheet1!$G$15),Sheet1!$A$15,\"\"))","v":""},{"$f":"IF($L7=\"\",\"\",IF(AND($L7>=Sheet1!$F$16,'Pupil List'!$L7<Sheet1!$G$16),Sheet1!$A$16,\"\"))","v":""},{"$f":"IF($L7=\"\",\"\",IF(AND($L7>=Sheet1!$F$17,'Pupil List'!$L7<Sheet1!$G$17),Sheet1!$A$17,\"\"))","v":""},{"$f":"IF($L7=\"\",\"\",IF(AND($L7>=Sheet1!$F$18,'Pupil List'!$L7<Sheet1!$G$18),Sheet1!$A$18,\"\"))","v":""},{"$f":"IF($L7=\"\",\"\",IF(AND($L7>=Sheet1!$F$19,'Pupil List'!$L7<Sheet1!$G$19),Sheet1!$A$19,\"\"))","v":""},{"$f":"IF($L7=\"\",\"\",IF(AND($L7>=Sheet1!$F$20,'Pupil List'!$L7<Sheet1!$G$20),Sheet1!$A$20,\"\"))","v":""},{"$f":"IF($L7=\"\",\"\",IF(AND($L7>=Sheet1!$F$21,'Pupil List'!$L7<Sheet1!$G$21),Sheet1!$A$21,\"\"))","v":""},{"$f":"IF($L7=\"\",\"\",IF(AND($L7>=Sheet1!$F$22,'Pupil List'!$L7<Sheet1!$G$22),Sheet1!$A$22,\"\"))","v":""},{"$f":"IF($L7=\"\",\"\",IF(AND($L7>=Sheet1!$F$23,'Pupil List'!$L7<Sheet1!$G$23),Sheet1!$A$23,\"\"))","v":""},{"$f":"IF($L7=\"\",\"\",IF(AND($L7>=Sheet1!$F$24,'Pupil List'!$L7<Sheet1!$G$24),Sheet1!$A$24,\"\"))","v":""},{"$f":"IF($L7=\"\",\"\",IF(AND($L7>=Sheet1!$F$25,'Pupil List'!$L7<Sheet1!$G$25),Sheet1!$A$25,\"\"))","v":""},{"$error":"#N/A"},{"$f":"IFERROR(VLOOKUP(BK7,Sheet1!$A$2:$E$25,3,FALSE),\"\")","v":""},{"$f":"IFERROR(VLOOKUP(BK7,Sheet1!$A$2:$E$25,4,FALSE),\"\")","v":""},{"$f":"IFERROR(VLOOKUP(BK7,Sheet1!$A$2:$E$25,5,FALSE),\"\")","v":""},{"$f":"IFERROR(VLOOKUP(N7,Sheet1!$A$29:$B$38,2,FALSE),\"\")","v":""}]
[null,null,"",null,null,null,null,null,"","","",null,null,null,null,"","","","","","","","","","","","","","","","","","","","","","","",{"$f":"IF($L8=\"\",\"\",IF(AND($L8>=Sheet1!$F$2,'Pupil List'!$L8<Sheet1!$G$2),Sheet1!$A$2,\"\"))","v":""},{"$f":"IF($L8=\"\",\"\",IF(AND($L8>=Sheet1!$F$3,'Pupil List'!$L8<Sheet1!$G$3),Sheet1!$A$3,\"\"))","v":""},{"$f":"IF($L8=\"\",\"\",IF(AND($L8>=Sheet1!$F$4,'Pupil List'!$L8<Sheet1!$G$4),Sheet1!$A$4,\"\"))","v":""},{"$f":"IF($L8=\"\",\"\",IF(AND($L8>=Sheet1!$F$5,'Pupil List'!$L8<Sheet1!$G$5),Sheet1!$A$5,\"\"))","v":""},{"$f":"IF($L8=\"\",\"\",IF(AND($L8>=Sheet1!$F$6,'Pupil List'!$L8<Sheet1!$G$6),Sheet1!$A$6,\"\"))","v":""},{"$f":"IF($L8=\"\",\"\",IF(AND($L8>=Sheet1!$F$7,'Pupil List'!$L8<Sheet1!$G$7),Sheet1!$A$7,\"\"))","v":""},{"$f":"IF($L8=\"\",\"\",IF(AND($L8>=Sheet1!$F$8,'Pupil List'!$L8<Sheet1!$G$8),Sheet1!$A$8,\"\"))","v":""},{"$f":"IF($L8=\"\",\"\",IF(AND($L8>=Sheet1!$F$9,'Pupil List'!$L8<Sheet1!$G$9),Sheet1!$A$9,\"\"))","v":""},{"$f":"IF($L8=\"\",\"\",IF(AND($L8>=Sheet1!$F$10,'Pupil List'!$L8<Sheet1!$G$10),Sheet1!$A$10,\"\"))","v":""},{"$f":"IF($L8=\"\",\"\",IF(AND($L8>=Sheet1!$F$11,'Pupil List'!$L8<Sheet1!$G$11),Sheet1!$A$11,\"\"))","v":""},{"$f":"IF($L8=\"\",\"\",IF(AND($L8>=Sheet1!$F$12,'Pupil List'!$L8<Sheet1!$G$12),Sheet1!$A$12,\"\"))","v":""},{"$f":"IF($L8=\"\",\"\",IF(AND($L8>=Sheet1!$F$13,'Pupil List'!$L8<Sheet1!$G$13),Sheet1!$A$13,\"\"))","v":""},{"$f":"IF($L8=\"\",\"\",IF(AND($L8>=Sheet1!$F$14,'Pupil List'!$L8<Sheet1!$G$14),Sheet1!$A$14,\"\"))","v":""},{"$f":"IF($L8=\"\",\"\",IF(AND($L8>=Sheet1!$F$15,'Pupil List'!$L8<Sheet1!$G$15),Sheet1!$A$15,\"\"))","v":""},{"$f":"IF($L8=\"\",\"\",IF(AND($L8>=Sheet1!$F$16,'Pupil List'!$L8<Sheet1!$G$16),Sheet1!$A$16,\"\"))","v":""},{"$f":"IF($L8=\"\",\"\",IF(AND($L8>=Sheet1!$F$17,'Pupil List'!$L8<Sheet1!$G$17),Sheet1!$A$17,\"\"))","v":""},{"$f":"IF($L8=\"\",\"\",IF(AND($L8>=Sheet1!$F$18,'Pupil List'!$L8<Sheet1!$G$18),Sheet1!$A$18,\"\"))","v":""},{"$f":"IF($L8=\"\",\"\",IF(AND($L8>=Sheet1!$F$19,'Pupil List'!$L8<Sheet1!$G$19),Sheet1!$A$19,\"\"))","v":""},{"$f":"IF($L8=\"\",\"\",IF(AND($L8>=Sheet1!$F$20,'Pupil List'!$L8<Sheet1!$G$20),Sheet1!$A$20,\"\"))","v":""},{"$f":"IF($L8=\"\",\"\",IF(AND($L8>=Sheet1!$F$21,'Pupil List'!$L8<Sheet1!$G$21),Sheet1!$A$21,\"\"))","v":""},{"$f":"IF($L8=\"\",\"\",IF(AND($L8>=Sheet1!$F$22,'Pupil List'!$L8<Sheet1!$G$22),Sheet1!$A$22,\"\"))","v":""},{"$f":"IF($L8=\"\",\"\",IF(AND($L8>=Sheet1!$F$23,'Pupil List'!$L8<Sheet1!$G$23),Sheet1!$A$23,\"\"))","v":""},{"$f":"IF($L8=\"\",\"\",IF(AND($L8>=Sheet1!$F$24,'Pupil List'!$L8<Sheet1!$G$24),Sheet1!$A$24,\"\"))","v":""},{"$f":"IF($L8=\"\",\"\",IF(AND($L8>=Sheet1!$F$25,'Pupil List'!$L8<Sheet1!$G$25),Sheet1!$A$25,\"\"))","v":""},{"$error":"#N/A"},{"$f":"IFERROR(VLOOKUP(BK8,Sheet1!$A$2:$E$25,3,FALSE),\"\")","v":""},{"$f":"IFERROR(VLOOKUP(BK8,Sheet1!$A$2:$E$25,4,FALSE),\"\")","v":""},{"$f":"IFERROR(VLOOKUP(BK8,Sheet1!$A$2:$E$25,5,FALSE),\"\")","v":""},{"$f":"IFERROR(VLOOKUP(N8,Sheet1!$A$29:$B$38,2,FALSE),\"\")","v":""}]
[null,null,"",null,null,null,null,null,"","","",null,null,null,null,"","","","","","","","","","","","","","","","","","","","","","","",{"$f":"IF($L9=\"\",\"\",IF(AND($L9>=Sheet1!$F$2,'Pupil List'!$L9<Sheet1!$G$2),Sheet1!$A$2,\"\"))","v":""},{"$f":"IF($L9=\"\",\"\",IF(AND($L9>=Sheet1!$F$3,'Pupil List'!$L9<Sheet1!$G$3),Sheet1!$A$3,\"\"))","v":""},{"$f":"IF($L9=\"\",\"\",IF(AND($L9>=Sheet1!$F$4,'Pupil List'!$L9<Sheet1!$G$4),Sheet1!$A$4,\"\"))","v":""},{"$f":"IF($L9=\"\",\"\",IF(AND($L9>=Sheet1!$F$5,'Pupil List'!$L9<Sheet1!$G$5),Sheet1!$A$5,\"\"))","v":""},{"$f":"IF($L9=\"\",\"\",IF(AND($L9>=Sheet1!$F$6,'Pupil List'!$L9<Sheet1!$G$6),Sheet1!$A$6,\"\"))","v":""},{"$f":"IF($L9=\"\",\"\",IF(AND($L9>=Sheet1!$F$7,'Pupil List'!$L9<Sheet1!$G$7),Sheet1!$A$7,\"\"))","v":""},{"$f":"IF($L9=\"\",\"\",IF(AND($L9>=Sheet1!$F$8,'Pupil List'!$L9<Sheet1!$G$8),Sheet1!$A$8,\"\"))","v":""},{"$f":"IF($L9=\"\",\"\",IF(AND($L9>=Sheet1!$F$9,'Pupil List'!$L9<Sheet1!$G$9),Sheet1!$A$9,\"\"))","v":""},{"$f":"IF($L9=\"\",\"\",IF(AND($L9>=Sheet1!$F$10,'Pupil List'!$L9<Sheet1!$G$10),Sheet1!$A$10,\"\"))","v":""},{"$f":"IF($L9=\"\",\"\",IF(AND($L9>=Sheet1!$F$11,'Pupil List'!$L9<Sheet1!$G$11),Sheet1!$A$11,\"\"))","v":""},{"$f":"IF($L9=\"\",\"\",IF(AND($L9>=Sheet1!$F$12,'Pupil List'!$L9<Sheet1!$G$12),Sheet1!$A$12,\"\"))","v":""},{"$f":"IF($L9=\"\",\"\",IF(AND($L9>=Sheet1!$F$13,'Pupil List'!$L9<Sheet1!$G$13),Sheet1!$A$13,\"\"))","v":""},{"$f":"IF($L9=\"\",\"\",IF(AND($L9>=Sheet1!$F$14,'Pupil List'!$L9<Sheet1!$G$14),Sheet1!$A$14,\"\"))","v":""},{"$f":"IF($L9=\"\",\"\",IF(AND($L9>=Sheet1!$F$15,'Pupil List'!$L9<Sheet1!$G$15),Sheet1!$A$15,\"\"))","v":""},{"$f":"IF($L9=\"\",\"\",IF(AND($L9>=Sheet1!$F$16,'Pupil List'!$L9<Sheet1!$G$16),Sheet1!$A$16,\"\"))","v":""},{"$f":"IF($L9=\"\",\"\",IF(AND($L9>=Sheet1!$F$17,'Pupil List'!$L9<Sheet1!$G$17),Sheet1!$A$17,\"\"))","v":""},{"$f":"IF($L9=\"\",\"\",IF(AND($L9>=Sheet1!$F$18,'Pupil List'!$L9<Sheet1!$G$18),Sheet1!$A$18,\"\"))","v":""},{"$f":"IF($L9=\"\",\"\",IF(AND($L9>=Sheet1!$F$19,'Pupil List'!$L9<Sheet1!$G$19),Sheet1!$A$19,\"\"))","v":""},{"$f":"IF($L9=\"\",\"\",IF(AND($L9>=Sheet1!$F$20,'Pupil List'!$L9<Sheet1!$G$20),Sheet1!$A$20,\"\"))","v":""},{"$f":"IF($L9=\"\",\"\",IF(AND($L9>=Sheet1!$F$21,'Pupil List'!$L9<Sheet1!$G$21),Sheet1!$A$21,\"\"))","v":""},{"$f":"IF($L9=\"\",\"\",IF(AND($L9>=Sheet1!$F$22,'Pupil List'!$L9<Sheet1!$G$22),Sheet1!$A$22,\"\"))","v":""},{"$f":"IF($L9=\"\",\"\",IF(AND($L9>=Sheet1!$F$23,'Pupil List'!$L9<Sheet1!$G$23),Sheet1!$A$23,\"\"))","v":""},{"$f":"IF($L9=\"\",\"\",IF(AND($L9>=Sheet1!$F$24,'Pupil List'!$L9<Sheet1!$G$24),Sheet1!$A$24,\"\"))","v":""},{"$f":"IF($L9=\"\",\"\",IF(AND($L9>=Sheet1!$F$25,'Pupil List'!$L9<Sheet1!$G$25),Sheet1!$A$25,\"\"))","v":""},{"$error":"#N/A"},{"$f":"IFERROR(VLOOKUP(BK9,Sheet1!$A$2:$E$25,3,FALSE),\"\")","v":""},{"$f":"IFERROR(VLOOKUP(BK9,Sheet1!$A$2:$E$25,4,FALSE),\"\")","v":""},{"$f":"IFERROR(VLOOKUP(BK9,Sheet1!$A$2:$E$25,5,FALSE),\"\")","v":""},{"$f":"IFERROR(VLOOKUP(N9,Sheet1!$A$29:$B$38,2,FALSE),\"\")","v":""}]
[null,null,"",null,null,null,null,null,"","","",null,null,null,null,"","","","","","","","","","","","","","","","","","","","","","","",{"$f":"IF($L10=\"\",\"\",IF(AND($L10>=Sheet1!$F$2,'Pupil List'!$L10<Sheet1!$G$2),Sheet1!$A$2,\"\"))","v":""},{"$f":"IF($L10=\"\",\"\",IF(AND($L10>=Sheet1!$F$3,'Pupil List'!$L10<Sheet1!$G$3),Sheet1!$A$3,\"\"))","v":""},{"$f":"IF($L10=\"\",\"\",IF(AND($L10>=Sheet1!$F$4,'Pupil List'!$L10<Sheet1!$G$4),Sheet1!$A$4,\"\"))","v":""},{"$f":"IF($L10=\"\",\"\",IF(AND($L10>=Sheet1!$F$5,'Pupil List'!$L10<Sheet1!$G$5),Sheet1!$A$5,\"\"))","v":""},{"$f":"IF($L10=\"\",\"\",IF(AND($L10>=Sheet1!$F$6,'Pupil List'!$L10<Sheet1!$G$6),Sheet1!$A$6,\"\"))","v":""},{"$f":"IF($L10=\"\",\"\",IF(AND($L10>=Sheet1!$F$7,'Pupil List'!$L10<Sheet1!$G$7),Sheet1!$A$7,\"\"))","v":""},{"$f":"IF($L10=\"\",\"\",IF(AND($L10>=Sheet1!$F$8,'Pupil List'!$L10<Sheet1!$G$8),Sheet1!$A$8,\"\"))","v":""},{"$f":"IF($L10=\"\",\"\",IF(AND($L10>=Sheet1!$F$9,'Pupil List'!$L10<Sheet1!$G$9),Sheet1!$A$9,\"\"))","v":""},{"$f":"IF($L10=\"\",\"\",IF(AND($L10>=Sheet1!$F$10,'Pupil List'!$L10<Sheet1!$G$10),Sheet1!$A$10,\"\"))","v":""},{"$f":"IF($L10=\"\",\"\",IF(AND($L10>=Sheet1!$F$11,'Pupil List'!$L10<Sheet1!$G$11),Sheet1!$A$11,\"\"))","v":""},{"$f":"IF($L10=\"\",\"\",IF(AND($L10>=Sheet1!$F$12,'Pupil List'!$L10<Sheet1!$G$12),Sheet1!$A$12,\"\"))","v":""},{"$f":"IF($L10=\"\",\"\",IF(AND($L10>=Sheet1!$F$13,'Pupil List'!$L10<Sheet1!$G$13),Sheet1!$A$13,\"\"))","v":""},{"$f":"IF($L10=\"\",\"\",IF(AND($L10>=Sheet1!$F$14,'Pupil List'!$L10<Sheet1!$G$14),Sheet1!$A$14,\"\"))","v":""},{"$f":"IF($L10=\"\",\"\",IF(AND($L10>=Sheet1!$F$15,'Pupil List'!$L10<Sheet1!$G$15),Sheet1!$A$15,\"\"))","v":""},{"$f":"IF($L10=\"\",\"\",IF(AND($L10>=Sheet1!$F$16,'Pupil List'!$L10<Sheet1!$G$16),Sheet1!$A$16,\"\"))","v":""},{"$f":"IF($L10=\"\",\"\",IF(AND($L10>=Sheet1!$F$17,'Pupil List'!$L10<Sheet1!$G$17),Sheet1!$A$17,\"\"))","v":""},{"$f":"IF($L10=\"\",\"\",IF(AND($L10>=Sheet1!$F$18,'Pupil List'!$L10<Sheet1!$G$18),Sheet1!$A$18,\"\"))","v":""},{"$f":"IF($L10=\"\",\"\",IF(AND($L10>=Sheet1!$F$19,'Pupil List'!$L10<Sheet1!$G$19),Sheet1!$A$19,\"\"))","v":""},{"$f":"IF($L10=\"\",\"\",IF(AND($L10>=Sheet1!$F$20,'Pupil List'!$L10<Sheet1!$G$20),Sheet1!$A$20,\"\"))","v":""},{"$f":"IF($L10=\"\",\"\",IF(AND($L10>=Sheet1!$F$21,'Pupil List'!$L10<Sheet1!$G$21),Sheet1!$A$21,\"\"))","v":""},{"$f":"IF($L10=\"\",\"\",IF(AND($L10>=Sheet1!$F$22,'Pupil List'!$L10<Sheet1!$G$22),Sheet1!$A$22,\"\"))","v":""},{"$f":"IF($L10=\"\",\"\",IF(AND($L10>=Sheet1!$F$23,'Pupil List'!$L10<Sheet1!$G$23),Sheet1!$A$23,\"\"))","v":""},{"$f":"IF($L10=\"\",\"\",IF(AND($L10>=Sheet1!$F$24,'Pupil List'!$L10<Sheet1!$G$24),Sheet1!$A$24,\"\"))","v":""},{"$f":"IF($L10=\"\",\"\",IF(AND($L10>=Sheet1!$F$25,'Pupil List'!$L10<Sheet1!$G$25),Sheet1!$A$25,\"\"))","v":""},{"$error":"#N/A"},{"$f":"IFERROR(VLOOKUP(BK10,Sheet1!$A$2:$E$25,3,FALSE),\"\")","v":""},{"$f":"IFERROR(VLOOKUP(BK10,Sheet1!$A$2:$E$25,4,FALSE),\"\")","v":""},{"$f":"IFERROR(VLOOKUP(BK10,Sheet1!$A$2:$E$25,5,FALSE),\"\")","v":""},{"$f":"IFERROR(VLOOKUP(N10,Sheet1!$A$29:$B$38,2,FALSE),\"\")","v":""}]
[null,null,"",null,null,null,null,null,"","","",null,null,null,null,"","","","","","","","","","","","","","","","","","","","","","","",{"$f":"IF($L11=\"\",\"\",IF(AND($L11>=Sheet1!$F$2,'Pupil List'!$L11<Sheet1!$G$2),Sheet1!$A$2,\"\"))","v":""},{"$f":"IF($L11=\"\",\"\",IF(AND($L11>=Sheet1!$F$3,'Pupil List'!$L11<Sheet1!$G$3),Sheet1!$A$3,\"\"))","v":""},{"$f":"IF($L11=\"\",\"\",IF(AND($L11>=Sheet1!$F$4,'Pupil List'!$L11<Sheet1!$G$4),Sheet1!$A$4,\"\"))","v":""},{"$f":"IF($L11=\"\",\"\",IF(AND($L11>=Sheet1!$F$5,'Pupil List'!$L11<Sheet1!$G$5),Sheet1!$A$5,\"\"))","v":""},{"$f":"IF($L11=\"\",\"\",IF(AND($L11>=Sheet1!$F$6,'Pupil List'!$L11<Sheet1!$G$6),Sheet1!$A$6,\"\"))","v":""},{"$f":"IF($L11=\"\",\"\",IF(AND($L11>=Sheet1!$F$7,'Pupil List'!$L11<Sheet1!$G$7),Sheet1!$A$7,\"\"))","v":""},{"$f":"IF($L11=\"\",\"\",IF(AND($L11>=Sheet1!$F$8,'Pupil List'!$L11<Sheet1!$G$8),Sheet1!$A$8,\"\"))","v":""},{"$f":"IF($L11=\"\",\"\",IF(AND($L11>=Sheet1!$F$9,'Pupil List'!$L11<Sheet1!$G$9),Sheet1!$A$9,\"\"))","v":""},{"$f":"IF($L11=\"\",\"\",IF(AND($L11>=Sheet1!$F$10,'Pupil List'!$L11<Sheet1!$G$10),Sheet1!$A$10,\"\"))","v":""},{"$f":"IF($L11=\"\",\"\",IF(AND($L11>=Sheet1!$F$11,'Pupil List'!$L11<Sheet1!$G$11),Sheet1!$A$11,\"\"))","v":""},{"$f":"IF($L11=\"\",\"\",IF(AND($L11>=Sheet1!$F$12,'Pupil List'!$L11<Sheet1!$G$12),Sheet1!$A$12,\"\"))","v":""},{"$f":"IF($L11=\"\",\"\",IF(AND($L11>=Sheet1!$F$13,'Pupil List'!$L11<Sheet1!$G$13),Sheet1!$A$13,\"\"))","v":""},{"$f":"IF($L11=\"\",\"\",IF(AND($L11>=Sheet1!$F$14,'Pupil List'!$L11<Sheet1!$G$14),Sheet1!$A$14,\"\"))","v":""},{"$f":"IF($L11=\"\",\"\",IF(AND($L11>=Sheet1!$F$15,'Pupil List'!$L11<Sheet1!$G$15),Sheet1!$A$15,\"\"))","v":""},{"$f":"IF($L11=\"\",\"\",IF(AND($L11>=Sheet1!$F$16,'Pupil List'!$L11<Sheet1!$G$16),Sheet1!$A$16,\"\"))","v":""},{"$f":"IF($L11=\"\",\"\",IF(AND($L11>=Sheet1!$F$17,'Pupil List'!$L11<Sheet1!$G$17),Sheet1!$A$17,\"\"))","v":""},{"$f":"IF($L11=\"\",\"\",IF(AND($L11>=Sheet1!$F$18,'Pupil List'!$L11<Sheet1!$G$18),Sheet1!$A$18,\"\"))","v":""},{"$f":"IF($L11=\"\",\"\",IF(AND($L11>=Sheet1!$F$19,'Pupil List'!$L11<Sheet1!$G$19),Sheet1!$A$19,\"\"))","v":""},{"$f":"IF($L11=\"\",\"\",IF(AND($L11>=Sheet1!$F$20,'Pupil List'!$L11<Sheet1!$G$20),Sheet1!$A$20,\"\"))","v":""},{"$f":"IF($L11=\"\",\"\",IF(AND($L11>=Sheet1!$F$21,'Pupil List'!$L11<Sheet1!$G$21),Sheet1!$A$21,\"\"))","v":""},{"$f":"IF($L11=\"\",\"\",IF(AND($L11>=Sheet1!$F$22,'Pupil List'!$L11<Sheet1!$G$22),Sheet1!$A$22,\"\"))","v":""},{"$f":"IF($L11=\"\",\"\",IF(AND($L11>=Sheet1!$F$23,'Pupil List'!$L11<Sheet1!$G$23),Sheet1!$A$23,\"\"))","v":""},{"$f":"IF($L11=\"\",\"\",IF(AND($L11>=Sheet1!$F$24,'Pupil List'!$L11<Sheet1!$G$24),Sheet1!$A$24,\"\"))","v":""},{"$f":"IF($L11=\"\",\"\",IF(AND($L11>=Sheet1!$F$25,'Pupil List'!$L11<Sheet1!$G$25),Sheet1!$A$25,\"\"))","v":""},{"$error":"#N/A"},{"$f":"IFERROR(VLOOKUP(BK11,Sheet1!$A$2:$E$25,3,FALSE),\"\")","v":""},{"$f":"IFERROR(VLOOKUP(BK11,Sheet1!$A$2:$E$25,4,FALSE),\"\")","v":""},{"$f":"IFERROR(VLOOKUP(BK11,Sheet1!$A$2:$E$25,5,FALSE),\"\")","v":""},{"$f":"IFERROR(VLOOKUP(N11,Sheet1!$A$29:$B$38,2,FALSE),\"\")","v":""}]
[null,null,"",null,null,null,null,null,"","","",null,null,null,null,"","","","","","","","","","","","","","","","","","","","","","","",{"$f":"IF($L12=\"\",\"\",IF(AND($L12>=Sheet1!$F$2,'Pupil List'!$L12<Sheet1!$G$2),Sheet1!$A$2,\"\"))","v":""},{"$f":"IF($L12=\"\",\"\",IF(AND($L12>=Sheet1!$F$3,'Pupil List'!$L12<Sheet1!$G$3),Sheet1!$A$3,\"\"))","v":""},{"$f":"IF($L12=\"\",\"\",IF(AND($L12>=Sheet1!$F$4,'Pupil List'!$L12<Sheet1!$G$4),Sheet1!$A$4,\"\"))","v":""},{"$f":"IF($L12=\"\",\"\",IF(AND($L12>=Sheet1!$F$5,'Pupil List'!$L12<Sheet1!$G$5),Sheet1!$A$5,\"\"))","v":""},{"$f":"IF($L12=\"\",\"\",IF(AND($L12>=Sheet1!$F$6,'Pupil List'!$L12<Sheet1!$G$6),Sheet1!$A$6,\"\"))","v":""},{"$f":"IF($L12=\"\",\"\",IF(AND($L12>=Sheet1!$F$7,'Pupil List'!$L12<Sheet1!$G$7),Sheet1!$A$7,\"\"))","v":""},{"$f":"IF($L12=\"\",\"\",IF(AND($L12>=Sheet1!$F$8,'Pupil List'!$L12<Sheet1!$G$8),Sheet1!$A$8,\"\"))","v":""},{"$f":"IF($L12=\"\",\"\",IF(AND($L12>=Sheet1!$F$9,'Pupil List'!$L12<Sheet1!$G$9),Sheet1!$A$9,\"\"))","v":""},{"$f":"IF($L12=\"\",\"\",IF(AND($L12>=Sheet1!$F$10,'Pupil List'!$L12<Sheet1!$G$10),Sheet1!$A$10,\"\"))","v":""},{"$f":"IF($L12=\"\",\"\",IF(AND($L12>=Sheet1!$F$11,'Pupil List'!$L12<Sheet1!$G$11),Sheet1!$A$11,\"\"))","v":""},{"$f":"IF($L12=\"\",\"\",IF(AND($L12>=Sheet1!$F$12,'Pupil List'!$L12<Sheet1!$G$12),Sheet1!$A$12,\"\"))","v":""},{"$f":"IF($L12=\"\",\"\",IF(AND($L12>=Sheet1!$F$13,'Pupil List'!$L12<Sheet1!$G$13),Sheet1!$A$13,\"\"))","v":""},{"$f":"IF($L12=\"\",\"\",IF(AND($L12>=Sheet1!$F$14,'Pupil List'!$L12<Sheet1!$G$14),Sheet1!$A$14,\"\"))","v":""},{"$f":"IF($L12=\"\",\"\",IF(AND($L12>=Sheet1!$F$15,'Pupil List'!$L12<Sheet1!$G$15),Sheet1!$A$15,\"\"))","v":""},{"$f":"IF($L12=\"\",\"\",IF(AND($L12>=Sheet1!$F$16,'Pupil List'!$L12<Sheet1!$G$16),Sheet1!$A$16,\"\"))","v":""},{"$f":"IF($L12=\"\",\"\",IF(AND($L12>=Sheet1!$F$17,'Pupil List'!$L12<Sheet1!$G$17),Sheet1!$A$17,\"\"))","v":""},{"$f":"IF($L12=\"\",\"\",IF(AND($L12>=Sheet1!$F$18,'Pupil List'!$L12<Sheet1!$G$18),Sheet1!$A$18,\"\"))","v":""},{"$f":"IF($L12=\"\",\"\",IF(AND($L12>=Sheet1!$F$19,'Pupil List'!$L12<Sheet1!$G$19),Sheet1!$A$19,\"\"))","v":""},{"$f":"IF($L12=\"\",\"\",IF(AND($L12>=Sheet1!$F$20,'Pupil List'!$L12<Sheet1!$G$20),Sheet1!$A$20,\"\"))","v":""},{"$f":"IF($L12=\"\",\"\",IF(AND($L12>=Sheet1!$F$21,'Pupil List'!$L12<Sheet1!$G$21),Sheet1!$A$21,\"\"))","v":""},{"$f":"IF($L12=\"\",\"\",IF(AND($L12>=Sheet1!$F$22,'Pupil List'!$L12<Sheet1!$G$22),Sheet1!$A$22,\"\"))","v":""},{"$f":"IF($L12=\"\",\"\",IF(AND($L12>=Sheet1!$F$23,'Pupil List'!$L12<Sheet1!$G$23),Sheet1!$A$23,\"\"))","v":""},{"$f":"IF($L12=\"\",\"\",IF(AND($L12>=Sheet1!$F$24,'Pupil List'!$L12<Sheet1!$G$24),Sheet1!$A$24,\"\"))","v":""},{"$f":"IF($L12=\"\",\"\",IF(AND($L12>=Sheet1!$F$25,'Pupil List'!$L12<Sheet1!$G$25),Sheet1!$A$25,\"\"))","v":""},{"$error":"#N/A"},{"$f":"IFERROR(VLOOKUP(BK12,Sheet1!$A$2:$E$25,3,FALSE),\"\")","v":""},{"$f":"IFERROR(VLOOKUP(BK12,Sheet1!$A$2:$E$25,4,FALSE),\"\")","v":""},{"$f":"IFERROR(VLOOKUP(BK12,Sheet1!$A$2:$E$25,5,FALSE),\"\")","v":""},{"$f":"IFERROR(VLOOKUP(N12,Sheet1!$A$29:$B$38,2,FALSE),\"\")","v":""}]
[null,null,"",null,null,null,null,null,"","","",null,null,null,null,"","","","","","","","","","","","","","","","","","","","","","","",{"$f":"IF($L13=\"\",\"\",IF(AND($L13>=Sheet1!$F$2,'Pupil List'!$L13<Sheet1!$G$2),Sheet1!$A$2,\"\"))","v":""},{"$f":"IF($L13=\"\",\"\",IF(AND($L13>=Sheet1!$F$3,'Pupil List'!$L13<Sheet1!$G$3),Sheet1!$A$3,\"\"))","v":""},{"$f":"IF($L13=\"\",\"\",IF(AND($L13>=Sheet1!$F$4,'Pupil List'!$L13<Sheet1!$G$4),Sheet1!$A$4,\"\"))","v":""},{"$f":"IF($L13=\"\",\"\",IF(AND($L13>=Sheet1!$F$5,'Pupil List'!$L13<Sheet1!$G$5),Sheet1!$A$5,\"\"))","v":""},{"$f":"IF($L13=\"\",\"\",IF(AND($L13>=Sheet1!$F$6,'Pupil List'!$L13<Sheet1!$G$6),Sheet1!$A$6,\"\"))","v":""},{"$f":"IF($L13=\"\",\"\",IF(AND($L13>=Sheet1!$F$7,'Pupil List'!$L13<Sheet1!$G$7),Sheet1!$A$7,\"\"))","v":""},{"$f":"IF($L13=\"\",\"\",IF(AND($L13>=Sheet1!$F$8,'Pupil List'!$L13<Sheet1!$G$8),Sheet1!$A$8,\"\"))","v":""},{"$f":"IF($L13=\"\",\"\",IF(AND($L13>=Sheet1!$F$9,'Pupil List'!$L13<Sheet1!$G$9),Sheet1!$A$9,\"\"))","v":""},{"$f":"IF($L13=\"\",\"\",IF(AND($L13>=Sheet1!$F$10,'Pupil List'!$L13<Sheet1!$G$10),Sheet1!$A$10,\"\"))","v":""},{"$f":"IF($L13=\"\",\"\",IF(AND($L13>=Sheet1!$F$11,'Pupil List'!$L13<Sheet1!$G$11),Sheet1!$A$11,\"\"))","v":""},{"$f":"IF($L13=\"\",\"\",IF(AND($L13>=Sheet1!$F$12,'Pupil List'!$L13<Sheet1!$G$12),Sheet1!$A$12,\"\"))","v":""},{"$f":"IF($L13=\"\",\"\",IF(AND($L13>=Sheet1!$F$13,'Pupil List'!$L13<Sheet1!$G$13),Sheet1!$A$13,\"\"))","v":""},{"$f":"IF($L13=\"\",\"\",IF(AND($L13>=Sheet1!$F$14,'Pupil List'!$L13<Sheet1!$G$14),Sheet1!$A$14,\"\"))","v":""},{"$f":"IF($L13=\"\",\"\",IF(AND($L13>=Sheet1!$F$15,'Pupil List'!$L13<Sheet1!$G$15),Sheet1!$A$15,\"\"))","v":""},{"$f":"IF($L13=\"\",\"\",IF(AND($L13>=Sheet1!$F$16,'Pupil List'!$L13<Sheet1!$G$16),Sheet1!$A$16,\"\"))","v":""},{"$f":"IF($L13=\"\",\"\",IF(AND($L13>=Sheet1!$F$17,'Pupil List'!$L13<Sheet1!$G$17),Sheet1!$A$17,\"\"))","v":""},{"$f":"IF($L13=\"\",\"\",IF(AND($L13>=Sheet1!$F$18,'Pupil List'!$L13<Sheet1!$G$18),Sheet1!$A$18,\"\"))","v":""},{"$f":"IF($L13=\"\",\"\",IF(AND($L13>=Sheet1!$F$19,'Pupil List'!$L13<Sheet1!$G$19),Sheet1!$A$19,\"\"))","v":""},{"$f":"IF($L13=\"\",\"\",IF(AND($L13>=Sheet1!$F$20,'Pupil List'!$L13<Sheet1!$G$20),Sheet1!$A$20,\"\"))","v":""},{"$f":"IF($L13=\"\",\"\",IF(AND($L13>=Sheet1!$F$21,'Pupil List'!$L13<Sheet1!$G$21),Sheet1!$A$21,\"\"))","v":""},{"$f":"IF($L13=\"\",\"\",IF(AND($L13>=Sheet1!$F$22,'Pupil List'!$L13<Sheet1!$G$22),Sheet1!$A$22,\"\"))","v":""},{"$f":"IF($L13=\"\",\"\",IF(AND($L13>=Sheet1!$F$23,'Pupil List'!$L13<Sheet1!$G$23),Sheet1!$A$23,\"\"))","v":""},{"$f":"IF($L13=\"\",\"\",IF(AND($L13>=Sheet1!$F$24,'Pupil List'!$L13<Sheet1!$G$24),Sheet1!$A$24,\"\"))","v":""},{"$f":"IF($L13=\"\",\"\",IF(AND($L13>=Sheet1!$F$25,'Pupil List'!$L13<Sheet1!$G$25),Sheet1!$A$25,\"\"))","v":""},{"$error":"#N/A"},{"$f":"IFERROR(VLOOKUP(BK13,Sheet1!$A$2:$E$25,3,FALSE),\"\")","v":""},{"$f":"IFERROR(VLOOKUP(BK13,Sheet1!$A$2:$E$25,4,FALSE),\"\")","v":""},{"$f":"IFERROR(VLOOKUP(BK13,Sheet1!$A$2:$E$25,5,FALSE),\"\")","v":""},{"$f":"IFERROR(VLOOKUP(N13,Sheet1!$A$29:$B$38,2,FALSE),\"\")","v":""}]
[null,null,"",null,null,null,null,null,"","","",null,null,null,null,"","","","","","","","","","","","","","","","","","","","","","","",{"$f":"IF($L14=\"\",\"\",IF(AND($L14>=Sheet1!$F$2,'Pupil List'!$L14<Sheet1!$G$2),Sheet1!$A$2,\"\"))","v":""},{"$f":"IF($L14=\"\",\"\",IF(AND($L14>=Sheet1!$F$3,'Pupil List'!$L14<Sheet1!$G$3),Sheet1!$A$3,\"\"))","v":""},{"$f":"IF($L14=\"\",\"\",IF(AND($L14>=Sheet1!$F$4,'Pupil List'!$L14<Sheet1!$G$4),Sheet1!$A$4,\"\"))","v":""},{"$f":"IF($L14=\"\",\"\",IF(AND($L14>=Sheet1!$F$5,'Pupil List'!$L14<Sheet1!$G$5),Sheet1!$A$5,\"\"))","v":""},{"$f":"IF($L14=\"\",\"\",IF(AND($L14>=Sheet1!$F$6,'Pupil List'!$L14<Sheet1!$G$6),Sheet1!$A$6,\"\"))","v":""},{"$f":"IF($L14=\"\",\"\",IF(AND($L14>=Sheet1!$F$7,'Pupil List'!$L14<Sheet1!$G$7),Sheet1!$A$7,\"\"))","v":""},{"$f":"IF($L14=\"\",\"\",IF(AND($L14>=Sheet1!$F$8,'Pupil List'!$L14<Sheet1!$G$8),Sheet1!$A$8,\"\"))","v":""},{"$f":"IF($L14=\"\",\"\",IF(AND($L14>=Sheet1!$F$9,'Pupil List'!$L14<Sheet1!$G$9),Sheet1!$A$9,\"\"))","v":""},{"$f":"IF($L14=\"\",\"\",IF(AND($L14>=Sheet1!$F$10,'Pupil List'!$L14<Sheet1!$G$10),Sheet1!$A$10,\"\"))","v":""},{"$f":"IF($L14=\"\",\"\",IF(AND($L14>=Sheet1!$F$11,'Pupil List'!$L14<Sheet1!$G$11),Sheet1!$A$11,\"\"))","v":""},{"$f":"IF($L14=\"\",\"\",IF(AND($L14>=Sheet1!$F$12,'Pupil List'!$L14<Sheet1!$G$12),Sheet1!$A$12,\"\"))","v":""},{"$f":"IF($L14=\"\",\"\",IF(AND($L14>=Sheet1!$F$13,'Pupil List'!$L14<Sheet1!$G$13),Sheet1!$A$13,\"\"))","v":""},{"$f":"IF($L14=\"\",\"\",IF(AND($L14>=Sheet1!$F$14,'Pupil List'!$L14<Sheet1!$G$14),Sheet1!$A$14,\"\"))","v":""},{"$f":"IF($L14=\"\",\"\",IF(AND($L14>=Sheet1!$F$15,'Pupil List'!$L14<Sheet1!$G$15),Sheet1!$A$15,\"\"))","v":""},{"$f":"IF($L14=\"\",\"\",IF(AND($L14>=Sheet1!$F$16,'Pupil List'!$L14<Sheet1!$G$16),Sheet1!$A$16,\"\"))","v":""},{"$f":"IF($L14=\"\",\"\",IF(AND($L14>=Sheet1!$F$17,'Pupil List'!$L14<Sheet1!$G$17),Sheet1!$A$17,\"\"))","v":""},{"$f":"IF($L14=\"\",\"\",IF(AND($L14>=Sheet1!$F$18,'Pupil List'!$L14<Sheet1!$G$18),Sheet1!$A$18,\"\"))","v":""},{"$f":"IF($L14=\"\",\"\",IF(AND($L14>=Sheet1!$F$19,'Pupil List'!$L14<Sheet1!$G$19),Sheet1!$A$19,\"\"))","v":""},{"$f":"IF($L14=\"\",\"\",IF(AND($L14>=Sheet1!$F$20,'Pupil List'!$L14<Sheet1!$G$20),Sheet1!$A$20,\"\"))","v":""},{"$f":"IF($L14=\"\",\"\",IF(AND($L14>=Sheet1!$F$21,'Pupil List'!$L14<Sheet1!$G$21),Sheet1!$A$21,\"\"))","v":""},{"$f":"IF($L14=\"\",\"\",IF(AND($L14>=Sheet1!$F$22,'Pupil List'!$L14<Sheet1!$G$22),Sheet1!$A$22,\"\"))","v":""},{"$f":"IF($L14=\"\",\"\",IF(AND($L14>=Sheet1!$F$23,'Pupil List'!$L14<Sheet1!$G$23),Sheet1!$A$23,\"\"))","v":""},{"$f":"IF($L14=\"\",\"\",IF(AND($L14>=Sheet1!$F$24,'Pupil List'!$L14<Sheet1!$G$24),Sheet1!$A$24,\"\"))","v":""},{"$f":"IF($L14=\"\",\"\",IF(AND($L14>=Sheet1!$F$25,'Pupil List'!$L14<Sheet1!$G$25),Sheet1!$A$25,\"\"))","v":""},{"$error":"#N/A"},{"$f":"IFERROR(VLOOKUP(BK14,Sheet1!$A$2:$E$25,3,FALSE),\"\")","v":""},{"$f":"IFERROR(VLOOKUP(BK14,Sheet1!$A$2:$E$25,4,FALSE),\"\")","v":""},{"$f":"IFERROR(VLOOKUP(BK14,Sheet1!$A$2:$E$25,5,FALSE),\"\")","v":""},{"$f":"IFERROR(VLOOKUP(N14,Sheet1!$A$29:$B$38,2,FALSE),\"\")","v":""}]
[null,null,"",null,null,null,null,null,"","","",null,null,null,null,"","","","","","","","","","","","","","","","","","","","","","","",{"$f":"IF($L15=\"\",\"\",IF(AND($L15>=Sheet1!$F$2,'Pupil List'!$L15<Sheet1!$G$2),Sheet1!$A$2,\"\"))","v":""},{"$f":"IF($L15=\"\",\"\",IF(AND($L15>=Sheet1!$F$3,'Pupil List'!$L15<Sheet1!$G$3),Sheet1!$A$3,\"\"))","v":""},{"$f":"IF($L15=\"\",\"\",IF(AND($L15>=Sheet1!$F$4,'Pupil List'!$L15<Sheet1!$G$4),Sheet1!$A$4,\"\"))","v":""},{"$f":"IF($L15=\"\",\"\",IF(AND($L15>=Sheet1!$F$5,'Pupil List'!$L15<Sheet1!$G$5),Sheet1!$A$5,\"\"))","v":""},{"$f":"IF($L15=\"\",\"\",IF(AND($L15>=Sheet1!$F$6,'Pupil List'!$L15<Sheet1!$G$6),Sheet1!$A$6,\"\"))","v":""},{"$f":"IF($L15=\"\",\"\",IF(AND($L15>=Sheet1!$F$7,'Pupil List'!$L15<Sheet1!$G$7),Sheet1!$A$7,\"\"))","v":""},{"$f":"IF($L15=\"\",\"\",IF(AND($L15>=Sheet1!$F$8,'Pupil List'!$L15<Sheet1!$G$8),Sheet1!$A$8,\"\"))","v":""},{"$f":"IF($L15=\"\",\"\",IF(AND($L15>=Sheet1!$F$9,'Pupil List'!$L15<Sheet1!$G$9),Sheet1!$A$9,\"\"))","v":""},{"$f":"IF($L15=\"\",\"\",IF(AND($L15>=Sheet1!$F$10,'Pupil List'!$L15<Sheet1!$G$10),Sheet1!$A$10,\"\"))","v":""},{"$f":"IF($L15=\"\",\"\",IF(AND($L15>=Sheet1!$F$11,'Pupil List'!$L15<Sheet1!$G$11),Sheet1!$A$11,\"\"))","v":""},{"$f":"IF($L15=\"\",\"\",IF(AND($L15>=Sheet1!$F$12,'Pupil List'!$L15<Sheet1!$G$12),Sheet1!$A$12,\"\"))","v":""},{"$f":"IF($L15=\"\",\"\",IF(AND($L15>=Sheet1!$F$13,'Pupil List'!$L15<Sheet1!$G$13),Sheet1!$A$13,\"\"))","v":""},{"$f":"IF($L15=\"\",\"\",IF(AND($L15>=Sheet1!$F$14,'Pupil List'!$L15<Sheet1!$G$14),Sheet1!$A$14,\"\"))","v":""},{"$f":"IF($L15=\"\",\"\",IF(AND($L15>=Sheet1!$F$15,'Pupil List'!$L15<Sheet1!$G$15),Sheet1!$A$15,\"\"))","v":""},{"$f":"IF($L15=\"\",\"\",IF(AND($L15>=Sheet1!$F$16,'Pupil List'!$L15<Sheet1!$G$16),Sheet1!$A$16,\"\"))","v":""},{"$f":"IF($L15=\"\",\"\",IF(AND($L15>=Sheet1!$F$17,'Pupil List'!$L15<Sheet1!$G$17),Sheet1!$A$17,\"\"))","v":""},{"$f":"IF($L15=\"\",\"\",IF(AND($L15>=Sheet1!$F$18,'Pupil List'!$L15<Sheet1!$G$18),Sheet1!$A$18,\"\"))","v":""},{"$f":"IF($L15=\"\",\"\",IF(AND($L15>=Sheet1!$F$19,'Pupil List'!$L15<Sheet1!$G$19),Sheet1!$A$19,\"\"))","v":""},{"$f":"IF($L15=\"\",\"\",IF(AND($L15>=Sheet1!$F$20,'Pupil List'!$L15<Sheet1!$G$20),Sheet1!$A$20,\"\"))","v":""},{"$f":"IF($L15=\"\",\"\",IF(AND($L15>=Sheet1!$F$21,'Pupil List'!$L15<Sheet1!$G$21),Sheet1!$A$21,\"\"))","v":""},{"$f":"IF($L15=\"\",\"\",IF(AND($L15>=Sheet1!$F$22,'Pupil List'!$L15<Sheet1!$G$22),Sheet1!$A$22,\"\"))","v":""},{"$f":"IF($L15=\"\",\"\",IF(AND($L15>=Sheet1!$F$23,'Pupil List'!$L15<Sheet1!$G$23),Sheet1!$A$23,\"\"))","v":""},{"$f":"IF($L15=\"\",\"\",IF(AND($L15>=Sheet1!$F$24,'Pupil List'!$L15<Sheet1!$G$24),Sheet1!$A$24,\"\"))","v":""},{"$f":"IF($L15=\"\",\"\",IF(AND($L15>=Sheet1!$F$25,'Pupil List'!$L15<Sheet1!$G$25),Sheet1!$A$25,\"\"))","v":""},{"$error":"#N/A"},{"$f":"IFERROR(VLOOKUP(BK15,Sheet1!$A$2:$E$25,3,FALSE),\"\")","v":""},{"$f":"IFERROR(VLOOKUP(BK15,Sheet1!$A$2:$E$25,4,FALSE),\"\")","v":""},{"$f":"IFERROR(VLOOKUP(BK15,Sheet1!$A$2:$E$25,5,FALSE),\"\")","v":""},{"$f":"IFERROR(VLOOKUP(N15,Sheet1!$A$29:$B$38,2,FALSE),\"\")","v":""}]
[null,null,"",null,null,null,null,null,"","","",null,null,null,null,"","","","","","","","","","","","","","","","","","","","","","","",{"$f":"IF($L16=\"\",\"\",IF(AND($L16>=Sheet1!$F$2,'Pupil List'!$L16<Sheet1!$G$2),Sheet1!$A$2,\"\"))","v":""},{"$f":"IF($L16=\"\",\"\",IF(AND($L16>=Sheet1!$F$3,'Pupil List'!$L16<Sheet1!$G$3),Sheet1!$A$3,\"\"))","v":""},{"$f":"IF($L16=\"\",\"\",IF(AND($L16>=Sheet1!$F$4,'Pupil List'!$L16<Sheet1!$G$4),Sheet1!$A$4,\"\"))","v":""},{"$f":"IF($L16=\"\",\"\",IF(AND($L16>=Sheet1!$F$5,'Pupil List'!$L16<Sheet1!$G$5),Sheet1!$A$5,\"\"))","v":""},{"$f":"IF($L16=\"\",\"\",IF(AND($L16>=Sheet1!$F$6,'Pupil List'!$L16<Sheet1!$G$6),Sheet1!$A$6,\"\"))","v":""},{"$f":"IF($L16=\"\",\"\",IF(AND($L16>=Sheet1!$F$7,'Pupil List'!$L16<Sheet1!$G$7),Sheet1!$A$7,\"\"))","v":""},{"$f":"IF($L16=\"\",\"\",IF(AND($L16>=Sheet1!$F$8,'Pupil List'!$L16<Sheet1!$G$8),Sheet1!$A$8,\"\"))","v":""},{"$f":"IF($L16=\"\",\"\",IF(AND($L16>=Sheet1!$F$9,'Pupil List'!$L16<Sheet1!$G$9),Sheet1!$A$9,\"\"))","v":""},{"$f":"IF($L16=\"\",\"\",IF(AND($L16>=Sheet1!$F$10,'Pupil List'!$L16<Sheet1!$G$10),Sheet1!$A$10,\"\"))","v":""},{"$f":"IF($L16=\"\",\"\",IF(AND($L16>=Sheet1!$F$11,'Pupil List'!$L16<Sheet1!$G$11),Sheet1!$A$11,\"\"))","v":""},{"$f":"IF($L16=\"\",\"\",IF(AND($L16>=Sheet1!$F$12,'Pupil List'!$L16<Sheet1!$G$12),Sheet1!$A$12,\"\"))","v":""},{"$f":"IF($L16=\"\",\"\",IF(AND($L16>=Sheet1!$F$13,'Pupil List'!$L16<Sheet1!$G$13),Sheet1!$A$13,\"\"))","v":""},{"$f":"IF($L16=\"\",\"\",IF(AND($L16>=Sheet1!$F$14,'Pupil List'!$L16<Sheet1!$G$14),Sheet1!$A$14,\"\"))","v":""},{"$f":"IF($L16=\"\",\"\",IF(AND($L16>=Sheet1!$F$15,'Pupil List'!$L16<Sheet1!$G$15),Sheet1!$A$15,\"\"))","v":""},{"$f":"IF($L16=\"\",\"\",IF(AND($L16>=Sheet1!$F$16,'Pupil List'!$L16<Sheet1!$G$16),Sheet1!$A$16,\"\"))","v":""},{"$f":"IF($L16=\"\",\"\",IF(AND($L16>=Sheet1!$F$17,'Pupil List'!$L16<Sheet1!$G$17),Sheet1!$A$17,\"\"))","v":""},{"$f":"IF($L16=\"\",\"\",IF(AND($L16>=Sheet1!$F$18,'Pupil List'!$L16<Sheet1!$G$18),Sheet1!$A$18,\"\"))","v":""},{"$f":"IF($L16=\"\",\"\",IF(AND($L16>=Sheet1!$F$19,'Pupil List'!$L16<Sheet1!$G$19),Sheet1!$A$19,\"\"))","v":""},{"$f":"IF($L16=\"\",\"\",IF(AND($L16>=Sheet1!$F$20,'Pupil List'!$L16<Sheet1!$G$20),Sheet1!$A$20,\"\"))","v":""},{"$f":"IF($L16=\"\",\"\",IF(AND($L16>=Sheet1!$F$21,'Pupil List'!$L16<Sheet1!$G$21),Sheet1!$A$21,\"\"))","v":""},{"$f":"IF($L16=\"\",\"\",IF(AND($L16>=Sheet1!$F$22,'Pupil List'!$L16<Sheet1!$G$22),Sheet1!$A$22,\"\"))","v":""},{"$f":"IF($L16=\"\",\"\",IF(AND($L16>=Sheet1!$F$23,'Pupil List'!$L16<Sheet1!$G$23),Sheet1!$A$23,\"\"))","v":""},{"$f":"IF($L16=\"\",\"\",IF(AND($L16>=Sheet1!$F$24,'Pupil List'!$L16<Sheet1!$G$24),Sheet1!$A$24,\"\"))","v":""},{"$f":"IF($L16=\"\",\"\",IF(AND($L16>=Sheet1!$F$25,'Pupil List'!$L16<Sheet1!$G$25),Sheet1!$A$25,\"\"))","v":""},{"$error":"#N/A"},{"$f":"IFERROR(VLOOKUP(BK16,Sheet1!$A$2:$E$25,3,FALSE),\"\")","v":""},{"$f":"IFERROR(VLOOKUP(BK16,Sheet1!$A$2:$E$25,4,FALSE),\"\")","v":""},{"$f":"IFERROR(VLOOKUP(BK16,Sheet1!$A$2:$E$25,5,FALSE),\"\")","v":""},{"$f":"IFERROR(VLOOKUP(N16,Sheet1!$A$29:$B$38,2,FALSE),\"\")","v":""}]
[null,null,"",null,null,null,null,null,"","","",null,null,null,null,"","","","","","","","","","","","","","","","","","","","","","","",{"$f":"IF($L17=\"\",\"\",IF(AND($L17>=Sheet1!$F$2,'Pupil List'!$L17<Sheet1!$G$2),Sheet1!$A$2,\"\"))","v":""},{"$f":"IF($L17=\"\",\"\",IF(AND($L17>=Sheet1!$F$3,'Pupil List'!$L17<Sheet1!$G$3),Sheet1!$A$3,\"\"))","v":""},{"$f":"IF($L17=\"\",\"\",IF(AND($L17>=Sheet1!$F$4,'Pupil List'!$L17<Sheet1!$G$4),Sheet1!$A$4,\"\"))","v":""},{"$f":"IF($L17=\"\",\"\",IF(AND($L17>=Sheet1!$F$5,'Pupil List'!$L17<Sheet1!$G$5),Sheet1!$A$5,\"\"))","v":""},{"$f":"IF($L17=\"\",\"\",IF(AND($L17>=Sheet1!$F$6,'Pupil List'!$L17<Sheet1!$G$6),Sheet1!$A$6,\"\"))","v":""},{"$f":"IF($L17=\"\",\"\",IF(AND($L17>=Sheet1!$F$7,'Pupil List'!$L17<Sheet1!$G$7),Sheet1!$A$7,\"\"))","v":""},{"$f":"IF($L17=\"\",\"\",IF(AND($L17>=Sheet1!$F$8,'Pupil List'!$L17<Sheet1!$G$8),Sheet1!$A$8,\"\"))","v":""},{"$f":"IF($L17=\"\",\"\",IF(AND($L17>=Sheet1!$F$9,'Pupil List'!$L17<Sheet1!$G$9),Sheet1!$A$9,\"\"))","v":""},{"$f":"IF($L17=\"\",\"\",IF(AND($L17>=Sheet1!$F$10,'Pupil List'!$L17<Sheet1!$G$10),Sheet1!$A$10,\"\"))","v":""},{"$f":"IF($L17=\"\",\"\",IF(AND($L17>=Sheet1!$F$11,'Pupil List'!$L17<Sheet1!$G$11),Sheet1!$A$11,\"\"))","v":""},{"$f":"IF($L17=\"\",\"\",IF(AND($L17>=Sheet1!$F$12,'Pupil List'!$L17<Sheet1!$G$12),Sheet1!$A$12,\"\"))","v":""},{"$f":"IF($L17=\"\",\"\",IF(AND($L17>=Sheet1!$F$13,'Pupil List'!$L17<Sheet1!$G$13),Sheet1!$A$13,\"\"))","v":""},{"$f":"IF($L17=\"\",\"\",IF(AND($L17>=Sheet1!$F$14,'Pupil List'!$L17<Sheet1!$G$14),Sheet1!$A$14,\"\"))","v":""},{"$f":"IF($L17=\"\",\"\",IF(AND($L17>=Sheet1!$F$15,'Pupil List'!$L17<Sheet1!$G$15),Sheet1!$A$15,\"\"))","v":""},{"$f":"IF($L17=\"\",\"\",IF(AND($L17>=Sheet1!$F$16,'Pupil List'!$L17<Sheet1!$G$16),Sheet1!$A$16,\"\"))","v":""},{"$f":"IF($L17=\"\",\"\",IF(AND($L17>=Sheet1!$F$17,'Pupil List'!$L17<Sheet1!$G$17),Sheet1!$A$17,\"\"))","v":""},{"$f":"IF($L17=\"\",\"\",IF(AND($L17>=Sheet1!$F$18,'Pupil List'!$L17<Sheet1!$G$18),Sheet1!$A$18,\"\"))","v":""},{"$f":"IF($L17=\"\",\"\",IF(AND($L17>=Sheet1!$F$19,'Pupil List'!$L17<Sheet1!$G$19),Sheet1!$A$19,\"\"))","v":""},{"$f":"IF($L17=\"\",\"\",IF(AND($L17>=Sheet1!$F$20,'Pupil List'!$L17<Sheet1!$G$20),Sheet1!$A$20,\"\"))","v":""},{"$f":"IF($L17=\"\",\"\",IF(AND($L17>=Sheet1!$F$21,'Pupil List'!$L17<Sheet1!$G$21),Sheet1!$A$21,\"\"))","v":""},{"$f":"IF($L17=\"\",\"\",IF(AND($L17>=Sheet1!$F$22,'Pupil List'!$L17<Sheet1!$G$22),Sheet1!$A$22,\"\"))","v":""},{"$f":"IF($L17=\"\",\"\",IF(AND($L17>=Sheet1!$F$23,'Pupil List'!$L17<Sheet1!$G$23),Sheet1!$A$23,\"\"))","v":""},{"$f":"IF($L17=\"\",\"\",IF(AND($L17>=Sheet1!$F$24,'Pupil List'!$L17<Sheet1!$G$24),Sheet1!$A$24,\"\"))","v":""},{"$f":"IF($L17=\"\",\"\",IF(AND($L17>=Sheet1!$F$25,'Pupil List'!$L17<Sheet1!$G$25),Sheet1!$A$25,\"\"))","v":""},{"$error":"#N/A"},{"$f":"IFERROR(VLOOKUP(BK17,Sheet1!$A$2:$E$25,3,FALSE),\"\")","v":""},{"$f":"IFERROR(VLOOKUP(BK17,Sheet1!$A$2:$E$25,4,FALSE),\"\")","v":""},{"$f":"IFERROR(VLOOKUP(BK17,Sheet1!$A$2:$E$25,5,FALSE),\"\")","v":""},{"$f":"IFERROR(VLOOKUP(N17,Sheet1!$A$29:$B$38,2,FALSE),\"\")","v":""}]
[null,null,"",null,null,null,null,null,"","","",null,null,null,null,"","","","","","","","","","","","","","","","","","","","","","","",{"$f":"IF($L18=\"\",\"\",IF(AND($L18>=Sheet1!$F$2,'Pupil List'!$L18<Sheet1!$G$2),Sheet1!$A$2,\"\"))","v":""},{"$f":"IF($L18=\"\",\"\",IF(AND($L18>=Sheet1!$F$3,'Pupil List'!$L18<Sheet1!$G$3),Sheet1!$A$3,\"\"))","v":""},{"$f":"IF($L18=\"\",\"\",IF(AND($L18>=Sheet1!$F$4,'Pupil List'!$L18<Sheet1!$G$4),Sheet1!$A$4,\"\"))","v":""},{"$f":"IF($L18=\"\",\"\",IF(AND($L18>=Sheet1!$F$5,'Pupil List'!$L18<Sheet1!$G$5),Sheet1!$A$5,\"\"))","v":""},{"$f":"IF($L18=\"\",\"\",IF(AND($L18>=Sheet1!$F$6,'Pupil List'!$L18<Sheet1!$G$6),Sheet1!$A$6,\"\"))","v":""},{"$f":"IF($L18=\"\",\"\",IF(AND($L18>=Sheet1!$F$7,'Pupil List'!$L18<Sheet1!$G$7),Sheet1!$A$7,\"\"))","v":""},{"$f":"IF($L18=\"\",\"\",IF(AND($L18>=Sheet1!$F$8,'Pupil List'!$L18<Sheet1!$G$8),Sheet1!$A$8,\"\"))","v":""},{"$f":"IF($L18=\"\",\"\",IF(AND($L18>=Sheet1!$F$9,'Pupil List'!$L18<Sheet1!$G$9),Sheet1!$A$9,\"\"))","v":""},{"$f":"IF($L18=\"\",\"\",IF(AND($L18>=Sheet1!$F$10,'Pupil List'!$L18<Sheet1!$G$10),Sheet1!$A$10,\"\"))","v":""},{"$f":"IF($L18=\"\",\"\",IF(AND($L18>=Sheet1!$F$11,'Pupil List'!$L18<Sheet1!$G$11),Sheet1!$A$11,\"\"))","v":""},{"$f":"IF($L18=\"\",\"\",IF(AND($L18>=Sheet1!$F$12,'Pupil List'!$L18<Sheet1!$G$12),Sheet1!$A$12,\"\"))","v":""},{"$f":"IF($L18=\"\",\"\",IF(AND($L18>=Sheet1!$F$13,'Pupil List'!$L18<Sheet1!$G$13),Sheet1!$A$13,\"\"))","v":""},{"$f":"IF($L18=\"\",\"\",IF(AND($L18>=Sheet1!$F$14,'Pupil List'!$L18<Sheet1!$G$14),Sheet1!$A$14,\"\"))","v":""},{"$f":"IF($L18=\"\",\"\",IF(AND($L18>=Sheet1!$F$15,'Pupil List'!$L18<Sheet1!$G$15),Sheet1!$A$15,\"\"))","v":""},{"$f":"IF($L18=\"\",\"\",IF(AND($L18>=Sheet1!$F$16,'Pupil List'!$L18<Sheet1!$G$16),Sheet1!$A$16,\"\"))","v":""},{"$f":"IF($L18=\"\",\"\",IF(AND($L18>=Sheet1!$F$17,'Pupil List'!$L18<Sheet1!$G$17),Sheet1!$A$17,\"\"))","v":""},{"$f":"IF($L18=\"\",\"\",IF(AND($L18>=Sheet1!$F$18,'Pupil List'!$L18<Sheet1!$G$18),Sheet1!$A$18,\"\"))","v":""},{"$f":"IF($L18=\"\",\"\",IF(AND($L18>=Sheet1!$F$19,'Pupil List'!$L18<Sheet1!$G$19),Sheet1!$A$19,\"\"))","v":""},{"$f":"IF($L18=\"\",\"\",IF(AND($L18>=Sheet1!$F$20,'Pupil List'!$L18<Sheet1!$G$20),Sheet1!$A$20,\"\"))","v":""},{"$f":"IF($L18=\"\",\"\",IF(AND($L18>=Sheet1!$F$21,'Pupil List'!$L18<Sheet1!$G$21),Sheet1!$A$21,\"\"))","v":""},{"$f":"IF($L18=\"\",\"\",IF(AND($L18>=Sheet1!$F$22,'Pupil List'!$L18<Sheet1!$G$22),Sheet1!$A$22,\"\"))","v":""},{"$f":"IF($L18=\"\",\"\",IF(AND($L18>=Sheet1!$F$23,'Pupil List'!$L18<Sheet1!$G$23),Sheet1!$A$23,\"\"))","v":""},{"$f":"IF($L18=\"\",\"\",IF(AND($L18>=Sheet1!$F$24,'Pupil List'!$L18<Sheet1!$G$24),Sheet1!$A$24,\"\"))","v":""},{"$f":"IF($L18=\"\",\"\",IF(AND($L18>=Sheet1!$F$25,'Pupil List'!$L18<Sheet1!$G$25),Sheet1!$A$25,\"\"))","v":""},{"$error":"#N/A"},{"$f":"IFERROR(VLOOKUP(BK18,Sheet1!$A$2:$E$25,3,FALSE),\"\")","v":""},{"$f":"IFERROR(VLOOKUP(BK18,Sheet1!$A$2:$E$25,4,FALSE),\"\")","v":""},{"$f":"IFERROR(VLOOKUP(BK18,Sheet1!$A$2:$E$25,5,FALSE),\"\")","v":""},{"$f":"IFERROR(VLOOKUP(N18,Sheet1!$A$29:$B$38,2,FALSE),\"\")","v":""}]
[null,null,"",null,null,null,null,null,"","","",null,null,null,null,"","","","","","","","","","","","","","","","","","","","","","","",{"$f":"IF($L19=\"\",\"\",IF(AND($L19>=Sheet1!$F$2,'Pupil List'!$L19<Sheet1!$G$2),Sheet1!$A$2,\"\"))","v":""},{"$f":"IF($L19=\"\",\"\",IF(AND($L19>=Sheet1!$F$3,'Pupil List'!$L19<Sheet1!$G$3),Sheet1!$A$3,\"\"))","v":""},{"$f":"IF($L19=\"\",\"\",IF(AND($L19>=Sheet1!$F$4,'Pupil List'!$L19<Sheet1!$G$4),Sheet1!$A$4,\"\"))","v":""},{"$f":"IF($L19=\"\",\"\",IF(AND($L19>=Sheet1!$F$5,'Pupil List'!$L19<Sheet1!$G$5),Sheet1!$A$5,\"\"))","v":""},{"$f":"IF($L19=\"\",\"\",IF(AND($L19>=Sheet1!$F$6,'Pupil List'!$L19<Sheet1!$G$6),Sheet1!$A$6,\"\"))","v":""},{"$f":"IF($L19=\"\",\"\",IF(AND($L19>=Sheet1!$F$7,'Pupil List'!$L19<Sheet1!$G$7),Sheet1!$A$7,\"\"))","v":""},{"$f":"IF($L19=\"\",\"\",IF(AND($L19>=Sheet1!$F$8,'Pupil List'!$L19<Sheet1!$G$8),Sheet1!$A$8,\"\"))","v":""},{"$f":"IF($L19=\"\",\"\",IF(AND($L19>=Sheet1!$F$9,'Pupil List'!$L19<Sheet1!$G$9),Sheet1!$A$9,\"\"))","v":""},{"$f":"IF($L19=\"\",\"\",IF(AND($L19>=Sheet1!$F$10,'Pupil List'!$L19<Sheet1!$G$10),Sheet1!$A$10,\"\"))","v":""},{"$f":"IF($L19=\"\",\"\",IF(AND($L19>=Sheet1!$F$11,'Pupil List'!$L19<Sheet1!$G$11),Sheet1!$A$11,\"\"))","v":""},{"$f":"IF($L19=\"\",\"\",IF(AND($L19>=Sheet1!$F$12,'Pupil List'!$L19<Sheet1!$G$12),Sheet1!$A$12,\"\"))","v":""},{"$f":"IF($L19=\"\",\"\",IF(AND($L19>=Sheet1!$F$13,'Pupil List'!$L19<Sheet1!$G$13),Sheet1!$A$13,\"\"))","v":""},{"$f":"IF($L19=\"\",\"\",IF(AND($L19>=Sheet1!$F$14,'Pupil List'!$L19<Sheet1!$G$14),Sheet1!$A$14,\"\"))","v":""},{"$f":"IF($L19=\"\",\"\",IF(AND($L19>=Sheet1!$F$15,'Pupil List'!$L19<Sheet1!$G$15),Sheet1!$A$15,\"\"))","v":""},{"$f":"IF($L19=\"\",\"\",IF(AND($L19>=Sheet1!$F$16,'Pupil List'!$L19<Sheet1!$G$16),Sheet1!$A$16,\"\"))","v":""},{"$f":"IF($L19=\"\",\"\",IF(AND($L19>=Sheet1!$F$17,'Pupil List'!$L19<Sheet1!$G$17),Sheet1!$A$17,\"\"))","v":""},{"$f":"IF($L19=\"\",\"\",IF(AND($L19>=Sheet1!$F$18,'Pupil List'!$L19<Sheet1!$G$18),Sheet1!$A$18,\"\"))","v":""},{"$f":"IF($L19=\"\",\"\",IF(AND($L19>=Sheet1!$F$19,'Pupil List'!$L19<Sheet1!$G$19),Sheet1!$A$19,\"\"))","v":""},{"$f":"IF($L19=\"\",\"\",IF(AND($L19>=Sheet1!$F$20,'Pupil List'!$L19<Sheet1!$G$20),Sheet1!$A$20,\"\"))","v":""},{"$f":"IF($L19=\"\",\"\",IF(AND($L19>=Sheet1!$F$21,'Pupil List'!$L19<Sheet1!$G$21),Sheet1!$A$21,\"\"))","v":""},{"$f":"IF($L19=\"\",\"\",IF(AND($L19>=Sheet1!$F$22,'Pupil List'!$L19<Sheet1!$G$22),Sheet1!$A$22,\"\"))","v":""},{"$f":"IF($L19=\"\",\"\",IF(AND($L19>=Sheet1!$F$23,'Pupil List'!$L19<Sheet1!$G$23),Sheet1!$A$23,\"\"))","v":""},{"$f":"IF($L19=\"\",\"\",IF(AND($L19>=Sheet1!$F$24,'Pupil List'!$L19<Sheet1!$G$24),Sheet1!$A$24,\"\"))","v":""},{"$f":"IF($L19=\"\",\"\",IF(AND($L19>=Sheet1!$F$25,'Pupil List'!$L19<Sheet1!$G$25),Sheet1!$A$25,\"\"))","v":""},{"$error":"#N/A"},{"$f":"IFERROR(VLOOKUP(BK19,Sheet1!$A$2:$E$25,3,FALSE),\"\")","v":""},{"$f":"IFERROR(VLOOKUP(BK19,Sheet1!$A$2:$E$25,4,FALSE),\"\")","v":""},{"$f":"IFERROR(VLOOKUP(BK19,Sheet1!$A$2:$E$25,5,FALSE),\"\")","v":""},{"$f":"IFERROR(VLOOKUP(N19,Sheet1!$A$29:$B$38,2,FALSE),\"\")","v":""}]
[null,null,"",null,null,null,null,null,"","","",null,null,null,null,"","","","","","","","","","","","","","","","","","","","","","","",{"$f":"IF($L20=\"\",\"\",IF(AND($L20>=Sheet1!$F$2,'Pupil List'!$L20<Sheet1!$G$2),Sheet1!$A$2,\"\"))","v":""},{"$f":"IF($L20=\"\",\"\",IF(AND($L20>=Sheet1!$F$3,'Pupil List'!$L20<Sheet1!$G$3),Sheet1!$A$3,\"\"))","v":""},{"$f":"IF($L20=\"\",\"\",IF(AND($L20>=Sheet1!$F$4,'Pupil List'!$L20<Sheet1!$G$4),Sheet1!$A$4,\"\"))","v":""},{"$f":"IF($L20=\"\",\"\",IF(AND($L20>=Sheet1!$F$5,'Pupil List'!$L20<Sheet1!$G$5),Sheet1!$A$5,\"\"))","v":""},{"$f":"IF($L20=\"\",\"\",IF(AND($L20>=Sheet1!$F$6,'Pupil List'!$L20<Sheet1!$G$6),Sheet1!$A$6,\"\"))","v":""},{"$f":"IF($L20=\"\",\"\",IF(AND($L20>=Sheet1!$F$7,'Pupil List'!$L20<Sheet1!$G$7),Sheet1!$A$7,\"\"))","v":""},{"$f":"IF($L20=\"\",\"\",IF(AND($L20>=Sheet1!$F$8,'Pupil List'!$L20<Sheet1!$G$8),Sheet1!$A$8,\"\"))","v":""},{"$f":"IF($L20=\"\",\"\",IF(AND($L20>=Sheet1!$F$9,'Pupil List'!$L20<Sheet1!$G$9),Sheet1!$A$9,\"\"))","v":""},{"$f":"IF($L20=\"\",\"\",IF(AND($L20>=Sheet1!$F$10,'Pupil List'!$L20<Sheet1!$G$10),Sheet1!$A$10,\"\"))","v":""},{"$f":"IF($L20=\"\",\"\",IF(AND($L20>=Sheet1!$F$11,'Pupil List'!$L20<Sheet1!$G$11),Sheet1!$A$11,\"\"))","v":""},{"$f":"IF($L20=\"\",\"\",IF(AND($L20>=Sheet1!$F$12,'Pupil List'!$L20<Sheet1!$G$12),Sheet1!$A$12,\"\"))","v":""},{"$f":"IF($L20=\"\",\"\",IF(AND($L20>=Sheet1!$F$13,'Pupil List'!$L20<Sheet1!$G$13),Sheet1!$A$13,\"\"))","v":""},{"$f":"IF($L20=\"\",\"\",IF(AND($L20>=Sheet1!$F$14,'Pupil List'!$L20<Sheet1!$G$14),Sheet1!$A$14,\"\"))","v":""},{"$f":"IF($L20=\"\",\"\",IF(AND($L20>=Sheet1!$F$15,'Pupil List'!$L20<Sheet1!$G$15),Sheet1!$A$15,\"\"))","v":""},{"$f":"IF($L20=\"\",\"\",IF(AND($L20>=Sheet1!$F$16,'Pupil List'!$L20<Sheet1!$G$16),Sheet1!$A$16,\"\"))","v":""},{"$f":"IF($L20=\"\",\"\",IF(AND($L20>=Sheet1!$F$17,'Pupil List'!$L20<Sheet1!$G$17),Sheet1!$A$17,\"\"))","v":""},{"$f":"IF($L20=\"\",\"\",IF(AND($L20>=Sheet1!$F$18,'Pupil List'!$L20<Sheet1!$G$18),Sheet1!$A$18,\"\"))","v":""},{"$f":"IF($L20=\"\",\"\",IF(AND($L20>=Sheet1!$F$19,'Pupil List'!$L20<Sheet1!$G$19),Sheet1!$A$19,\"\"))","v":""},{"$f":"IF($L20=\"\",\"\",IF(AND($L20>=Sheet1!$F$20,'Pupil List'!$L20<Sheet1!$G$20),Sheet1!$A$20,\"\"))","v":""},{"$f":"IF($L20=\"\",\"\",IF(AND($L20>=Sheet1!$F$21,'Pupil List'!$L20<Sheet1!$G$21),Sheet1!$A$21,\"\"))","v":""},{"$f":"IF($L20=\"\",\"\",IF(AND($L20>=Sheet1!$F$22,'Pupil List'!$L20<Sheet1!$G$22),Sheet1!$A$22,\"\"))","v":""},{"$f":"IF($L20=\"\",\"\",IF(AND($L20>=Sheet1!$F$23,'Pupil List'!$L20<Sheet1!$G$23),Sheet1!$A$23,\"\"))","v":""},{"$f":"IF($L20=\"\",\"\",IF(AND($L20>=Sheet1!$F$24,'Pupil List'!$L20<Sheet1!$G$24),Sheet1!$A$24,\"\"))","v":""},{"$f":"IF($L20=\"\",\"\",IF(AND($L20>=Sheet1!$F$25,'Pupil List'!$L20<Sheet1!$G$25),Sheet1!$A$25,\"\"))","v":""},{"$error":"#N/A"},{"$f":"IFERROR(VLOOKUP(BK20,Sheet1!$A$2:$E$25,3,FALSE),\"\")","v":""},{"$f":"IFERROR(VLOOKUP(BK20,Sheet1!$A$2:$E$25,4,FALSE),\"\")","v":""},{"$f":"IFERROR(VLOOKUP(BK20,Sheet1!$A$2:$E$25,5,FALSE),\"\")","v":""},{"$f":"IFERROR(VLOOKUP(N20,Sheet1!$A$29:$B$38,2,FALSE),\"\")","v":""}]
[null,null,"",null,null,null,null,null,"","","",null,null,null,null,"","","","","","","","","","","","","","","","","","","","","","","",{"$f":"IF($L21=\"\",\"\",IF(AND($L21>=Sheet1!$F$2,'Pupil List'!$L21<Sheet1!$G$2),Sheet1!$A$2,\"\"))","v":""},{"$f":"IF($L21=\"\",\"\",IF(AND($L21>=Sheet1!$F$3,'Pupil List'!$L21<Sheet1!$G$3),Sheet1!$A$3,\"\"))","v":""},{"$f":"IF($L21=\"\",\"\",IF(AND($L21>=Sheet1!$F$4,'Pupil List'!$L21<Sheet1!$G$4),Sheet1!$A$4,\"\"))","v":""},{"$f":"IF($L21=\"\",\"\",IF(AND($L21>=Sheet1!$F$5,'Pupil List'!$L21<Sheet1!$G$5),Sheet1!$A$5,\"\"))","v":""},{"$f":"IF($L21=\"\",\"\",IF(AND($L21>=Sheet1!$F$6,'Pupil List'!$L21<Sheet1!$G$6),Sheet1!$A$6,\"\"))","v":""},{"$f":"IF($L21=\"\",\"\",IF(AND($L21>=Sheet1!$F$7,'Pupil List'!$L21<Sheet1!$G$7),Sheet1!$A$7,\"\"))","v":""},{"$f":"IF($L21=\"\",\"\",IF(AND($L21>=Sheet1!$F$8,'Pupil List'!$L21<Sheet1!$G$8),Sheet1!$A$8,\"\"))","v":""},{"$f":"IF($L21=\"\",\"\",IF(AND($L21>=Sheet1!$F$9,'Pupil List'!$L21<Sheet1!$G$9),Sheet1!$A$9,\"\"))","v":""},{"$f":"IF($L21=\"\",\"\",IF(AND($L21>=Sheet1!$F$10,'Pupil List'!$L21<Sheet1!$G$10),Sheet1!$A$10,\"\"))","v":""},{"$f":"IF($L21=\"\",\"\",IF(AND($L21>=Sheet1!$F$11,'Pupil List'!$L21<Sheet1!$G$11),Sheet1!$A$11,\"\"))","v":""},{"$f":"IF($L21=\"\",\"\",IF(AND($L21>=Sheet1!$F$12,'Pupil List'!$L21<Sheet1!$G$12),Sheet1!$A$12,\"\"))","v":""},{"$f":"IF($L21=\"\",\"\",IF(AND($L21>=Sheet1!$F$13,'Pupil List'!$L21<Sheet1!$G$13),Sheet1!$A$13,\"\"))","v":""},{"$f":"IF($L21=\"\",\"\",IF(AND($L21>=Sheet1!$F$14,'Pupil List'!$L21<Sheet1!$G$14),Sheet1!$A$14,\"\"))","v":""},{"$f":"IF($L21=\"\",\"\",IF(AND($L21>=Sheet1!$F$15,'Pupil List'!$L21<Sheet1!$G$15),Sheet1!$A$15,\"\"))","v":""},{"$f":"IF($L21=\"\",\"\",IF(AND($L21>=Sheet1!$F$16,'Pupil List'!$L21<Sheet1!$G$16),Sheet1!$A$16,\"\"))","v":""},{"$f":"IF($L21=\"\",\"\",IF(AND($L21>=Sheet1!$F$17,'Pupil List'!$L21<Sheet1!$G$17),Sheet1!$A$17,\"\"))","v":""},{"$f":"IF($L21=\"\",\"\",IF(AND($L21>=Sheet1!$F$18,'Pupil List'!$L21<Sheet1!$G$18),Sheet1!$A$18,\"\"))","v":""},{"$f":"IF($L21=\"\",\"\",IF(AND($L21>=Sheet1!$F$19,'Pupil List'!$L21<Sheet1!$G$19),Sheet1!$A$19,\"\"))","v":""},{"$f":"IF($L21=\"\",\"\",IF(AND($L21>=Sheet1!$F$20,'Pupil List'!$L21<Sheet1!$G$20),Sheet1!$A$20,\"\"))","v":""},{"$f":"IF($L21=\"\",\"\",IF(AND($L21>=Sheet1!$F$21,'Pupil List'!$L21<Sheet1!$G$21),Sheet1!$A$21,\"\"))","v":""},{"$f":"IF($L21=\"\",\"\",IF(AND($L21>=Sheet1!$F$22,'Pupil List'!$L21<Sheet1!$G$22),Sheet1!$A$22,\"\"))","v":""},{"$f":"IF($L21=\"\",\"\",IF(AND($L21>=Sheet1!$F$23,'Pupil List'!$L21<Sheet1!$G$23),Sheet1!$A$23,\"\"))","v":""},{"$f":"IF($L21=\"\",\"\",IF(AND($L21>=Sheet1!$F$24,'Pupil List'!$L21<Sheet1!$G$24),Sheet1!$A$24,\"\"))","v":""},{"$f":"IF($L21=\"\",\"\",IF(AND($L21>=Sheet1!$F$25,'Pupil List'!$L21<Sheet1!$G$25),Sheet1!$A$25,\"\"))","v":""},{"$error":"#N/A"},{"$f":"IFERROR(VLOOKUP(BK21,Sheet1!$A$2:$E$25,3,FALSE),\"\")","v":""},{"$f":"IFERROR(VLOOKUP(BK21,Sheet1!$A$2:$E$25,4,FALSE),\"\")","v":""},{"$f":"IFERROR(VLOOKUP(BK21,Sheet1!$A$2:$E$25,5,FALSE),\"\")","v":""},{"$f":"IFERROR(VLOOKUP(N21,Sheet1!$A$29:$B$38,2,FALSE),\"\")","v":""}]
[null,null,"",null,null,null,null,null,"","","",null,null,null,null,"","","","","","","","","","","","","","","","","","","","","","","",{"$f":"IF($L22=\"\",\"\",IF(AND($L22>=Sheet1!$F$2,'Pupil List'!$L22<Sheet1!$G$2),Sheet1!$A$2,\"\"))","v":""},{"$f":"IF($L22=\"\",\"\",IF(AND($L22>=Sheet1!$F$3,'Pupil List'!$L22<Sheet1!$G$3),Sheet1!$A$3,\"\"))","v":""},{"$f":"IF($L22=\"\",\"\",IF(AND($L22>=Sheet1!$F$4,'Pupil List'!$L22<Sheet1!$G$4),Sheet1!$A$4,\"\"))","v":""},{"$f":"IF($L22=\"\",\"\",IF(AND($L22>=Sheet1!$F$5,'Pupil List'!$L22<Sheet1!$G$5),Sheet1!$A$5,\"\"))","v":""},{"$f":"IF($L22=\"\",\"\",IF(AND($L22>=Sheet1!$F$6,'Pupil List'!$L22<Sheet1!$G$6),Sheet1!$A$6,\"\"))","v":""},{"$f":"IF($L22=\"\",\"\",IF(AND($L22>=Sheet1!$F$7,'Pupil List'!$L22<Sheet1!$G$7),Sheet1!$A$7,\"\"))","v":""},{"$f":"IF($L22=\"\",\"\",IF(AND($L22>=Sheet1!$F$8,'Pupil List'!$L22<Sheet1!$G$8),Sheet1!$A$8,\"\"))","v":""},{"$f":"IF($L22=\"\",\"\",IF(AND($L22>=Sheet1!$F$9,'Pupil List'!$L22<Sheet1!$G$9),Sheet1!$A$9,\"\"))","v":""},{"$f":"IF($L22=\"\",\"\",IF(AND($L22>=Sheet1!$F$10,'Pupil List'!$L22<Sheet1!$G$10),Sheet1!$A$10,\"\"))","v":""},{"$f":"IF($L22=\"\",\"\",IF(AND($L22>=Sheet1!$F$11,'Pupil List'!$L22<Sheet1!$G$11),Sheet1!$A$11,\"\"))","v":""},{"$f":"IF($L22=\"\",\"\",IF(AND($L22>=Sheet1!$F$12,'Pupil List'!$L22<Sheet1!$G$12),Sheet1!$A$12,\"\"))","v":""},{"$f":"IF($L22=\"\",\"\",IF(AND($L22>=Sheet1!$F$13,'Pupil List'!$L22<Sheet1!$G$13),Sheet1!$A$13,\"\"))","v":""},{"$f":"IF($L22=\"\",\"\",IF(AND($L22>=Sheet1!$F$14,'Pupil List'!$L22<Sheet1!$G$14),Sheet1!$A$14,\"\"))","v":""},{"$f":"IF($L22=\"\",\"\",IF(AND($L22>=Sheet1!$F$15,'Pupil List'!$L22<Sheet1!$G$15),Sheet1!$A$15,\"\"))","v":""},{"$f":"IF($L22=\"\",\"\",IF(AND($L22>=Sheet1!$F$16,'Pupil List'!$L22<Sheet1!$G$16),Sheet1!$A$16,\"\"))","v":""},{"$f":"IF($L22=\"\",\"\",IF(AND($L22>=Sheet1!$F$17,'Pupil List'!$L22<Sheet1!$G$17),Sheet1!$A$17,\"\"))","v":""},{"$f":"IF($L22=\"\",\"\",IF(AND($L22>=Sheet1!$F$18,'Pupil List'!$L22<Sheet1!$G$18),Sheet1!$A$18,\"\"))","v":""},{"$f":"IF($L22=\"\",\"\",IF(AND($L22>=Sheet1!$F$19,'Pupil List'!$L22<Sheet1!$G$19),Sheet1!$A$19,\"\"))","v":""},{"$f":"IF($L22=\"\",\"\",IF(AND($L22>=Sheet1!$F$20,'Pupil List'!$L22<Sheet1!$G$20),Sheet1!$A$20,\"\"))","v":""},{"$f":"IF($L22=\"\",\"\",IF(AND($L22>=Sheet1!$F$21,'Pupil List'!$L22<Sheet1!$G$21),Sheet1!$A$21,\"\"))","v":""},{"$f":"IF($L22=\"\",\"\",IF(AND($L22>=Sheet1!$F$22,'Pupil List'!$L22<Sheet1!$G$22),Sheet1!$A$22,\"\"))","v":""},{"$f":"IF($L22=\"\",\"\",IF(AND($L22>=Sheet1!$F$23,'Pupil List'!$L22<Sheet1!$G$23),Sheet1!$A$23,\"\"))","v":""},{"$f":"IF($L22=\"\",\"\",IF(AND($L22>=Sheet1!$F$24,'Pupil List'!$L22<Sheet1!$G$24),Sheet1!$A$24,\"\"))","v":""},{"$f":"IF($L22=\"\",\"\",IF(AND($L22>=Sheet1!$F$25,'Pupil List'!$L22<Sheet1!$G$25),Sheet1!$A$25,\"\"))","v":""},{"$error":"#N/A"},{"$f":"IFERROR(VLOOKUP(BK22,Sheet1!$A$2:$E$25,3,FALSE),\"\")","v":""},{"$f":"IFERROR(VLOOKUP(BK22,Sheet1!$A$2:$E$25,4,FALSE),\"\")","v":""},{"$f":"IFERROR(VLOOKUP(BK22,Sheet1!$A$2:$E$25,5,FALSE),\"\")","v":""},{"$f":"IFERROR(VLOOKUP(N22,Sheet1!$A$29:$B$38,2,FALSE),\"\")","v":""}]
[null,null,"",null,null,null,null,null,"","","",null,null,null,null,"","","","","","","","","","","","","","","","","","","","","","","",{"$f":"IF($L23=\"\",\"\",IF(AND($L23>=Sheet1!$F$2,'Pupil List'!$L23<Sheet1!$G$2),Sheet1!$A$2,\"\"))","v":""},{"$f":"IF($L23=\"\",\"\",IF(AND($L23>=Sheet1!$F$3,'Pupil List'!$L23<Sheet1!$G$3),Sheet1!$A$3,\"\"))","v":""},{"$f":"IF($L23=\"\",\"\",IF(AND($L23>=Sheet1!$F$4,'Pupil List'!$L23<Sheet1!$G$4),Sheet1!$A$4,\"\"))","v":""},{"$f":"IF($L23=\"\",\"\",IF(AND($L23>=Sheet1!$F$5,'Pupil List'!$L23<Sheet1!$G$5),Sheet1!$A$5,\"\"))","v":""},{"$f":"IF($L23=\"\",\"\",IF(AND($L23>=Sheet1!$F$6,'Pupil List'!$L23<Sheet1!$G$6),Sheet1!$A$6,\"\"))","v":""},{"$f":"IF($L23=\"\",\"\",IF(AND($L23>=Sheet1!$F$7,'Pupil List'!$L23<Sheet1!$G$7),Sheet1!$A$7,\"\"))","v":""},{"$f":"IF($L23=\"\",\"\",IF(AND($L23>=Sheet1!$F$8,'Pupil List'!$L23<Sheet1!$G$8),Sheet1!$A$8,\"\"))","v":""},{"$f":"IF($L23=\"\",\"\",IF(AND($L23>=Sheet1!$F$9,'Pupil List'!$L23<Sheet1!$G$9),Sheet1!$A$9,\"\"))","v":""},{"$f":"IF($L23=\"\",\"\",IF(AND($L23>=Sheet1!$F$10,'Pupil List'!$L23<Sheet1!$G$10),Sheet1!$A$10,\"\"))","v":""},{"$f":"IF($L23=\"\",\"\",IF(AND($L23>=Sheet1!$F$11,'Pupil List'!$L23<Sheet1!$G$11),Sheet1!$A$11,\"\"))","v":""},{"$f":"IF($L23=\"\",\"\",IF(AND($L23>=Sheet1!$F$12,'Pupil List'!$L23<Sheet1!$G$12),Sheet1!$A$12,\"\"))","v":""},{"$f":"IF($L23=\"\",\"\",IF(AND($L23>=Sheet1!$F$13,'Pupil List'!$L23<Sheet1!$G$13),Sheet1!$A$13,\"\"))","v":""},{"$f":"IF($L23=\"\",\"\",IF(AND($L23>=Sheet1!$F$14,'Pupil List'!$L23<Sheet1!$G$14),Sheet1!$A$14,\"\"))","v":""},{"$f":"IF($L23=\"\",\"\",IF(AND($L23>=Sheet1!$F$15,'Pupil List'!$L23<Sheet1!$G$15),Sheet1!$A$15,\"\"))","v":""},{"$f":"IF($L23=\"\",\"\",IF(AND($L23>=Sheet1!$F$16,'Pupil List'!$L23<Sheet1!$G$16),Sheet1!$A$16,\"\"))","v":""},{"$f":"IF($L23=\"\",\"\",IF(AND($L23>=Sheet1!$F$17,'Pupil List'!$L23<Sheet1!$G$17),Sheet1!$A$17,\"\"))","v":""},{"$f":"IF($L23=\"\",\"\",IF(AND($L23>=Sheet1!$F$18,'Pupil List'!$L23<Sheet1!$G$18),Sheet1!$A$18,\"\"))","v":""},{"$f":"IF($L23=\"\",\"\",IF(AND($L23>=Sheet1!$F$19,'Pupil List'!$L23<Sheet1!$G$19),Sheet1!$A$19,\"\"))","v":""},{"$f":"IF($L23=\"\",\"\",IF(AND($L23>=Sheet1!$F$20,'Pupil List'!$L23<Sheet1!$G$20),Sheet1!$A$20,\"\"))","v":""},{"$f":"IF($L23=\"\",\"\",IF(AND($L23>=Sheet1!$F$21,'Pupil List'!$L23<Sheet1!$G$21),Sheet1!$A$21,\"\"))","v":""},{"$f":"IF($L23=\"\",\"\",IF(AND($L23>=Sheet1!$F$22,'Pupil List'!$L23<Sheet1!$G$22),Sheet1!$A$22,\"\"))","v":""},{"$f":"IF($L23=\"\",\"\",IF(AND($L23>=Sheet1!$F$23,'Pupil List'!$L23<Sheet1!$G$23),Sheet1!$A$23,\"\"))","v":""},{"$f":"IF($L23=\"\",\"\",IF(AND($L23>=Sheet1!$F$24,'Pupil List'!$L23<Sheet1!$G$24),Sheet1!$A$24,\"\"))","v":""},{"$f":"IF($L23=\"\",\"\",IF(AND($L23>=Sheet1!$F$25,'Pupil List'!$L23<Sheet1!$G$25),Sheet1!$A$25,\"\"))","v":""},{"$error":"#N/A"},{"$f":"IFERROR(VLOOKUP(BK23,Sheet1!$A$2:$E$25,3,FALSE),\"\")","v":""},{"$f":"IFERROR(VLOOKUP(BK23,Sheet1!$A$2:$E$25,4,FALSE),\"\")","v":""},{"$f":"IFERROR(VLOOKUP(BK23,Sheet1!$A$2:$E$25,5,FALSE),\"\")","v":""},{"$f":"IFERROR(VLOOKUP(N23,Sheet1!$A$29:$B$38,2,FALSE),\"\")","v":""}]
[null,null,"",null,null,null,null,null,"","","",null,null,null,null,"","","","","","","","","","","","","","","","","","","","","","","",{"$f":"IF($L24=\"\",\"\",IF(AND($L24>=Sheet1!$F$2,'Pupil List'!$L24<Sheet1!$G$2),Sheet1!$A$2,\"\"))","v":""},{"$f":"IF($L24=\"\",\"\",IF(AND($L24>=Sheet1!$F$3,'Pupil List'!$L24<Sheet1!$G$3),Sheet1!$A$3,\"\"))","v":""},{"$f":"IF($L24=\"\",\"\",IF(AND($L24>=Sheet1!$F$4,'Pupil List'!$L24<Sheet1!$G$4),Sheet1!$A$4,\"\"))","v":""},{"$f":"IF($L24=\"\",\"\",IF(AND($L24>=Sheet1!$F$5,'Pupil List'!$L24<Sheet1!$G$5),Sheet1!$A$5,\"\"))","v":""},{"$f":"IF($L24=\"\",\"\",IF(AND($L24>=Sheet1!$F$6,'Pupil List'!$L24<Sheet1!$G$6),Sheet1!$A$6,\"\"))","v":""},{"$f":"IF($L24=\"\",\"\",IF(AND($L24>=Sheet1!$F$7,'Pupil List'!$L24<Sheet1!$G$7),Sheet1!$A$7,\"\"))","v":""},{"$f":"IF($L24=\"\",\"\",IF(AND($L24>=Sheet1!$F$8,'Pupil List'!$L24<Sheet1!$G$8),Sheet1!$A$8,\"\"))","v":""},{"$f":"IF($L24=\"\",\"\",IF(AND($L24>=Sheet1!$F$9,'Pupil List'!$L24<Sheet1!$G$9),Sheet1!$A$9,\"\"))","v":""},{"$f":"IF($L24=\"\",\"\",IF(AND($L24>=Sheet1!$F$10,'Pupil List'!$L24<Sheet1!$G$10),Sheet1!$A$10,\"\"))","v":""},{"$f":"IF($L24=\"\",\"\",IF(AND($L24>=Sheet1!$F$11,'Pupil List'!$L24<Sheet1!$G$11),Sheet1!$A$11,\"\"))","v":""},{"$f":"IF($L24=\"\",\"\",IF(AND($L24>=Sheet1!$F$12,'Pupil List'!$L24<Sheet1!$G$12),Sheet1!$A$12,\"\"))","v":""},{"$f":"IF($L24=\"\",\"\",IF(AND($L24>=Sheet1!$F$13,'Pupil List'!$L24<Sheet1!$G$13),Sheet1!$A$13,\"\"))","v":""},{"$f":"IF($L24=\"\",\"\",IF(AND($L24>=Sheet1!$F$14,'Pupil List'!$L24<Sheet1!$G$14),Sheet1!$A$14,\"\"))","v":""},{"$f":"IF($L24=\"\",\"\",IF(AND($L24>=Sheet1!$F$15,'Pupil List'!$L24<Sheet1!$G$15),Sheet1!$A$15,\"\"))","v":""},{"$f":"IF($L24=\"\",\"\",IF(AND($L24>=Sheet1!$F$16,'Pupil List'!$L24<Sheet1!$G$16),Sheet1!$A$16,\"\"))","v":""},{"$f":"IF($L24=\"\",\"\",IF(AND($L24>=Sheet1!$F$17,'Pupil List'!$L24<Sheet1!$G$17),Sheet1!$A$17,\"\"))","v":""},{"$f":"IF($L24=\"\",\"\",IF(AND($L24>=Sheet1!$F$18,'Pupil List'!$L24<Sheet1!$G$18),Sheet1!$A$18,\"\"))","v":""},{"$f":"IF($L24=\"\",\"\",IF(AND($L24>=Sheet1!$F$19,'Pupil List'!$L24<Sheet1!$G$19),Sheet1!$A$19,\"\"))","v":""},{"$f":"IF($L24=\"\",\"\",IF(AND($L24>=Sheet1!$F$20,'Pupil List'!$L24<Sheet1!$G$20),Sheet1!$A$20,\"\"))","v":""},{"$f":"IF($L24=\"\",\"\",IF(AND($L24>=Sheet1!$F$21,'Pupil List'!$L24<Sheet1!$G$21),Sheet1!$A$21,\"\"))","v":""},{"$f":"IF($L24=\"\",\"\",IF(AND($L24>=Sheet1!$F$22,'Pupil List'!$L24<Sheet1!$G$22),Sheet1!$A$22,\"\"))","v":""},{"$f":"IF($L24=\"\",\"\",IF(AND($L24>=Sheet1!$F$23,'Pupil List'!$L24<Sheet1!$G$23),Sheet1!$A$23,\"\"))","v":""},{"$f":"IF($L24=\"\",\"\",IF(AND($L24>=Sheet1!$F$24,'Pupil List'!$L24<Sheet1!$G$24),Sheet1!$A$24,\"\"))","v":""},{"$f":"IF($L24=\"\",\"\",IF(AND($L24>=Sheet1!$F$25,'Pupil List'!$L24<Sheet1!$G$25),Sheet1!$A$25,\"\"))","v":""},{"$error":"#N/A"},{"$f":"IFERROR(VLOOKUP(BK24,Sheet1!$A$2:$E$25,3,FALSE),\"\")","v":""},{"$f":"IFERROR(VLOOKUP(BK24,Sheet1!$A$2:$E$25,4,FALSE),\"\")","v":""},{"$f":"IFERROR(VLOOKUP(BK24,Sheet1!$A$2:$E$25,5,FALSE),\"\")","v":""},{"$f":"IFERROR(VLOOKUP(N24,Sheet1!$A$29:$B$38,2,FALSE),\"\")","v":""}]
[null,null,"",null,null,null,null,null,"","","",null,null,null,null,"","","","","","","","","","","","","","","","","","","","","","","",{"$f":"IF($L25=\"\",\"\",IF(AND($L25>=Sheet1!$F$2,'Pupil List'!$L25<Sheet1!$G$2),Sheet1!$A$2,\"\"))","v":""},{"$f":"IF($L25=\"\",\"\",IF(AND($L25>=Sheet1!$F$3,'Pupil List'!$L25<Sheet1!$G$3),Sheet1!$A$3,\"\"))","v":""},{"$f":"IF($L25=\"\",\"\",IF(AND($L25>=Sheet1!$F$4,'Pupil List'!$L25<Sheet1!$G$4),Sheet1!$A$4,\"\"))","v":""},{"$f":"IF($L25=\"\",\"\",IF(AND($L25>=Sheet1!$F$5,'Pupil List'!$L25<Sheet1!$G$5),Sheet1!$A$5,\"\"))","v":""},{"$f":"IF($L25=\"\",\"\",IF(AND($L25>=Sheet1!$F$6,'Pupil List'!$L25<Sheet1!$G$6),Sheet1!$A$6,\"\"))","v":""},{"$f":"IF($L25=\"\",\"\",IF(AND($L25>=Sheet1!$F$7,'Pupil List'!$L25<Sheet1!$G$7),Sheet1!$A$7,\"\"))","v":""},{"$f":"IF($L25=\"\",\"\",IF(AND($L25>=Sheet1!$F$8,'Pupil List'!$L25<Sheet1!$G$8),Sheet1!$A$8,\"\"))","v":""},{"$f":"IF($L25=\"\",\"\",IF(AND($L25>=Sheet1!$F$9,'Pupil List'!$L25<Sheet1!$G$9),Sheet1!$A$9,\"\"))","v":""},{"$f":"IF($L25=\"\",\"\",IF(AND($L25>=Sheet1!$F$10,'Pupil List'!$L25<Sheet1!$G$10),Sheet1!$A$10,\"\"))","v":""},{"$f":"IF($L25=\"\",\"\",IF(AND($L25>=Sheet1!$F$11,'Pupil List'!$L25<Sheet1!$G$11),Sheet1!$A$11,\"\"))","v":""},{"$f":"IF($L25=\"\",\"\",IF(AND($L25>=Sheet1!$F$12,'Pupil List'!$L25<Sheet1!$G$12),Sheet1!$A$12,\"\"))","v":""},{"$f":"IF($L25=\"\",\"\",IF(AND($L25>=Sheet1!$F$13,'Pupil List'!$L25<Sheet1!$G$13),Sheet1!$A$13,\"\"))","v":""},{"$f":"IF($L25=\"\",\"\",IF(AND($L25>=Sheet1!$F$14,'Pupil List'!$L25<Sheet1!$G$14),Sheet1!$A$14,\"\"))","v":""},{"$f":"IF($L25=\"\",\"\",IF(AND($L25>=Sheet1!$F$15,'Pupil List'!$L25<Sheet1!$G$15),Sheet1!$A$15,\"\"))","v":""},{"$f":"IF($L25=\"\",\"\",IF(AND($L25>=Sheet1!$F$16,'Pupil List'!$L25<Sheet1!$G$16),Sheet1!$A$16,\"\"))","v":""},{"$f":"IF($L25=\"\",\"\",IF(AND($L25>=Sheet1!$F$17,'Pupil List'!$L25<Sheet1!$G$17),Sheet1!$A$17,\"\"))","v":""},{"$f":"IF($L25=\"\",\"\",IF(AND($L25>=Sheet1!$F$18,'Pupil List'!$L25<Sheet1!$G$18),Sheet1!$A$18,\"\"))","v":""},{"$f":"IF($L25=\"\",\"\",IF(AND($L25>=Sheet1!$F$19,'Pupil List'!$L25<Sheet1!$G$19),Sheet1!$A$19,\"\"))","v":""},{"$f":"IF($L25=\"\",\"\",IF(AND($L25>=Sheet1!$F$20,'Pupil List'!$L25<Sheet1!$G$20),Sheet1!$A$20,\"\"))","v":""},{"$f":"IF($L25=\"\",\"\",IF(AND($L25>=Sheet1!$F$21,'Pupil List'!$L25<Sheet1!$G$21),Sheet1!$A$21,\"\"))","v":""},{"$f":"IF($L25=\"\",\"\",IF(AND($L25>=Sheet1!$F$22,'Pupil List'!$L25<Sheet1!$G$22),Sheet1!$A$22,\"\"))","v":""},{"$f":"IF($L25=\"\",\"\",IF(AND($L25>=Sheet1!$F$23,'Pupil List'!$L25<Sheet1!$G$23),Sheet1!$A$23,\"\"))","v":""},{"$f":"IF($L25=\"\",\"\",IF(AND($L25>=Sheet1!$F$24,'Pupil List'!$L25<Sheet1!$G$24),Sheet1!$A$24,\"\"))","v":""},{"$f":"IF($L25=\"\",\"\",IF(AND($L25>=Sheet1!$F$25,'Pupil List'!$L25<Sheet1!$G$25),Sheet1!$A$25,\"\"))","v":""},{"$error":"#N/A"},{"$f":"IFERROR(VLOOKUP(BK25,Sheet1!$A$2:$E$25,3,FALSE),\"\")","v":""},{"$f":"IFERROR(VLOOKUP(BK25,Sheet1!$A$2:$E$25,4,FALSE),\"\")","v":""},{"$f":"IFERROR(VLOOKUP(BK25,Sheet1!$A$2:$E$25,5,FALSE),\"\")","v":""},{"$f":"IFERROR(VLOOKUP(N25,Sheet1!$A$29:$B$38,2,FALSE),\"\")","v":""}]
[null,null,"",null,null,null,null,null,"","","",null,null,null,null,"","","","","","","","","","","","","","","","","","","","","","","",{"$f":"IF($L26=\"\",\"\",IF(AND($L26>=Sheet1!$F$2,'Pupil List'!$L26<Sheet1!$G$2),Sheet1!$A$2,\"\"))","v":""},{"$f":"IF($L26=\"\",\"\",IF(AND($L26>=Sheet1!$F$3,'Pupil List'!$L26<Sheet1!$G$3),Sheet1!$A$3,\"\"))","v":""},{"$f":"IF($L26=\"\",\"\",IF(AND($L26>=Sheet1!$F$4,'Pupil List'!$L26<Sheet1!$G$4),Sheet1!$A$4,\"\"))","v":""},{"$f":"IF($L26=\"\",\"\",IF(AND($L26>=Sheet1!$F$5,'Pupil List'!$L26<Sheet1!$G$5),Sheet1!$A$5,\"\"))","v":""},{"$f":"IF($L26=\"\",\"\",IF(AND($L26>=Sheet1!$F$6,'Pupil List'!$L26<Sheet1!$G$6),Sheet1!$A$6,\"\"))","v":""},{"$f":"IF($L26=\"\",\"\",IF(AND($L26>=Sheet1!$F$7,'Pupil List'!$L26<Sheet1!$G$7),Sheet1!$A$7,\"\"))","v":""},{"$f":"IF($L26=\"\",\"\",IF(AND($L26>=Sheet1!$F$8,'Pupil List'!$L26<Sheet1!$G$8),Sheet1!$A$8,\"\"))","v":""},{"$f":"IF($L26=\"\",\"\",IF(AND($L26>=Sheet1!$F$9,'Pupil List'!$L26<Sheet1!$G$9),Sheet1!$A$9,\"\"))","v":""},{"$f":"IF($L26=\"\",\"\",IF(AND($L26>=Sheet1!$F$10,'Pupil List'!$L26<Sheet1!$G$10),Sheet1!$A$10,\"\"))","v":""},{"$f":"IF($L26=\"\",\"\",IF(AND($L26>=Sheet1!$F$11,'Pupil List'!$L26<Sheet1!$G$11),Sheet1!$A$11,\"\"))","v":""},{"$f":"IF($L26=\"\",\"\",IF(AND($L26>=Sheet1!$F$12,'Pupil List'!$L26<Sheet1!$G$12),Sheet1!$A$12,\"\"))","v":""},{"$f":"IF($L26=\"\",\"\",IF(AND($L26>=Sheet1!$F$13,'Pupil List'!$L26<Sheet1!$G$13),Sheet1!$A$13,\"\"))","v":""},{"$f":"IF($L26=\"\",\"\",IF(AND($L26>=Sheet1!$F$14,'Pupil List'!$L26<Sheet1!$G$14),Sheet1!$A$14,\"\"))","v":""},{"$f":"IF($L26=\"\",\"\",IF(AND($L26>=Sheet1!$F$15,'Pupil List'!$L26<Sheet1!$G$15),Sheet1!$A$15,\"\"))","v":""},{"$f":"IF($L26=\"\",\"\",IF(AND($L26>=Sheet1!$F$16,'Pupil List'!$L26<Sheet1!$G$16),Sheet1!$A$16,\"\"))","v":""},{"$f":"IF($L26=\"\",\"\",IF(AND($L26>=Sheet1!$F$17,'Pupil List'!$L26<Sheet1!$G$17),Sheet1!$A$17,\"\"))","v":""},{"$f":"IF($L26=\"\",\"\",IF(AND($L26>=Sheet1!$F$18,'Pupil List'!$L26<Sheet1!$G$18),Sheet1!$A$18,\"\"))","v":""},{"$f":"IF($L26=\"\",\"\",IF(AND($L26>=Sheet1!$F$19,'Pupil List'!$L26<Sheet1!$G$19),Sheet1!$A$19,\"\"))","v":""},{"$f":"IF($L26=\"\",\"\",IF(AND($L26>=Sheet1!$F$20,'Pupil List'!$L26<Sheet1!$G$20),Sheet1!$A$20,\"\"))","v":""},{"$f":"IF($L26=\"\",\"\",IF(AND($L26>=Sheet1!$F$21,'Pupil List'!$L26<Sheet1!$G$21),Sheet1!$A$21,\"\"))","v":""},{"$f":"IF($L26=\"\",\"\",IF(AND($L26>=Sheet1!$F$22,'Pupil List'!$L26<Sheet1!$G$22),Sheet1!$A$22,\"\"))","v":""},{"$f":"IF($L26=\"\",\"\",IF(AND($L26>=Sheet1!$F$23,'Pupil List'!$L26<Sheet1!$G$23),Sheet1!$A$23,\"\"))","v":""},{"$f":"IF($L26=\"\",\"\",IF(AND($L26>=Sheet1!$F$24,'Pupil List'!$L26<Sheet1!$G$24),Sheet1!$A$24,\"\"))","v":""},{"$f":"IF($L26=\"\",\"\",IF(AND($L26>=Sheet1!$F$25,'Pupil List'!$L26<Sheet1!$G$25),Sheet1!$A$25,\"\"))","v":""},{"$error":"#N/A"},{"$f":"IFERROR(VLOOKUP(BK26,Sheet1!$A$2:$E$25,3,FALSE),\"\")","v":""},{"$f":"IFERROR(VLOOKUP(BK26,Sheet1!$A$2:$E$25,4,FALSE),\"\")","v":""},{"$f":"IFERROR(VLOOKUP(BK26,Sheet1!$A$2:$E$25,5,FALSE),\"\")","v":""},{"$f":"IFERROR(VLOOKUP(N26,Sheet1!$A$29:$B$38,2,FALSE),\"\")","v":""}]
[null,null,"",null,null,null,null,null,"","","",null,null,null,null,"","","","","","","","","","","","","","","","","","","","","","","",{"$f":"IF($L27=\"\",\"\",IF(AND($L27>=Sheet1!$F$2,'Pupil List'!$L27<Sheet1!$G$2),Sheet1!$A$2,\"\"))","v":""},{"$f":"IF($L27=\"\",\"\",IF(AND($L27>=Sheet1!$F$3,'Pupil List'!$L27<Sheet1!$G$3),Sheet1!$A$3,\"\"))","v":""},{"$f":"IF($L27=\"\",\"\",IF(AND($L27>=Sheet1!$F$4,'Pupil List'!$L27<Sheet1!$G$4),Sheet1!$A$4,\"\"))","v":""},{"$f":"IF($L27=\"\",\"\",IF(AND($L27>=Sheet1!$F$5,'Pupil List'!$L27<Sheet1!$G$5),Sheet1!$A$5,\"\"))","v":""},{"$f":"IF($L27=\"\",\"\",IF(AND($L27>=Sheet1!$F$6,'Pupil List'!$L27<Sheet1!$G$6),Sheet1!$A$6,\"\"))","v":""},{"$f":"IF($L27=\"\",\"\",IF(AND($L27>=Sheet1!$F$7,'Pupil List'!$L27<Sheet1!$G$7),Sheet1!$A$7,\"\"))","v":""},{"$f":"IF($L27=\"\",\"\",IF(AND($L27>=Sheet1!$F$8,'Pupil List'!$L27<Sheet1!$G$8),Sheet1!$A$8,\"\"))","v":""},{"$f":"IF($L27=\"\",\"\",IF(AND($L27>=Sheet1!$F$9,'Pupil List'!$L27<Sheet1!$G$9),Sheet1!$A$9,\"\"))","v":""},{"$f":"IF($L27=\"\",\"\",IF(AND($L27>=Sheet1!$F$10,'Pupil List'!$L27<Sheet1!$G$10),Sheet1!$A$10,\"\"))","v":""},{"$f":"IF($L27=\"\",\"\",IF(AND($L27>=Sheet1!$F$11,'Pupil List'!$L27<Sheet1!$G$11),Sheet1!$A$11,\"\"))","v":""},{"$f":"IF($L27=\"\",\"\",IF(AND($L27>=Sheet1!$F$12,'Pupil List'!$L27<Sheet1!$G$12),Sheet1!$A$12,\"\"))","v":""},{"$f":"IF($L27=\"\",\"\",IF(AND($L27>=Sheet1!$F$13,'Pupil List'!$L27<Sheet1!$G$13),Sheet1!$A$13,\"\"))","v":""},{"$f":"IF($L27=\"\",\"\",IF(AND($L27>=Sheet1!$F$14,'Pupil List'!$L27<Sheet1!$G$14),Sheet1!$A$14,\"\"))","v":""},{"$f":"IF($L27=\"\",\"\",IF(AND($L27>=Sheet1!$F$15,'Pupil List'!$L27<Sheet1!$G$15),Sheet1!$A$15,\"\"))","v":""},{"$f":"IF($L27=\"\",\"\",IF(AND($L27>=Sheet1!$F$16,'Pupil List'!$L27<Sheet1!$G$16),Sheet1!$A$16,\"\"))","v":""},{"$f":"IF($L27=\"\",\"\",IF(AND($L27>=Sheet1!$F$17,'Pupil List'!$L27<Sheet1!$G$17),Sheet1!$A$17,\"\"))","v":""},{"$f":"IF($L27=\"\",\"\",IF(AND($L27>=Sheet1!$F$18,'Pupil List'!$L27<Sheet1!$G$18),Sheet1!$A$18,\"\"))","v":""},{"$f":"IF($L27=\"\",\"\",IF(AND($L27>=Sheet1!$F$19,'Pupil List'!$L27<Sheet1!$G$19),Sheet1!$A$19,\"\"))","v":""},{"$f":"IF($L27=\"\",\"\",IF(AND($L27>=Sheet1!$F$20,'Pupil List'!$L27<Sheet1!$G$20),Sheet1!$A$20,\"\"))","v":""},{"$f":"IF($L27=\"\",\"\",IF(AND($L27>=Sheet1!$F$21,'Pupil List'!$L27<Sheet1!$G$21),Sheet1!$A$21,\"\"))","v":""},{"$f":"IF($L27=\"\",\"\",IF(AND($L27>=Sheet1!$F$22,'Pupil List'!$L27<Sheet1!$G$22),Sheet1!$A$22,\"\"))","v":""},{"$f":"IF($L27=\"\",\"\",IF(AND($L27>=Sheet1!$F$23,'Pupil List'!$L27<Sheet1!$G$23),Sheet1!$A$23,\"\"))","v":""},{"$f":"IF($L27=\"\",\"\",IF(AND($L27>=Sheet1!$F$24,'Pupil List'!$L27<Sheet1!$G$24),Sheet1!$A$24,\"\"))","v":""},{"$f":"IF($L27=\"\",\"\",IF(AND($L27>=Sheet1!$F$25,'Pupil List'!$L27<Sheet1!$G$25),Sheet1!$A$25,\"\"))","v":""},{"$error":"#N/A"},{"$f":"IFERROR(VLOOKUP(BK27,Sheet1!$A$2:$E$25,3,FALSE),\"\")","v":""},{"$f":"IFERROR(VLOOKUP(BK27,Sheet1!$A$2:$E$25,4,FALSE),\"\")","v":""},{"$f":"IFERROR(VLOOKUP(BK27,Sheet1!$A$2:$E$25,5,FALSE),\"\")","v":""},{"$f":"IFERROR(VLOOKUP(N27,Sheet1!$A$29:$B$38,2,FALSE),\"\")","v":""}]
[null,null,"",null,null,null,null,null,"","","",null,null,null,null,"","","","","","","","","","","","","","","","","","","","","","","",{"$f":"IF($L28=\"\",\"\",IF(AND($L28>=Sheet1!$F$2,'Pupil List'!$L28<Sheet1!$G$2),Sheet1!$A$2,\"\"))","v":""},{"$f":"IF($L28=\"\",\"\",IF(AND($L28>=Sheet1!$F$3,'Pupil List'!$L28<Sheet1!$G$3),Sheet1!$A$3,\"\"))","v":""},{"$f":"IF($L28=\"\",\"\",IF(AND($L28>=Sheet1!$F$4,'Pupil List'!$L28<Sheet1!$G$4),Sheet1!$A$4,\"\"))","v":""},{"$f":"IF($L28=\"\",\"\",IF(AND($L28>=Sheet1!$F$5,'Pupil List'!$L28<Sheet1!$G$5),Sheet1!$A$5,\"\"))","v":""},{"$f":"IF($L28=\"\",\"\",IF(AND($L28>=Sheet1!$F$6,'Pupil List'!$L28<Sheet1!$G$6),Sheet1!$A$6,\"\"))","v":""},{"$f":"IF($L28=\"\",\"\",IF(AND($L28>=Sheet1!$F$7,'Pupil List'!$L28<Sheet1!$G$7),Sheet1!$A$7,\"\"))","v":""},{"$f":"IF($L28=\"\",\"\",IF(AND($L28>=Sheet1!$F$8,'Pupil List'!$L28<Sheet1!$G$8),Sheet1!$A$8,\"\"))","v":""},{"$f":"IF($L28=\"\",\"\",IF(AND($L28>=Sheet1!$F$9,'Pupil List'!$L28<Sheet1!$G$9),Sheet1!$A$9,\"\"))","v":""},{"$f":"IF($L28=\"\",\"\",IF(AND($L28>=Sheet1!$F$10,'Pupil List'!$L28<Sheet1!$G$10),Sheet1!$A$10,\"\"))","v":""},{"$f":"IF($L28=\"\",\"\",IF(AND($L28>=Sheet1!$F$11,'Pupil List'!$L28<Sheet1!$G$11),Sheet1!$A$11,\"\"))","v":""},{"$f":"IF($L28=\"\",\"\",IF(AND($L28>=Sheet1!$F$12,'Pupil List'!$L28<Sheet1!$G$12),Sheet1!$A$12,\"\"))","v":""},{"$f":"IF($L28=\"\",\"\",IF(AND($L28>=Sheet1!$F$13,'Pupil List'!$L28<Sheet1!$G$13),Sheet1!$A$13,\"\"))","v":""},{"$f":"IF($L28=\"\",\"\",IF(AND($L28>=Sheet1!$F$14,'Pupil List'!$L28<Sheet1!$G$14),Sheet1!$A$14,\"\"))","v":""},{"$f":"IF($L28=\"\",\"\",IF(AND($L28>=Sheet1!$F$15,'Pupil List'!$L28<Sheet1!$G$15),Sheet1!$A$15,\"\"))","v":""},{"$f":"IF($L28=\"\",\"\",IF(AND($L28>=Sheet1!$F$16,'Pupil List'!$L28<Sheet1!$G$16),Sheet1!$A$16,\"\"))","v":""},{"$f":"IF($L28=\"\",\"\",IF(AND($L28>=Sheet1!$F$17,'Pupil List'!$L28<Sheet1!$G$17),Sheet1!$A$17,\"\"))","v":""},{"$f":"IF($L28=\"\",\"\",IF(AND($L28>=Sheet1!$F$18,'Pupil List'!$L28<Sheet1!$G$18),Sheet1!$A$18,\"\"))","v":""},{"$f":"IF($L28=\"\",\"\",IF(AND($L28>=Sheet1!$F$19,'Pupil List'!$L28<Sheet1!$G$19),Sheet1!$A$19,\"\"))","v":""},{"$f":"IF($L28=\"\",\"\",IF(AND($L28>=Sheet1!$F$20,'Pupil List'!$L28<Sheet1!$G$20),Sheet1!$A$20,\"\"))","v":""},{"$f":"IF($L28=\"\",\"\",IF(AND($L28>=Sheet1!$F$21,'Pupil List'!$L28<Sheet1!$G$21),Sheet1!$A$21,\"\"))","v":""},{"$f":"IF($L28=\"\",\"\",IF(AND($L28>=Sheet1!$F$22,'Pupil List'!$L28<Sheet1!$G$22),Sheet1!$A$22,\"\"))","v":""},{"$f":"IF($L28=\"\",\"\",IF(AND($L28>=Sheet1!$F$23,'Pupil List'!$L28<Sheet1!$G$23),Sheet1!$A$23,\"\"))","v":""},{"$f":"IF($L28=\"\",\"\",IF(AND($L28>=Sheet1!$F$24,'Pupil List'!$L28<Sheet1!$G$24),Sheet1!$A$24,\"\"))","v":""},{"$f":"IF($L28=\"\",\"\",IF(AND($L28>=Sheet1!$F$25,'Pupil List'!$L28<Sheet1!$G$25),Sheet1!$A$25,\"\"))","v":""},{"$error":"#N/A"},{"$f":"IFERROR(VLOOKUP(BK28,Sheet1!$A$2:$E$25,3,FALSE),\"\")","v":""},{"$f":"IFERROR(VLOOKUP(BK28,Sheet1!$A$2:$E$25,4,FALSE),\"\")","v":""},{"$f":"IFERROR(VLOOKUP(BK28,Sheet1!$A$2:$E$25,5,FALSE),\"\")","v":""},{"$f":"IFERROR(VLOOKUP(N28,Sheet1!$A$29:$B$38,2,FALSE),\"\")","v":""}]
[null,null,"",null,null,null,null,null,"","","",null,null,null,null,"","","","","","","","","","","","","","","","","","","","","","","",{"$f":"IF($L29=\"\",\"\",IF(AND($L29>=Sheet1!$F$2,'Pupil List'!$L29<Sheet1!$G$2),Sheet1!$A$2,\"\"))","v":""},{"$f":"IF($L29=\"\",\"\",IF(AND($L29>=Sheet1!$F$3,'Pupil List'!$L29<Sheet1!$G$3),Sheet1!$A$3,\"\"))","v":""},{"$f":"IF($L29=\"\",\"\",IF(AND($L29>=Sheet1!$F$4,'Pupil List'!$L29<Sheet1!$G$4),Sheet1!$A$4,\"\"))","v":""},{"$f":"IF($L29=\"\",\"\",IF(AND($L29>=Sheet1!$F$5,'Pupil List'!$L29<Sheet1!$G$5),Sheet1!$A$5,\"\"))","v":""},{"$f":"IF($L29=\"\",\"\",IF(AND($L29>=Sheet1!$F$6,'Pupil List'!$L29<Sheet1!$G$6),Sheet1!$A$6,\"\"))","v":""},{"$f":"IF($L29=\"\",\"\",IF(AND($L29>=Sheet1!$F$7,'Pupil List'!$L29<Sheet1!$G$7),Sheet1!$A$7,\"\"))","v":""},{"$f":"IF($L29=\"\",\"\",IF(AND($L29>=Sheet1!$F$8,'Pupil List'!$L29<Sheet1!$G$8),Sheet1!$A$8,\"\"))","v":""},{"$f":"IF($L29=\"\",\"\",IF(AND($L29>=Sheet1!$F$9,'Pupil List'!$L29<Sheet1!$G$9),Sheet1!$A$9,\"\"))","v":""},{"$f":"IF($L29=\"\",\"\",IF(AND($L29>=Sheet1!$F$10,'Pupil List'!$L29<Sheet1!$G$10),Sheet1!$A$10,\"\"))","v":""},{"$f":"IF($L29=\"\",\"\",IF(AND($L29>=Sheet1!$F$11,'Pupil List'!$L29<Sheet1!$G$11),Sheet1!$A$11,\"\"))","v":""},{"$f":"IF($L29=\"\",\"\",IF(AND($L29>=Sheet1!$F$12,'Pupil List'!$L29<Sheet1!$G$12),Sheet1!$A$12,\"\"))","v":""},{"$f":"IF($L29=\"\",\"\",IF(AND($L29>=Sheet1!$F$13,'Pupil List'!$L29<Sheet1!$G$13),Sheet1!$A$13,\"\"))","v":""},{"$f":"IF($L29=\"\",\"\",IF(AND($L29>=Sheet1!$F$14,'Pupil List'!$L29<Sheet1!$G$14),Sheet1!$A$14,\"\"))","v":""},{"$f":"IF($L29=\"\",\"\",IF(AND($L29>=Sheet1!$F$15,'Pupil List'!$L29<Sheet1!$G$15),Sheet1!$A$15,\"\"))","v":""},{"$f":"IF($L29=\"\",\"\",IF(AND($L29>=Sheet1!$F$16,'Pupil List'!$L29<Sheet1!$G$16),Sheet1!$A$16,\"\"))","v":""},{"$f":"IF($L29=\"\",\"\",IF(AND($L29>=Sheet1!$F$17,'Pupil List'!$L29<Sheet1!$G$17),Sheet1!$A$17,\"\"))","v":""},{"$f":"IF($L29=\"\",\"\",IF(AND($L29>=Sheet1!$F$18,'Pupil List'!$L29<Sheet1!$G$18),Sheet1!$A$18,\"\"))","v":""},{"$f":"IF($L29=\"\",\"\",IF(AND($L29>=Sheet1!$F$19,'Pupil List'!$L29<Sheet1!$G$19),Sheet1!$A$19,\"\"))","v":""},{"$f":"IF($L29=\"\",\"\",IF(AND($L29>=Sheet1!$F$20,'Pupil List'!$L29<Sheet1!$G$20),Sheet1!$A$20,\"\"))","v":""},{"$f":"IF($L29=\"\",\"\",IF(AND($L29>=Sheet1!$F$21,'Pupil List'!$L29<Sheet1!$G$21),Sheet1!$A$21,\"\"))","v":""},{"$f":"IF($L29=\"\",\"\",IF(AND($L29>=Sheet1!$F$22,'Pupil List'!$L29<Sheet1!$G$22),Sheet1!$A$22,\"\"))","v":""},{"$f":"IF($L29=\"\",\"\",IF(AND($L29>=Sheet1!$F$23,'Pupil List'!$L29<Sheet1!$G$23),Sheet1!$A$23,\"\"))","v":""},{"$f":"IF($L29=\"\",\"\",IF(AND($L29>=Sheet1!$F$24,'Pupil List'!$L29<Sheet1!$G$24),Sheet1!$A$24,\"\"))","v":""},{"$f":"IF($L29=\"\",\"\",IF(AND($L29>=Sheet1!$F$25,'Pupil List'!$L29<Sheet1!$G$25),Sheet1!$A$25,\"\"))","v":""},{"$error":"#N/A"},{"$f":"IFERROR(VLOOKUP(BK29,Sheet1!$A$2:$E$25,3,FALSE),\"\")","v":""},{"$f":"IFERROR(VLOOKUP(BK29,Sheet1!$A$2:$E$25,4,FALSE),\"\")","v":""},{"$f":"IFERROR(VLOOKUP(BK29,Sheet1!$A$2:$E$25,5,FALSE),\"\")","v":""},{"$f":"IFERROR(VLOOKUP(N29,Sheet1!$A$29:$B$38,2,FALSE),\"\")","v":""}]
[null,null,"",null,null,null,null,null,"","","",null,null,null,null,"","","","","","","","","","","","","","","","","","","","","","","",{"$f":"IF($L30=\"\",\"\",IF(AND($L30>=Sheet1!$F$2,'Pupil List'!$L30<Sheet1!$G$2),Sheet1!$A$2,\"\"))","v":""},{"$f":"IF($L30=\"\",\"\",IF(AND($L30>=Sheet1!$F$3,'Pupil List'!$L30<Sheet1!$G$3),Sheet1!$A$3,\"\"))","v":""},{"$f":"IF($L30=\"\",\"\",IF(AND($L30>=Sheet1!$F$4,'Pupil List'!$L30<Sheet1!$G$4),Sheet1!$A$4,\"\"))","v":""},{"$f":"IF($L30=\"\",\"\",IF(AND($L30>=Sheet1!$F$5,'Pupil List'!$L30<Sheet1!$G$5),Sheet1!$A$5,\"\"))","v":""},{"$f":"IF($L30=\"\",\"\",IF(AND($L30>=Sheet1!$F$6,'Pupil List'!$L30<Sheet1!$G$6),Sheet1!$A$6,\"\"))","v":""},{"$f":"IF($L30=\"\",\"\",IF(AND($L30>=Sheet1!$F$7,'Pupil List'!$L30<Sheet1!$G$7),Sheet1!$A$7,\"\"))","v":""},{"$f":"IF($L30=\"\",\"\",IF(AND($L30>=Sheet1!$F$8,'Pupil List'!$L30<Sheet1!$G$8),Sheet1!$A$8,\"\"))","v":""},{"$f":"IF($L30=\"\",\"\",IF(AND($L30>=Sheet1!$F$9,'Pupil List'!$L30<Sheet1!$G$9),Sheet1!$A$9,\"\"))","v":""},{"$f":"IF($L30=\"\",\"\",IF(AND($L30>=Sheet1!$F$10,'Pupil List'!$L30<Sheet1!$G$10),Sheet1!$A$10,\"\"))","v":""},{"$f":"IF($L30=\"\",\"\",IF(AND($L30>=Sheet1!$F$11,'Pupil List'!$L30<Sheet1!$G$11),Sheet1!$A$11,\"\"))","v":""},{"$f":"IF($L30=\"\",\"\",IF(AND($L30>=Sheet1!$F$12,'Pupil List'!$L30<Sheet1!$G$12),Sheet1!$A$12,\"\"))","v":""},{"$f":"IF($L30=\"\",\"\",IF(AND($L30>=Sheet1!$F$13,'Pupil List'!$L30<Sheet1!$G$13),Sheet1!$A$13,\"\"))","v":""},{"$f":"IF($L30=\"\",\"\",IF(AND($L30>=Sheet1!$F$14,'Pupil List'!$L30<Sheet1!$G$14),Sheet1!$A$14,\"\"))","v":""},{"$f":"IF($L30=\"\",\"\",IF(AND($L30>=Sheet1!$F$15,'Pupil List'!$L30<Sheet1!$G$15),Sheet1!$A$15,\"\"))","v":""},{"$f":"IF($L30=\"\",\"\",IF(AND($L30>=Sheet1!$F$16,'Pupil List'!$L30<Sheet1!$G$16),Sheet1!$A$16,\"\"))","v":""},{"$f":"IF($L30=\"\",\"\",IF(AND($L30>=Sheet1!$F$17,'Pupil List'!$L30<Sheet1!$G$17),Sheet1!$A$17,\"\"))","v":""},{"$f":"IF($L30=\"\",\"\",IF(AND($L30>=Sheet1!$F$18,'Pupil List'!$L30<Sheet1!$G$18),Sheet1!$A$18,\"\"))","v":""},{"$f":"IF($L30=\"\",\"\",IF(AND($L30>=Sheet1!$F$19,'Pupil List'!$L30<Sheet1!$G$19),Sheet1!$A$19,\"\"))","v":""},{"$f":"IF($L30=\"\",\"\",IF(AND($L30>=Sheet1!$F$20,'Pupil List'!$L30<Sheet1!$G$20),Sheet1!$A$20,\"\"))","v":""},{"$f":"IF($L30=\"\",\"\",IF(AND($L30>=Sheet1!$F$21,'Pupil List'!$L30<Sheet1!$G$21),Sheet1!$A$21,\"\"))","v":""},{"$f":"IF($L30=\"\",\"\",IF(AND($L30>=Sheet1!$F$22,'Pupil List'!$L30<Sheet1!$G$22),Sheet1!$A$22,\"\"))","v":""},{"$f":"IF($L30=\"\",\"\",IF(AND($L30>=Sheet1!$F$23,'Pupil List'!$L30<Sheet1!$G$23),Sheet1!$A$23,\"\"))","v":""},{"$f":"IF($L30=\"\",\"\",IF(AND($L30>=Sheet1!$F$24,'Pupil List'!$L30<Sheet1!$G$24),Sheet1!$A$24,\"\"))","v":""},{"$f":"IF($L30=\"\",\"\",IF(AND($L30>=Sheet1!$F$25,'Pupil List'!$L30<Sheet1!$G$25),Sheet1!$A$25,\"\"))","v":""},{"$error":"#N/A"},{"$f":"IFERROR(VLOOKUP(BK30,Sheet1!$A$2:$E$25,3,FALSE),\"\")","v":""},{"$f":"IFERROR(VLOOKUP(BK30,Sheet1!$A$2:$E$25,4,FALSE),\"\")","v":""},{"$f":"IFERROR(VLOOKUP(BK30,Sheet1!$A$2:$E$25,5,FALSE),\"\")","v":""},{"$f":"IFERROR(VLOOKUP(N30,Sheet1!$A$29:$B$38,2,FALSE),\"\")","v":""}]
[null,null,"",null,null,null,null,null,"","","",null,null,null,null,"","","","","","","","","","","","","","","","","","","","","","","",{"$f":"IF($L31=\"\",\"\",IF(AND($L31>=Sheet1!$F$2,'Pupil List'!$L31<Sheet1!$G$2),Sheet1!$A$2,\"\"))","v":""},{"$f":"IF($L31=\"\",\"\",IF(AND($L31>=Sheet1!$F$3,'Pupil List'!$L31<Sheet1!$G$3),Sheet1!$A$3,\"\"))","v":""},{"$f":"IF($L31=\"\",\"\",IF(AND($L31>=Sheet1!$F$4,'Pupil List'!$L31<Sheet1!$G$4),Sheet1!$A$4,\"\"))","v":""},{"$f":"IF($L31=\"\",\"\",IF(AND($L31>=Sheet1!$F$5,'Pupil List'!$L31<Sheet1!$G$5),Sheet1!$A$5,\"\"))","v":""},{"$f":"IF($L31=\"\",\"\",IF(AND($L31>=Sheet1!$F$6,'Pupil List'!$L31<Sheet1!$G$6),Sheet1!$A$6,\"\"))","v":""},{"$f":"IF($L31=\"\",\"\",IF(AND($L31>=Sheet1!$F$7,'Pupil List'!$L31<Sheet1!$G$7),Sheet1!$A$7,\"\"))","v":""},{"$f":"IF($L31=\"\",\"\",IF(AND($L31>=Sheet1!$F$8,'Pupil List'!$L31<Sheet1!$G$8),Sheet1!$A$8,\"\"))","v":""},{"$f":"IF($L31=\"\",\"\",IF(AND($L31>=Sheet1!$F$9,'Pupil List'!$L31<Sheet1!$G$9),Sheet1!$A$9,\"\"))","v":""},{"$f":"IF($L31=\"\",\"\",IF(AND($L31>=Sheet1!$F$10,'Pupil List'!$L31<Sheet1!$G$10),Sheet1!$A$10,\"\"))","v":""},{"$f":"IF($L31=\"\",\"\",IF(AND($L31>=Sheet1!$F$11,'Pupil List'!$L31<Sheet1!$G$11),Sheet1!$A$11,\"\"))","v":""},{"$f":"IF($L31=\"\",\"\",IF(AND($L31>=Sheet1!$F$12,'Pupil List'!$L31<Sheet1!$G$12),Sheet1!$A$12,\"\"))","v":""},{"$f":"IF($L31=\"\",\"\",IF(AND($L31>=Sheet1!$F$13,'Pupil List'!$L31<Sheet1!$G$13),Sheet1!$A$13,\"\"))","v":""},{"$f":"IF($L31=\"\",\"\",IF(AND($L31>=Sheet1!$F$14,'Pupil List'!$L31<Sheet1!$G$14),Sheet1!$A$14,\"\"))","v":""},{"$f":"IF($L31=\"\",\"\",IF(AND($L31>=Sheet1!$F$15,'Pupil List'!$L31<Sheet1!$G$15),Sheet1!$A$15,\"\"))","v":""},{"$f":"IF($L31=\"\",\"\",IF(AND($L31>=Sheet1!$F$16,'Pupil List'!$L31<Sheet1!$G$16),Sheet1!$A$16,\"\"))","v":""},{"$f":"IF($L31=\"\",\"\",IF(AND($L31>=Sheet1!$F$17,'Pupil List'!$L31<Sheet1!$G$17),Sheet1!$A$17,\"\"))","v":""},{"$f":"IF($L31=\"\",\"\",IF(AND($L31>=Sheet1!$F$18,'Pupil List'!$L31<Sheet1!$G$18),Sheet1!$A$18,\"\"))","v":""},{"$f":"IF($L31=\"\",\"\",IF(AND($L31>=Sheet1!$F$19,'Pupil List'!$L31<Sheet1!$G$19),Sheet1!$A$19,\"\"))","v":""},{"$f":"IF($L31=\"\",\"\",IF(AND($L31>=Sheet1!$F$20,'Pupil List'!$L31<Sheet1!$G$20),Sheet1!$A$20,\"\"))","v":""},{"$f":"IF($L31=\"\",\"\",IF(AND($L31>=Sheet1!$F$21,'Pupil List'!$L31<Sheet1!$G$21),Sheet1!$A$21,\"\"))","v":""},{"$f":"IF($L31=\"\",\"\",IF(AND($L31>=Sheet1!$F$22,'Pupil List'!$L31<Sheet1!$G$22),Sheet1!$A$22,\"\"))","v":""},{"$f":"IF($L31=\"\",\"\",IF(AND($L31>=Sheet1!$F$23,'Pupil List'!$L31<Sheet1!$G$23),Sheet1!$A$23,\"\"))","v":""},{"$f":"IF($L31=\"\",\"\",IF(AND($L31>=Sheet1!$F$24,'Pupil List'!$L31<Sheet1!$G$24),Sheet1!$A$24,\"\"))","v":""},{"$f":"IF($L31=\"\",\"\",IF(AND($L31>=Sheet1!$F$25,'Pupil List'!$L31<Sheet1!$G$25),Sheet1!$A$25,\"\"))","v":""},{"$error":"#N/A"},{"$f":"IFERROR(VLOOKUP(BK31,Sheet1!$A$2:$E$25,3,FALSE),\"\")","v":""},{"$f":"IFERROR(VLOOKUP(BK31,Sheet1!$A$2:$E$25,4,FALSE),\"\")","v":""},{"$f":"IFERROR(VLOOKUP(BK31,Sheet1!$A$2:$E$25,5,FALSE),\"\")","v":""},{"$f":"IFERROR(VLOOKUP(N31,Sheet1!$A$29:$B$38,2,FALSE),\"\")","v":""}]
[null,null,"",null,null,null,null,null,"","","",null,null,null,null,"","","","","","","","","","","","","","","","","","","","","","","",{"$f":"IF($L32=\"\",\"\",IF(AND($L32>=Sheet1!$F$2,'Pupil List'!$L32<Sheet1!$G$2),Sheet1!$A$2,\"\"))","v":""},{"$f":"IF($L32=\"\",\"\",IF(AND($L32>=Sheet1!$F$3,'Pupil List'!$L32<Sheet1!$G$3),Sheet1!$A$3,\"\"))","v":""},{"$f":"IF($L32=\"\",\"\",IF(AND($L32>=Sheet1!$F$4,'Pupil List'!$L32<Sheet1!$G$4),Sheet1!$A$4,\"\"))","v":""},{"$f":"IF($L32=\"\",\"\",IF(AND($L32>=Sheet1!$F$5,'Pupil List'!$L32<Sheet1!$G$5),Sheet1!$A$5,\"\"))","v":""},{"$f":"IF($L32=\"\",\"\",IF(AND($L32>=Sheet1!$F$6,'Pupil List'!$L32<Sheet1!$G$6),Sheet1!$A$6,\"\"))","v":""},{"$f":"IF($L32=\"\",\"\",IF(AND($L32>=Sheet1!$F$7,'Pupil List'!$L32<Sheet1!$G$7),Sheet1!$A$7,\"\"))","v":""},{"$f":"IF($L32=\"\",\"\",IF(AND($L32>=Sheet1!$F$8,'Pupil List'!$L32<Sheet1!$G$8),Sheet1!$A$8,\"\"))","v":""},{"$f":"IF($L32=\"\",\"\",IF(AND($L32>=Sheet1!$F$9,'Pupil List'!$L32<Sheet1!$G$9),Sheet1!$A$9,\"\"))","v":""},{"$f":"IF($L32=\"\",\"\",IF(AND($L32>=Sheet1!$F$10,'Pupil List'!$L32<Sheet1!$G$10),Sheet1!$A$10,\"\"))","v":""},{"$f":"IF($L32=\"\",\"\",IF(AND($L32>=Sheet1!$F$11,'Pupil List'!$L32<Sheet1!$G$11),Sheet1!$A$11,\"\"))","v":""},{"$f":"IF($L32=\"\",\"\",IF(AND($L32>=Sheet1!$F$12,'Pupil List'!$L32<Sheet1!$G$12),Sheet1!$A$12,\"\"))","v":""},{"$f":"IF($L32=\"\",\"\",IF(AND($L32>=Sheet1!$F$13,'Pupil List'!$L32<Sheet1!$G$13),Sheet1!$A$13,\"\"))","v":""},{"$f":"IF($L32=\"\",\"\",IF(AND($L32>=Sheet1!$F$14,'Pupil List'!$L32<Sheet1!$G$14),Sheet1!$A$14,\"\"))","v":""},{"$f":"IF($L32=\"\",\"\",IF(AND($L32>=Sheet1!$F$15,'Pupil List'!$L32<Sheet1!$G$15),Sheet1!$A$15,\"\"))","v":""},{"$f":"IF($L32=\"\",\"\",IF(AND($L32>=Sheet1!$F$16,'Pupil List'!$L32<Sheet1!$G$16),Sheet1!$A$16,\"\"))","v":""},{"$f":"IF($L32=\"\",\"\",IF(AND($L32>=Sheet1!$F$17,'Pupil List'!$L32<Sheet1!$G$17),Sheet1!$A$17,\"\"))","v":""},{"$f":"IF($L32=\"\",\"\",IF(AND($L32>=Sheet1!$F$18,'Pupil List'!$L32<Sheet1!$G$18),Sheet1!$A$18,\"\"))","v":""},{"$f":"IF($L32=\"\",\"\",IF(AND($L32>=Sheet1!$F$19,'Pupil List'!$L32<Sheet1!$G$19),Sheet1!$A$19,\"\"))","v":""},{"$f":"IF($L32=\"\",\"\",IF(AND($L32>=Sheet1!$F$20,'Pupil List'!$L32<Sheet1!$G$20),Sheet1!$A$20,\"\"))","v":""},{"$f":"IF($L32=\"\",\"\",IF(AND($L32>=Sheet1!$F$21,'Pupil List'!$L32<Sheet1!$G$21),Sheet1!$A$21,\"\"))","v":""},{"$f":"IF($L32=\"\",\"\",IF(AND($L32>=Sheet1!$F$22,'Pupil List'!$L32<Sheet1!$G$22),Sheet1!$A$22,\"\"))","v":""},{"$f":"IF($L32=\"\",\"\",IF(AND($L32>=Sheet1!$F$23,'Pupil List'!$L32<Sheet1!$G$23),Sheet1!$A$23,\"\"))","v":""},{"$f":"IF($L32=\"\",\"\",IF(AND($L32>=Sheet1!$F$24,'Pupil List'!$L32<Sheet1!$G$24),Sheet1!$A$24,\"\"))","v":""},{"$f":"IF($L32=\"\",\"\",IF(AND($L32>=Sheet1!$F$25,'Pupil List'!$L32<Sheet1!$G$25),Sheet1!$A$25,\"\"))","v":""},{"$error":"#N/A"},{"$f":"IFERROR(VLOOKUP(BK32,Sheet1!$A$2:$E$25,3,FALSE),\"\")","v":""},{"$f":"IFERROR(VLOOKUP(BK32,Sheet1!$A$2:$E$25,4,FALSE),\"\")","v":""},{"$f":"IFERROR(VLOOKUP(BK32,Sheet1!$A$2:$E$25,5,FALSE),\"\")","v":""},{"$f":"IFERROR(VLOOKUP(N32,Sheet1!$A$29:$B$38,2,FALSE),\"\")","v":""}]
[null,null,"",null,null,null,null,null,"","","",null,null,null,null,"","","","","","","","","","","","","","","","","","","","","","","",{"$f":"IF($L33=\"\",\"\",IF(AND($L33>=Sheet1!$F$2,'Pupil List'!$L33<Sheet1!$G$2),Sheet1!$A$2,\"\"))","v":""},{"$f":"IF($L33=\"\",\"\",IF(AND($L33>=Sheet1!$F$3,'Pupil List'!$L33<Sheet1!$G$3),Sheet1!$A$3,\"\"))","v":""},{"$f":"IF($L33=\"\",\"\",IF(AND($L33>=Sheet1!$F$4,'Pupil List'!$L33<Sheet1!$G$4),Sheet1!$A$4,\"\"))","v":""},{"$f":"IF($L33=\"\",\"\",IF(AND($L33>=Sheet1!$F$5,'Pupil List'!$L33<Sheet1!$G$5),Sheet1!$A$5,\"\"))","v":""},{"$f":"IF($L33=\"\",\"\",IF(AND($L33>=Sheet1!$F$6,'Pupil List'!$L33<Sheet1!$G$6),Sheet1!$A$6,\"\"))","v":""},{"$f":"IF($L33=\"\",\"\",IF(AND($L33>=Sheet1!$F$7,'Pupil List'!$L33<Sheet1!$G$7),Sheet1!$A$7,\"\"))","v":""},{"$f":"IF($L33=\"\",\"\",IF(AND($L33>=Sheet1!$F$8,'Pupil List'!$L33<Sheet1!$G$8),Sheet1!$A$8,\"\"))","v":""},{"$f":"IF($L33=\"\",\"\",IF(AND($L33>=Sheet1!$F$9,'Pupil List'!$L33<Sheet1!$G$9),Sheet1!$A$9,\"\"))","v":""},{"$f":"IF($L33=\"\",\"\",IF(AND($L33>=Sheet1!$F$10,'Pupil List'!$L33<Sheet1!$G$10),Sheet1!$A$10,\"\"))","v":""},{"$f":"IF($L33=\"\",\"\",IF(AND($L33>=Sheet1!$F$11,'Pupil List'!$L33<Sheet1!$G$11),Sheet1!$A$11,\"\"))","v":""},{"$f":"IF($L33=\"\",\"\",IF(AND($L33>=Sheet1!$F$12,'Pupil List'!$L33<Sheet1!$G$12),Sheet1!$A$12,\"\"))","v":""},{"$f":"IF($L33=\"\",\"\",IF(AND($L33>=Sheet1!$F$13,'Pupil List'!$L33<Sheet1!$G$13),Sheet1!$A$13,\"\"))","v":""},{"$f":"IF($L33=\"\",\"\",IF(AND($L33>=Sheet1!$F$14,'Pupil List'!$L33<Sheet1!$G$14),Sheet1!$A$14,\"\"))","v":""},{"$f":"IF($L33=\"\",\"\",IF(AND($L33>=Sheet1!$F$15,'Pupil List'!$L33<Sheet1!$G$15),Sheet1!$A$15,\"\"))","v":""},{"$f":"IF($L33=\"\",\"\",IF(AND($L33>=Sheet1!$F$16,'Pupil List'!$L33<Sheet1!$G$16),Sheet1!$A$16,\"\"))","v":""},{"$f":"IF($L33=\"\",\"\",IF(AND($L33>=Sheet1!$F$17,'Pupil List'!$L33<Sheet1!$G$17),Sheet1!$A$17,\"\"))","v":""},{"$f":"IF($L33=\"\",\"\",IF(AND($L33>=Sheet1!$F$18,'Pupil List'!$L33<Sheet1!$G$18),Sheet1!$A$18,\"\"))","v":""},{"$f":"IF($L33=\"\",\"\",IF(AND($L33>=Sheet1!$F$19,'Pupil List'!$L33<Sheet1!$G$19),Sheet1!$A$19,\"\"))","v":""},{"$f":"IF($L33=\"\",\"\",IF(AND($L33>=Sheet1!$F$20,'Pupil List'!$L33<Sheet1!$G$20),Sheet1!$A$20,\"\"))","v":""},{"$f":"IF($L33=\"\",\"\",IF(AND($L33>=Sheet1!$F$21,'Pupil List'!$L33<Sheet1!$G$21),Sheet1!$A$21,\"\"))","v":""},{"$f":"IF($L33=\"\",\"\",IF(AND($L33>=Sheet1!$F$22,'Pupil List'!$L33<Sheet1!$G$22),Sheet1!$A$22,\"\"))","v":""},{"$f":"IF($L33=\"\",\"\",IF(AND($L33>=Sheet1!$F$23,'Pupil List'!$L33<Sheet1!$G$23),Sheet1!$A$23,\"\"))","v":""},{"$f":"IF($L33=\"\",\"\",IF(AND($L33>=Sheet1!$F$24,'Pupil List'!$L33<Sheet1!$G$24),Sheet1!$A$24,\"\"))","v":""},{"$f":"IF($L33=\"\",\"\",IF(AND($L33>=Sheet1!$F$25,'Pupil List'!$L33<Sheet1!$G$25),Sheet1!$A$25,\"\"))","v":""},{"$error":"#N/A"},{"$f":"IFERROR(VLOOKUP(BK33,Sheet1!$A$2:$E$25,3,FALSE),\"\")","v":""},{"$f":"IFERROR(VLOOKUP(BK33,Sheet1!$A$2:$E$25,4,FALSE),\"\")","v":""},{"$f":"IFERROR(VLOOKUP(BK33,Sheet1!$A$2:$E$25,5,FALSE),\"\")","v":""},{"$f":"IFERROR(VLOOKUP(N33,Sheet1!$A$29:$B$38,2,FALSE),\"\")","v":""}]
["","","",null,null,null,null,null,"","","",null,"",null,"","","","","","","","","","","","","","","","","","","","","","","","",{"$f":"IF($L34=\"\",\"\",IF(AND($L34>=Sheet1!$F$2,'Pupil List'!$L34<Sheet1!$G$2),Sheet1!$A$2,\"\"))","v":""},{"$f":"IF($L34=\"\",\"\",IF(AND($L34>=Sheet1!$F$3,'Pupil List'!$L34<Sheet1!$G$3),Sheet1!$A$3,\"\"))","v":""},{"$f":"IF($L34=\"\",\"\",IF(AND($L34>=Sheet1!$F$4,'Pupil List'!$L34<Sheet1!$G$4),Sheet1!$A$4,\"\"))","v":""},{"$f":"IF($L34=\"\",\"\",IF(AND($L34>=Sheet1!$F$5,'Pupil List'!$L34<Sheet1!$G$5),Sheet1!$A$5,\"\"))","v":""},{"$f":"IF($L34=\"\",\"\",IF(AND($L34>=Sheet1!$F$6,'Pupil List'!$L34<Sheet1!$G$6),Sheet1!$A$6,\"\"))","v":""},{"$f":"IF($L34=\"\",\"\",IF(AND($L34>=Sheet1!$F$7,'Pupil List'!$L34<Sheet1!$G$7),Sheet1!$A$7,\"\"))","v":""},{"$f":"IF($L34=\"\",\"\",IF(AND($L34>=Sheet1!$F$8,'Pupil List'!$L34<Sheet1!$G$8),Sheet1!$A$8,\"\"))","v":""},{"$f":"IF($L34=\"\",\"\",IF(AND($L34>=Sheet1!$F$9,'Pupil List'!$L34<Sheet1!$G$9),Sheet1!$A$9,\"\"))","v":""},{"$f":"IF($L34=\"\",\"\",IF(AND($L34>=Sheet1!$F$10,'Pupil List'!$L34<Sheet1!$G$10),Sheet1!$A$10,\"\"))","v":""},{"$f":"IF($L34=\"\",\"\",IF(AND($L34>=Sheet1!$F$11,'Pupil List'!$L34<Sheet1!$G$11),Sheet1!$A$11,\"\"))","v":""},{"$f":"IF($L34=\"\",\"\",IF(AND($L34>=Sheet1!$F$12,'Pupil List'!$L34<Sheet1!$G$12),Sheet1!$A$12,\"\"))","v":""},{"$f":"IF($L34=\"\",\"\",IF(AND($L34>=Sheet1!$F$13,'Pupil List'!$L34<Sheet1!$G$13),Sheet1!$A$13,\"\"))","v":""},{"$f":"IF($L34=\"\",\"\",IF(AND($L34>=Sheet1!$F$14,'Pupil List'!$L34<Sheet1!$G$14),Sheet1!$A$14,\"\"))","v":""},{"$f":"IF($L34=\"\",\"\",IF(AND($L34>=Sheet1!$F$15,'Pupil List'!$L34<Sheet1!$G$15),Sheet1!$A$15,\"\"))","v":""},{"$f":"IF($L34=\"\",\"\",IF(AND($L34>=Sheet1!$F$16,'Pupil List'!$L34<Sheet1!$G$16),Sheet1!$A$16,\"\"))","v":""},{"$f":"IF($L34=\"\",\"\",IF(AND($L34>=Sheet1!$F$17,'Pupil List'!$L34<Sheet1!$G$17),Sheet1!$A$17,\"\"))","v":""},{"$f":"IF($L34=\"\",\"\",IF(AND($L34>=Sheet1!$F$18,'Pupil List'!$L34<Sheet1!$G$18),Sheet1!$A$18,\"\"))","v":""},{"$f":"IF($L34=\"\",\"\",IF(AND($L34>=Sheet1!$F$19,'Pupil List'!$L34<Sheet1!$G$19),Sheet1!$A$19,\"\"))","v":""},{"$f":"IF($L34=\"\",\"\",IF(AND($L34>=Sheet1!$F$20,'Pupil List'!$L34<Sheet1!$G$20),Sheet1!$A$20,\"\"))","v":""},{"$f":"IF($L34=\"\",\"\",IF(AND($L34>=Sheet1!$F$21,'Pupil List'!$L34<Sheet1!$G$21),Sheet1!$A$21,\"\"))","v":""},{"$f":"IF($L34=\"\",\"\",IF(AND($L34>=Sheet1!$F$22,'Pupil List'!$L34<Sheet1!$G$22),Sheet1!$A$22,\"\"))","v":""},{"$f":"IF($L34=\"\",\"\",IF(AND($L34>=Sheet1!$F$23,'Pupil List'!$L34<Sheet1!$G$23),Sheet1!$A$23,\"\"))","v":""},{"$f":"IF($L34=\"\",\"\",IF(AND($L34>=Sheet1!$F$24,'Pupil List'!$L34<Sheet1!$G$24),Sheet1!$A$24,\"\"))","v":""},{"$f":"IF($L34=\"\",\"\",IF(AND($L34>=Sheet1!$F$25,'Pupil List'!$L34<Sheet1!$G$25),Sheet1!$A$25,\"\"))","v":""},{"$error":"#N/A"},{"$f":"IFERROR(VLOOKUP(BK34,Sheet1!$A$2:$E$25,3,FALSE),\"\")","v":""},{"$f":"IFERROR(VLOOKUP(BK34,Sheet1!$A$2:$E$25,4,FALSE),\"\")","v":""},{"$f":"IFERROR(VLOOKUP(BK34,Sheet1!$A$2:$E$25,5,FALSE),\"\")","v":""},{"$f":"IFERROR(VLOOKUP(N34,Sheet1!$A$29:$B$38,2,FALSE),\"\")","v":""}]
["","","",null,null,null,null,null,"","","",null,"",null,"","","","","","","","","","","","","","","","","","","","","","","","",{"$f":"IF($L35=\"\",\"\",IF(AND($L35>=Sheet1!$F$2,'Pupil List'!$L35<Sheet1!$G$2),Sheet1!$A$2,\"\"))","v":""},{"$f":"IF($L35=\"\",\"\",IF(AND($L35>=Sheet1!$F$3,'Pupil List'!$L35<Sheet1!$G$3),Sheet1!$A$3,\"\"))","v":""},{"$f":"IF($L35=\"\",\"\",IF(AND($L35>=Sheet1!$F$4,'Pupil List'!$L35<Sheet1!$G$4),Sheet1!$A$4,\"\"))","v":""},{"$f":"IF($L35=\"\",\"\",IF(AND($L35>=Sheet1!$F$5,'Pupil List'!$L35<Sheet1!$G$5),Sheet1!$A$5,\"\"))","v":""},{"$f":"IF($L35=\"\",\"\",IF(AND($L35>=Sheet1!$F$6,'Pupil List'!$L35<Sheet1!$G$6),Sheet1!$A$6,\"\"))","v":""},{"$f":"IF($L35=\"\",\"\",IF(AND($L35>=Sheet1!$F$7,'Pupil List'!$L35<Sheet1!$G$7),Sheet1!$A$7,\"\"))","v":""},{"$f":"IF($L35=\"\",\"\",IF(AND($L35>=Sheet1!$F$8,'Pupil List'!$L35<Sheet1!$G$8),Sheet1!$A$8,\"\"))","v":""},{"$f":"IF($L35=\"\",\"\",IF(AND($L35>=Sheet1!$F$9,'Pupil List'!$L35<Sheet1!$G$9),Sheet1!$A$9,\"\"))","v":""},{"$f":"IF($L35=\"\",\"\",IF(AND($L35>=Sheet1!$F$10,'Pupil List'!$L35<Sheet1!$G$10),Sheet1!$A$10,\"\"))","v":""},{"$f":"IF($L35=\"\",\"\",IF(AND($L35>=Sheet1!$F$11,'Pupil List'!$L35<Sheet1!$G$11),Sheet1!$A$11,\"\"))","v":""},{"$f":"IF($L35=\"\",\"\",IF(AND($L35>=Sheet1!$F$12,'Pupil List'!$L35<Sheet1!$G$12),Sheet1!$A$12,\"\"))","v":""},{"$f":"IF($L35=\"\",\"\",IF(AND($L35>=Sheet1!$F$13,'Pupil List'!$L35<Sheet1!$G$13),Sheet1!$A$13,\"\"))","v":""},{"$f":"IF($L35=\"\",\"\",IF(AND($L35>=Sheet1!$F$14,'Pupil List'!$L35<Sheet1!$G$14),Sheet1!$A$14,\"\"))","v":""},{"$f":"IF($L35=\"\",\"\",IF(AND($L35>=Sheet1!$F$15,'Pupil List'!$L35<Sheet1!$G$15),Sheet1!$A$15,\"\"))","v":""},{"$f":"IF($L35=\"\",\"\",IF(AND($L35>=Sheet1!$F$16,'Pupil List'!$L35<Sheet1!$G$16),Sheet1!$A$16,\"\"))","v":""},{"$f":"IF($L35=\"\",\"\",IF(AND($L35>=Sheet1!$F$17,'Pupil List'!$L35<Sheet1!$G$17),Sheet1!$A$17,\"\"))","v":""},{"$f":"IF($L35=\"\",\"\",IF(AND($L35>=Sheet1!$F$18,'Pupil List'!$L35<Sheet1!$G$18),Sheet1!$A$18,\"\"))","v":""},{"$f":"IF($L35=\"\",\"\",IF(AND($L35>=Sheet1!$F$19,'Pupil List'!$L35<Sheet1!$G$19),Sheet1!$A$19,\"\"))","v":""},{"$f":"IF($L35=\"\",\"\",IF(AND($L35>=Sheet1!$F$20,'Pupil List'!$L35<Sheet1!$G$20),Sheet1!$A$20,\"\"))","v":""},{"$f":"IF($L35=\"\",\"\",IF(AND($L35>=Sheet1!$F$21,'Pupil List'!$L35<Sheet1!$G$21),Sheet1!$A$21,\"\"))","v":""},{"$f":"IF($L35=\"\",\"\",IF(AND($L35>=Sheet1!$F$22,'Pupil List'!$L35<Sheet1!$G$22),Sheet1!$A$22,\"\"))","v":""},{"$f":"IF($L35=\"\",\"\",IF(AND($L35>=Sheet1!$F$23,'Pupil List'!$L35<Sheet1!$G$23),Sheet1!$A$23,\"\"))","v":""},{"$f":"IF($L35=\"\",\"\",IF(AND($L35>=Sheet1!$F$24,'Pupil List'!$L35<Sheet1!$G$24),Sheet1!$A$24,\"\"))","v":""},{"$f":"IF($L35=\"\",\"\",IF(AND($L35>=Sheet1!$F$25,'Pupil List'!$L35<Sheet1!$G$25),Sheet1!$A$25,\"\"))","v":""},{"$error":"#N/A"},{"$f":"IFERROR(VLOOKUP(BK35,Sheet1!$A$2:$E$25,3,FALSE),\"\")","v":""},{"$f":"IFERROR(VLOOKUP(BK35,Sheet1!$A$2:$E$25,4,FALSE),\"\")","v":""},{"$f":"IFERROR(VLOOKUP(BK35,Sheet1!$A$2:$E$25,5,FALSE),\"\")","v":""},{"$f":"IFERROR(VLOOKUP(N35,Sheet1!$A$29:$B$38,2,FALSE),\"\")","v":""}]
["","","",null,null,null,null,null,"","","",null,"",null,"","","","","","","","","","","","","","","","","","","","","","","","",{"$f":"IF($L36=\"\",\"\",IF(AND($L36>=Sheet1!$F$2,'Pupil List'!$L36<Sheet1!$G$2),Sheet1!$A$2,\"\"))","v":""},{"$f":"IF($L36=\"\",\"\",IF(AND($L36>=Sheet1!$F$3,'Pupil List'!$L36<Sheet1!$G$3),Sheet1!$A$3,\"\"))","v":""},{"$f":"IF($L36=\"\",\"\",IF(AND($L36>=Sheet1!$F$4,'Pupil List'!$L36<Sheet1!$G$4),Sheet1!$A$4,\"\"))","v":""},{"$f":"IF($L36=\"\",\"\",IF(AND($L36>=Sheet1!$F$5,'Pupil List'!$L36<Sheet1!$G$5),Sheet1!$A$5,\"\"))","v":""},{"$f":"IF($L36=\"\",\"\",IF(AND($L36>=Sheet1!$F$6,'Pupil List'!$L36<Sheet1!$G$6),Sheet1!$A$6,\"\"))","v":""},{"$f":"IF($L36=\"\",\"\",IF(AND($L36>=Sheet1!$F$7,'Pupil List'!$L36<Sheet1!$G$7),Sheet1!$A$7,\"\"))","v":""},{"$f":"IF($L36=\"\",\"\",IF(AND($L36>=Sheet1!$F$8,'Pupil List'!$L36<Sheet1!$G$8),Sheet1!$A$8,\"\"))","v":""},{"$f":"IF($L36=\"\",\"\",IF(AND($L36>=Sheet1!$F$9,'Pupil List'!$L36<Sheet1!$G$9),Sheet1!$A$9,\"\"))","v":""},{"$f":"IF($L36=\"\",\"\",IF(AND($L36>=Sheet1!$F$10,'Pupil List'!$L36<Sheet1!$G$10),Sheet1!$A$10,\"\"))","v":""},{"$f":"IF($L36=\"\",\"\",IF(AND($L36>=Sheet1!$F$11,'Pupil List'!$L36<Sheet1!$G$11),Sheet1!$A$11,\"\"))","v":""},{"$f":"IF($L36=\"\",\"\",IF(AND($L36>=Sheet1!$F$12,'Pupil List'!$L36<Sheet1!$G$12),Sheet1!$A$12,\"\"))","v":""},{"$f":"IF($L36=\"\",\"\",IF(AND($L36>=Sheet1!$F$13,'Pupil List'!$L36<Sheet1!$G$13),Sheet1!$A$13,\"\"))","v":""},{"$f":"IF($L36=\"\",\"\",IF(AND($L36>=Sheet1!$F$14,'Pupil List'!$L36<Sheet1!$G$14),Sheet1!$A$14,\"\"))","v":""},{"$f":"IF($L36=\"\",\"\",IF(AND($L36>=Sheet1!$F$15,'Pupil List'!$L36<Sheet1!$G$15),Sheet1!$A$15,\"\"))","v":""},{"$f":"IF($L36=\"\",\"\",IF(AND($L36>=Sheet1!$F$16,'Pupil List'!$L36<Sheet1!$G$16),Sheet1!$A$16,\"\"))","v":""},{"$f":"IF($L36=\"\",\"\",IF(AND($L36>=Sheet1!$F$17,'Pupil List'!$L36<Sheet1!$G$17),Sheet1!$A$17,\"\"))","v":""},{"$f":"IF($L36=\"\",\"\",IF(AND($L36>=Sheet1!$F$18,'Pupil List'!$L36<Sheet1!$G$18),Sheet1!$A$18,\"\"))","v":""},{"$f":"IF($L36=\"\",\"\",IF(AND($L36>=Sheet1!$F$19,'Pupil List'!$L36<Sheet1!$G$19),Sheet1!$A$19,\"\"))","v":""},{"$f":"IF($L36=\"\",\"\",IF(AND($L36>=Sheet1!$F$20,'Pupil List'!$L36<Sheet1!$G$20),Sheet1!$A$20,\"\"))","v":""},{"$f":"IF($L36=\"\",\"\",IF(AND($L36>=Sheet1!$F$21,'Pupil List'!$L36<Sheet1!$G$21),Sheet1!$A$21,\"\"))","v":""},{"$f":"IF($L36=\"\",\"\",IF(AND($L36>=Sheet1!$F$22,'Pupil List'!$L36<Sheet1!$G$22),Sheet1!$A$22,\"\"))","v":""},{"$f":"IF($L36=\"\",\"\",IF(AND($L36>=Sheet1!$F$23,'Pupil List'!$L36<Sheet1!$G$23),Sheet1!$A$23,\"\"))","v":""},{"$f":"IF($L36=\"\",\"\",IF(AND($L36>=Sheet1!$F$24,'Pupil List'!$L36<Sheet1!$G$24),Sheet1!$A$24,\"\"))","v":""},{"$f":"IF($L36=\"\",\"\",IF(AND($L36>=Sheet1!$F$25,'Pupil List'!$L36<Sheet1!$G$25),Sheet1!$A$25,\"\"))","v":""},{"$error":"#N/A"},{"$f":"IFERROR(VLOOKUP(BK36,Sheet1!$A$2:$E$25,3,FALSE),\"\")","v":""},{"$f":"IFERROR(VLOOKUP(BK36,Sheet1!$A$2:$E$25,4,FALSE),\"\")","v":""},{"$f":"IFERROR(VLOOKUP(BK36,Sheet1!$A$2:$E$25,5,FALSE),\"\")","v":""},{"$f":"IFERROR(VLOOKUP(N36,Sheet1!$A$29:$B$38,2,FALSE),\"\")","v":""}]
["","","",null,null,null,null,null,"","","",null,"",null,"","","","","","","","","","","","","","","","","","","","","","","","",{"$f":"IF($L37=\"\",\"\",IF(AND($L37>=Sheet1!$F$2,'Pupil List'!$L37<Sheet1!$G$2),Sheet1!$A$2,\"\"))","v":""},{"$f":"IF($L37=\"\",\"\",IF(AND($L37>=Sheet1!$F$3,'Pupil List'!$L37<Sheet1!$G$3),Sheet1!$A$3,\"\"))","v":""},{"$f":"IF($L37=\"\",\"\",IF(AND($L37>=Sheet1!$F$4,'Pupil List'!$L37<Sheet1!$G$4),Sheet1!$A$4,\"\"))","v":""},{"$f":"IF($L37=\"\",\"\",IF(AND($L37>=Sheet1!$F$5,'Pupil List'!$L37<Sheet1!$G$5),Sheet1!$A$5,\"\"))","v":""},{"$f":"IF($L37=\"\",\"\",IF(AND($L37>=Sheet1!$F$6,'Pupil List'!$L37<Sheet1!$G$6),Sheet1!$A$6,\"\"))","v":""},{"$f":"IF($L37=\"\",\"\",IF(AND($L37>=Sheet1!$F$7,'Pupil List'!$L37<Sheet1!$G$7),Sheet1!$A$7,\"\"))","v":""},{"$f":"IF($L37=\"\",\"\",IF(AND($L37>=Sheet1!$F$8,'Pupil List'!$L37<Sheet1!$G$8),Sheet1!$A$8,\"\"))","v":""},{"$f":"IF($L37=\"\",\"\",IF(AND($L37>=Sheet1!$F$9,'Pupil List'!$L37<Sheet1!$G$9),Sheet1!$A$9,\"\"))","v":""},{"$f":"IF($L37=\"\",\"\",IF(AND($L37>=Sheet1!$F$10,'Pupil List'!$L37<Sheet1!$G$10),Sheet1!$A$10,\"\"))","v":""},{"$f":"IF($L37=\"\",\"\",IF(AND($L37>=Sheet1!$F$11,'Pupil List'!$L37<Sheet1!$G$11),Sheet1!$A$11,\"\"))","v":""},{"$f":"IF($L37=\"\",\"\",IF(AND($L37>=Sheet1!$F$12,'Pupil List'!$L37<Sheet1!$G$12),Sheet1!$A$12,\"\"))","v":""},{"$f":"IF($L37=\"\",\"\",IF(AND($L37>=Sheet1!$F$13,'Pupil List'!$L37<Sheet1!$G$13),Sheet1!$A$13,\"\"))","v":""},{"$f":"IF($L37=\"\",\"\",IF(AND($L37>=Sheet1!$F$14,'Pupil List'!$L37<Sheet1!$G$14),Sheet1!$A$14,\"\"))","v":""},{"$f":"IF($L37=\"\",\"\",IF(AND($L37>=Sheet1!$F$15,'Pupil List'!$L37<Sheet1!$G$15),Sheet1!$A$15,\"\"))","v":""},{"$f":"IF($L37=\"\",\"\",IF(AND($L37>=Sheet1!$F$16,'Pupil List'!$L37<Sheet1!$G$16),Sheet1!$A$16,\"\"))","v":""},{"$f":"IF($L37=\"\",\"\",IF(AND($L37>=Sheet1!$F$17,'Pupil List'!$L37<Sheet1!$G$17),Sheet1!$A$17,\"\"))","v":""},{"$f":"IF($L37=\"\",\"\",IF(AND($L37>=Sheet1!$F$18,'Pupil List'!$L37<Sheet1!$G$18),Sheet1!$A$18,\"\"))","v":""},{"$f":"IF($L37=\"\",\"\",IF(AND($L37>=Sheet1!$F$19,'Pupil List'!$L37<Sheet1!$G$19),Sheet1!$A$19,\"\"))","v":""},{"$f":"IF($L37=\"\",\"\",IF(AND($L37>=Sheet1!$F$20,'Pupil List'!$L37<Sheet1!$G$20),Sheet1!$A$20,\"\"))","v":""},{"$f":"IF($L37=\"\",\"\",IF(AND($L37>=Sheet1!$F$21,'Pupil List'!$L37<Sheet1!$G$21),Sheet1!$A$21,\"\"))","v":""},{"$f":"IF($L37=\"\",\"\",IF(AND($L37>=Sheet1!$F$22,'Pupil List'!$L37<Sheet1!$G$22),Sheet1!$A$22,\"\"))","v":""},{"$f":"IF($L37=\"\",\"\",IF(AND($L37>=Sheet1!$F$23,'Pupil List'!$L37<Sheet1!$G$23),Sheet1!$A$23,\"\"))","v":""},{"$f":"IF($L37=\"\",\"\",IF(AND($L37>=Sheet1!$F$24,'Pupil List'!$L37<Sheet1!$G$24),Sheet1!$A$24,\"\"))","v":""},{"$f":"IF($L37=\"\",\"\",IF(AND($L37>=Sheet1!$F$25,'Pupil List'!$L37<Sheet1!$G$25),Sheet1!$A$25,\"\"))","v":""},{"$error":"#N/A"},{"$f":"IFERROR(VLOOKUP(BK37,Sheet1!$A$2:$E$25,3,FALSE),\"\")","v":""},{"$f":"IFERROR(VLOOKUP(BK37,Sheet1!$A$2:$E$25,4,FALSE),\"\")","v":""},{"$f":"IFERROR(VLOOKUP(BK37,Sheet1!$A$2:$E$25,5,FALSE),\"\")","v":""},{"$f":"IFERROR(VLOOKUP(N37,Sheet1!$A$29:$B$38,2,FALSE),\"\")","v":""}]
["","","",null,null,null,null,null,"","","",null,"",null,"","","","","","","","","","","","","","","","","","","","","","","","",{"$f":"IF($L38=\"\",\"\",IF(AND($L38>=Sheet1!$F$2,'Pupil List'!$L38<Sheet1!$G$2),Sheet1!$A$2,\"\"))","v":""},{"$f":"IF($L38=\"\",\"\",IF(AND($L38>=Sheet1!$F$3,'Pupil List'!$L38<Sheet1!$G$3),Sheet1!$A$3,\"\"))","v":""},{"$f":"IF($L38=\"\",\"\",IF(AND($L38>=Sheet1!$F$4,'Pupil List'!$L38<Sheet1!$G$4),Sheet1!$A$4,\"\"))","v":""},{"$f":"IF($L38=\"\",\"\",IF(AND($L38>=Sheet1!$F$5,'Pupil List'!$L38<Sheet1!$G$5),Sheet1!$A$5,\"\"))","v":""},{"$f":"IF($L38=\"\",\"\",IF(AND($L38>=Sheet1!$F$6,'Pupil List'!$L38<Sheet1!$G$6),Sheet1!$A$6,\"\"))","v":""},{"$f":"IF($L38=\"\",\"\",IF(AND($L38>=Sheet1!$F$7,'Pupil List'!$L38<Sheet1!$G$7),Sheet1!$A$7,\"\"))","v":""},{"$f":"IF($L38=\"\",\"\",IF(AND($L38>=Sheet1!$F$8,'Pupil List'!$L38<Sheet1!$G$8),Sheet1!$A$8,\"\"))","v":""},{"$f":"IF($L38=\"\",\"\",IF(AND($L38>=Sheet1!$F$9,'Pupil List'!$L38<Sheet1!$G$9),Sheet1!$A$9,\"\"))","v":""},{"$f":"IF($L38=\"\",\"\",IF(AND($L38>=Sheet1!$F$10,'Pupil List'!$L38<Sheet1!$G$10),Sheet1!$A$10,\"\"))","v":""},{"$f":"IF($L38=\"\",\"\",IF(AND($L38>=Sheet1!$F$11,'Pupil List'!$L38<Sheet1!$G$11),Sheet1!$A$11,\"\"))","v":""},{"$f":"IF($L38=\"\",\"\",IF(AND($L38>=Sheet1!$F$12,'Pupil List'!$L38<Sheet1!$G$12),Sheet1!$A$12,\"\"))","v":""},{"$f":"IF($L38=\"\",\"\",IF(AND($L38>=Sheet1!$F$13,'Pupil List'!$L38<Sheet1!$G$13),Sheet1!$A$13,\"\"))","v":""},{"$f":"IF($L38=\"\",\"\",IF(AND($L38>=Sheet1!$F$14,'Pupil List'!$L38<Sheet1!$G$14),Sheet1!$A$14,\"\"))","v":""},{"$f":"IF($L38=\"\",\"\",IF(AND($L38>=Sheet1!$F$15,'Pupil List'!$L38<Sheet1!$G$15),Sheet1!$A$15,\"\"))","v":""},{"$f":"IF($L38=\"\",\"\",IF(AND($L38>=Sheet1!$F$16,'Pupil List'!$L38<Sheet1!$G$16),Sheet1!$A$16,\"\"))","v":""},{"$f":"IF($L38=\"\",\"\",IF(AND($L38>=Sheet1!$F$17,'Pupil List'!$L38<Sheet1!$G$17),Sheet1!$A$17,\"\"))","v":""},{"$f":"IF($L38=\"\",\"\",IF(AND($L38>=Sheet1!$F$18,'Pupil List'!$L38<Sheet1!$G$18),Sheet1!$A$18,\"\"))","v":""},{"$f":"IF($L38=\"\",\"\",IF(AND($L38>=Sheet1!$F$19,'Pupil List'!$L38<Sheet1!$G$19),Sheet1!$A$19,\"\"))","v":""},{"$f":"IF($L38=\"\",\"\",IF(AND($L38>=Sheet1!$F$20,'Pupil List'!$L38<Sheet1!$G$20),Sheet1!$A$20,\"\"))","v":""},{"$f":"IF($L38=\"\",\"\",IF(AND($L38>=Sheet1!$F$21,'Pupil List'!$L38<Sheet1!$G$21),Sheet1!$A$21,\"\"))","v":""},{"$f":"IF($L38=\"\",\"\",IF(AND($L38>=Sheet1!$F$22,'Pupil List'!$L38<Sheet1!$G$22),Sheet1!$A$22,\"\"))","v":""},{"$f":"IF($L38=\"\",\"\",IF(AND($L38>=Sheet1!$F$23,'Pupil List'!$L38<Sheet1!$G$23),Sheet1!$A$23,\"\"))","v":""},{"$f":"IF($L38=\"\",\"\",IF(AND($L38>=Sheet1!$F$24,'Pupil List'!$L38<Sheet1!$G$24),Sheet1!$A$24,\"\"))","v":""},{"$f":"IF($L38=\"\",\"\",IF(AND($L38>=Sheet1!$F$25,'Pupil List'!$L38<Sheet1!$G$25),Sheet1!$A$25,\"\"))","v":""},{"$error":"#N/A"},{"$f":"IFERROR(VLOOKUP(BK38,Sheet1!$A$2:$E$25,3,FALSE),\"\")","v":""},{"$f":"IFERROR(VLOOKUP(BK38,Sheet1!$A$2:$E$25,4,FALSE),\"\")","v":""},{"$f":"IFERROR(VLOOKUP(BK38,Sheet1!$A$2:$E$25,5,FALSE),\"\")","v":""},{"$f":"IFERROR(VLOOKUP(N38,Sheet1!$A$29:$B$38,2,FALSE),\"\")","v":""}]
["","","",null,null,null,null,null,"","","",null,"",null,"","","","","","","","","","","","","","","","","","","","","","","","",{"$f":"IF($L39=\"\",\"\",IF(AND($L39>=Sheet1!$F$2,'Pupil List'!$L39<Sheet1!$G$2),Sheet1!$A$2,\"\"))","v":""},{"$f":"IF($L39=\"\",\"\",IF(AND($L39>=Sheet1!$F$3,'Pupil List'!$L39<Sheet1!$G$3),Sheet1!$A$3,\"\"))","v":""},{"$f":"IF($L39=\"\",\"\",IF(AND($L39>=Sheet1!$F$4,'Pupil List'!$L39<Sheet1!$G$4),Sheet1!$A$4,\"\"))","v":""},{"$f":"IF($L39=\"\",\"\",IF(AND($L39>=Sheet1!$F$5,'Pupil List'!$L39<Sheet1!$G$5),Sheet1!$A$5,\"\"))","v":""},{"$f":"IF($L39=\"\",\"\",IF(AND($L39>=Sheet1!$F$6,'Pupil List'!$L39<Sheet1!$G$6),Sheet1!$A$6,\"\"))","v":""},{"$f":"IF($L39=\"\",\"\",IF(AND($L39>=Sheet1!$F$7,'Pupil List'!$L39<Sheet1!$G$7),Sheet1!$A$7,\"\"))","v":""},{"$f":"IF($L39=\"\",\"\",IF(AND($L39>=Sheet1!$F$8,'Pupil List'!$L39<Sheet1!$G$8),Sheet1!$A$8,\"\"))","v":""},{"$f":"IF($L39=\"\",\"\",IF(AND($L39>=Sheet1!$F$9,'Pupil List'!$L39<Sheet1!$G$9),Sheet1!$A$9,\"\"))","v":""},{"$f":"IF($L39=\"\",\"\",IF(AND($L39>=Sheet1!$F$10,'Pupil List'!$L39<Sheet1!$G$10),Sheet1!$A$10,\"\"))","v":""},{"$f":"IF($L39=\"\",\"\",IF(AND($L39>=Sheet1!$F$11,'Pupil List'!$L39<Sheet1!$G$11),Sheet1!$A$11,\"\"))","v":""},{"$f":"IF($L39=\"\",\"\",IF(AND($L39>=Sheet1!$F$12,'Pupil List'!$L39<Sheet1!$G$12),Sheet1!$A$12,\"\"))","v":""},{"$f":"IF($L39=\"\",\"\",IF(AND($L39>=Sheet1!$F$13,'Pupil List'!$L39<Sheet1!$G$13),Sheet1!$A$13,\"\"))","v":""},{"$f":"IF($L39=\"\",\"\",IF(AND($L39>=Sheet1!$F$14,'Pupil List'!$L39<Sheet1!$G$14),Sheet1!$A$14,\"\"))","v":""},{"$f":"IF($L39=\"\",\"\",IF(AND($L39>=Sheet1!$F$15,'Pupil List'!$L39<Sheet1!$G$15),Sheet1!$A$15,\"\"))","v":""},{"$f":"IF($L39=\"\",\"\",IF(AND($L39>=Sheet1!$F$16,'Pupil List'!$L39<Sheet1!$G$16),Sheet1!$A$16,\"\"))","v":""},{"$f":"IF($L39=\"\",\"\",IF(AND($L39>=Sheet1!$F$17,'Pupil List'!$L39<Sheet1!$G$17),Sheet1!$A$17,\"\"))","v":""},{"$f":"IF($L39=\"\",\"\",IF(AND($L39>=Sheet1!$F$18,'Pupil List'!$L39<Sheet1!$G$18),Sheet1!$A$18,\"\"))","v":""},{"$f":"IF($L39=\"\",\"\",IF(AND($L39>=Sheet1!$F$19,'Pupil List'!$L39<Sheet1!$G$19),Sheet1!$A$19,\"\"))","v":""},{"$f":"IF($L39=\"\",\"\",IF(AND($L39>=Sheet1!$F$20,'Pupil List'!$L39<Sheet1!$G$20),Sheet1!$A$20,\"\"))","v":""},{"$f":"IF($L39=\"\",\"\",IF(AND($L39>=Sheet1!$F$21,'Pupil List'!$L39<Sheet1!$G$21),Sheet1!$A$21,\"\"))","v":""},{"$f":"IF($L39=\"\",\"\",IF(AND($L39>=Sheet1!$F$22,'Pupil List'!$L39<Sheet1!$G$22),Sheet1!$A$22,\"\"))","v":""},{"$f":"IF($L39=\"\",\"\",IF(AND($L39>=Sheet1!$F$23,'Pupil List'!$L39<Sheet1!$G$23),Sheet1!$A$23,\"\"))","v":""},{"$f":"IF($L39=\"\",\"\",IF(AND($L39>=Sheet1!$F$24,'Pupil List'!$L39<Sheet1!$G$24),Sheet1!$A$24,\"\"))","v":""},{"$f":"IF($L39=\"\",\"\",IF(AND($L39>=Sheet1!$F$25,'Pupil List'!$L39<Sheet1!$G$25),Sheet1!$A$25,\"\"))","v":""},{"$error":"#N/A"},{"$f":"IFERROR(VLOOKUP(BK39,Sheet1!$A$2:$E$25,3,FALSE),\"\")","v":""},{"$f":"IFERROR(VLOOKUP(BK39,Sheet1!$A$2:$E$25,4,FALSE),\"\")","v":""},{"$f":"IFERROR(VLOOKUP(BK39,Sheet1!$A$2:$E$25,5,FALSE),\"\")","v":""},{"$f":"IFERROR(VLOOKUP(N39,Sheet1!$A$29:$B$38,2,FALSE),\"\")","v":""}]
["","","",null,null,null,null,null,"","","",null,"",null,"","","","","","","","","","","","","","","","","","","","","","","","",{"$f":"IF($L40=\"\",\"\",IF(AND($L40>=Sheet1!$F$2,'Pupil List'!$L40<Sheet1!$G$2),Sheet1!$A$2,\"\"))","v":""},{"$f":"IF($L40=\"\",\"\",IF(AND($L40>=Sheet1!$F$3,'Pupil List'!$L40<Sheet1!$G$3),Sheet1!$A$3,\"\"))","v":""},{"$f":"IF($L40=\"\",\"\",IF(AND($L40>=Sheet1!$F$4,'Pupil List'!$L40<Sheet1!$G$4),Sheet1!$A$4,\"\"))","v":""},{"$f":"IF($L40=\"\",\"\",IF(AND($L40>=Sheet1!$F$5,'Pupil List'!$L40<Sheet1!$G$5),Sheet1!$A$5,\"\"))","v":""},{"$f":"IF($L40=\"\",\"\",IF(AND($L40>=Sheet1!$F$6,'Pupil List'!$L40<Sheet1!$G$6),Sheet1!$A$6,\"\"))","v":""},{"$f":"IF($L40=\"\",\"\",IF(AND($L40>=Sheet1!$F$7,'Pupil List'!$L40<Sheet1!$G$7),Sheet1!$A$7,\"\"))","v":""},{"$f":"IF($L40=\"\",\"\",IF(AND($L40>=Sheet1!$F$8,'Pupil List'!$L40<Sheet1!$G$8),Sheet1!$A$8,\"\"))","v":""},{"$f":"IF($L40=\"\",\"\",IF(AND($L40>=Sheet1!$F$9,'Pupil List'!$L40<Sheet1!$G$9),Sheet1!$A$9,\"\"))","v":""},{"$f":"IF($L40=\"\",\"\",IF(AND($L40>=Sheet1!$F$10,'Pupil List'!$L40<Sheet1!$G$10),Sheet1!$A$10,\"\"))","v":""},{"$f":"IF($L40=\"\",\"\",IF(AND($L40>=Sheet1!$F$11,'Pupil List'!$L40<Sheet1!$G$11),Sheet1!$A$11,\"\"))","v":""},{"$f":"IF($L40=\"\",\"\",IF(AND($L40>=Sheet1!$F$12,'Pupil List'!$L40<Sheet1!$G$12),Sheet1!$A$12,\"\"))","v":""},{"$f":"IF($L40=\"\",\"\",IF(AND($L40>=Sheet1!$F$13,'Pupil List'!$L40<Sheet1!$G$13),Sheet1!$A$13,\"\"))","v":""},{"$f":"IF($L40=\"\",\"\",IF(AND($L40>=Sheet1!$F$14,'Pupil List'!$L40<Sheet1!$G$14),Sheet1!$A$14,\"\"))","v":""},{"$f":"IF($L40=\"\",\"\",IF(AND($L40>=Sheet1!$F$15,'Pupil List'!$L40<Sheet1!$G$15),Sheet1!$A$15,\"\"))","v":""},{"$f":"IF($L40=\"\",\"\",IF(AND($L40>=Sheet1!$F$16,'Pupil List'!$L40<Sheet1!$G$16),Sheet1!$A$16,\"\"))","v":""},{"$f":"IF($L40=\"\",\"\",IF(AND($L40>=Sheet1!$F$17,'Pupil List'!$L40<Sheet1!$G$17),Sheet1!$A$17,\"\"))","v":""},{"$f":"IF($L40=\"\",\"\",IF(AND($L40>=Sheet1!$F$18,'Pupil List'!$L40<Sheet1!$G$18),Sheet1!$A$18,\"\"))","v":""},{"$f":"IF($L40=\"\",\"\",IF(AND($L40>=Sheet1!$F$19,'Pupil List'!$L40<Sheet1!$G$19),Sheet1!$A$19,\"\"))","v":""},{"$f":"IF($L40=\"\",\"\",IF(AND($L40>=Sheet1!$F$20,'Pupil List'!$L40<Sheet1!$G$20),Sheet1!$A$20,\"\"))","v":""},{"$f":"IF($L40=\"\",\"\",IF(AND($L40>=Sheet1!$F$21,'Pupil List'!$L40<Sheet1!$G$21),Sheet1!$A$21,\"\"))","v":""},{"$f":"IF($L40=\"\",\"\",IF(AND($L40>=Sheet1!$F$22,'Pupil List'!$L40<Sheet1!$G$22),Sheet1!$A$22,\"\"))","v":""},{"$f":"IF($L40=\"\",\"\",IF(AND($L40>=Sheet1!$F$23,'Pupil List'!$L40<Sheet1!$G$23),Sheet1!$A$23,\"\"))","v":""},{"$f":"IF($L40=\"\",\"\",IF(AND($L40>=Sheet1!$F$24,'Pupil List'!$L40<Sheet1!$G$24),Sheet1!$A$24,\"\"))","v":""},{"$f":"IF($L40=\"\",\"\",IF(AND($L40>=Sheet1!$F$25,'Pupil List'!$L40<Sheet1!$G$25),Sheet1!$A$25,\"\"))","v":""},{"$error":"#N/A"},{"$f":"IFERROR(VLOOKUP(BK40,Sheet1!$A$2:$E$25,3,FALSE),\"\")","v":""},{"$f":"IFERROR(VLOOKUP(BK40,Sheet1!$A$2:$E$25,4,FALSE),\"\")","v":""},{"$f":"IFERROR(VLOOKUP(BK40,Sheet1!$A$2:$E$25,5,FALSE),\"\")","v":""},{"$f":"IFERROR(VLOOKUP(N40,Sheet1!$A$29:$B$38,2,FALSE),\"\")","v":""}]
["","","",null,null,null,null,null,"","","",null,"",null,"","","","","","","","","","","","","","","","","","","","","","","","",{"$f":"IF($L41=\"\",\"\",IF(AND($L41>=Sheet1!$F$2,'Pupil List'!$L41<Sheet1!$G$2),Sheet1!$A$2,\"\"))","v":""},{"$f":"IF($L41=\"\",\"\",IF(AND($L41>=Sheet1!$F$3,'Pupil List'!$L41<Sheet1!$G$3),Sheet1!$A$3,\"\"))","v":""},{"$f":"IF($L41=\"\",\"\",IF(AND($L41>=Sheet1!$F$4,'Pupil List'!$L41<Sheet1!$G$4),Sheet1!$A$4,\"\"))","v":""},{"$f":"IF($L41=\"\",\"\",IF(AND($L41>=Sheet1!$F$5,'Pupil List'!$L41<Sheet1!$G$5),Sheet1!$A$5,\"\"))","v":""},{"$f":"IF($L41=\"\",\"\",IF(AND($L41>=Sheet1!$F$6,'Pupil List'!$L41<Sheet1!$G$6),Sheet1!$A$6,\"\"))","v":""},{"$f":"IF($L41=\"\",\"\",IF(AND($L41>=Sheet1!$F$7,'Pupil List'!$L41<Sheet1!$G$7),Sheet1!$A$7,\"\"))","v":""},{"$f":"IF($L41=\"\",\"\",IF(AND($L41>=Sheet1!$F$8,'Pupil List'!$L41<Sheet1!$G$8),Sheet1!$A$8,\"\"))","v":""},{"$f":"IF($L41=\"\",\"\",IF(AND($L41>=Sheet1!$F$9,'Pupil List'!$L41<Sheet1!$G$9),Sheet1!$A$9,\"\"))","v":""},{"$f":"IF($L41=\"\",\"\",IF(AND($L41>=Sheet1!$F$10,'Pupil List'!$L41<Sheet1!$G$10),Sheet1!$A$10,\"\"))","v":""},{"$f":"IF($L41=\"\",\"\",IF(AND($L41>=Sheet1!$F$11,'Pupil List'!$L41<Sheet1!$G$11),Sheet1!$A$11,\"\"))","v":""},{"$f":"IF($L41=\"\",\"\",IF(AND($L41>=Sheet1!$F$12,'Pupil List'!$L41<Sheet1!$G$12),Sheet1!$A$12,\"\"))","v":""},{"$f":"IF($L41=\"\",\"\",IF(AND($L41>=Sheet1!$F$13,'Pupil List'!$L41<Sheet1!$G$13),Sheet1!$A$13,\"\"))","v":""},{"$f":"IF($L41=\"\",\"\",IF(AND($L41>=Sheet1!$F$14,'Pupil List'!$L41<Sheet1!$G$14),Sheet1!$A$14,\"\"))","v":""},{"$f":"IF($L41=\"\",\"\",IF(AND($L41>=Sheet1!$F$15,'Pupil List'!$L41<Sheet1!$G$15),Sheet1!$A$15,\"\"))","v":""},{"$f":"IF($L41=\"\",\"\",IF(AND($L41>=Sheet1!$F$16,'Pupil List'!$L41<Sheet1!$G$16),Sheet1!$A$16,\"\"))","v":""},{"$f":"IF($L41=\"\",\"\",IF(AND($L41>=Sheet1!$F$17,'Pupil List'!$L41<Sheet1!$G$17),Sheet1!$A$17,\"\"))","v":""},{"$f":"IF($L41=\"\",\"\",IF(AND($L41>=Sheet1!$F$18,'Pupil List'!$L41<Sheet1!$G$18),Sheet1!$A$18,\"\"))","v":""},{"$f":"IF($L41=\"\",\"\",IF(AND($L41>=Sheet1!$F$19,'Pupil List'!$L41<Sheet1!$G$19),Sheet1!$A$19,\"\"))","v":""},{"$f":"IF($L41=\"\",\"\",IF(AND($L41>=Sheet1!$F$20,'Pupil List'!$L41<Sheet1!$G$20),Sheet1!$A$20,\"\"))","v":""},{"$f":"IF($L41=\"\",\"\",IF(AND($L41>=Sheet1!$F$21,'Pupil List'!$L41<Sheet1!$G$21),Sheet1!$A$21,\"\"))","v":""},{"$f":"IF($L41=\"\",\"\",IF(AND($L41>=Sheet1!$F$22,'Pupil List'!$L41<Sheet1!$G$22),Sheet1!$A$22,\"\"))","v":""},{"$f":"IF($L41=\"\",\"\",IF(AND($L41>=Sheet1!$F$23,'Pupil List'!$L41<Sheet1!$G$23),Sheet1!$A$23,\"\"))","v":""},{"$f":"IF($L41=\"\",\"\",IF(AND($L41>=Sheet1!$F$24,'Pupil List'!$L41<Sheet1!$G$24),Sheet1!$A$24,\"\"))","v":""},{"$f":"IF($L41=\"\",\"\",IF(AND($L41>=Sheet1!$F$25,'Pupil List'!$L41<Sheet1!$G$25),Sheet1!$A$25,\"\"))","v":""},{"$error":"#N/A"},{"$f":"IFERROR(VLOOKUP(BK41,Sheet1!$A$2:$E$25,3,FALSE),\"\")","v":""},{"$f":"IFERROR(VLOOKUP(BK41,Sheet1!$A$2:$E$25,4,FALSE),\"\")","v":""},{"$f":"IFERROR(VLOOKUP(BK41,Sheet1!$A$2:$E$25,5,FALSE),\"\")","v":""},{"$f":"IFERROR(VLOOKUP(N41,Sheet1!$A$29:$B$38,2,FALSE),\"\")","v":""}]
["","","",null,null,null,null,null,"","","",null,"",null,"","","","","","","","","","","","","","","","","","","","","","","","",{"$f":"IF($L42=\"\",\"\",IF(AND($L42>=Sheet1!$F$2,'Pupil List'!$L42<Sheet1!$G$2),Sheet1!$A$2,\"\"))","v":""},{"$f":"IF($L42=\"\",\"\",IF(AND($L42>=Sheet1!$F$3,'Pupil List'!$L42<Sheet1!$G$3),Sheet1!$A$3,\"\"))","v":""},{"$f":"IF($L42=\"\",\"\",IF(AND($L42>=Sheet1!$F$4,'Pupil List'!$L42<Sheet1!$G$4),Sheet1!$A$4,\"\"))","v":""},{"$f":"IF($L42=\"\",\"\",IF(AND($L42>=Sheet1!$F$5,'Pupil List'!$L42<Sheet1!$G$5),Sheet1!$A$5,\"\"))","v":""},{"$f":"IF($L42=\"\",\"\",IF(AND($L42>=Sheet1!$F$6,'Pupil List'!$L42<Sheet1!$G$6),Sheet1!$A$6,\"\"))","v":""},{"$f":"IF($L42=\"\",\"\",IF(AND($L42>=Sheet1!$F$7,'Pupil List'!$L42<Sheet1!$G$7),Sheet1!$A$7,\"\"))","v":""},{"$f":"IF($L42=\"\",\"\",IF(AND($L42>=Sheet1!$F$8,'Pupil List'!$L42<Sheet1!$G$8),Sheet1!$A$8,\"\"))","v":""},{"$f":"IF($L42=\"\",\"\",IF(AND($L42>=Sheet1!$F$9,'Pupil List'!$L42<Sheet1!$G$9),Sheet1!$A$9,\"\"))","v":""},{"$f":"IF($L42=\"\",\"\",IF(AND($L42>=Sheet1!$F$10,'Pupil List'!$L42<Sheet1!$G$10),Sheet1!$A$10,\"\"))","v":""},{"$f":"IF($L42=\"\",\"\",IF(AND($L42>=Sheet1!$F$11,'Pupil List'!$L42<Sheet1!$G$11),Sheet1!$A$11,\"\"))","v":""},{"$f":"IF($L42=\"\",\"\",IF(AND($L42>=Sheet1!$F$12,'Pupil List'!$L42<Sheet1!$G$12),Sheet1!$A$12,\"\"))","v":""},{"$f":"IF($L42=\"\",\"\",IF(AND($L42>=Sheet1!$F$13,'Pupil List'!$L42<Sheet1!$G$13),Sheet1!$A$13,\"\"))","v":""},{"$f":"IF($L42=\"\",\"\",IF(AND($L42>=Sheet1!$F$14,'Pupil List'!$L42<Sheet1!$G$14),Sheet1!$A$14,\"\"))","v":""},{"$f":"IF($L42=\"\",\"\",IF(AND($L42>=Sheet1!$F$15,'Pupil List'!$L42<Sheet1!$G$15),Sheet1!$A$15,\"\"))","v":""},{"$f":"IF($L42=\"\",\"\",IF(AND($L42>=Sheet1!$F$16,'Pupil List'!$L42<Sheet1!$G$16),Sheet1!$A$16,\"\"))","v":""},{"$f":"IF($L42=\"\",\"\",IF(AND($L42>=Sheet1!$F$17,'Pupil List'!$L42<Sheet1!$G$17),Sheet1!$A$17,\"\"))","v":""},{"$f":"IF($L42=\"\",\"\",IF(AND($L42>=Sheet1!$F$18,'Pupil List'!$L42<Sheet1!$G$18),Sheet1!$A$18,\"\"))","v":""},{"$f":"IF($L42=\"\",\"\",IF(AND($L42>=Sheet1!$F$19,'Pupil List'!$L42<Sheet1!$G$19),Sheet1!$A$19,\"\"))","v":""},{"$f":"IF($L42=\"\",\"\",IF(AND($L42>=Sheet1!$F$20,'Pupil List'!$L42<Sheet1!$G$20),Sheet1!$A$20,\"\"))","v":""},{"$f":"IF($L42=\"\",\"\",IF(AND($L42>=Sheet1!$F$21,'Pupil List'!$L42<Sheet1!$G$21),Sheet1!$A$21,\"\"))","v":""},{"$f":"IF($L42=\"\",\"\",IF(AND($L42>=Sheet1!$F$22,'Pupil List'!$L42<Sheet1!$G$22),Sheet1!$A$22,\"\"))","v":""},{"$f":"IF($L42=\"\",\"\",IF(AND($L42>=Sheet1!$F$23,'Pupil List'!$L42<Sheet1!$G$23),Sheet1!$A$23,\"\"))","v":""},{"$f":"IF($L42=\"\",\"\",IF(AND($L42>=Sheet1!$F$24,'Pupil List'!$L42<Sheet1!$G$24),Sheet1!$A$24,\"\"))","v":""},{"$f":"IF($L42=\"\",\"\",IF(AND($L42>=Sheet1!$F$25,'Pupil List'!$L42<Sheet1!$G$25),Sheet1!$A$25,\"\"))","v":""},{"$error":"#N/A"},{"$f":"IFERROR(VLOOKUP(BK42,Sheet1!$A$2:$E$25,3,FALSE),\"\")","v":""},{"$f":"IFERROR(VLOOKUP(BK42,Sheet1!$A$2:$E$25,4,FALSE),\"\")","v":""},{"$f":"IFERROR(VLOOKUP(BK42,Sheet1!$A$2:$E$25,5,FALSE),\"\")","v":""},{"$f":"IFERROR(VLOOKUP(N42,Sheet1!$A$29:$B$38,2,FALSE),\"\")","v":""}]
["","","",null,null,null,null,null,"","","",null,"",null,"","","","","","","","","","","","","","","","","","","","","","","","",{"$f":"IF($L43=\"\",\"\",IF(AND($L43>=Sheet1!$F$2,'Pupil List'!$L43<Sheet1!$G$2),Sheet1!$A$2,\"\"))","v":""},{"$f":"IF($L43=\"\",\"\",IF(AND($L43>=Sheet1!$F$3,'Pupil List'!$L43<Sheet1!$G$3),Sheet1!$A$3,\"\"))","v":""},{"$f":"IF($L43=\"\",\"\",IF(AND($L43>=Sheet1!$F$4,'Pupil List'!$L43<Sheet1!$G$4),Sheet1!$A$4,\"\"))","v":""},{"$f":"IF($L43=\"\",\"\",IF(AND($L43>=Sheet1!$F$5,'Pupil List'!$L43<Sheet1!$G$5),Sheet1!$A$5,\"\"))","v":""},{"$f":"IF($L43=\"\",\"\",IF(AND($L43>=Sheet1!$F$6,'Pupil List'!$L43<Sheet1!$G$6),Sheet1!$A$6,\"\"))","v":""},{"$f":"IF($L43=\"\",\"\",IF(AND($L43>=Sheet1!$F$7,'Pupil List'!$L43<Sheet1!$G$7),Sheet1!$A$7,\"\"))","v":""},{"$f":"IF($L43=\"\",\"\",IF(AND($L43>=Sheet1!$F$8,'Pupil List'!$L43<Sheet1!$G$8),Sheet1!$A$8,\"\"))","v":""},{"$f":"IF($L43=\"\",\"\",IF(AND($L43>=Sheet1!$F$9,'Pupil List'!$L43<Sheet1!$G$9),Sheet1!$A$9,\"\"))","v":""},{"$f":"IF($L43=\"\",\"\",IF(AND($L43>=Sheet1!$F$10,'Pupil List'!$L43<Sheet1!$G$10),Sheet1!$A$10,\"\"))","v":""},{"$f":"IF($L43=\"\",\"\",IF(AND($L43>=Sheet1!$F$11,'Pupil List'!$L43<Sheet1!$G$11),Sheet1!$A$11,\"\"))","v":""},{"$f":"IF($L43=\"\",\"\",IF(AND($L43>=Sheet1!$F$12,'Pupil List'!$L43<Sheet1!$G$12),Sheet1!$A$12,\"\"))","v":""},{"$f":"IF($L43=\"\",\"\",IF(AND($L43>=Sheet1!$F$13,'Pupil List'!$L43<Sheet1!$G$13),Sheet1!$A$13,\"\"))","v":""},{"$f":"IF($L43=\"\",\"\",IF(AND($L43>=Sheet1!$F$14,'Pupil List'!$L43<Sheet1!$G$14),Sheet1!$A$14,\"\"))","v":""},{"$f":"IF($L43=\"\",\"\",IF(AND($L43>=Sheet1!$F$15,'Pupil List'!$L43<Sheet1!$G$15),Sheet1!$A$15,\"\"))","v":""},{"$f":"IF($L43=\"\",\"\",IF(AND($L43>=Sheet1!$F$16,'Pupil List'!$L43<Sheet1!$G$16),Sheet1!$A$16,\"\"))","v":""},{"$f":"IF($L43=\"\",\"\",IF(AND($L43>=Sheet1!$F$17,'Pupil List'!$L43<Sheet1!$G$17),Sheet1!$A$17,\"\"))","v":""},{"$f":"IF($L43=\"\",\"\",IF(AND($L43>=Sheet1!$F$18,'Pupil List'!$L43<Sheet1!$G$18),Sheet1!$A$18,\"\"))","v":""},{"$f":"IF($L43=\"\",\"\",IF(AND($L43>=Sheet1!$F$19,'Pupil List'!$L43<Sheet1!$G$19),Sheet1!$A$19,\"\"))","v":""},{"$f":"IF($L43=\"\",\"\",IF(AND($L43>=Sheet1!$F$20,'Pupil List'!$L43<Sheet1!$G$20),Sheet1!$A$20,\"\"))","v":""},{"$f":"IF($L43=\"\",\"\",IF(AND($L43>=Sheet1!$F$21,'Pupil List'!$L43<Sheet1!$G$21),Sheet1!$A$21,\"\"))","v":""},{"$f":"IF($L43=\"\",\"\",IF(AND($L43>=Sheet1!$F$22,'Pupil List'!$L43<Sheet1!$G$22),Sheet1!$A$22,\"\"))","v":""},{"$f":"IF($L43=\"\",\"\",IF(AND($L43>=Sheet1!$F$23,'Pupil List'!$L43<Sheet1!$G$23),Sheet1!$A$23,\"\"))","v":""},{"$f":"IF($L43=\"\",\"\",IF(AND($L43>=Sheet1!$F$24,'Pupil List'!$L43<Sheet1!$G$24),Sheet1!$A$24,\"\"))","v":""},{"$f":"IF($L43=\"\",\"\",IF(AND($L43>=Sheet1!$F$25,'Pupil List'!$L43<Sheet1!$G$25),Sheet1!$A$25,\"\"))","v":""},{"$error":"#N/A"},{"$f":"IFERROR(VLOOKUP(BK43,Sheet1!$A$2:$E$25,3,FALSE),\"\")","v":""},{"$f":"IFERROR(VLOOKUP(BK43,Sheet1!$A$2:$E$25,4,FALSE),\"\")","v":""},{"$f":"IFERROR(VLOOKUP(BK43,Sheet1!$A$2:$E$25,5,FALSE),\"\")","v":""},{"$f":"IFERROR(VLOOKUP(N43,Sheet1!$A$29:$B$38,2,FALSE),\"\")","v":""}]
["","","",null,null,null,null,null,"","","",null,"",null,"","","","","","","","","","","","","","","","","","","","","","","","",{"$f":"IF($L44=\"\",\"\",IF(AND($L44>=Sheet1!$F$2,'Pupil List'!$L44<Sheet1!$G$2),Sheet1!$A$2,\"\"))","v":""},{"$f":"IF($L44=\"\",\"\",IF(AND($L44>=Sheet1!$F$3,'Pupil List'!$L44<Sheet1!$G$3),Sheet1!$A$3,\"\"))","v":""},{"$f":"IF($L44=\"\",\"\",IF(AND($L44>=Sheet1!$F$4,'Pupil List'!$L44<Sheet1!$G$4),Sheet1!$A$4,\"\"))","v":""},{"$f":"IF($L44=\"\",\"\",IF(AND($L44>=Sheet1!$F$5,'Pupil List'!$L44<Sheet1!$G$5),Sheet1!$A$5,\"\"))","v":""},{"$f":"IF($L44=\"\",\"\",IF(AND($L44>=Sheet1!$F$6,'Pupil List'!$L44<Sheet1!$G$6),Sheet1!$A$6,\"\"))","v":""},{"$f":"IF($L44=\"\",\"\",IF(AND($L44>=Sheet1!$F$7,'Pupil List'!$L44<Sheet1!$G$7),Sheet1!$A$7,\"\"))","v":""},{"$f":"IF($L44=\"\",\"\",IF(AND($L44>=Sheet1!$F$8,'Pupil List'!$L44<Sheet1!$G$8),Sheet1!$A$8,\"\"))","v":""},{"$f":"IF($L44=\"\",\"\",IF(AND($L44>=Sheet1!$F$9,'Pupil List'!$L44<Sheet1!$G$9),Sheet1!$A$9,\"\"))","v":""},{"$f":"IF($L44=\"\",\"\",IF(AND($L44>=Sheet1!$F$10,'Pupil List'!$L44<Sheet1!$G$10),Sheet1!$A$10,\"\"))","v":""},{"$f":"IF($L44=\"\",\"\",IF(AND($L44>=Sheet1!$F$11,'Pupil List'!$L44<Sheet1!$G$11),Sheet1!$A$11,\"\"))","v":""},{"$f":"IF($L44=\"\",\"\",IF(AND($L44>=Sheet1!$F$12,'Pupil List'!$L44<Sheet1!$G$12),Sheet1!$A$12,\"\"))","v":""},{"$f":"IF($L44=\"\",\"\",IF(AND($L44>=Sheet1!$F$13,'Pupil List'!$L44<Sheet1!$G$13),Sheet1!$A$13,\"\"))","v":""},{"$f":"IF($L44=\"\",\"\",IF(AND($L44>=Sheet1!$F$14,'Pupil List'!$L44<Sheet1!$G$14),Sheet1!$A$14,\"\"))","v":""},{"$f":"IF($L44=\"\",\"\",IF(AND($L44>=Sheet1!$F$15,'Pupil List'!$L44<Sheet1!$G$15),Sheet1!$A$15,\"\"))","v":""},{"$f":"IF($L44=\"\",\"\",IF(AND($L44>=Sheet1!$F$16,'Pupil List'!$L44<Sheet1!$G$16),Sheet1!$A$16,\"\"))","v":""},{"$f":"IF($L44=\"\",\"\",IF(AND($L44>=Sheet1!$F$17,'Pupil List'!$L44<Sheet1!$G$17),Sheet1!$A$17,\"\"))","v":""},{"$f":"IF($L44=\"\",\"\",IF(AND($L44>=Sheet1!$F$18,'Pupil List'!$L44<Sheet1!$G$18),Sheet1!$A$18,\"\"))","v":""},{"$f":"IF($L44=\"\",\"\",IF(AND($L44>=Sheet1!$F$19,'Pupil List'!$L44<Sheet1!$G$19),Sheet1!$A$19,\"\"))","v":""},{"$f":"IF($L44=\"\",\"\",IF(AND($L44>=Sheet1!$F$20,'Pupil List'!$L44<Sheet1!$G$20),Sheet1!$A$20,\"\"))","v":""},{"$f":"IF($L44=\"\",\"\",IF(AND($L44>=Sheet1!$F$21,'Pupil List'!$L44<Sheet1!$G$21),Sheet1!$A$21,\"\"))","v":""},{"$f":"IF($L44=\"\",\"\",IF(AND($L44>=Sheet1!$F$22,'Pupil List'!$L44<Sheet1!$G$22),Sheet1!$A$22,\"\"))","v":""},{"$f":"IF($L44=\"\",\"\",IF(AND($L44>=Sheet1!$F$23,'Pupil List'!$L44<Sheet1!$G$23),Sheet1!$A$23,\"\"))","v":""},{"$f":"IF($L44=\"\",\"\",IF(AND($L44>=Sheet1!$F$24,'Pupil List'!$L44<Sheet1!$G$24),Sheet1!$A$24,\"\"))","v":""},{"$f":"IF($L44=\"\",\"\",IF(AND($L44>=Sheet1!$F$25,'Pupil List'!$L44<Sheet1!$G$25),Sheet1!$A$25,\"\"))","v":""},{"$error":"#N/A"},{"$f":"IFERROR(VLOOKUP(BK44,Sheet1!$A$2:$E$25,3,FALSE),\"\")","v":""},{"$f":"IFERROR(VLOOKUP(BK44,Sheet1!$A$2:$E$25,4,FALSE),\"\")","v":""},{"$f":"IFERROR(VLOOKUP(BK44,Sheet1!$A$2:$E$25,5,FALSE),\"\")","v":""},{"$f":"IFERROR(VLOOKUP(N44,Sheet1!$A$29:$B$38,2,FALSE),\"\")","v":""}]
["","","",null,null,null,null,null,"","","",null,"",null,"","","","","","","","","","","","","","","","","","","","","","","","",{"$f":"IF($L45=\"\",\"\",IF(AND($L45>=Sheet1!$F$2,'Pupil List'!$L45<Sheet1!$G$2),Sheet1!$A$2,\"\"))","v":""},{"$f":"IF($L45=\"\",\"\",IF(AND($L45>=Sheet1!$F$3,'Pupil List'!$L45<Sheet1!$G$3),Sheet1!$A$3,\"\"))","v":""},{"$f":"IF($L45=\"\",\"\",IF(AND($L45>=Sheet1!$F$4,'Pupil List'!$L45<Sheet1!$G$4),Sheet1!$A$4,\"\"))","v":""},{"$f":"IF($L45=\"\",\"\",IF(AND($L45>=Sheet1!$F$5,'Pupil List'!$L45<Sheet1!$G$5),Sheet1!$A$5,\"\"))","v":""},{"$f":"IF($L45=\"\",\"\",IF(AND($L45>=Sheet1!$F$6,'Pupil List'!$L45<Sheet1!$G$6),Sheet1!$A$6,\"\"))","v":""},{"$f":"IF($L45=\"\",\"\",IF(AND($L45>=Sheet1!$F$7,'Pupil List'!$L45<Sheet1!$G$7),Sheet1!$A$7,\"\"))","v":""},{"$f":"IF($L45=\"\",\"\",IF(AND($L45>=Sheet1!$F$8,'Pupil List'!$L45<Sheet1!$G$8),Sheet1!$A$8,\"\"))","v":""},{"$f":"IF($L45=\"\",\"\",IF(AND($L45>=Sheet1!$F$9,'Pupil List'!$L45<Sheet1!$G$9),Sheet1!$A$9,\"\"))","v":""},{"$f":"IF($L45=\"\",\"\",IF(AND($L45>=Sheet1!$F$10,'Pupil List'!$L45<Sheet1!$G$10),Sheet1!$A$10,\"\"))","v":""},{"$f":"IF($L45=\"\",\"\",IF(AND($L45>=Sheet1!$F$11,'Pupil List'!$L45<Sheet1!$G$11),Sheet1!$A$11,\"\"))","v":""},{"$f":"IF($L45=\"\",\"\",IF(AND($L45>=Sheet1!$F$12,'Pupil List'!$L45<Sheet1!$G$12),Sheet1!$A$12,\"\"))","v":""},{"$f":"IF($L45=\"\",\"\",IF(AND($L45>=Sheet1!$F$13,'Pupil List'!$L45<Sheet1!$G$13),Sheet1!$A$13,\"\"))","v":""},{"$f":"IF($L45=\"\",\"\",IF(AND($L45>=Sheet1!$F$14,'Pupil List'!$L45<Sheet1!$G$14),Sheet1!$A$14,\"\"))","v":""},{"$f":"IF($L45=\"\",\"\",IF(AND($L45>=Sheet1!$F$15,'Pupil List'!$L45<Sheet1!$G$15),Sheet1!$A$15,\"\"))","v":""},{"$f":"IF($L45=\"\",\"\",IF(AND($L45>=Sheet1!$F$16,'Pupil List'!$L45<Sheet1!$G$16),Sheet1!$A$16,\"\"))","v":""},{"$f":"IF($L45=\"\",\"\",IF(AND($L45>=Sheet1!$F$17,'Pupil List'!$L45<Sheet1!$G$17),Sheet1!$A$17,\"\"))","v":""},{"$f":"IF($L45=\"\",\"\",IF(AND($L45>=Sheet1!$F$18,'Pupil List'!$L45<Sheet1!$G$18),Sheet1!$A$18,\"\"))","v":""},{"$f":"IF($L45=\"\",\"\",IF(AND($L45>=Sheet1!$F$19,'Pupil List'!$L45<Sheet1!$G$19),Sheet1!$A$19,\"\"))","v":""},{"$f":"IF($L45=\"\",\"\",IF(AND($L45>=Sheet1!$F$20,'Pupil List'!$L45<Sheet1!$G$20),Sheet1!$A$20,\"\"))","v":""},{"$f":"IF($L45=\"\",\"\",IF(AND($L45>=Sheet1!$F$21,'Pupil List'!$L45<Sheet1!$G$21),Sheet1!$A$21,\"\"))","v":""},{"$f":"IF($L45=\"\",\"\",IF(AND($L45>=Sheet1!$F$22,'Pupil List'!$L45<Sheet1!$G$22),Sheet1!$A$22,\"\"))","v":""},{"$f":"IF($L45=\"\",\"\",IF(AND($L45>=Sheet1!$F$23,'Pupil List'!$L45<Sheet1!$G$23),Sheet1!$A$23,\"\"))","v":""},{"$f":"IF($L45=\"\",\"\",IF(AND($L45>=Sheet1!$F$24,'Pupil List'!$L45<Sheet1!$G$24),Sheet1!$A$24,\"\"))","v":""},{"$f":"IF($L45=\"\",\"\",IF(AND($L45>=Sheet1!$F$25,'Pupil List'!$L45<Sheet1!$G$25),Sheet1!$A$25,\"\"))","v":""},{"$error":"#N/A"},{"$f":"IFERROR(VLOOKUP(BK45,Sheet1!$A$2:$E$25,3,FALSE),\"\")","v":""},{"$f":"IFERROR(VLOOKUP(BK45,Sheet1!$A$2:$E$25,4,FALSE),\"\")","v":""},{"$f":"IFERROR(VLOOKUP(BK45,Sheet1!$A$2:$E$25,5,FALSE),\"\")","v":""},{"$f":"IFERROR(VLOOKUP(N45,Sheet1!$A$29:$B$38,2,FALSE),\"\")","v":""}]
["","","",null,null,null,null,null,"","","",null,"",null,"","","","","","","","","","","","","","","","","","","","","","","","",{"$f":"IF($L46=\"\",\"\",IF(AND($L46>=Sheet1!$F$2,'Pupil List'!$L46<Sheet1!$G$2),Sheet1!$A$2,\"\"))","v":""},{"$f":"IF($L46=\"\",\"\",IF(AND($L46>=Sheet1!$F$3,'Pupil List'!$L46<Sheet1!$G$3),Sheet1!$A$3,\"\"))","v":""},{"$f":"IF($L46=\"\",\"\",IF(AND($L46>=Sheet1!$F$4,'Pupil List'!$L46<Sheet1!$G$4),Sheet1!$A$4,\"\"))","v":""},{"$f":"IF($L46=\"\",\"\",IF(AND($L46>=Sheet1!$F$5,'Pupil List'!$L46<Sheet1!$G$5),Sheet1!$A$5,\"\"))","v":""},{"$f":"IF($L46=\"\",\"\",IF(AND($L46>=Sheet1!$F$6,'Pupil List'!$L46<Sheet1!$G$6),Sheet1!$A$6,\"\"))","v":""},{"$f":"IF($L46=\"\",\"\",IF(AND($L46>=Sheet1!$F$7,'Pupil List'!$L46<Sheet1!$G$7),Sheet1!$A$7,\"\"))","v":""},{"$f":"IF($L46=\"\",\"\",IF(AND($L46>=Sheet1!$F$8,'Pupil List'!$L46<Sheet1!$G$8),Sheet1!$A$8,\"\"))","v":""},{"$f":"IF($L46=\"\",\"\",IF(AND($L46>=Sheet1!$F$9,'Pupil List'!$L46<Sheet1!$G$9),Sheet1!$A$9,\"\"))","v":""},{"$f":"IF($L46=\"\",\"\",IF(AND($L46>=Sheet1!$F$10,'Pupil List'!$L46<Sheet1!$G$10),Sheet1!$A$10,\"\"))","v":""},{"$f":"IF($L46=\"\",\"\",IF(AND($L46>=Sheet1!$F$11,'Pupil List'!$L46<Sheet1!$G$11),Sheet1!$A$11,\"\"))","v":""},{"$f":"IF($L46=\"\",\"\",IF(AND($L46>=Sheet1!$F$12,'Pupil List'!$L46<Sheet1!$G$12),Sheet1!$A$12,\"\"))","v":""},{"$f":"IF($L46=\"\",\"\",IF(AND($L46>=Sheet1!$F$13,'Pupil List'!$L46<Sheet1!$G$13),Sheet1!$A$13,\"\"))","v":""},{"$f":"IF($L46=\"\",\"\",IF(AND($L46>=Sheet1!$F$14,'Pupil List'!$L46<Sheet1!$G$14),Sheet1!$A$14,\"\"))","v":""},{"$f":"IF($L46=\"\",\"\",IF(AND($L46>=Sheet1!$F$15,'Pupil List'!$L46<Sheet1!$G$15),Sheet1!$A$15,\"\"))","v":""},{"$f":"IF($L46=\"\",\"\",IF(AND($L46>=Sheet1!$F$16,'Pupil List'!$L46<Sheet1!$G$16),Sheet1!$A$16,\"\"))","v":""},{"$f":"IF($L46=\"\",\"\",IF(AND($L46>=Sheet1!$F$17,'Pupil List'!$L46<Sheet1!$G$17),Sheet1!$A$17,\"\"))","v":""},{"$f":"IF($L46=\"\",\"\",IF(AND($L46>=Sheet1!$F$18,'Pupil List'!$L46<Sheet1!$G$18),Sheet1!$A$18,\"\"))","v":""},{"$f":"IF($L46=\"\",\"\",IF(AND($L46>=Sheet1!$F$19,'Pupil List'!$L46<Sheet1!$G$19),Sheet1!$A$19,\"\"))","v":""},{"$f":"IF($L46=\"\",\"\",IF(AND($L46>=Sheet1!$F$20,'Pupil List'!$L46<Sheet1!$G$20),Sheet1!$A$20,\"\"))","v":""},{"$f":"IF($L46=\"\",\"\",IF(AND($L46>=Sheet1!$F$21,'Pupil List'!$L46<Sheet1!$G$21),Sheet1!$A$21,\"\"))","v":""},{"$f":"IF($L46=\"\",\"\",IF(AND($L46>=Sheet1!$F$22,'Pupil List'!$L46<Sheet1!$G$22),Sheet1!$A$22,\"\"))","v":""},{"$f":"IF($L46=\"\",\"\",IF(AND($L46>=Sheet1!$F$23,'Pupil List'!$L46<Sheet1!$G$23),Sheet1!$A$23,\"\"))","v":""},{"$f":"IF($L46=\"\",\"\",IF(AND($L46>=Sheet1!$F$24,'Pupil List'!$L46<Sheet1!$G$24),Sheet1!$A$24,\"\"))","v":""},{"$f":"IF($L46=\"\",\"\",IF(AND($L46>=Sheet1!$F$25,'Pupil List'!$L46<Sheet1!$G$25),Sheet1!$A$25,\"\"))","v":""},{"$error":"#N/A"},{"$f":"IFERROR(VLOOKUP(BK46,Sheet1!$A$2:$E$25,3,FALSE),\"\")","v":""},{"$f":"IFERROR(VLOOKUP(BK46,Sheet1!$A$2:$E$25,4,FALSE),\"\")","v":""},{"$f":"IFERROR(VLOOKUP(BK46,Sheet1!$A$2:$E$25,5,FALSE),\"\")","v":""},{"$f":"IFERROR(VLOOKUP(N46,Sheet1!$A$29:$B$38,2,FALSE),\"\")","v":""}]
["","","",null,null,null,null,null,"","","",null,"",null,"","","","","","","","","","","","","","","","","","","","","","","","",{"$f":"IF($L47=\"\",\"\",IF(AND($L47>=Sheet1!$F$2,'Pupil List'!$L47<Sheet1!$G$2),Sheet1!$A$2,\"\"))","v":""},{"$f":"IF($L47=\"\",\"\",IF(AND($L47>=Sheet1!$F$3,'Pupil List'!$L47<Sheet1!$G$3),Sheet1!$A$3,\"\"))","v":""},{"$f":"IF($L47=\"\",\"\",IF(AND($L47>=Sheet1!$F$4,'Pupil List'!$L47<Sheet1!$G$4),Sheet1!$A$4,\"\"))","v":""},{"$f":"IF($L47=\"\",\"\",IF(AND($L47>=Sheet1!$F$5,'Pupil List'!$L47<Sheet1!$G$5),Sheet1!$A$5,\"\"))","v":""},{"$f":"IF($L47=\"\",\"\",IF(AND($L47>=Sheet1!$F$6,'Pupil List'!$L47<Sheet1!$G$6),Sheet1!$A$6,\"\"))","v":""},{"$f":"IF($L47=\"\",\"\",IF(AND($L47>=Sheet1!$F$7,'Pupil List'!$L47<Sheet1!$G$7),Sheet1!$A$7,\"\"))","v":""},{"$f":"IF($L47=\"\",\"\",IF(AND($L47>=Sheet1!$F$8,'Pupil List'!$L47<Sheet1!$G$8),Sheet1!$A$8,\"\"))","v":""},{"$f":"IF($L47=\"\",\"\",IF(AND($L47>=Sheet1!$F$9,'Pupil List'!$L47<Sheet1!$G$9),Sheet1!$A$9,\"\"))","v":""},{"$f":"IF($L47=\"\",\"\",IF(AND($L47>=Sheet1!$F$10,'Pupil List'!$L47<Sheet1!$G$10),Sheet1!$A$10,\"\"))","v":""},{"$f":"IF($L47=\"\",\"\",IF(AND($L47>=Sheet1!$F$11,'Pupil List'!$L47<Sheet1!$G$11),Sheet1!$A$11,\"\"))","v":""},{"$f":"IF($L47=\"\",\"\",IF(AND($L47>=Sheet1!$F$12,'Pupil List'!$L47<Sheet1!$G$12),Sheet1!$A$12,\"\"))","v":""},{"$f":"IF($L47=\"\",\"\",IF(AND($L47>=Sheet1!$F$13,'Pupil List'!$L47<Sheet1!$G$13),Sheet1!$A$13,\"\"))","v":""},{"$f":"IF($L47=\"\",\"\",IF(AND($L47>=Sheet1!$F$14,'Pupil List'!$L47<Sheet1!$G$14),Sheet1!$A$14,\"\"))","v":""},{"$f":"IF($L47=\"\",\"\",IF(AND($L47>=Sheet1!$F$15,'Pupil List'!$L47<Sheet1!$G$15),Sheet1!$A$15,\"\"))","v":""},{"$f":"IF($L47=\"\",\"\",IF(AND($L47>=Sheet1!$F$16,'Pupil List'!$L47<Sheet1!$G$16),Sheet1!$A$16,\"\"))","v":""},{"$f":"IF($L47=\"\",\"\",IF(AND($L47>=Sheet1!$F$17,'Pupil List'!$L47<Sheet1!$G$17),Sheet1!$A$17,\"\"))","v":""},{"$f":"IF($L47=\"\",\"\",IF(AND($L47>=Sheet1!$F$18,'Pupil List'!$L47<Sheet1!$G$18),Sheet1!$A$18,\"\"))","v":""},{"$f":"IF($L47=\"\",\"\",IF(AND($L47>=Sheet1!$F$19,'Pupil List'!$L47<Sheet1!$G$19),Sheet1!$A$19,\"\"))","v":""},{"$f":"IF($L47=\"\",\"\",IF(AND($L47>=Sheet1!$F$20,'Pupil List'!$L47<Sheet1!$G$20),Sheet1!$A$20,\"\"))","v":""},{"$f":"IF($L47=\"\",\"\",IF(AND($L47>=Sheet1!$F$21,'Pupil List'!$L47<Sheet1!$G$21),Sheet1!$A$21,\"\"))","v":""},{"$f":"IF($L47=\"\",\"\",IF(AND($L47>=Sheet1!$F$22,'Pupil List'!$L47<Sheet1!$G$22),Sheet1!$A$22,\"\"))","v":""},{"$f":"IF($L47=\"\",\"\",IF(AND($L47>=Sheet1!$F$23,'Pupil List'!$L47<Sheet1!$G$23),Sheet1!$A$23,\"\"))","v":""},{"$f":"IF($L47=\"\",\"\",IF(AND($L47>=Sheet1!$F$24,'Pupil List'!$L47<Sheet1!$G$24),Sheet1!$A$24,\"\"))","v":""},{"$f":"IF($L47=\"\",\"\",IF(AND($L47>=Sheet1!$F$25,'Pupil List'!$L47<Sheet1!$G$25),Sheet1!$A$25,\"\"))","v":""},{"$error":"#N/A"},{"$f":"IFERROR(VLOOKUP(BK47,Sheet1!$A$2:$E$25,3,FALSE),\"\")","v":""},{"$f":"IFERROR(VLOOKUP(BK47,Sheet1!$A$2:$E$25,4,FALSE),\"\")","v":""},{"$f":"IFERROR(VLOOKUP(BK47,Sheet1!$A$2:$E$25,5,FALSE),\"\")","v":""},{"$f":"IFERROR(VLOOKUP(N47,Sheet1!$A$29:$B$38,2,FALSE),\"\")","v":""}]
["","","",null,null,null,null,null,"","","",null,"",null,"","","","","","","","","","","","","","","","","","","","","","","","",{"$f":"IF($L48=\"\",\"\",IF(AND($L48>=Sheet1!$F$2,'Pupil List'!$L48<Sheet1!$G$2),Sheet1!$A$2,\"\"))","v":""},{"$f":"IF($L48=\"\",\"\",IF(AND($L48>=Sheet1!$F$3,'Pupil List'!$L48<Sheet1!$G$3),Sheet1!$A$3,\"\"))","v":""},{"$f":"IF($L48=\"\",\"\",IF(AND($L48>=Sheet1!$F$4,'Pupil List'!$L48<Sheet1!$G$4),Sheet1!$A$4,\"\"))","v":""},{"$f":"IF($L48=\"\",\"\",IF(AND($L48>=Sheet1!$F$5,'Pupil List'!$L48<Sheet1!$G$5),Sheet1!$A$5,\"\"))","v":""},{"$f":"IF($L48=\"\",\"\",IF(AND($L48>=Sheet1!$F$6,'Pupil List'!$L48<Sheet1!$G$6),Sheet1!$A$6,\"\"))","v":""},{"$f":"IF($L48=\"\",\"\",IF(AND($L48>=Sheet1!$F$7,'Pupil List'!$L48<Sheet1!$G$7),Sheet1!$A$7,\"\"))","v":""},{"$f":"IF($L48=\"\",\"\",IF(AND($L48>=Sheet1!$F$8,'Pupil List'!$L48<Sheet1!$G$8),Sheet1!$A$8,\"\"))","v":""},{"$f":"IF($L48=\"\",\"\",IF(AND($L48>=Sheet1!$F$9,'Pupil List'!$L48<Sheet1!$G$9),Sheet1!$A$9,\"\"))","v":""},{"$f":"IF($L48=\"\",\"\",IF(AND($L48>=Sheet1!$F$10,'Pupil List'!$L48<Sheet1!$G$10),Sheet1!$A$10,\"\"))","v":""},{"$f":"IF($L48=\"\",\"\",IF(AND($L48>=Sheet1!$F$11,'Pupil List'!$L48<Sheet1!$G$11),Sheet1!$A$11,\"\"))","v":""},{"$f":"IF($L48=\"\",\"\",IF(AND($L48>=Sheet1!$F$12,'Pupil List'!$L48<Sheet1!$G$12),Sheet1!$A$12,\"\"))","v":""},{"$f":"IF($L48=\"\",\"\",IF(AND($L48>=Sheet1!$F$13,'Pupil List'!$L48<Sheet1!$G$13),Sheet1!$A$13,\"\"))","v":""},{"$f":"IF($L48=\"\",\"\",IF(AND($L48>=Sheet1!$F$14,'Pupil List'!$L48<Sheet1!$G$14),Sheet1!$A$14,\"\"))","v":""},{"$f":"IF($L48=\"\",\"\",IF(AND($L48>=Sheet1!$F$15,'Pupil List'!$L48<Sheet1!$G$15),Sheet1!$A$15,\"\"))","v":""},{"$f":"IF($L48=\"\",\"\",IF(AND($L48>=Sheet1!$F$16,'Pupil List'!$L48<Sheet1!$G$16),Sheet1!$A$16,\"\"))","v":""},{"$f":"IF($L48=\"\",\"\",IF(AND($L48>=Sheet1!$F$17,'Pupil List'!$L48<Sheet1!$G$17),Sheet1!$A$17,\"\"))","v":""},{"$f":"IF($L48=\"\",\"\",IF(AND($L48>=Sheet1!$F$18,'Pupil List'!$L48<Sheet1!$G$18),Sheet1!$A$18,\"\"))","v":""},{"$f":"IF($L48=\"\",\"\",IF(AND($L48>=Sheet1!$F$19,'Pupil List'!$L48<Sheet1!$G$19),Sheet1!$A$19,\"\"))","v":""},{"$f":"IF($L48=\"\",\"\",IF(AND($L48>=Sheet1!$F$20,'Pupil List'!$L48<Sheet1!$G$20),Sheet1!$A$20,\"\"))","v":""},{"$f":"IF($L48=\"\",\"\",IF(AND($L48>=Sheet1!$F$21,'Pupil List'!$L48<Sheet1!$G$21),Sheet1!$A$21,\"\"))","v":""},{"$f":"IF($L48=\"\",\"\",IF(AND($L48>=Sheet1!$F$22,'Pupil List'!$L48<Sheet1!$G$22),Sheet1!$A$22,\"\"))","v":""},{"$f":"IF($L48=\"\",\"\",IF(AND($L48>=Sheet1!$F$23,'Pupil List'!$L48<Sheet1!$G$23),Sheet1!$A$23,\"\"))","v":""},{"$f":"IF($L48=\"\",\"\",IF(AND($L48>=Sheet1!$F$24,'Pupil List'!$L48<Sheet1!$G$24),Sheet1!$A$24,\"\"))","v":""},{"$f":"IF($L48=\"\",\"\",IF(AND($L48>=Sheet1!$F$25,'Pupil List'!$L48<Sheet1!$G$25),Sheet1!$A$25,\"\"))","v":""},{"$error":"#N/A"},{"$f":"IFERROR(VLOOKUP(BK48,Sheet1!$A$2:$E$25,3,FALSE),\"\")","v":""},{"$f":"IFERROR(VLOOKUP(BK48,Sheet1!$A$2:$E$25,4,FALSE),\"\")","v":""},{"$f":"IFERROR(VLOOKUP(BK48,Sheet1!$A$2:$E$25,5,FALSE),\"\")","v":""},{"$f":"IFERROR(VLOOKUP(N48,Sheet1!$A$29:$B$38,2,FALSE),\"\")","v":""}]
["","","",null,null,null,null,null,"","","",null,"",null,"","","","","","","","","","","","","","","","","","","","","","","","",{"$f":"IF($L49=\"\",\"\",IF(AND($L49>=Sheet1!$F$2,'Pupil List'!$L49<Sheet1!$G$2),Sheet1!$A$2,\"\"))","v":""},{"$f":"IF($L49=\"\",\"\",IF(AND($L49>=Sheet1!$F$3,'Pupil List'!$L49<Sheet1!$G$3),Sheet1!$A$3,\"\"))","v":""},{"$f":"IF($L49=\"\",\"\",IF(AND($L49>=Sheet1!$F$4,'Pupil List'!$L49<Sheet1!$G$4),Sheet1!$A$4,\"\"))","v":""},{"$f":"IF($L49=\"\",\"\",IF(AND($L49>=Sheet1!$F$5,'Pupil List'!$L49<Sheet1!$G$5),Sheet1!$A$5,\"\"))","v":""},{"$f":"IF($L49=\"\",\"\",IF(AND($L49>=Sheet1!$F$6,'Pupil List'!$L49<Sheet1!$G$6),Sheet1!$A$6,\"\"))","v":""},{"$f":"IF($L49=\"\",\"\",IF(AND($L49>=Sheet1!$F$7,'Pupil List'!$L49<Sheet1!$G$7),Sheet1!$A$7,\"\"))","v":""},{"$f":"IF($L49=\"\",\"\",IF(AND($L49>=Sheet1!$F$8,'Pupil List'!$L49<Sheet1!$G$8),Sheet1!$A$8,\"\"))","v":""},{"$f":"IF($L49=\"\",\"\",IF(AND($L49>=Sheet1!$F$9,'Pupil List'!$L49<Sheet1!$G$9),Sheet1!$A$9,\"\"))","v":""},{"$f":"IF($L49=\"\",\"\",IF(AND($L49>=Sheet1!$F$10,'Pupil List'!$L49<Sheet1!$G$10),Sheet1!$A$10,\"\"))","v":""},{"$f":"IF($L49=\"\",\"\",IF(AND($L49>=Sheet1!$F$11,'Pupil List'!$L49<Sheet1!$G$11),Sheet1!$A$11,\"\"))","v":""},{"$f":"IF($L49=\"\",\"\",IF(AND($L49>=Sheet1!$F$12,'Pupil List'!$L49<Sheet1!$G$12),Sheet1!$A$12,\"\"))","v":""},{"$f":"IF($L49=\"\",\"\",IF(AND($L49>=Sheet1!$F$13,'Pupil List'!$L49<Sheet1!$G$13),Sheet1!$A$13,\"\"))","v":""},{"$f":"IF($L49=\"\",\"\",IF(AND($L49>=Sheet1!$F$14,'Pupil List'!$L49<Sheet1!$G$14),Sheet1!$A$14,\"\"))","v":""},{"$f":"IF($L49=\"\",\"\",IF(AND($L49>=Sheet1!$F$15,'Pupil List'!$L49<Sheet1!$G$15),Sheet1!$A$15,\"\"))","v":""},{"$f":"IF($L49=\"\",\"\",IF(AND($L49>=Sheet1!$F$16,'Pupil List'!$L49<Sheet1!$G$16),Sheet1!$A$16,\"\"))","v":""},{"$f":"IF($L49=\"\",\"\",IF(AND($L49>=Sheet1!$F$17,'Pupil List'!$L49<Sheet1!$G$17),Sheet1!$A$17,\"\"))","v":""},{"$f":"IF($L49=\"\",\"\",IF(AND($L49>=Sheet1!$F$18,'Pupil List'!$L49<Sheet1!$G$18),Sheet1!$A$18,\"\"))","v":""},{"$f":"IF($L49=\"\",\"\",IF(AND($L49>=Sheet1!$F$19,'Pupil List'!$L49<Sheet1!$G$19),Sheet1!$A$19,\"\"))","v":""},{"$f":"IF($L49=\"\",\"\",IF(AND($L49>=Sheet1!$F$20,'Pupil List'!$L49<Sheet1!$G$20),Sheet1!$A$20,\"\"))","v":""},{"$f":"IF($L49=\"\",\"\",IF(AND($L49>=Sheet1!$F$21,'Pupil List'!$L49<Sheet1!$G$21),Sheet1!$A$21,\"\"))","v":""},{"$f":"IF($L49=\"\",\"\",IF(AND($L49>=Sheet1!$F$22,'Pupil List'!$L49<Sheet1!$G$22),Sheet1!$A$22,\"\"))","v":""},{"$f":"IF($L49=\"\",\"\",IF(AND($L49>=Sheet1!$F$23,'Pupil List'!$L49<Sheet1!$G$23),Sheet1!$A$23,\"\"))","v":""},{"$f":"IF($L49=\"\",\"\",IF(AND($L49>=Sheet1!$F$24,'Pupil List'!$L49<Sheet1!$G$24),Sheet1!$A$24,\"\"))","v":""},{"$f":"IF($L49=\"\",\"\",IF(AND($L49>=Sheet1!$F$25,'Pupil List'!$L49<Sheet1!$G$25),Sheet1!$A$25,\"\"))","v":""},{"$error":"#N/A"},{"$f":"IFERROR(VLOOKUP(BK49,Sheet1!$A$2:$E$25,3,FALSE),\"\")","v":""},{"$f":"IFERROR(VLOOKUP(BK49,Sheet1!$A$2:$E$25,4,FALSE),\"\")","v":""},{"$f":"IFERROR(VLOOKUP(BK49,Sheet1!$A$2:$E$25,5,FALSE),\"\")","v":""},{"$f":"IFERROR(VLOOKUP(N49,Sheet1!$A$29:$B$38,2,FALSE),\"\")","v":""}]
["","","",null,null,null,null,null,"","","",null,"",null,"","","","","","","","","","","","","","","","","","","","","","","","",{"$f":"IF($L50=\"\",\"\",IF(AND($L50>=Sheet1!$F$2,'Pupil List'!$L50<Sheet1!$G$2),Sheet1!$A$2,\"\"))","v":""},{"$f":"IF($L50=\"\",\"\",IF(AND($L50>=Sheet1!$F$3,'Pupil List'!$L50<Sheet1!$G$3),Sheet1!$A$3,\"\"))","v":""},{"$f":"IF($L50=\"\",\"\",IF(AND($L50>=Sheet1!$F$4,'Pupil List'!$L50<Sheet1!$G$4),Sheet1!$A$4,\"\"))","v":""},{"$f":"IF($L50=\"\",\"\",IF(AND($L50>=Sheet1!$F$5,'Pupil List'!$L50<Sheet1!$G$5),Sheet1!$A$5,\"\"))","v":""},{"$f":"IF($L50=\"\",\"\",IF(AND($L50>=Sheet1!$F$6,'Pupil List'!$L50<Sheet1!$G$6),Sheet1!$A$6,\"\"))","v":""},{"$f":"IF($L50=\"\",\"\",IF(AND($L50>=Sheet1!$F$7,'Pupil List'!$L50<Sheet1!$G$7),Sheet1!$A$7,\"\"))","v":""},{"$f":"IF($L50=\"\",\"\",IF(AND($L50>=Sheet1!$F$8,'Pupil List'!$L50<Sheet1!$G$8),Sheet1!$A$8,\"\"))","v":""},{"$f":"IF($L50=\"\",\"\",IF(AND($L50>=Sheet1!$F$9,'Pupil List'!$L50<Sheet1!$G$9),Sheet1!$A$9,\"\"))","v":""},{"$f":"IF($L50=\"\",\"\",IF(AND($L50>=Sheet1!$F$10,'Pupil List'!$L50<Sheet1!$G$10),Sheet1!$A$10,\"\"))","v":""},{"$f":"IF($L50=\"\",\"\",IF(AND($L50>=Sheet1!$F$11,'Pupil List'!$L50<Sheet1!$G$11),Sheet1!$A$11,\"\"))","v":""},{"$f":"IF($L50=\"\",\"\",IF(AND($L50>=Sheet1!$F$12,'Pupil List'!$L50<Sheet1!$G$12),Sheet1!$A$12,\"\"))","v":""},{"$f":"IF($L50=\"\",\"\",IF(AND($L50>=Sheet1!$F$13,'Pupil List'!$L50<Sheet1!$G$13),Sheet1!$A$13,\"\"))","v":""},{"$f":"IF($L50=\"\",\"\",IF(AND($L50>=Sheet1!$F$14,'Pupil List'!$L50<Sheet1!$G$14),Sheet1!$A$14,\"\"))","v":""},{"$f":"IF($L50=\"\",\"\",IF(AND($L50>=Sheet1!$F$15,'Pupil List'!$L50<Sheet1!$G$15),Sheet1!$A$15,\"\"))","v":""},{"$f":"IF($L50=\"\",\"\",IF(AND($L50>=Sheet1!$F$16,'Pupil List'!$L50<Sheet1!$G$16),Sheet1!$A$16,\"\"))","v":""},{"$f":"IF($L50=\"\",\"\",IF(AND($L50>=Sheet1!$F$17,'Pupil List'!$L50<Sheet1!$G$17),Sheet1!$A$17,\"\"))","v":""},{"$f":"IF($L50=\"\",\"\",IF(AND($L50>=Sheet1!$F$18,'Pupil List'!$L50<Sheet1!$G$18),Sheet1!$A$18,\"\"))","v":""},{"$f":"IF($L50=\"\",\"\",IF(AND($L50>=Sheet1!$F$19,'Pupil List'!$L50<Sheet1!$G$19),Sheet1!$A$19,\"\"))","v":""},{"$f":"IF($L50=\"\",\"\",IF(AND($L50>=Sheet1!$F$20,'Pupil List'!$L50<Sheet1!$G$20),Sheet1!$A$20,\"\"))","v":""},{"$f":"IF($L50=\"\",\"\",IF(AND($L50>=Sheet1!$F$21,'Pupil List'!$L50<Sheet1!$G$21),Sheet1!$A$21,\"\"))","v":""},{"$f":"IF($L50=\"\",\"\",IF(AND($L50>=Sheet1!$F$22,'Pupil List'!$L50<Sheet1!$G$22),Sheet1!$A$22,\"\"))","v":""},{"$f":"IF($L50=\"\",\"\",IF(AND($L50>=Sheet1!$F$23,'Pupil List'!$L50<Sheet1!$G$23),Sheet1!$A$23,\"\"))","v":""},{"$f":"IF($L50=\"\",\"\",IF(AND($L50>=Sheet1!$F$24,'Pupil List'!$L50<Sheet1!$G$24),Sheet1!$A$24,\"\"))","v":""},{"$f":"IF($L50=\"\",\"\",IF(AND($L50>=Sheet1!$F$25,'Pupil List'!$L50<Sheet1!$G$25),Sheet1!$A$25,\"\"))","v":""},{"$error":"#N/A"},{"$f":"IFERROR(VLOOKUP(BK50,Sheet1!$A$2:$E$25,3,FALSE),\"\")","v":""},{"$f":"IFERROR(VLOOKUP(BK50,Sheet1!$A$2:$E$25,4,FALSE),\"\")","v":""},{"$f":"IFERROR(VLOOKUP(BK50,Sheet1!$A$2:$E$25,5,FALSE),\"\")","v":""},{"$f":"IFERROR(VLOOKUP(N50,Sheet1!$A$29:$B$38,2,FALSE),\"\")","v":""}]
["","","",null,null,null,null,null,"","","",null,"",null,"","","","","","","","","","","","","","","","","","","","","","","","",{"$f":"IF($L51=\"\",\"\",IF(AND($L51>=Sheet1!$F$2,'Pupil List'!$L51<Sheet1!$G$2),Sheet1!$A$2,\"\"))","v":""},{"$f":"IF($L51=\"\",\"\",IF(AND($L51>=Sheet1!$F$3,'Pupil List'!$L51<Sheet1!$G$3),Sheet1!$A$3,\"\"))","v":""},{"$f":"IF($L51=\"\",\"\",IF(AND($L51>=Sheet1!$F$4,'Pupil List'!$L51<Sheet1!$G$4),Sheet1!$A$4,\"\"))","v":""},{"$f":"IF($L51=\"\",\"\",IF(AND($L51>=Sheet1!$F$5,'Pupil List'!$L51<Sheet1!$G$5),Sheet1!$A$5,\"\"))","v":""},{"$f":"IF($L51=\"\",\"\",IF(AND($L51>=Sheet1!$F$6,'Pupil List'!$L51<Sheet1!$G$6),Sheet1!$A$6,\"\"))","v":""},{"$f":"IF($L51=\"\",\"\",IF(AND($L51>=Sheet1!$F$7,'Pupil List'!$L51<Sheet1!$G$7),Sheet1!$A$7,\"\"))","v":""},{"$f":"IF($L51=\"\",\"\",IF(AND($L51>=Sheet1!$F$8,'Pupil List'!$L51<Sheet1!$G$8),Sheet1!$A$8,\"\"))","v":""},{"$f":"IF($L51=\"\",\"\",IF(AND($L51>=Sheet1!$F$9,'Pupil List'!$L51<Sheet1!$G$9),Sheet1!$A$9,\"\"))","v":""},{"$f":"IF($L51=\"\",\"\",IF(AND($L51>=Sheet1!$F$10,'Pupil List'!$L51<Sheet1!$G$10),Sheet1!$A$10,\"\"))","v":""},{"$f":"IF($L51=\"\",\"\",IF(AND($L51>=Sheet1!$F$11,'Pupil List'!$L51<Sheet1!$G$11),Sheet1!$A$11,\"\"))","v":""},{"$f":"IF($L51=\"\",\"\",IF(AND($L51>=Sheet1!$F$12,'Pupil List'!$L51<Sheet1!$G$12),Sheet1!$A$12,\"\"))","v":""},{"$f":"IF($L51=\"\",\"\",IF(AND($L51>=Sheet1!$F$13,'Pupil List'!$L51<Sheet1!$G$13),Sheet1!$A$13,\"\"))","v":""},{"$f":"IF($L51=\"\",\"\",IF(AND($L51>=Sheet1!$F$14,'Pupil List'!$L51<Sheet1!$G$14),Sheet1!$A$14,\"\"))","v":""},{"$f":"IF($L51=\"\",\"\",IF(AND($L51>=Sheet1!$F$15,'Pupil List'!$L51<Sheet1!$G$15),Sheet1!$A$15,\"\"))","v":""},{"$f":"IF($L51=\"\",\"\",IF(AND($L51>=Sheet1!$F$16,'Pupil List'!$L51<Sheet1!$G$16),Sheet1!$A$16,\"\"))","v":""},{"$f":"IF($L51=\"\",\"\",IF(AND($L51>=Sheet1!$F$17,'Pupil List'!$L51<Sheet1!$G$17),Sheet1!$A$17,\"\"))","v":""},{"$f":"IF($L51=\"\",\"\",IF(AND($L51>=Sheet1!$F$18,'Pupil List'!$L51<Sheet1!$G$18),Sheet1!$A$18,\"\"))","v":""},{"$f":"IF($L51=\"\",\"\",IF(AND($L51>=Sheet1!$F$19,'Pupil List'!$L51<Sheet1!$G$19),Sheet1!$A$19,\"\"))","v":""},{"$f":"IF($L51=\"\",\"\",IF(AND($L51>=Sheet1!$F$20,'Pupil List'!$L51<Sheet1!$G$20),Sheet1!$A$20,\"\"))","v":""},{"$f":"IF($L51=\"\",\"\",IF(AND($L51>=Sheet1!$F$21,'Pupil List'!$L51<Sheet1!$G$21),Sheet1!$A$21,\"\"))","v":""},{"$f":"IF($L51=\"\",\"\",IF(AND($L51>=Sheet1!$F$22,'Pupil List'!$L51<Sheet1!$G$22),Sheet1!$A$22,\"\"))","v":""},{"$f":"IF($L51=\"\",\"\",IF(AND($L51>=Sheet1!$F$23,'Pupil List'!$L51<Sheet1!$G$23),Sheet1!$A$23,\"\"))","v":""},{"$f":"IF($L51=\"\",\"\",IF(AND($L51>=Sheet1!$F$24,'Pupil List'!$L51<Sheet1!$G$24),Sheet1!$A$24,\"\"))","v":""},{"$f":"IF($L51=\"\",\"\",IF(AND($L51>=Sheet1!$F$25,'Pupil List'!$L51<Sheet1!$G$25),Sheet1!$A$25,\"\"))","v":""},{"$error":"#N/A"},{"$f":"IFERROR(VLOOKUP(BK51,Sheet1!$A$2:$E$25,3,FALSE),\"\")","v":""},{"$f":"IFERROR(VLOOKUP(BK51,Sheet1!$A$2:$E$25,4,FALSE),\"\")","v":""},{"$f":"IFERROR(VLOOKUP(BK51,Sheet1!$A$2:$E$25,5,FALSE),\"\")","v":""},{"$f":"IFERROR(VLOOKUP(N51,Sheet1!$A$29:$B$38,2,FALSE),\"\")","v":""}]
["","","",null,null,null,null,null,"","","",null,"",null,"","","","","","","","","","","","","","","","","","","","","","","","",{"$f":"IF($L52=\"\",\"\",IF(AND($L52>=Sheet1!$F$2,'Pupil List'!$L52<Sheet1!$G$2),Sheet1!$A$2,\"\"))","v":""},{"$f":"IF($L52=\"\",\"\",IF(AND($L52>=Sheet1!$F$3,'Pupil List'!$L52<Sheet1!$G$3),Sheet1!$A$3,\"\"))","v":""},{"$f":"IF($L52=\"\",\"\",IF(AND($L52>=Sheet1!$F$4,'Pupil List'!$L52<Sheet1!$G$4),Sheet1!$A$4,\"\"))","v":""},{"$f":"IF($L52=\"\",\"\",IF(AND($L52>=Sheet1!$F$5,'Pupil List'!$L52<Sheet1!$G$5),Sheet1!$A$5,\"\"))","v":""},{"$f":"IF($L52=\"\",\"\",IF(AND($L52>=Sheet1!$F$6,'Pupil List'!$L52<Sheet1!$G$6),Sheet1!$A$6,\"\"))","v":""},{"$f":"IF($L52=\"\",\"\",IF(AND($L52>=Sheet1!$F$7,'Pupil List'!$L52<Sheet1!$G$7),Sheet1!$A$7,\"\"))","v":""},{"$f":"IF($L52=\"\",\"\",IF(AND($L52>=Sheet1!$F$8,'Pupil List'!$L52<Sheet1!$G$8),Sheet1!$A$8,\"\"))","v":""},{"$f":"IF($L52=\"\",\"\",IF(AND($L52>=Sheet1!$F$9,'Pupil List'!$L52<Sheet1!$G$9),Sheet1!$A$9,\"\"))","v":""},{"$f":"IF($L52=\"\",\"\",IF(AND($L52>=Sheet1!$F$10,'Pupil List'!$L52<Sheet1!$G$10),Sheet1!$A$10,\"\"))","v":""},{"$f":"IF($L52=\"\",\"\",IF(AND($L52>=Sheet1!$F$11,'Pupil List'!$L52<Sheet1!$G$11),Sheet1!$A$11,\"\"))","v":""},{"$f":"IF($L52=\"\",\"\",IF(AND($L52>=Sheet1!$F$12,'Pupil List'!$L52<Sheet1!$G$12),Sheet1!$A$12,\"\"))","v":""},{"$f":"IF($L52=\"\",\"\",IF(AND($L52>=Sheet1!$F$13,'Pupil List'!$L52<Sheet1!$G$13),Sheet1!$A$13,\"\"))","v":""},{"$f":"IF($L52=\"\",\"\",IF(AND($L52>=Sheet1!$F$14,'Pupil List'!$L52<Sheet1!$G$14),Sheet1!$A$14,\"\"))","v":""},{"$f":"IF($L52=\"\",\"\",IF(AND($L52>=Sheet1!$F$15,'Pupil List'!$L52<Sheet1!$G$15),Sheet1!$A$15,\"\"))","v":""},{"$f":"IF($L52=\"\",\"\",IF(AND($L52>=Sheet1!$F$16,'Pupil List'!$L52<Sheet1!$G$16),Sheet1!$A$16,\"\"))","v":""},{"$f":"IF($L52=\"\",\"\",IF(AND($L52>=Sheet1!$F$17,'Pupil List'!$L52<Sheet1!$G$17),Sheet1!$A$17,\"\"))","v":""},{"$f":"IF($L52=\"\",\"\",IF(AND($L52>=Sheet1!$F$18,'Pupil List'!$L52<Sheet1!$G$18),Sheet1!$A$18,\"\"))","v":""},{"$f":"IF($L52=\"\",\"\",IF(AND($L52>=Sheet1!$F$19,'Pupil List'!$L52<Sheet1!$G$19),Sheet1!$A$19,\"\"))","v":""},{"$f":"IF($L52=\"\",\"\",IF(AND($L52>=Sheet1!$F$20,'Pupil List'!$L52<Sheet1!$G$20),Sheet1!$A$20,\"\"))","v":""},{"$f":"IF($L52=\"\",\"\",IF(AND($L52>=Sheet1!$F$21,'Pupil List'!$L52<Sheet1!$G$21),Sheet1!$A$21,\"\"))","v":""},{"$f":"IF($L52=\"\",\"\",IF(AND($L52>=Sheet1!$F$22,'Pupil List'!$L52<Sheet1!$G$22),Sheet1!$A$22,\"\"))","v":""},{"$f":"IF($L52=\"\",\"\",IF(AND($L52>=Sheet1!$F$23,'Pupil List'!$L52<Sheet1!$G$23),Sheet1!$A$23,\"\"))","v":""},{"$f":"IF($L52=\"\",\"\",IF(AND($L52>=Sheet1!$F$24,'Pupil List'!$L52<Sheet1!$G$24),Sheet1!$A$24,\"\"))","v":""},{"$f":"IF($L52=\"\",\"\",IF(AND($L52>=Sheet1!$F$25,'Pupil List'!$L52<Sheet1!$G$25),Sheet1!$A$25,\"\"))","v":""},{"$error":"#N/A"},{"$f":"IFERROR(VLOOKUP(BK52,Sheet1!$A$2:$E$25,3,FALSE),\"\")","v":""},{"$f":"IFERROR(VLOOKUP(BK52,Sheet1!$A$2:$E$25,4,FALSE),\"\")","v":""},{"$f":"IFERROR(VLOOKUP(BK52,Sheet1!$A$2:$E$25,5,FALSE),\"\")","v":""},{"$f":"IFERROR(VLOOKUP(N52,Sheet1!$A$29:$B$38,2,FALSE),\"\")","v":""}]
["","","",null,null,null,null,null,"","","",null,"",null,"","","","","","","","","","","","","","","","","","","","","","","","",{"$f":"IF($L53=\"\",\"\",IF(AND($L53>=Sheet1!$F$2,'Pupil List'!$L53<Sheet1!$G$2),Sheet1!$A$2,\"\"))","v":""},{"$f":"IF($L53=\"\",\"\",IF(AND($L53>=Sheet1!$F$3,'Pupil List'!$L53<Sheet1!$G$3),Sheet1!$A$3,\"\"))","v":""},{"$f":"IF($L53=\"\",\"\",IF(AND($L53>=Sheet1!$F$4,'Pupil List'!$L53<Sheet1!$G$4),Sheet1!$A$4,\"\"))","v":""},{"$f":"IF($L53=\"\",\"\",IF(AND($L53>=Sheet1!$F$5,'Pupil List'!$L53<Sheet1!$G$5),Sheet1!$A$5,\"\"))","v":""},{"$f":"IF($L53=\"\",\"\",IF(AND($L53>=Sheet1!$F$6,'Pupil List'!$L53<Sheet1!$G$6),Sheet1!$A$6,\"\"))","v":""},{"$f":"IF($L53=\"\",\"\",IF(AND($L53>=Sheet1!$F$7,'Pupil List'!$L53<Sheet1!$G$7),Sheet1!$A$7,\"\"))","v":""},{"$f":"IF($L53=\"\",\"\",IF(AND($L53>=Sheet1!$F$8,'Pupil List'!$L53<Sheet1!$G$8),Sheet1!$A$8,\"\"))","v":""},{"$f":"IF($L53=\"\",\"\",IF(AND($L53>=Sheet1!$F$9,'Pupil List'!$L53<Sheet1!$G$9),Sheet1!$A$9,\"\"))","v":""},{"$f":"IF($L53=\"\",\"\",IF(AND($L53>=Sheet1!$F$10,'Pupil List'!$L53<Sheet1!$G$10),Sheet1!$A$10,\"\"))","v":""},{"$f":"IF($L53=\"\",\"\",IF(AND($L53>=Sheet1!$F$11,'Pupil List'!$L53<Sheet1!$G$11),Sheet1!$A$11,\"\"))","v":""},{"$f":"IF($L53=\"\",\"\",IF(AND($L53>=Sheet1!$F$12,'Pupil List'!$L53<Sheet1!$G$12),Sheet1!$A$12,\"\"))","v":""},{"$f":"IF($L53=\"\",\"\",IF(AND($L53>=Sheet1!$F$13,'Pupil List'!$L53<Sheet1!$G$13),Sheet1!$A$13,\"\"))","v":""},{"$f":"IF($L53=\"\",\"\",IF(AND($L53>=Sheet1!$F$14,'Pupil List'!$L53<Sheet1!$G$14),Sheet1!$A$14,\"\"))","v":""},{"$f":"IF($L53=\"\",\"\",IF(AND($L53>=Sheet1!$F$15,'Pupil List'!$L53<Sheet1!$G$15),Sheet1!$A$15,\"\"))","v":""},{"$f":"IF($L53=\"\",\"\",IF(AND($L53>=Sheet1!$F$16,'Pupil List'!$L53<Sheet1!$G$16),Sheet1!$A$16,\"\"))","v":""},{"$f":"IF($L53=\"\",\"\",IF(AND($L53>=Sheet1!$F$17,'Pupil List'!$L53<Sheet1!$G$17),Sheet1!$A$17,\"\"))","v":""},{"$f":"IF($L53=\"\",\"\",IF(AND($L53>=Sheet1!$F$18,'Pupil List'!$L53<Sheet1!$G$18),Sheet1!$A$18,\"\"))","v":""},{"$f":"IF($L53=\"\",\"\",IF(AND($L53>=Sheet1!$F$19,'Pupil List'!$L53<Sheet1!$G$19),Sheet1!$A$19,\"\"))","v":""},{"$f":"IF($L53=\"\",\"\",IF(AND($L53>=Sheet1!$F$20,'Pupil List'!$L53<Sheet1!$G$20),Sheet1!$A$20,\"\"))","v":""},{"$f":"IF($L53=\"\",\"\",IF(AND($L53>=Sheet1!$F$21,'Pupil List'!$L53<Sheet1!$G$21),Sheet1!$A$21,\"\"))","v":""},{"$f":"IF($L53=\"\",\"\",IF(AND($L53>=Sheet1!$F$22,'Pupil List'!$L53<Sheet1!$G$22),Sheet1!$A$22,\"\"))","v":""},{"$f":"IF($L53=\"\",\"\",IF(AND($L53>=Sheet1!$F$23,'Pupil List'!$L53<Sheet1!$G$23),Sheet1!$A$23,\"\"))","v":""},{"$f":"IF($L53=\"\",\"\",IF(AND($L53>=Sheet1!$F$24,'Pupil List'!$L53<Sheet1!$G$24),Sheet1!$A$24,\"\"))","v":""},{"$f":"IF($L53=\"\",\"\",IF(AND($L53>=Sheet1!$F$25,'Pupil List'!$L53<Sheet1!$G$25),Sheet1!$A$25,\"\"))","v":""},{"$error":"#N/A"},{"$f":"IFERROR(VLOOKUP(BK53,Sheet1!$A$2:$E$25,3,FALSE),\"\")","v":""},{"$f":"IFERROR(VLOOKUP(BK53,Sheet1!$A$2:$E$25,4,FALSE),\"\")","v":""},{"$f":"IFERROR(VLOOKUP(BK53,Sheet1!$A$2:$E$25,5,FALSE),\"\")","v":""},{"$f":"IFERROR(VLOOKUP(N53,Sheet1!$A$29:$B$38,2,FALSE),\"\")","v":""}]
["","","",null,null,null,null,null,"","","",null,"",null,"","","","","","","","","","","","","","","","","","","","","","","","",{"$f":"IF($L54=\"\",\"\",IF(AND($L54>=Sheet1!$F$2,'Pupil List'!$L54<Sheet1!$G$2),Sheet1!$A$2,\"\"))","v":""},{"$f":"IF($L54=\"\",\"\",IF(AND($L54>=Sheet1!$F$3,'Pupil List'!$L54<Sheet1!$G$3),Sheet1!$A$3,\"\"))","v":""},{"$f":"IF($L54=\"\",\"\",IF(AND($L54>=Sheet1!$F$4,'Pupil List'!$L54<Sheet1!$G$4),Sheet1!$A$4,\"\"))","v":""},{"$f":"IF($L54=\"\",\"\",IF(AND($L54>=Sheet1!$F$5,'Pupil List'!$L54<Sheet1!$G$5),Sheet1!$A$5,\"\"))","v":""},{"$f":"IF($L54=\"\",\"\",IF(AND($L54>=Sheet1!$F$6,'Pupil List'!$L54<Sheet1!$G$6),Sheet1!$A$6,\"\"))","v":""},{"$f":"IF($L54=\"\",\"\",IF(AND($L54>=Sheet1!$F$7,'Pupil List'!$L54<Sheet1!$G$7),Sheet1!$A$7,\"\"))","v":""},{"$f":"IF($L54=\"\",\"\",IF(AND($L54>=Sheet1!$F$8,'Pupil List'!$L54<Sheet1!$G$8),Sheet1!$A$8,\"\"))","v":""},{"$f":"IF($L54=\"\",\"\",IF(AND($L54>=Sheet1!$F$9,'Pupil List'!$L54<Sheet1!$G$9),Sheet1!$A$9,\"\"))","v":""},{"$f":"IF($L54=\"\",\"\",IF(AND($L54>=Sheet1!$F$10,'Pupil List'!$L54<Sheet1!$G$10),Sheet1!$A$10,\"\"))","v":""},{"$f":"IF($L54=\"\",\"\",IF(AND($L54>=Sheet1!$F$11,'Pupil List'!$L54<Sheet1!$G$11),Sheet1!$A$11,\"\"))","v":""},{"$f":"IF($L54=\"\",\"\",IF(AND($L54>=Sheet1!$F$12,'Pupil List'!$L54<Sheet1!$G$12),Sheet1!$A$12,\"\"))","v":""},{"$f":"IF($L54=\"\",\"\",IF(AND($L54>=Sheet1!$F$13,'Pupil List'!$L54<Sheet1!$G$13),Sheet1!$A$13,\"\"))","v":""},{"$f":"IF($L54=\"\",\"\",IF(AND($L54>=Sheet1!$F$14,'Pupil List'!$L54<Sheet1!$G$14),Sheet1!$A$14,\"\"))","v":""},{"$f":"IF($L54=\"\",\"\",IF(AND($L54>=Sheet1!$F$15,'Pupil List'!$L54<Sheet1!$G$15),Sheet1!$A$15,\"\"))","v":""},{"$f":"IF($L54=\"\",\"\",IF(AND($L54>=Sheet1!$F$16,'Pupil List'!$L54<Sheet1!$G$16),Sheet1!$A$16,\"\"))","v":""},{"$f":"IF($L54=\"\",\"\",IF(AND($L54>=Sheet1!$F$17,'Pupil List'!$L54<Sheet1!$G$17),Sheet1!$A$17,\"\"))","v":""},{"$f":"IF($L54=\"\",\"\",IF(AND($L54>=Sheet1!$F$18,'Pupil List'!$L54<Sheet1!$G$18),Sheet1!$A$18,\"\"))","v":""},{"$f":"IF($L54=\"\",\"\",IF(AND($L54>=Sheet1!$F$19,'Pupil List'!$L54<Sheet1!$G$19),Sheet1!$A$19,\"\"))","v":""},{"$f":"IF($L54=\"\",\"\",IF(AND($L54>=Sheet1!$F$20,'Pupil List'!$L54<Sheet1!$G$20),Sheet1!$A$20,\"\"))","v":""},{"$f":"IF($L54=\"\",\"\",IF(AND($L54>=Sheet1!$F$21,'Pupil List'!$L54<Sheet1!$G$21),Sheet1!$A$21,\"\"))","v":""},{"$f":"IF($L54=\"\",\"\",IF(AND($L54>=Sheet1!$F$22,'Pupil List'!$L54<Sheet1!$G$22),Sheet1!$A$22,\"\"))","v":""},{"$f":"IF($L54=\"\",\"\",IF(AND($L54>=Sheet1!$F$23,'Pupil List'!$L54<Sheet1!$G$23),Sheet1!$A$23,\"\"))","v":""},{"$f":"IF($L54=\"\",\"\",IF(AND($L54>=Sheet1!$F$24,'Pupil List'!$L54<Sheet1!$G$24),Sheet1!$A$24,\"\"))","v":""},{"$f":"IF($L54=\"\",\"\",IF(AND($L54>=Sheet1!$F$25,'Pupil List'!$L54<Sheet1!$G$25),Sheet1!$A$25,\"\"))","v":""},{"$error":"#N/A"},{"$f":"IFERROR(VLOOKUP(BK54,Sheet1!$A$2:$E$25,3,FALSE),\"\")","v":""},{"$f":"IFERROR(VLOOKUP(BK54,Sheet1!$A$2:$E$25,4,FALSE),\"\")","v":""},{"$f":"IFERROR(VLOOKUP(BK54,Sheet1!$A$2:$E$25,5,FALSE),\"\")","v":""},{"$f":"IFERROR(VLOOKUP(N54,Sheet1!$A$29:$B$38,2,FALSE),\"\")","v":""}]
["","","",null,null,null,null,null,"","","",null,"",null,"","","","","","","","","","","","","","","","","","","","","","","","",{"$f":"IF($L55=\"\",\"\",IF(AND($L55>=Sheet1!$F$2,'Pupil List'!$L55<Sheet1!$G$2),Sheet1!$A$2,\"\"))","v":""},{"$f":"IF($L55=\"\",\"\",IF(AND($L55>=Sheet1!$F$3,'Pupil List'!$L55<Sheet1!$G$3),Sheet1!$A$3,\"\"))","v":""},{"$f":"IF($L55=\"\",\"\",IF(AND($L55>=Sheet1!$F$4,'Pupil List'!$L55<Sheet1!$G$4),Sheet1!$A$4,\"\"))","v":""},{"$f":"IF($L55=\"\",\"\",IF(AND($L55>=Sheet1!$F$5,'Pupil List'!$L55<Sheet1!$G$5),Sheet1!$A$5,\"\"))","v":""},{"$f":"IF($L55=\"\",\"\",IF(AND($L55>=Sheet1!$F$6,'Pupil List'!$L55<Sheet1!$G$6),Sheet1!$A$6,\"\"))","v":""},{"$f":"IF($L55=\"\",\"\",IF(AND($L55>=Sheet1!$F$7,'Pupil List'!$L55<Sheet1!$G$7),Sheet1!$A$7,\"\"))","v":""},{"$f":"IF($L55=\"\",\"\",IF(AND($L55>=Sheet1!$F$8,'Pupil List'!$L55<Sheet1!$G$8),Sheet1!$A$8,\"\"))","v":""},{"$f":"IF($L55=\"\",\"\",IF(AND($L55>=Sheet1!$F$9,'Pupil List'!$L55<Sheet1!$G$9),Sheet1!$A$9,\"\"))","v":""},{"$f":"IF($L55=\"\",\"\",IF(AND($L55>=Sheet1!$F$10,'Pupil List'!$L55<Sheet1!$G$10),Sheet1!$A$10,\"\"))","v":""},{"$f":"IF($L55=\"\",\"\",IF(AND($L55>=Sheet1!$F$11,'Pupil List'!$L55<Sheet1!$G$11),Sheet1!$A$11,\"\"))","v":""},{"$f":"IF($L55=\"\",\"\",IF(AND($L55>=Sheet1!$F$12,'Pupil List'!$L55<Sheet1!$G$12),Sheet1!$A$12,\"\"))","v":""},{"$f":"IF($L55=\"\",\"\",IF(AND($L55>=Sheet1!$F$13,'Pupil List'!$L55<Sheet1!$G$13),Sheet1!$A$13,\"\"))","v":""},{"$f":"IF($L55=\"\",\"\",IF(AND($L55>=Sheet1!$F$14,'Pupil List'!$L55<Sheet1!$G$14),Sheet1!$A$14,\"\"))","v":""},{"$f":"IF($L55=\"\",\"\",IF(AND($L55>=Sheet1!$F$15,'Pupil List'!$L55<Sheet1!$G$15),Sheet1!$A$15,\"\"))","v":""},{"$f":"IF($L55=\"\",\"\",IF(AND($L55>=Sheet1!$F$16,'Pupil List'!$L55<Sheet1!$G$16),Sheet1!$A$16,\"\"))","v":""},{"$f":"IF($L55=\"\",\"\",IF(AND($L55>=Sheet1!$F$17,'Pupil List'!$L55<Sheet1!$G$17),Sheet1!$A$17,\"\"))","v":""},{"$f":"IF($L55=\"\",\"\",IF(AND($L55>=Sheet1!$F$18,'Pupil List'!$L55<Sheet1!$G$18),Sheet1!$A$18,\"\"))","v":""},{"$f":"IF($L55=\"\",\"\",IF(AND($L55>=Sheet1!$F$19,'Pupil List'!$L55<Sheet1!$G$19),Sheet1!$A$19,\"\"))","v":""},{"$f":"IF($L55=\"\",\"\",IF(AND($L55>=Sheet1!$F$20,'Pupil List'!$L55<Sheet1!$G$20),Sheet1!$A$20,\"\"))","v":""},{"$f":"IF($L55=\"\",\"\",IF(AND($L55>=Sheet1!$F$21,'Pupil List'!$L55<Sheet1!$G$21),Sheet1!$A$21,\"\"))","v":""},{"$f":"IF($L55=\"\",\"\",IF(AND($L55>=Sheet1!$F$22,'Pupil List'!$L55<Sheet1!$G$22),Sheet1!$A$22,\"\"))","v":""},{"$f":"IF($L55=\"\",\"\",IF(AND($L55>=Sheet1!$F$23,'Pupil List'!$L55<Sheet1!$G$23),Sheet1!$A$23,\"\"))","v":""},{"$f":"IF($L55=\"\",\"\",IF(AND($L55>=Sheet1!$F$24,'Pupil List'!$L55<Sheet1!$G$24),Sheet1!$A$24,\"\"))","v":""},{"$f":"IF($L55=\"\",\"\",IF(AND($L55>=Sheet1!$F$25,'Pupil List'!$L55<Sheet1!$G$25),Sheet1!$A$25,\"\"))","v":""},{"$error":"#N/A"},{"$f":"IFERROR(VLOOKUP(BK55,Sheet1!$A$2:$E$25,3,FALSE),\"\")","v":""},{"$f":"IFERROR(VLOOKUP(BK55,Sheet1!$A$2:$E$25,4,FALSE),\"\")","v":""},{"$f":"IFERROR(VLOOKUP(BK55,Sheet1!$A$2:$E$25,5,FALSE),\"\")","v":""},{"$f":"IFERROR(VLOOKUP(N55,Sheet1!$A$29:$B$38,2,FALSE),\"\")","v":""}]
["","","",null,null,null,null,null,"","","",null,"",null,"","","","","","","","","","","","","","","","","","","","","","","","",{"$f":"IF($L56=\"\",\"\",IF(AND($L56>=Sheet1!$F$2,'Pupil List'!$L56<Sheet1!$G$2),Sheet1!$A$2,\"\"))","v":""},{"$f":"IF($L56=\"\",\"\",IF(AND($L56>=Sheet1!$F$3,'Pupil List'!$L56<Sheet1!$G$3),Sheet1!$A$3,\"\"))","v":""},{"$f":"IF($L56=\"\",\"\",IF(AND($L56>=Sheet1!$F$4,'Pupil List'!$L56<Sheet1!$G$4),Sheet1!$A$4,\"\"))","v":""},{"$f":"IF($L56=\"\",\"\",IF(AND($L56>=Sheet1!$F$5,'Pupil List'!$L56<Sheet1!$G$5),Sheet1!$A$5,\"\"))","v":""},{"$f":"IF($L56=\"\",\"\",IF(AND($L56>=Sheet1!$F$6,'Pupil List'!$L56<Sheet1!$G$6),Sheet1!$A$6,\"\"))","v":""},{"$f":"IF($L56=\"\",\"\",IF(AND($L56>=Sheet1!$F$7,'Pupil List'!$L56<Sheet1!$G$7),Sheet1!$A$7,\"\"))","v":""},{"$f":"IF($L56=\"\",\"\",IF(AND($L56>=Sheet1!$F$8,'Pupil List'!$L56<Sheet1!$G$8),Sheet1!$A$8,\"\"))","v":""},{"$f":"IF($L56=\"\",\"\",IF(AND($L56>=Sheet1!$F$9,'Pupil List'!$L56<Sheet1!$G$9),Sheet1!$A$9,\"\"))","v":""},{"$f":"IF($L56=\"\",\"\",IF(AND($L56>=Sheet1!$F$10,'Pupil List'!$L56<Sheet1!$G$10),Sheet1!$A$10,\"\"))","v":""},{"$f":"IF($L56=\"\",\"\",IF(AND($L56>=Sheet1!$F$11,'Pupil List'!$L56<Sheet1!$G$11),Sheet1!$A$11,\"\"))","v":""},{"$f":"IF($L56=\"\",\"\",IF(AND($L56>=Sheet1!$F$12,'Pupil List'!$L56<Sheet1!$G$12),Sheet1!$A$12,\"\"))","v":""},{"$f":"IF($L56=\"\",\"\",IF(AND($L56>=Sheet1!$F$13,'Pupil List'!$L56<Sheet1!$G$13),Sheet1!$A$13,\"\"))","v":""},{"$f":"IF($L56=\"\",\"\",IF(AND($L56>=Sheet1!$F$14,'Pupil List'!$L56<Sheet1!$G$14),Sheet1!$A$14,\"\"))","v":""},{"$f":"IF($L56=\"\",\"\",IF(AND($L56>=Sheet1!$F$15,'Pupil List'!$L56<Sheet1!$G$15),Sheet1!$A$15,\"\"))","v":""},{"$f":"IF($L56=\"\",\"\",IF(AND($L56>=Sheet1!$F$16,'Pupil List'!$L56<Sheet1!$G$16),Sheet1!$A$16,\"\"))","v":""},{"$f":"IF($L56=\"\",\"\",IF(AND($L56>=Sheet1!$F$17,'Pupil List'!$L56<Sheet1!$G$17),Sheet1!$A$17,\"\"))","v":""},{"$f":"IF($L56=\"\",\"\",IF(AND($L56>=Sheet1!$F$18,'Pupil List'!$L56<Sheet1!$G$18),Sheet1!$A$18,\"\"))","v":""},{"$f":"IF($L56=\"\",\"\",IF(AND($L56>=Sheet1!$F$19,'Pupil List'!$L56<Sheet1!$G$19),Sheet1!$A$19,\"\"))","v":""},{"$f":"IF($L56=\"\",\"\",IF(AND($L56>=Sheet1!$F$20,'Pupil List'!$L56<Sheet1!$G$20),Sheet1!$A$20,\"\"))","v":""},{"$f":"IF($L56=\"\",\"\",IF(AND($L56>=Sheet1!$F$21,'Pupil List'!$L56<Sheet1!$G$21),Sheet1!$A$21,\"\"))","v":""},{"$f":"IF($L56=\"\",\"\",IF(AND($L56>=Sheet1!$F$22,'Pupil List'!$L56<Sheet1!$G$22),Sheet1!$A$22,\"\"))","v":""},{"$f":"IF($L56=\"\",\"\",IF(AND($L56>=Sheet1!$F$23,'Pupil List'!$L56<Sheet1!$G$23),Sheet1!$A$23,\"\"))","v":""},{"$f":"IF($L56=\"\",\"\",IF(AND($L56>=Sheet1!$F$24,'Pupil List'!$L56<Sheet1!$G$24),Sheet1!$A$24,\"\"))","v":""},{"$f":"IF($L56=\"\",\"\",IF(AND($L56>=Sheet1!$F$25,'Pupil List'!$L56<Sheet1!$G$25),Sheet1!$A$25,\"\"))","v":""},{"$error":"#N/A"},{"$f":"IFERROR(VLOOKUP(BK56,Sheet1!$A$2:$E$25,3,FALSE),\"\")","v":""},{"$f":"IFERROR(VLOOKUP(BK56,Sheet1!$A$2:$E$25,4,FALSE),\"\")","v":""},{"$f":"IFERROR(VLOOKUP(BK56,Sheet1!$A$2:$E$25,5,FALSE),\"\")","v":""},{"$f":"IFERROR(VLOOKUP(N56,Sheet1!$A$29:$B$38,2,FALSE),\"\")","v":""}]
["","","",null,null,null,null,null,"","","",null,"",null,"","","","","","","","","","","","","","","","","","","","","","","","",{"$f":"IF($L57=\"\",\"\",IF(AND($L57>=Sheet1!$F$2,'Pupil List'!$L57<Sheet1!$G$2),Sheet1!$A$2,\"\"))","v":""},{"$f":"IF($L57=\"\",\"\",IF(AND($L57>=Sheet1!$F$3,'Pupil List'!$L57<Sheet1!$G$3),Sheet1!$A$3,\"\"))","v":""},{"$f":"IF($L57=\"\",\"\",IF(AND($L57>=Sheet1!$F$4,'Pupil List'!$L57<Sheet1!$G$4),Sheet1!$A$4,\"\"))","v":""},{"$f":"IF($L57=\"\",\"\",IF(AND($L57>=Sheet1!$F$5,'Pupil List'!$L57<Sheet1!$G$5),Sheet1!$A$5,\"\"))","v":""},{"$f":"IF($L57=\"\",\"\",IF(AND($L57>=Sheet1!$F$6,'Pupil List'!$L57<Sheet1!$G$6),Sheet1!$A$6,\"\"))","v":""},{"$f":"IF($L57=\"\",\"\",IF(AND($L57>=Sheet1!$F$7,'Pupil List'!$L57<Sheet1!$G$7),Sheet1!$A$7,\"\"))","v":""},{"$f":"IF($L57=\"\",\"\",IF(AND($L57>=Sheet1!$F$8,'Pupil List'!$L57<Sheet1!$G$8),Sheet1!$A$8,\"\"))","v":""},{"$f":"IF($L57=\"\",\"\",IF(AND($L57>=Sheet1!$F$9,'Pupil List'!$L57<Sheet1!$G$9),Sheet1!$A$9,\"\"))","v":""},{"$f":"IF($L57=\"\",\"\",IF(AND($L57>=Sheet1!$F$10,'Pupil List'!$L57<Sheet1!$G$10),Sheet1!$A$10,\"\"))","v":""},{"$f":"IF($L57=\"\",\"\",IF(AND($L57>=Sheet1!$F$11,'Pupil List'!$L57<Sheet1!$G$11),Sheet1!$A$11,\"\"))","v":""},{"$f":"IF($L57=\"\",\"\",IF(AND($L57>=Sheet1!$F$12,'Pupil List'!$L57<Sheet1!$G$12),Sheet1!$A$12,\"\"))","v":""},{"$f":"IF($L57=\"\",\"\",IF(AND($L57>=Sheet1!$F$13,'Pupil List'!$L57<Sheet1!$G$13),Sheet1!$A$13,\"\"))","v":""},{"$f":"IF($L57=\"\",\"\",IF(AND($L57>=Sheet1!$F$14,'Pupil List'!$L57<Sheet1!$G$14),Sheet1!$A$14,\"\"))","v":""},{"$f":"IF($L57=\"\",\"\",IF(AND($L57>=Sheet1!$F$15,'Pupil List'!$L57<Sheet1!$G$15),Sheet1!$A$15,\"\"))","v":""},{"$f":"IF($L57=\"\",\"\",IF(AND($L57>=Sheet1!$F$16,'Pupil List'!$L57<Sheet1!$G$16),Sheet1!$A$16,\"\"))","v":""},{"$f":"IF($L57=\"\",\"\",IF(AND($L57>=Sheet1!$F$17,'Pupil List'!$L57<Sheet1!$G$17),Sheet1!$A$17,\"\"))","v":""},{"$f":"IF($L57=\"\",\"\",IF(AND($L57>=Sheet1!$F$18,'Pupil List'!$L57<Sheet1!$G$18),Sheet1!$A$18,\"\"))","v":""},{"$f":"IF($L57=\"\",\"\",IF(AND($L57>=Sheet1!$F$19,'Pupil List'!$L57<Sheet1!$G$19),Sheet1!$A$19,\"\"))","v":""},{"$f":"IF($L57=\"\",\"\",IF(AND($L57>=Sheet1!$F$20,'Pupil List'!$L57<Sheet1!$G$20),Sheet1!$A$20,\"\"))","v":""},{"$f":"IF($L57=\"\",\"\",IF(AND($L57>=Sheet1!$F$21,'Pupil List'!$L57<Sheet1!$G$21),Sheet1!$A$21,\"\"))","v":""},{"$f":"IF($L57=\"\",\"\",IF(AND($L57>=Sheet1!$F$22,'Pupil List'!$L57<Sheet1!$G$22),Sheet1!$A$22,\"\"))","v":""},{"$f":"IF($L57=\"\",\"\",IF(AND($L57>=Sheet1!$F$23,'Pupil List'!$L57<Sheet1!$G$23),Sheet1!$A$23,\"\"))","v":""},{"$f":"IF($L57=\"\",\"\",IF(AND($L57>=Sheet1!$F$24,'Pupil List'!$L57<Sheet1!$G$24),Sheet1!$A$24,\"\"))","v":""},{"$f":"IF($L57=\"\",\"\",IF(AND($L57>=Sheet1!$F$25,'Pupil List'!$L57<Sheet1!$G$25),Sheet1!$A$25,\"\"))","v":""},{"$error":"#N/A"},{"$f":"IFERROR(VLOOKUP(BK57,Sheet1!$A$2:$E$25,3,FALSE),\"\")","v":""},{"$f":"IFERROR(VLOOKUP(BK57,Sheet1!$A$2:$E$25,4,FALSE),\"\")","v":""},{"$f":"IFERROR(VLOOKUP(BK57,Sheet1!$A$2:$E$25,5,FALSE),\"\")","v":""},{"$f":"IFERROR(VLOOKUP(N57,Sheet1!$A$29:$B$38,2,FALSE),\"\")","v":""}]
["","","",null,null,null,null,null,"","","",null,"",null,"","","","","","","","","","","","","","","","","","","","","","","","",{"$f":"IF($L58=\"\",\"\",IF(AND($L58>=Sheet1!$F$2,'Pupil List'!$L58<Sheet1!$G$2),Sheet1!$A$2,\"\"))","v":""},{"$f":"IF($L58=\"\",\"\",IF(AND($L58>=Sheet1!$F$3,'Pupil List'!$L58<Sheet1!$G$3),Sheet1!$A$3,\"\"))","v":""},{"$f":"IF($L58=\"\",\"\",IF(AND($L58>=Sheet1!$F$4,'Pupil List'!$L58<Sheet1!$G$4),Sheet1!$A$4,\"\"))","v":""},{"$f":"IF($L58=\"\",\"\",IF(AND($L58>=Sheet1!$F$5,'Pupil List'!$L58<Sheet1!$G$5),Sheet1!$A$5,\"\"))","v":""},{"$f":"IF($L58=\"\",\"\",IF(AND($L58>=Sheet1!$F$6,'Pupil List'!$L58<Sheet1!$G$6),Sheet1!$A$6,\"\"))","v":""},{"$f":"IF($L58=\"\",\"\",IF(AND($L58>=Sheet1!$F$7,'Pupil List'!$L58<Sheet1!$G$7),Sheet1!$A$7,\"\"))","v":""},{"$f":"IF($L58=\"\",\"\",IF(AND($L58>=Sheet1!$F$8,'Pupil List'!$L58<Sheet1!$G$8),Sheet1!$A$8,\"\"))","v":""},{"$f":"IF($L58=\"\",\"\",IF(AND($L58>=Sheet1!$F$9,'Pupil List'!$L58<Sheet1!$G$9),Sheet1!$A$9,\"\"))","v":""},{"$f":"IF($L58=\"\",\"\",IF(AND($L58>=Sheet1!$F$10,'Pupil List'!$L58<Sheet1!$G$10),Sheet1!$A$10,\"\"))","v":""},{"$f":"IF($L58=\"\",\"\",IF(AND($L58>=Sheet1!$F$11,'Pupil List'!$L58<Sheet1!$G$11),Sheet1!$A$11,\"\"))","v":""},{"$f":"IF($L58=\"\",\"\",IF(AND($L58>=Sheet1!$F$12,'Pupil List'!$L58<Sheet1!$G$12),Sheet1!$A$12,\"\"))","v":""},{"$f":"IF($L58=\"\",\"\",IF(AND($L58>=Sheet1!$F$13,'Pupil List'!$L58<Sheet1!$G$13),Sheet1!$A$13,\"\"))","v":""},{"$f":"IF($L58=\"\",\"\",IF(AND($L58>=Sheet1!$F$14,'Pupil List'!$L58<Sheet1!$G$14),Sheet1!$A$14,\"\"))","v":""},{"$f":"IF($L58=\"\",\"\",IF(AND($L58>=Sheet1!$F$15,'Pupil List'!$L58<Sheet1!$G$15),Sheet1!$A$15,\"\"))","v":""},{"$f":"IF($L58=\"\",\"\",IF(AND($L58>=Sheet1!$F$16,'Pupil List'!$L58<Sheet1!$G$16),Sheet1!$A$16,\"\"))","v":""},{"$f":"IF($L58=\"\",\"\",IF(AND($L58>=Sheet1!$F$17,'Pupil List'!$L58<Sheet1!$G$17),Sheet1!$A$17,\"\"))","v":""},{"$f":"IF($L58=\"\",\"\",IF(AND($L58>=Sheet1!$F$18,'Pupil List'!$L58<Sheet1!$G$18),Sheet1!$A$18,\"\"))","v":""},{"$f":"IF($L58=\"\",\"\",IF(AND($L58>=Sheet1!$F$19,'Pupil List'!$L58<Sheet1!$G$19),Sheet1!$A$19,\"\"))","v":""},{"$f":"IF($L58=\"\",\"\",IF(AND($L58>=Sheet1!$F$20,'Pupil List'!$L58<Sheet1!$G$20),Sheet1!$A$20,\"\"))","v":""},{"$f":"IF($L58=\"\",\"\",IF(AND($L58>=Sheet1!$F$21,'Pupil List'!$L58<Sheet1!$G$21),Sheet1!$A$21,\"\"))","v":""},{"$f":"IF($L58=\"\",\"\",IF(AND($L58>=Sheet1!$F$22,'Pupil List'!$L58<Sheet1!$G$22),Sheet1!$A$22,\"\"))","v":""},{"$f":"IF($L58=\"\",\"\",IF(AND($L58>=Sheet1!$F$23,'Pupil List'!$L58<Sheet1!$G$23),Sheet1!$A$23,\"\"))","v":""},{"$f":"IF($L58=\"\",\"\",IF(AND($L58>=Sheet1!$F$24,'Pupil List'!$L58<Sheet1!$G$24),Sheet1!$A$24,\"\"))","v":""},{"$f":"IF($L58=\"\",\"\",IF(AND($L58>=Sheet1!$F$25,'Pupil List'!$L58<Sheet1!$G$25),Sheet1!$A$25,\"\"))","v":""},{"$error":"#N/A"},{"$f":"IFERROR(VLOOKUP(BK58,Sheet1!$A$2:$E$25,3,FALSE),\"\")","v":""},{"$f":"IFERROR(VLOOKUP(BK58,Sheet1!$A$2:$E$25,4,FALSE),\"\")","v":""},{"$f":"IFERROR(VLOOKUP(BK58,Sheet1!$A$2:$E$25,5,FALSE),\"\")","v":""},{"$f":"IFERROR(VLOOKUP(N58,Sheet1!$A$29:$B$38,2,FALSE),\"\")","v":""}]
["","","",null,null,null,null,null,"","","",null,"",null,"","","","","","","","","","","","","","","","","","","","","","","","",{"$f":"IF($L59=\"\",\"\",IF(AND($L59>=Sheet1!$F$2,'Pupil List'!$L59<Sheet1!$G$2),Sheet1!$A$2,\"\"))","v":""},{"$f":"IF($L59=\"\",\"\",IF(AND($L59>=Sheet1!$F$3,'Pupil List'!$L59<Sheet1!$G$3),Sheet1!$A$3,\"\"))","v":""},{"$f":"IF($L59=\"\",\"\",IF(AND($L59>=Sheet1!$F$4,'Pupil List'!$L59<Sheet1!$G$4),Sheet1!$A$4,\"\"))","v":""},{"$f":"IF($L59=\"\",\"\",IF(AND($L59>=Sheet1!$F$5,'Pupil List'!$L59<Sheet1!$G$5),Sheet1!$A$5,\"\"))","v":""},{"$f":"IF($L59=\"\",\"\",IF(AND($L59>=Sheet1!$F$6,'Pupil List'!$L59<Sheet1!$G$6),Sheet1!$A$6,\"\"))","v":""},{"$f":"IF($L59=\"\",\"\",IF(AND($L59>=Sheet1!$F$7,'Pupil List'!$L59<Sheet1!$G$7),Sheet1!$A$7,\"\"))","v":""},{"$f":"IF($L59=\"\",\"\",IF(AND($L59>=Sheet1!$F$8,'Pupil List'!$L59<Sheet1!$G$8),Sheet1!$A$8,\"\"))","v":""},{"$f":"IF($L59=\"\",\"\",IF(AND($L59>=Sheet1!$F$9,'Pupil List'!$L59<Sheet1!$G$9),Sheet1!$A$9,\"\"))","v":""},{"$f":"IF($L59=\"\",\"\",IF(AND($L59>=Sheet1!$F$10,'Pupil List'!$L59<Sheet1!$G$10),Sheet1!$A$10,\"\"))","v":""},{"$f":"IF($L59=\"\",\"\",IF(AND($L59>=Sheet1!$F$11,'Pupil List'!$L59<Sheet1!$G$11),Sheet1!$A$11,\"\"))","v":""},{"$f":"IF($L59=\"\",\"\",IF(AND($L59>=Sheet1!$F$12,'Pupil List'!$L59<Sheet1!$G$12),Sheet1!$A$12,\"\"))","v":""},{"$f":"IF($L59=\"\",\"\",IF(AND($L59>=Sheet1!$F$13,'Pupil List'!$L59<Sheet1!$G$13),Sheet1!$A$13,\"\"))","v":""},{"$f":"IF($L59=\"\",\"\",IF(AND($L59>=Sheet1!$F$14,'Pupil List'!$L59<Sheet1!$G$14),Sheet1!$A$14,\"\"))","v":""},{"$f":"IF($L59=\"\",\"\",IF(AND($L59>=Sheet1!$F$15,'Pupil List'!$L59<Sheet1!$G$15),Sheet1!$A$15,\"\"))","v":""},{"$f":"IF($L59=\"\",\"\",IF(AND($L59>=Sheet1!$F$16,'Pupil List'!$L59<Sheet1!$G$16),Sheet1!$A$16,\"\"))","v":""},{"$f":"IF($L59=\"\",\"\",IF(AND($L59>=Sheet1!$F$17,'Pupil List'!$L59<Sheet1!$G$17),Sheet1!$A$17,\"\"))","v":""},{"$f":"IF($L59=\"\",\"\",IF(AND($L59>=Sheet1!$F$18,'Pupil List'!$L59<Sheet1!$G$18),Sheet1!$A$18,\"\"))","v":""},{"$f":"IF($L59=\"\",\"\",IF(AND($L59>=Sheet1!$F$19,'Pupil List'!$L59<Sheet1!$G$19),Sheet1!$A$19,\"\"))","v":""},{"$f":"IF($L59=\"\",\"\",IF(AND($L59>=Sheet1!$F$20,'Pupil List'!$L59<Sheet1!$G$20),Sheet1!$A$20,\"\"))","v":""},{"$f":"IF($L59=\"\",\"\",IF(AND($L59>=Sheet1!$F$21,'Pupil List'!$L59<Sheet1!$G$21),Sheet1!$A$21,\"\"))","v":""},{"$f":"IF($L59=\"\",\"\",IF(AND($L59>=Sheet1!$F$22,'Pupil List'!$L59<Sheet1!$G$22),Sheet1!$A$22,\"\"))","v":""},{"$f":"IF($L59=\"\",\"\",IF(AND($L59>=Sheet1!$F$23,'Pupil List'!$L59<Sheet1!$G$23),Sheet1!$A$23,\"\"))","v":""},{"$f":"IF($L59=\"\",\"\",IF(AND($L59>=Sheet1!$F$24,'Pupil List'!$L59<Sheet1!$G$24),Sheet1!$A$24,\"\"))","v":""},{"$f":"IF($L59=\"\",\"\",IF(AND($L59>=Sheet1!$F$25,'Pupil List'!$L59<Sheet1!$G$25),Sheet1!$A$25,\"\"))","v":""},{"$error":"#N/A"},{"$f":"IFERROR(VLOOKUP(BK59,Sheet1!$A$2:$E$25,3,FALSE),\"\")","v":""},{"$f":"IFERROR(VLOOKUP(BK59,Sheet1!$A$2:$E$25,4,FALSE),\"\")","v":""},{"$f":"IFERROR(VLOOKUP(BK59,Sheet1!$A$2:$E$25,5,FALSE),\"\")","v":""},{"$f":"IFERROR(VLOOKUP(N59,Sheet1!$A$29:$B$38,2,FALSE),\"\")","v":""}]
["","","",null,null,null,null,null,"","","",null,"",null,"","","","","","","","","","","","","","","","","","","","","","","","",{"$f":"IF($L60=\"\",\"\",IF(AND($L60>=Sheet1!$F$2,'Pupil List'!$L60<Sheet1!$G$2),Sheet1!$A$2,\"\"))","v":""},{"$f":"IF($L60=\"\",\"\",IF(AND($L60>=Sheet1!$F$3,'Pupil List'!$L60<Sheet1!$G$3),Sheet1!$A$3,\"\"))","v":""},{"$f":"IF($L60=\"\",\"\",IF(AND($L60>=Sheet1!$F$4,'Pupil List'!$L60<Sheet1!$G$4),Sheet1!$A$4,\"\"))","v":""},{"$f":"IF($L60=\"\",\"\",IF(AND($L60>=Sheet1!$F$5,'Pupil List'!$L60<Sheet1!$G$5),Sheet1!$A$5,\"\"))","v":""},{"$f":"IF($L60=\"\",\"\",IF(AND($L60>=Sheet1!$F$6,'Pupil List'!$L60<Sheet1!$G$6),Sheet1!$A$6,\"\"))","v":""},{"$f":"IF($L60=\"\",\"\",IF(AND($L60>=Sheet1!$F$7,'Pupil List'!$L60<Sheet1!$G$7),Sheet1!$A$7,\"\"))","v":""},{"$f":"IF($L60=\"\",\"\",IF(AND($L60>=Sheet1!$F$8,'Pupil List'!$L60<Sheet1!$G$8),Sheet1!$A$8,\"\"))","v":""},{"$f":"IF($L60=\"\",\"\",IF(AND($L60>=Sheet1!$F$9,'Pupil List'!$L60<Sheet1!$G$9),Sheet1!$A$9,\"\"))","v":""},{"$f":"IF($L60=\"\",\"\",IF(AND($L60>=Sheet1!$F$10,'Pupil List'!$L60<Sheet1!$G$10),Sheet1!$A$10,\"\"))","v":""},{"$f":"IF($L60=\"\",\"\",IF(AND($L60>=Sheet1!$F$11,'Pupil List'!$L60<Sheet1!$G$11),Sheet1!$A$11,\"\"))","v":""},{"$f":"IF($L60=\"\",\"\",IF(AND($L60>=Sheet1!$F$12,'Pupil List'!$L60<Sheet1!$G$12),Sheet1!$A$12,\"\"))","v":""},{"$f":"IF($L60=\"\",\"\",IF(AND($L60>=Sheet1!$F$13,'Pupil List'!$L60<Sheet1!$G$13),Sheet1!$A$13,\"\"))","v":""},{"$f":"IF($L60=\"\",\"\",IF(AND($L60>=Sheet1!$F$14,'Pupil List'!$L60<Sheet1!$G$14),Sheet1!$A$14,\"\"))","v":""},{"$f":"IF($L60=\"\",\"\",IF(AND($L60>=Sheet1!$F$15,'Pupil List'!$L60<Sheet1!$G$15),Sheet1!$A$15,\"\"))","v":""},{"$f":"IF($L60=\"\",\"\",IF(AND($L60>=Sheet1!$F$16,'Pupil List'!$L60<Sheet1!$G$16),Sheet1!$A$16,\"\"))","v":""},{"$f":"IF($L60=\"\",\"\",IF(AND($L60>=Sheet1!$F$17,'Pupil List'!$L60<Sheet1!$G$17),Sheet1!$A$17,\"\"))","v":""},{"$f":"IF($L60=\"\",\"\",IF(AND($L60>=Sheet1!$F$18,'Pupil List'!$L60<Sheet1!$G$18),Sheet1!$A$18,\"\"))","v":""},{"$f":"IF($L60=\"\",\"\",IF(AND($L60>=Sheet1!$F$19,'Pupil List'!$L60<Sheet1!$G$19),Sheet1!$A$19,\"\"))","v":""},{"$f":"IF($L60=\"\",\"\",IF(AND($L60>=Sheet1!$F$20,'Pupil List'!$L60<Sheet1!$G$20),Sheet1!$A$20,\"\"))","v":""},{"$f":"IF($L60=\"\",\"\",IF(AND($L60>=Sheet1!$F$21,'Pupil List'!$L60<Sheet1!$G$21),Sheet1!$A$21,\"\"))","v":""},{"$f":"IF($L60=\"\",\"\",IF(AND($L60>=Sheet1!$F$22,'Pupil List'!$L60<Sheet1!$G$22),Sheet1!$A$22,\"\"))","v":""},{"$f":"IF($L60=\"\",\"\",IF(AND($L60>=Sheet1!$F$23,'Pupil List'!$L60<Sheet1!$G$23),Sheet1!$A$23,\"\"))","v":""},{"$f":"IF($L60=\"\",\"\",IF(AND($L60>=Sheet1!$F$24,'Pupil List'!$L60<Sheet1!$G$24),Sheet1!$A$24,\"\"))","v":""},{"$f":"IF($L60=\"\",\"\",IF(AND($L60>=Sheet1!$F$25,'Pupil List'!$L60<Sheet1!$G$25),Sheet1!$A$25,\"\"))","v":""},{"$error":"#N/A"},{"$f":"IFERROR(VLOOKUP(BK60,Sheet1!$A$2:$E$25,3,FALSE),\"\")","v":""},{"$f":"IFERROR(VLOOKUP(BK60,Sheet1!$A$2:$E$25,4,FALSE),\"\")","v":""},{"$f":"IFERROR(VLOOKUP(BK60,Sheet1!$A$2:$E$25,5,FALSE),\"\")","v":""},{"$f":"IFERROR(VLOOKUP(N60,Sheet1!$A$29:$B$38,2,FALSE),\"\")","v":""}]
["","","",null,null,null,null,null,"","","",null,"",null,"","","","","","","","","","","","","","","","","","","","","","","","",{"$f":"IF($L61=\"\",\"\",IF(AND($L61>=Sheet1!$F$2,'Pupil List'!$L61<Sheet1!$G$2),Sheet1!$A$2,\"\"))","v":""},{"$f":"IF($L61=\"\",\"\",IF(AND($L61>=Sheet1!$F$3,'Pupil List'!$L61<Sheet1!$G$3),Sheet1!$A$3,\"\"))","v":""},{"$f":"IF($L61=\"\",\"\",IF(AND($L61>=Sheet1!$F$4,'Pupil List'!$L61<Sheet1!$G$4),Sheet1!$A$4,\"\"))","v":""},{"$f":"IF($L61=\"\",\"\",IF(AND($L61>=Sheet1!$F$5,'Pupil List'!$L61<Sheet1!$G$5),Sheet1!$A$5,\"\"))","v":""},{"$f":"IF($L61=\"\",\"\",IF(AND($L61>=Sheet1!$F$6,'Pupil List'!$L61<Sheet1!$G$6),Sheet1!$A$6,\"\"))","v":""},{"$f":"IF($L61=\"\",\"\",IF(AND($L61>=Sheet1!$F$7,'Pupil List'!$L61<Sheet1!$G$7),Sheet1!$A$7,\"\"))","v":""},{"$f":"IF($L61=\"\",\"\",IF(AND($L61>=Sheet1!$F$8,'Pupil List'!$L61<Sheet1!$G$8),Sheet1!$A$8,\"\"))","v":""},{"$f":"IF($L61=\"\",\"\",IF(AND($L61>=Sheet1!$F$9,'Pupil List'!$L61<Sheet1!$G$9),Sheet1!$A$9,\"\"))","v":""},{"$f":"IF($L61=\"\",\"\",IF(AND($L61>=Sheet1!$F$10,'Pupil List'!$L61<Sheet1!$G$10),Sheet1!$A$10,\"\"))","v":""},{"$f":"IF($L61=\"\",\"\",IF(AND($L61>=Sheet1!$F$11,'Pupil List'!$L61<Sheet1!$G$11),Sheet1!$A$11,\"\"))","v":""},{"$f":"IF($L61=\"\",\"\",IF(AND($L61>=Sheet1!$F$12,'Pupil List'!$L61<Sheet1!$G$12),Sheet1!$A$12,\"\"))","v":""},{"$f":"IF($L61=\"\",\"\",IF(AND($L61>=Sheet1!$F$13,'Pupil List'!$L61<Sheet1!$G$13),Sheet1!$A$13,\"\"))","v":""},{"$f":"IF($L61=\"\",\"\",IF(AND($L61>=Sheet1!$F$14,'Pupil List'!$L61<Sheet1!$G$14),Sheet1!$A$14,\"\"))","v":""},{"$f":"IF($L61=\"\",\"\",IF(AND($L61>=Sheet1!$F$15,'Pupil List'!$L61<Sheet1!$G$15),Sheet1!$A$15,\"\"))","v":""},{"$f":"IF($L61=\"\",\"\",IF(AND($L61>=Sheet1!$F$16,'Pupil List'!$L61<Sheet1!$G$16),Sheet1!$A$16,\"\"))","v":""},{"$f":"IF($L61=\"\",\"\",IF(AND($L61>=Sheet1!$F$17,'Pupil List'!$L61<Sheet1!$G$17),Sheet1!$A$17,\"\"))","v":""},{"$f":"IF($L61=\"\",\"\",IF(AND($L61>=Sheet1!$F$18,'Pupil List'!$L61<Sheet1!$G$18),Sheet1!$A$18,\"\"))","v":""},{"$f":"IF($L61=\"\",\"\",IF(AND($L61>=Sheet1!$F$19,'Pupil List'!$L61<Sheet1!$G$19),Sheet1!$A$19,\"\"))","v":""},{"$f":"IF($L61=\"\",\"\",IF(AND($L61>=Sheet1!$F$20,'Pupil List'!$L61<Sheet1!$G$20),Sheet1!$A$20,\"\"))","v":""},{"$f":"IF($L61=\"\",\"\",IF(AND($L61>=Sheet1!$F$21,'Pupil List'!$L61<Sheet1!$G$21),Sheet1!$A$21,\"\"))","v":""},{"$f":"IF($L61=\"\",\"\",IF(AND($L61>=Sheet1!$F$22,'Pupil List'!$L61<Sheet1!$G$22),Sheet1!$A$22,\"\"))","v":""},{"$f":"IF($L61=\"\",\"\",IF(AND($L61>=Sheet1!$F$23,'Pupil List'!$L61<Sheet1!$G$23),Sheet1!$A$23,\"\"))","v":""},{"$f":"IF($L61=\"\",\"\",IF(AND($L61>=Sheet1!$F$24,'Pupil List'!$L61<Sheet1!$G$24),Sheet1!$A$24,\"\"))","v":""},{"$f":"IF($L61=\"\",\"\",IF(AND($L61>=Sheet1!$F$25,'Pupil List'!$L61<Sheet1!$G$25),Sheet1!$A$25,\"\"))","v":""},{"$error":"#N/A"},{"$f":"IFERROR(VLOOKUP(BK61,Sheet1!$A$2:$E$25,3,FALSE),\"\")","v":""},{"$f":"IFERROR(VLOOKUP(BK61,Sheet1!$A$2:$E$25,4,FALSE),\"\")","v":""},{"$f":"IFERROR(VLOOKUP(BK61,Sheet1!$A$2:$E$25,5,FALSE),\"\")","v":""},{"$f":"IFERROR(VLOOKUP(N61,Sheet1!$A$29:$B$38,2,FALSE),\"\")","v":""}]
["","","",null,null,null,null,null,"","","",null,"",null,"","","","","","","","","","","","","","","","","","","","","","","","",{"$f":"IF($L62=\"\",\"\",IF(AND($L62>=Sheet1!$F$2,'Pupil List'!$L62<Sheet1!$G$2),Sheet1!$A$2,\"\"))","v":""},{"$f":"IF($L62=\"\",\"\",IF(AND($L62>=Sheet1!$F$3,'Pupil List'!$L62<Sheet1!$G$3),Sheet1!$A$3,\"\"))","v":""},{"$f":"IF($L62=\"\",\"\",IF(AND($L62>=Sheet1!$F$4,'Pupil List'!$L62<Sheet1!$G$4),Sheet1!$A$4,\"\"))","v":""},{"$f":"IF($L62=\"\",\"\",IF(AND($L62>=Sheet1!$F$5,'Pupil List'!$L62<Sheet1!$G$5),Sheet1!$A$5,\"\"))","v":""},{"$f":"IF($L62=\"\",\"\",IF(AND($L62>=Sheet1!$F$6,'Pupil List'!$L62<Sheet1!$G$6),Sheet1!$A$6,\"\"))","v":""},{"$f":"IF($L62=\"\",\"\",IF(AND($L62>=Sheet1!$F$7,'Pupil List'!$L62<Sheet1!$G$7),Sheet1!$A$7,\"\"))","v":""},{"$f":"IF($L62=\"\",\"\",IF(AND($L62>=Sheet1!$F$8,'Pupil List'!$L62<Sheet1!$G$8),Sheet1!$A$8,\"\"))","v":""},{"$f":"IF($L62=\"\",\"\",IF(AND($L62>=Sheet1!$F$9,'Pupil List'!$L62<Sheet1!$G$9),Sheet1!$A$9,\"\"))","v":""},{"$f":"IF($L62=\"\",\"\",IF(AND($L62>=Sheet1!$F$10,'Pupil List'!$L62<Sheet1!$G$10),Sheet1!$A$10,\"\"))","v":""},{"$f":"IF($L62=\"\",\"\",IF(AND($L62>=Sheet1!$F$11,'Pupil List'!$L62<Sheet1!$G$11),Sheet1!$A$11,\"\"))","v":""},{"$f":"IF($L62=\"\",\"\",IF(AND($L62>=Sheet1!$F$12,'Pupil List'!$L62<Sheet1!$G$12),Sheet1!$A$12,\"\"))","v":""},{"$f":"IF($L62=\"\",\"\",IF(AND($L62>=Sheet1!$F$13,'Pupil List'!$L62<Sheet1!$G$13),Sheet1!$A$13,\"\"))","v":""},{"$f":"IF($L62=\"\",\"\",IF(AND($L62>=Sheet1!$F$14,'Pupil List'!$L62<Sheet1!$G$14),Sheet1!$A$14,\"\"))","v":""},{"$f":"IF($L62=\"\",\"\",IF(AND($L62>=Sheet1!$F$15,'Pupil List'!$L62<Sheet1!$G$15),Sheet1!$A$15,\"\"))","v":""},{"$f":"IF($L62=\"\",\"\",IF(AND($L62>=Sheet1!$F$16,'Pupil List'!$L62<Sheet1!$G$16),Sheet1!$A$16,\"\"))","v":""},{"$f":"IF($L62=\"\",\"\",IF(AND($L62>=Sheet1!$F$17,'Pupil List'!$L62<Sheet1!$G$17),Sheet1!$A$17,\"\"))","v":""},{"$f":"IF($L62=\"\",\"\",IF(AND($L62>=Sheet1!$F$18,'Pupil List'!$L62<Sheet1!$G$18),Sheet1!$A$18,\"\"))","v":""},{"$f":"IF($L62=\"\",\"\",IF(AND($L62>=Sheet1!$F$19,'Pupil List'!$L62<Sheet1!$G$19),Sheet1!$A$19,\"\"))","v":""},{"$f":"IF($L62=\"\",\"\",IF(AND($L62>=Sheet1!$F$20,'Pupil List'!$L62<Sheet1!$G$20),Sheet1!$A$20,\"\"))","v":""},{"$f":"IF($L62=\"\",\"\",IF(AND($L62>=Sheet1!$F$21,'Pupil List'!$L62<Sheet1!$G$21),Sheet1!$A$21,\"\"))","v":""},{"$f":"IF($L62=\"\",\"\",IF(AND($L62>=Sheet1!$F$22,'Pupil List'!$L62<Sheet1!$G$22),Sheet1!$A$22,\"\"))","v":""},{"$f":"IF($L62=\"\",\"\",IF(AND($L62>=Sheet1!$F$23,'Pupil List'!$L62<Sheet1!$G$23),Sheet1!$A$23,\"\"))","v":""},{"$f":"IF($L62=\"\",\"\",IF(AND($L62>=Sheet1!$F$24,'Pupil List'!$L62<Sheet1!$G$24),Sheet1!$A$24,\"\"))","v":""},{"$f":"IF($L62=\"\",\"\",IF(AND($L62>=Sheet1!$F$25,'Pupil List'!$L62<Sheet1!$G$25),Sheet1!$A$25,\"\"))","v":""},{"$error":"#N/A"},{"$f":"IFERROR(VLOOKUP(BK62,Sheet1!$A$2:$E$25,3,FALSE),\"\")","v":""},{"$f":"IFERROR(VLOOKUP(BK62,Sheet1!$A$2:$E$25,4,FALSE),\"\")","v":""},{"$f":"IFERROR(VLOOKUP(BK62,Sheet1!$A$2:$E$25,5,FALSE),\"\")","v":""},{"$f":"IFERROR(VLOOKUP(N62,Sheet1!$A$29:$B$38,2,FALSE),\"\")","v":""}]
["","","",null,null,null,null,null,"","","",null,"",null,"","","","","","","","","","","","","","","","","","","","","","","","",{"$f":"IF($L63=\"\",\"\",IF(AND($L63>=Sheet1!$F$2,'Pupil List'!$L63<Sheet1!$G$2),Sheet1!$A$2,\"\"))","v":""},{"$f":"IF($L63=\"\",\"\",IF(AND($L63>=Sheet1!$F$3,'Pupil List'!$L63<Sheet1!$G$3),Sheet1!$A$3,\"\"))","v":""},{"$f":"IF($L63=\"\",\"\",IF(AND($L63>=Sheet1!$F$4,'Pupil List'!$L63<Sheet1!$G$4),Sheet1!$A$4,\"\"))","v":""},{"$f":"IF($L63=\"\",\"\",IF(AND($L63>=Sheet1!$F$5,'Pupil List'!$L63<Sheet1!$G$5),Sheet1!$A$5,\"\"))","v":""},{"$f":"IF($L63=\"\",\"\",IF(AND($L63>=Sheet1!$F$6,'Pupil List'!$L63<Sheet1!$G$6),Sheet1!$A$6,\"\"))","v":""},{"$f":"IF($L63=\"\",\"\",IF(AND($L63>=Sheet1!$F$7,'Pupil List'!$L63<Sheet1!$G$7),Sheet1!$A$7,\"\"))","v":""},{"$f":"IF($L63=\"\",\"\",IF(AND($L63>=Sheet1!$F$8,'Pupil List'!$L63<Sheet1!$G$8),Sheet1!$A$8,\"\"))","v":""},{"$f":"IF($L63=\"\",\"\",IF(AND($L63>=Sheet1!$F$9,'Pupil List'!$L63<Sheet1!$G$9),Sheet1!$A$9,\"\"))","v":""},{"$f":"IF($L63=\"\",\"\",IF(AND($L63>=Sheet1!$F$10,'Pupil List'!$L63<Sheet1!$G$10),Sheet1!$A$10,\"\"))","v":""},{"$f":"IF($L63=\"\",\"\",IF(AND($L63>=Sheet1!$F$11,'Pupil List'!$L63<Sheet1!$G$11),Sheet1!$A$11,\"\"))","v":""},{"$f":"IF($L63=\"\",\"\",IF(AND($L63>=Sheet1!$F$12,'Pupil List'!$L63<Sheet1!$G$12),Sheet1!$A$12,\"\"))","v":""},{"$f":"IF($L63=\"\",\"\",IF(AND($L63>=Sheet1!$F$13,'Pupil List'!$L63<Sheet1!$G$13),Sheet1!$A$13,\"\"))","v":""},{"$f":"IF($L63=\"\",\"\",IF(AND($L63>=Sheet1!$F$14,'Pupil List'!$L63<Sheet1!$G$14),Sheet1!$A$14,\"\"))","v":""},{"$f":"IF($L63=\"\",\"\",IF(AND($L63>=Sheet1!$F$15,'Pupil List'!$L63<Sheet1!$G$15),Sheet1!$A$15,\"\"))","v":""},{"$f":"IF($L63=\"\",\"\",IF(AND($L63>=Sheet1!$F$16,'Pupil List'!$L63<Sheet1!$G$16),Sheet1!$A$16,\"\"))","v":""},{"$f":"IF($L63=\"\",\"\",IF(AND($L63>=Sheet1!$F$17,'Pupil List'!$L63<Sheet1!$G$17),Sheet1!$A$17,\"\"))","v":""},{"$f":"IF($L63=\"\",\"\",IF(AND($L63>=Sheet1!$F$18,'Pupil List'!$L63<Sheet1!$G$18),Sheet1!$A$18,\"\"))","v":""},{"$f":"IF($L63=\"\",\"\",IF(AND($L63>=Sheet1!$F$19,'Pupil List'!$L63<Sheet1!$G$19),Sheet1!$A$19,\"\"))","v":""},{"$f":"IF($L63=\"\",\"\",IF(AND($L63>=Sheet1!$F$20,'Pupil List'!$L63<Sheet1!$G$20),Sheet1!$A$20,\"\"))","v":""},{"$f":"IF($L63=\"\",\"\",IF(AND($L63>=Sheet1!$F$21,'Pupil List'!$L63<Sheet1!$G$21),Sheet1!$A$21,\"\"))","v":""},{"$f":"IF($L63=\"\",\"\",IF(AND($L63>=Sheet1!$F$22,'Pupil List'!$L63<Sheet1!$G$22),Sheet1!$A$22,\"\"))","v":""},{"$f":"IF($L63=\"\",\"\",IF(AND($L63>=Sheet1!$F$23,'Pupil List'!$L63<Sheet1!$G$23),Sheet1!$A$23,\"\"))","v":""},{"$f":"IF($L63=\"\",\"\",IF(AND($L63>=Sheet1!$F$24,'Pupil List'!$L63<Sheet1!$G$24),Sheet1!$A$24,\"\"))","v":""},{"$f":"IF($L63=\"\",\"\",IF(AND($L63>=Sheet1!$F$25,'Pupil List'!$L63<Sheet1!$G$25),Sheet1!$A$25,\"\"))","v":""},{"$error":"#N/A"},{"$f":"IFERROR(VLOOKUP(BK63,Sheet1!$A$2:$E$25,3,FALSE),\"\")","v":""},{"$f":"IFERROR(VLOOKUP(BK63,Sheet1!$A$2:$E$25,4,FALSE),\"\")","v":""},{"$f":"IFERROR(VLOOKUP(BK63,Sheet1!$A$2:$E$25,5,FALSE),\"\")","v":""},{"$f":"IFERROR(VLOOKUP(N63,Sheet1!$A$29:$B$38,2,FALSE),\"\")","v":""}]
["","","",null,null,null,null,null,"","","",null,"",null,"","","","","","","","","","","","","","","","","","","","","","","","",{"$f":"IF($L64=\"\",\"\",IF(AND($L64>=Sheet1!$F$2,'Pupil List'!$L64<Sheet1!$G$2),Sheet1!$A$2,\"\"))","v":""},{"$f":"IF($L64=\"\",\"\",IF(AND($L64>=Sheet1!$F$3,'Pupil List'!$L64<Sheet1!$G$3),Sheet1!$A$3,\"\"))","v":""},{"$f":"IF($L64=\"\",\"\",IF(AND($L64>=Sheet1!$F$4,'Pupil List'!$L64<Sheet1!$G$4),Sheet1!$A$4,\"\"))","v":""},{"$f":"IF($L64=\"\",\"\",IF(AND($L64>=Sheet1!$F$5,'Pupil List'!$L64<Sheet1!$G$5),Sheet1!$A$5,\"\"))","v":""},{"$f":"IF($L64=\"\",\"\",IF(AND($L64>=Sheet1!$F$6,'Pupil List'!$L64<Sheet1!$G$6),Sheet1!$A$6,\"\"))","v":""},{"$f":"IF($L64=\"\",\"\",IF(AND($L64>=Sheet1!$F$7,'Pupil List'!$L64<Sheet1!$G$7),Sheet1!$A$7,\"\"))","v":""},{"$f":"IF($L64=\"\",\"\",IF(AND($L64>=Sheet1!$F$8,'Pupil List'!$L64<Sheet1!$G$8),Sheet1!$A$8,\"\"))","v":""},{"$f":"IF($L64=\"\",\"\",IF(AND($L64>=Sheet1!$F$9,'Pupil List'!$L64<Sheet1!$G$9),Sheet1!$A$9,\"\"))","v":""},{"$f":"IF($L64=\"\",\"\",IF(AND($L64>=Sheet1!$F$10,'Pupil List'!$L64<Sheet1!$G$10),Sheet1!$A$10,\"\"))","v":""},{"$f":"IF($L64=\"\",\"\",IF(AND($L64>=Sheet1!$F$11,'Pupil List'!$L64<Sheet1!$G$11),Sheet1!$A$11,\"\"))","v":""},{"$f":"IF($L64=\"\",\"\",IF(AND($L64>=Sheet1!$F$12,'Pupil List'!$L64<Sheet1!$G$12),Sheet1!$A$12,\"\"))","v":""},{"$f":"IF($L64=\"\",\"\",IF(AND($L64>=Sheet1!$F$13,'Pupil List'!$L64<Sheet1!$G$13),Sheet1!$A$13,\"\"))","v":""},{"$f":"IF($L64=\"\",\"\",IF(AND($L64>=Sheet1!$F$14,'Pupil List'!$L64<Sheet1!$G$14),Sheet1!$A$14,\"\"))","v":""},{"$f":"IF($L64=\"\",\"\",IF(AND($L64>=Sheet1!$F$15,'Pupil List'!$L64<Sheet1!$G$15),Sheet1!$A$15,\"\"))","v":""},{"$f":"IF($L64=\"\",\"\",IF(AND($L64>=Sheet1!$F$16,'Pupil List'!$L64<Sheet1!$G$16),Sheet1!$A$16,\"\"))","v":""},{"$f":"IF($L64=\"\",\"\",IF(AND($L64>=Sheet1!$F$17,'Pupil List'!$L64<Sheet1!$G$17),Sheet1!$A$17,\"\"))","v":""},{"$f":"IF($L64=\"\",\"\",IF(AND($L64>=Sheet1!$F$18,'Pupil List'!$L64<Sheet1!$G$18),Sheet1!$A$18,\"\"))","v":""},{"$f":"IF($L64=\"\",\"\",IF(AND($L64>=Sheet1!$F$19,'Pupil List'!$L64<Sheet1!$G$19),Sheet1!$A$19,\"\"))","v":""},{"$f":"IF($L64=\"\",\"\",IF(AND($L64>=Sheet1!$F$20,'Pupil List'!$L64<Sheet1!$G$20),Sheet1!$A$20,\"\"))","v":""},{"$f":"IF($L64=\"\",\"\",IF(AND($L64>=Sheet1!$F$21,'Pupil List'!$L64<Sheet1!$G$21),Sheet1!$A$21,\"\"))","v":""},{"$f":"IF($L64=\"\",\"\",IF(AND($L64>=Sheet1!$F$22,'Pupil List'!$L64<Sheet1!$G$22),Sheet1!$A$22,\"\"))","v":""},{"$f":"IF($L64=\"\",\"\",IF(AND($L64>=Sheet1!$F$23,'Pupil List'!$L64<Sheet1!$G$23),Sheet1!$A$23,\"\"))","v":""},{"$f":"IF($L64=\"\",\"\",IF(AND($L64>=Sheet1!$F$24,'Pupil List'!$L64<Sheet1!$G$24),Sheet1!$A$24,\"\"))","v":""},{"$f":"IF($L64=\"\",\"\",IF(AND($L64>=Sheet1!$F$25,'Pupil List'!$L64<Sheet1!$G$25),Sheet1!$A$25,\"\"))","v":""},{"$error":"#N/A"},{"$f":"IFERROR(VLOOKUP(BK64,Sheet1!$A$2:$E$25,3,FALSE),\"\")","v":""},{"$f":"IFERROR(VLOOKUP(BK64,Sheet1!$A$2:$E$25,4,FALSE),\"\")","v":""},{"$f":"IFERROR(VLOOKUP(BK64,Sheet1!$A$2:$E$25,5,FALSE),\"\")","v":""},{"$f":"IFERROR(VLOOKUP(N64,Sheet1!$A$29:$B$38,2,FALSE),\"\")","v":""}]
["","","",null,null,null,null,null,"","","",null,"",null,"","","","","","","","","","","","","","","","","","","","","","","","",{"$f":"IF($L65=\"\",\"\",IF(AND($L65>=Sheet1!$F$2,'Pupil List'!$L65<Sheet1!$G$2),Sheet1!$A$2,\"\"))","v":""},{"$f":"IF($L65=\"\",\"\",IF(AND($L65>=Sheet1!$F$3,'Pupil List'!$L65<Sheet1!$G$3),Sheet1!$A$3,\"\"))","v":""},{"$f":"IF($L65=\"\",\"\",IF(AND($L65>=Sheet1!$F$4,'Pupil List'!$L65<Sheet1!$G$4),Sheet1!$A$4,\"\"))","v":""},{"$f":"IF($L65=\"\",\"\",IF(AND($L65>=Sheet1!$F$5,'Pupil List'!$L65<Sheet1!$G$5),Sheet1!$A$5,\"\"))","v":""},{"$f":"IF($L65=\"\",\"\",IF(AND($L65>=Sheet1!$F$6,'Pupil List'!$L65<Sheet1!$G$6),Sheet1!$A$6,\"\"))","v":""},{"$f":"IF($L65=\"\",\"\",IF(AND($L65>=Sheet1!$F$7,'Pupil List'!$L65<Sheet1!$G$7),Sheet1!$A$7,\"\"))","v":""},{"$f":"IF($L65=\"\",\"\",IF(AND($L65>=Sheet1!$F$8,'Pupil List'!$L65<Sheet1!$G$8),Sheet1!$A$8,\"\"))","v":""},{"$f":"IF($L65=\"\",\"\",IF(AND($L65>=Sheet1!$F$9,'Pupil List'!$L65<Sheet1!$G$9),Sheet1!$A$9,\"\"))","v":""},{"$f":"IF($L65=\"\",\"\",IF(AND($L65>=Sheet1!$F$10,'Pupil List'!$L65<Sheet1!$G$10),Sheet1!$A$10,\"\"))","v":""},{"$f":"IF($L65=\"\",\"\",IF(AND($L65>=Sheet1!$F$11,'Pupil List'!$L65<Sheet1!$G$11),Sheet1!$A$11,\"\"))","v":""},{"$f":"IF($L65=\"\",\"\",IF(AND($L65>=Sheet1!$F$12,'Pupil List'!$L65<Sheet1!$G$12),Sheet1!$A$12,\"\"))","v":""},{"$f":"IF($L65=\"\",\"\",IF(AND($L65>=Sheet1!$F$13,'Pupil List'!$L65<Sheet1!$G$13),Sheet1!$A$13,\"\"))","v":""},{"$f":"IF($L65=\"\",\"\",IF(AND($L65>=Sheet1!$F$14,'Pupil List'!$L65<Sheet1!$G$14),Sheet1!$A$14,\"\"))","v":""},{"$f":"IF($L65=\"\",\"\",IF(AND($L65>=Sheet1!$F$15,'Pupil List'!$L65<Sheet1!$G$15),Sheet1!$A$15,\"\"))","v":""},{"$f":"IF($L65=\"\",\"\",IF(AND($L65>=Sheet1!$F$16,'Pupil List'!$L65<Sheet1!$G$16),Sheet1!$A$16,\"\"))","v":""},{"$f":"IF($L65=\"\",\"\",IF(AND($L65>=Sheet1!$F$17,'Pupil List'!$L65<Sheet1!$G$17),Sheet1!$A$17,\"\"))","v":""},{"$f":"IF($L65=\"\",\"\",IF(AND($L65>=Sheet1!$F$18,'Pupil List'!$L65<Sheet1!$G$18),Sheet1!$A$18,\"\"))","v":""},{"$f":"IF($L65=\"\",\"\",IF(AND($L65>=Sheet1!$F$19,'Pupil List'!$L65<Sheet1!$G$19),Sheet1!$A$19,\"\"))","v":""},{"$f":"IF($L65=\"\",\"\",IF(AND($L65>=Sheet1!$F$20,'Pupil List'!$L65<Sheet1!$G$20),Sheet1!$A$20,\"\"))","v":""},{"$f":"IF($L65=\"\",\"\",IF(AND($L65>=Sheet1!$F$21,'Pupil List'!$L65<Sheet1!$G$21),Sheet1!$A$21,\"\"))","v":""},{"$f":"IF($L65=\"\",\"\",IF(AND($L65>=Sheet1!$F$22,'Pupil List'!$L65<Sheet1!$G$22),Sheet1!$A$22,\"\"))","v":""},{"$f":"IF($L65=\"\",\"\",IF(AND($L65>=Sheet1!$F$23,'Pupil List'!$L65<Sheet1!$G$23),Sheet1!$A$23,\"\"))","v":""},{"$f":"IF($L65=\"\",\"\",IF(AND($L65>=Sheet1!$F$24,'Pupil List'!$L65<Sheet1!$G$24),Sheet1!$A$24,\"\"))","v":""},{"$f":"IF($L65=\"\",\"\",IF(AND($L65>=Sheet1!$F$25,'Pupil List'!$L65<Sheet1!$G$25),Sheet1!$A$25,\"\"))","v":""},{"$error":"#N/A"},{"$f":"IFERROR(VLOOKUP(BK65,Sheet1!$A$2:$E$25,3,FALSE),\"\")","v":""},{"$f":"IFERROR(VLOOKUP(BK65,Sheet1!$A$2:$E$25,4,FALSE),\"\")","v":""},{"$f":"IFERROR(VLOOKUP(BK65,Sheet1!$A$2:$E$25,5,FALSE),\"\")","v":""},{"$f":"IFERROR(VLOOKUP(N65,Sheet1!$A$29:$B$38,2,FALSE),\"\")","v":""}]
["","","",null,null,null,null,null,"","","",null,"",null,"","","","","","","","","","","","","","","","","","","","","","","","",{"$f":"IF($L66=\"\",\"\",IF(AND($L66>=Sheet1!$F$2,'Pupil List'!$L66<Sheet1!$G$2),Sheet1!$A$2,\"\"))","v":""},{"$f":"IF($L66=\"\",\"\",IF(AND($L66>=Sheet1!$F$3,'Pupil List'!$L66<Sheet1!$G$3),Sheet1!$A$3,\"\"))","v":""},{"$f":"IF($L66=\"\",\"\",IF(AND($L66>=Sheet1!$F$4,'Pupil List'!$L66<Sheet1!$G$4),Sheet1!$A$4,\"\"))","v":""},{"$f":"IF($L66=\"\",\"\",IF(AND($L66>=Sheet1!$F$5,'Pupil List'!$L66<Sheet1!$G$5),Sheet1!$A$5,\"\"))","v":""},{"$f":"IF($L66=\"\",\"\",IF(AND($L66>=Sheet1!$F$6,'Pupil List'!$L66<Sheet1!$G$6),Sheet1!$A$6,\"\"))","v":""},{"$f":"IF($L66=\"\",\"\",IF(AND($L66>=Sheet1!$F$7,'Pupil List'!$L66<Sheet1!$G$7),Sheet1!$A$7,\"\"))","v":""},{"$f":"IF($L66=\"\",\"\",IF(AND($L66>=Sheet1!$F$8,'Pupil List'!$L66<Sheet1!$G$8),Sheet1!$A$8,\"\"))","v":""},{"$f":"IF($L66=\"\",\"\",IF(AND($L66>=Sheet1!$F$9,'Pupil List'!$L66<Sheet1!$G$9),Sheet1!$A$9,\"\"))","v":""},{"$f":"IF($L66=\"\",\"\",IF(AND($L66>=Sheet1!$F$10,'Pupil List'!$L66<Sheet1!$G$10),Sheet1!$A$10,\"\"))","v":""},{"$f":"IF($L66=\"\",\"\",IF(AND($L66>=Sheet1!$F$11,'Pupil List'!$L66<Sheet1!$G$11),Sheet1!$A$11,\"\"))","v":""},{"$f":"IF($L66=\"\",\"\",IF(AND($L66>=Sheet1!$F$12,'Pupil List'!$L66<Sheet1!$G$12),Sheet1!$A$12,\"\"))","v":""},{"$f":"IF($L66=\"\",\"\",IF(AND($L66>=Sheet1!$F$13,'Pupil List'!$L66<Sheet1!$G$13),Sheet1!$A$13,\"\"))","v":""},{"$f":"IF($L66=\"\",\"\",IF(AND($L66>=Sheet1!$F$14,'Pupil List'!$L66<Sheet1!$G$14),Sheet1!$A$14,\"\"))","v":""},{"$f":"IF($L66=\"\",\"\",IF(AND($L66>=Sheet1!$F$15,'Pupil List'!$L66<Sheet1!$G$15),Sheet1!$A$15,\"\"))","v":""},{"$f":"IF($L66=\"\",\"\",IF(AND($L66>=Sheet1!$F$16,'Pupil List'!$L66<Sheet1!$G$16),Sheet1!$A$16,\"\"))","v":""},{"$f":"IF($L66=\"\",\"\",IF(AND($L66>=Sheet1!$F$17,'Pupil List'!$L66<Sheet1!$G$17),Sheet1!$A$17,\"\"))","v":""},{"$f":"IF($L66=\"\",\"\",IF(AND($L66>=Sheet1!$F$18,'Pupil List'!$L66<Sheet1!$G$18),Sheet1!$A$18,\"\"))","v":""},{"$f":"IF($L66=\"\",\"\",IF(AND($L66>=Sheet1!$F$19,'Pupil List'!$L66<Sheet1!$G$19),Sheet1!$A$19,\"\"))","v":""},{"$f":"IF($L66=\"\",\"\",IF(AND($L66>=Sheet1!$F$20,'Pupil List'!$L66<Sheet1!$G$20),Sheet1!$A$20,\"\"))","v":""},{"$f":"IF($L66=\"\",\"\",IF(AND($L66>=Sheet1!$F$21,'Pupil List'!$L66<Sheet1!$G$21),Sheet1!$A$21,\"\"))","v":""},{"$f":"IF($L66=\"\",\"\",IF(AND($L66>=Sheet1!$F$22,'Pupil List'!$L66<Sheet1!$G$22),Sheet1!$A$22,\"\"))","v":""},{"$f":"IF($L66=\"\",\"\",IF(AND($L66>=Sheet1!$F$23,'Pupil List'!$L66<Sheet1!$G$23),Sheet1!$A$23,\"\"))","v":""},{"$f":"IF($L66=\"\",\"\",IF(AND($L66>=Sheet1!$F$24,'Pupil List'!$L66<Sheet1!$G$24),Sheet1!$A$24,\"\"))","v":""},{"$f":"IF($L66=\"\",\"\",IF(AND($L66>=Sheet1!$F$25,'Pupil List'!$L66<Sheet1!$G$25),Sheet1!$A$25,\"\"))","v":""},{"$error":"#N/A"},{"$f":"IFERROR(VLOOKUP(BK66,Sheet1!$A$2:$E$25,3,FALSE),\"\")","v":""},{"$f":"IFERROR(VLOOKUP(BK66,Sheet1!$A$2:$E$25,4,FALSE),\"\")","v":""},{"$f":"IFERROR(VLOOKUP(BK66,Sheet1!$A$2:$E$25,5,FALSE),\"\")","v":""},{"$f":"IFERROR(VLOOKUP(N66,Sheet1!$A$29:$B$38,2,FALSE),\"\")","v":""}]
["","","",null,null,null,null,null,"","","",null,"",null,"","","","","","","","","","","","","","","","","","","","","","","","",{"$f":"IF($L67=\"\",\"\",IF(AND($L67>=Sheet1!$F$2,'Pupil List'!$L67<Sheet1!$G$2),Sheet1!$A$2,\"\"))","v":""},{"$f":"IF($L67=\"\",\"\",IF(AND($L67>=Sheet1!$F$3,'Pupil List'!$L67<Sheet1!$G$3),Sheet1!$A$3,\"\"))","v":""},{"$f":"IF($L67=\"\",\"\",IF(AND($L67>=Sheet1!$F$4,'Pupil List'!$L67<Sheet1!$G$4),Sheet1!$A$4,\"\"))","v":""},{"$f":"IF($L67=\"\",\"\",IF(AND($L67>=Sheet1!$F$5,'Pupil List'!$L67<Sheet1!$G$5),Sheet1!$A$5,\"\"))","v":""},{"$f":"IF($L67=\"\",\"\",IF(AND($L67>=Sheet1!$F$6,'Pupil List'!$L67<Sheet1!$G$6),Sheet1!$A$6,\"\"))","v":""},{"$f":"IF($L67=\"\",\"\",IF(AND($L67>=Sheet1!$F$7,'Pupil List'!$L67<Sheet1!$G$7),Sheet1!$A$7,\"\"))","v":""},{"$f":"IF($L67=\"\",\"\",IF(AND($L67>=Sheet1!$F$8,'Pupil List'!$L67<Sheet1!$G$8),Sheet1!$A$8,\"\"))","v":""},{"$f":"IF($L67=\"\",\"\",IF(AND($L67>=Sheet1!$F$9,'Pupil List'!$L67<Sheet1!$G$9),Sheet1!$A$9,\"\"))","v":""},{"$f":"IF($L67=\"\",\"\",IF(AND($L67>=Sheet1!$F$10,'Pupil List'!$L67<Sheet1!$G$10),Sheet1!$A$10,\"\"))","v":""},{"$f":"IF($L67=\"\",\"\",IF(AND($L67>=Sheet1!$F$11,'Pupil List'!$L67<Sheet1!$G$11),Sheet1!$A$11,\"\"))","v":""},{"$f":"IF($L67=\"\",\"\",IF(AND($L67>=Sheet1!$F$12,'Pupil List'!$L67<Sheet1!$G$12),Sheet1!$A$12,\"\"))","v":""},{"$f":"IF($L67=\"\",\"\",IF(AND($L67>=Sheet1!$F$13,'Pupil List'!$L67<Sheet1!$G$13),Sheet1!$A$13,\"\"))","v":""},{"$f":"IF($L67=\"\",\"\",IF(AND($L67>=Sheet1!$F$14,'Pupil List'!$L67<Sheet1!$G$14),Sheet1!$A$14,\"\"))","v":""},{"$f":"IF($L67=\"\",\"\",IF(AND($L67>=Sheet1!$F$15,'Pupil List'!$L67<Sheet1!$G$15),Sheet1!$A$15,\"\"))","v":""},{"$f":"IF($L67=\"\",\"\",IF(AND($L67>=Sheet1!$F$16,'Pupil List'!$L67<Sheet1!$G$16),Sheet1!$A$16,\"\"))","v":""},{"$f":"IF($L67=\"\",\"\",IF(AND($L67>=Sheet1!$F$17,'Pupil List'!$L67<Sheet1!$G$17),Sheet1!$A$17,\"\"))","v":""},{"$f":"IF($L67=\"\",\"\",IF(AND($L67>=Sheet1!$F$18,'Pupil List'!$L67<Sheet1!$G$18),Sheet1!$A$18,\"\"))","v":""},{"$f":"IF($L67=\"\",\"\",IF(AND($L67>=Sheet1!$F$19,'Pupil List'!$L67<Sheet1!$G$19),Sheet1!$A$19,\"\"))","v":""},{"$f":"IF($L67=\"\",\"\",IF(AND($L67>=Sheet1!$F$20,'Pupil List'!$L67<Sheet1!$G$20),Sheet1!$A$20,\"\"))","v":""},{"$f":"IF($L67=\"\",\"\",IF(AND($L67>=Sheet1!$F$21,'Pupil List'!$L67<Sheet1!$G$21),Sheet1!$A$21,\"\"))","v":""},{"$f":"IF($L67=\"\",\"\",IF(AND($L67>=Sheet1!$F$22,'Pupil List'!$L67<Sheet1!$G$22),Sheet1!$A$22,\"\"))","v":""},{"$f":"IF($L67=\"\",\"\",IF(AND($L67>=Sheet1!$F$23,'Pupil List'!$L67<Sheet1!$G$23),Sheet1!$A$23,\"\"))","v":""},{"$f":"IF($L67=\"\",\"\",IF(AND($L67>=Sheet1!$F$24,'Pupil List'!$L67<Sheet1!$G$24),Sheet1!$A$24,\"\"))","v":""},{"$f":"IF($L67=\"\",\"\",IF(AND($L67>=Sheet1!$F$25,'Pupil List'!$L67<Sheet1!$G$25),Sheet1!$A$25,\"\"))","v":""},{"$error":"#N/A"},{"$f":"IFERROR(VLOOKUP(BK67,Sheet1!$A$2:$E$25,3,FALSE),\"\")","v":""},{"$f":"IFERROR(VLOOKUP(BK67,Sheet1!$A$2:$E$25,4,FALSE),\"\")","v":""},{"$f":"IFERROR(VLOOKUP(BK67,Sheet1!$A$2:$E$25,5,FALSE),\"\")","v":""},{"$f":"IFERROR(VLOOKUP(N67,Sheet1!$A$29:$B$38,2,FALSE),\"\")","v":""}]
["","","",null,null,null,null,null,"","","",null,"",null,"",{"$f":"IFERROR((M68-BL68),\"\")","v":""},"","",{"$f":"IF(A68=\"\",\"\",IF(C68=\"No\",\"\",IF((AND(M68>=100,M68<110)),1,0)))","v":""},{"$f":"IF(A68=\"\",\"\",IF(C68=\"No\",\"\",IF((AND(M68>=100,M68<130)),1,0)))","v":""},{"$f":"IF(A68=\"\",\"\",IF(C68=\"No\",\"\",IF((AND(M68>=110,M68<130)),1,0)))","v":""},{"$f":"IF(A68=\"\",\"\",IF(C68=\"No\",\"\",IF((AND(O68>=100,O68<110)),1,0)))","v":""},{"$f":"IF(A68=\"\",\"\",IF(C68=\"No\",\"\",IF((AND(O68>=100,O68<130)),1,0)))","v":""},{"$f":"IF(A68=\"\",\"\",IF(C68=\"No\",\"\",IF((AND(O68>=110,O68<130)),1,0)))","v":""},{"$f":"IF(A68=\"\",\"\",IF(C68=\"No\",\"\",IF(N68=\"EXS\",1,0)))","v":""},{"$f":"IF(A68=\"\",\"\",IF(C68=\"No\",\"\",IF((OR(N68=\"GDS\",N68=\"EXS\")),1,0)))","v":""},{"$f":"IF(A68=\"\",\"\",IF(C68=\"No\",\"\",IF(N68=\"GDS\",1,0)))","v":""},{"$f":"IF(A68=\"\",\"\",IF(C68=\"No\",\"\",SUM(S68+V68+Y68)))","v":""},{"$f":"IF(A68=\"\",\"\",IF(C68=\"No\",\"\",IF(AB68=3,1,0)))","v":""},{"$f":"IF(A68=\"\",\"\",IF(C68=\"No\",\"\",SUM(T68+W68+Z68)))","v":""},{"$f":"IF(A68=\"\",\"\",IF(C68=\"No\",\"\",IF(AD68=3,1,0)))","v":""},{"$f":"IF(A68=\"\",\"\",IF(C68=\"No\",\"\",SUM(U68+X68+AA68)))","v":""},{"$f":"IF(A68=\"\",\"\",IF(C68=\"No\",\"\",IF(AF68=3,1,0)))","v":""},{"$f":"IF(P68=\"\",\"\",\"Y\")","v":""},{"$f":"IF(Q68=\"\",\"\",\"Y\")","v":""},{"$f":"IF(R68=\"\",\"\",\"Y\")","v":""},{"$f":"IF(M68=\"\",\"\",\"Y\")","v":""},{"$f":"IF(O68=\"\",\"\",\"Y\")","v":""},{"$f":"IF($L68=\"\",\"\",IF(AND($L68>=Sheet1!$F$2,'Pupil List'!$L68<Sheet1!$G$2),Sheet1!$A$2,\"\"))","v":""},{"$f":"IF($L68=\"\",\"\",IF(AND($L68>=Sheet1!$F$3,'Pupil List'!$L68<Sheet1!$G$3),Sheet1!$A$3,\"\"))","v":""},{"$f":"IF($L68=\"\",\"\",IF(AND($L68>=Sheet1!$F$4,'Pupil List'!$L68<Sheet1!$G$4),Sheet1!$A$4,\"\"))","v":""},{"$f":"IF($L68=\"\",\"\",IF(AND($L68>=Sheet1!$F$5,'Pupil List'!$L68<Sheet1!$G$5),Sheet1!$A$5,\"\"))","v":""},{"$f":"IF($L68=\"\",\"\",IF(AND($L68>=Sheet1!$F$6,'Pupil List'!$L68<Sheet1!$G$6),Sheet1!$A$6,\"\"))","v":""},{"$f":"IF($L68=\"\",\"\",IF(AND($L68>=Sheet1!$F$7,'Pupil List'!$L68<Sheet1!$G$7),Sheet1!$A$7,\"\"))","v":""},{"$f":"IF($L68=\"\",\"\",IF(AND($L68>=Sheet1!$F$8,'Pupil List'!$L68<Sheet1!$G$8),Sheet1!$A$8,\"\"))","v":""},{"$f":"IF($L68=\"\",\"\",IF(AND($L68>=Sheet1!$F$9,'Pupil List'!$L68<Sheet1!$G$9),Sheet1!$A$9,\"\"))","v":""},{"$f":"IF($L68=\"\",\"\",IF(AND($L68>=Sheet1!$F$10,'Pupil List'!$L68<Sheet1!$G$10),Sheet1!$A$10,\"\"))","v":""},{"$f":"IF($L68=\"\",\"\",IF(AND($L68>=Sheet1!$F$11,'Pupil List'!$L68<Sheet1!$G$11),Sheet1!$A$11,\"\"))","v":""},{"$f":"IF($L68=\"\",\"\",IF(AND($L68>=Sheet1!$F$12,'Pupil List'!$L68<Sheet1!$G$12),Sheet1!$A$12,\"\"))","v":""},{"$f":"IF($L68=\"\",\"\",IF(AND($L68>=Sheet1!$F$13,'Pupil List'!$L68<Sheet1!$G$13),Sheet1!$A$13,\"\"))","v":""},{"$f":"IF($L68=\"\",\"\",IF(AND($L68>=Sheet1!$F$14,'Pupil List'!$L68<Sheet1!$G$14),Sheet1!$A$14,\"\"))","v":""},{"$f":"IF($L68=\"\",\"\",IF(AND($L68>=Sheet1!$F$15,'Pupil List'!$L68<Sheet1!$G$15),Sheet1!$A$15,\"\"))","v":""},{"$f":"IF($L68=\"\",\"\",IF(AND($L68>=Sheet1!$F$16,'Pupil List'!$L68<Sheet1!$G$16),Sheet1!$A$16,\"\"))","v":""},{"$f":"IF($L68=\"\",\"\",IF(AND($L68>=Sheet1!$F$17,'Pupil List'!$L68<Sheet1!$G$17),Sheet1!$A$17,\"\"))","v":""},{"$f":"IF($L68=\"\",\"\",IF(AND($L68>=Sheet1!$F$18,'Pupil List'!$L68<Sheet1!$G$18),Sheet1!$A$18,\"\"))","v":""},{"$f":"IF($L68=\"\",\"\",IF(AND($L68>=Sheet1!$F$19,'Pupil List'!$L68<Sheet1!$G$19),Sheet1!$A$19,\"\"))","v":""},{"$f":"IF($L68=\"\",\"\",IF(AND($L68>=Sheet1!$F$20,'Pupil List'!$L68<Sheet1!$G$20),Sheet1!$A$20,\"\"))","v":""},{"$f":"IF($L68=\"\",\"\",IF(AND($L68>=Sheet1!$F$21,'Pupil List'!$L68<Sheet1!$G$21),Sheet1!$A$21,\"\"))","v":""},{"$f":"IF($L68=\"\",\"\",IF(AND($L68>=Sheet1!$F$22,'Pupil List'!$L68<Sheet1!$G$22),Sheet1!$A$22,\"\"))","v":""},{"$f":"IF($L68=\"\",\"\",IF(AND($L68>=Sheet1!$F$23,'Pupil List'!$L68<Sheet1!$G$23),Sheet1!$A$23,\"\"))","v":""},{"$f":"IF($L68=\"\",\"\",IF(AND($L68>=Sheet1!$F$24,'Pupil List'!$L68<Sheet1!$G$24),Sheet1!$A$24,\"\"))","v":""},{"$f":"IF($L68=\"\",\"\",IF(AND($L68>=Sheet1!$F$25,'Pupil List'!$L68<Sheet1!$G$25),Sheet1!$A$25,\"\"))","v":""},{"$error":"#N/A"},{"$f":"IFERROR(VLOOKUP(BK68,Sheet1!$A$2:$E$25,3,FALSE),\"\")","v":""},{"$f":"IFERROR(VLOOKUP(BK68,Sheet1!$A$2:$E$25,4,FALSE),\"\")","v":""},{"$f":"IFERROR(VLOOKUP(BK68,Sheet1!$A$2:$E$25,5,FALSE),\"\")","v":""},{"$f":"IFERROR(VLOOKUP(N68,Sheet1!$A$29:$B$38,2,FALSE),\"\")","v":""}]
["","",{"$f":"IF(A69=\"\",\"\",\"Yes\")","v":""},null,null,null,null,null,"","","",null,"",null,"","",{"$f":"IFERROR((BO69-BM69),\"\")","v":""},{"$f":"IFERROR((O69-BN69),\"\")","v":""},"","","","","","","","","","","","","","","","","","","","",{"$f":"IF($L69=\"\",\"\",IF(AND($L69>=Sheet1!$F$2,'Pupil List'!$L69<Sheet1!$G$2),Sheet1!$A$2,\"\"))","v":""},{"$f":"IF($L69=\"\",\"\",IF(AND($L69>=Sheet1!$F$3,'Pupil List'!$L69<Sheet1!$G$3),Sheet1!$A$3,\"\"))","v":""},{"$f":"IF($L69=\"\",\"\",IF(AND($L69>=Sheet1!$F$4,'Pupil List'!$L69<Sheet1!$G$4),Sheet1!$A$4,\"\"))","v":""},{"$f":"IF($L69=\"\",\"\",IF(AND($L69>=Sheet1!$F$5,'Pupil List'!$L69<Sheet1!$G$5),Sheet1!$A$5,\"\"))","v":""},{"$f":"IF($L69=\"\",\"\",IF(AND($L69>=Sheet1!$F$6,'Pupil List'!$L69<Sheet1!$G$6),Sheet1!$A$6,\"\"))","v":""},{"$f":"IF($L69=\"\",\"\",IF(AND($L69>=Sheet1!$F$7,'Pupil List'!$L69<Sheet1!$G$7),Sheet1!$A$7,\"\"))","v":""},{"$f":"IF($L69=\"\",\"\",IF(AND($L69>=Sheet1!$F$8,'Pupil List'!$L69<Sheet1!$G$8),Sheet1!$A$8,\"\"))","v":""},{"$f":"IF($L69=\"\",\"\",IF(AND($L69>=Sheet1!$F$9,'Pupil List'!$L69<Sheet1!$G$9),Sheet1!$A$9,\"\"))","v":""},{"$f":"IF($L69=\"\",\"\",IF(AND($L69>=Sheet1!$F$10,'Pupil List'!$L69<Sheet1!$G$10),Sheet1!$A$10,\"\"))","v":""},{"$f":"IF($L69=\"\",\"\",IF(AND($L69>=Sheet1!$F$11,'Pupil List'!$L69<Sheet1!$G$11),Sheet1!$A$11,\"\"))","v":""},{"$f":"IF($L69=\"\",\"\",IF(AND($L69>=Sheet1!$F$12,'Pupil List'!$L69<Sheet1!$G$12),Sheet1!$A$12,\"\"))","v":""},{"$f":"IF($L69=\"\",\"\",IF(AND($L69>=Sheet1!$F$13,'Pupil List'!$L69<Sheet1!$G$13),Sheet1!$A$13,\"\"))","v":""},{"$f":"IF($L69=\"\",\"\",IF(AND($L69>=Sheet1!$F$14,'Pupil List'!$L69<Sheet1!$G$14),Sheet1!$A$14,\"\"))","v":""},{"$f":"IF($L69=\"\",\"\",IF(AND($L69>=Sheet1!$F$15,'Pupil List'!$L69<Sheet1!$G$15),Sheet1!$A$15,\"\"))","v":""},{"$f":"IF($L69=\"\",\"\",IF(AND($L69>=Sheet1!$F$16,'Pupil List'!$L69<Sheet1!$G$16),Sheet1!$A$16,\"\"))","v":""},{"$f":"IF($L69=\"\",\"\",IF(AND($L69>=Sheet1!$F$17,'Pupil List'!$L69<Sheet1!$G$17),Sheet1!$A$17,\"\"))","v":""},{"$f":"IF($L69=\"\",\"\",IF(AND($L69>=Sheet1!$F$18,'Pupil List'!$L69<Sheet1!$G$18),Sheet1!$A$18,\"\"))","v":""},{"$f":"IF($L69=\"\",\"\",IF(AND($L69>=Sheet1!$F$19,'Pupil List'!$L69<Sheet1!$G$19),Sheet1!$A$19,\"\"))","v":""},{"$f":"IF($L69=\"\",\"\",IF(AND($L69>=Sheet1!$F$20,'Pupil List'!$L69<Sheet1!$G$20),Sheet1!$A$20,\"\"))","v":""},{"$f":"IF($L69=\"\",\"\",IF(AND($L69>=Sheet1!$F$21,'Pupil List'!$L69<Sheet1!$G$21),Sheet1!$A$21,\"\"))","v":""},{"$f":"IF($L69=\"\",\"\",IF(AND($L69>=Sheet1!$F$22,'Pupil List'!$L69<Sheet1!$G$22),Sheet1!$A$22,\"\"))","v":""},{"$f":"IF($L69=\"\",\"\",IF(AND($L69>=Sheet1!$F$23,'Pupil List'!$L69<Sheet1!$G$23),Sheet1!$A$23,\"\"))","v":""},{"$f":"IF($L69=\"\",\"\",IF(AND($L69>=Sheet1!$F$24,'Pupil List'!$L69<Sheet1!$G$24),Sheet1!$A$24,\"\"))","v":""},{"$f":"IF($L69=\"\",\"\",IF(AND($L69>=Sheet1!$F$25,'Pupil List'!$L69<Sheet1!$G$25),Sheet1!$A$25,\"\"))","v":""},{"$f":"INDEX(AM69:BJ69,MATCH(TRUE,INDEX((AM69:BJ69<>\"\"),0),0))","v":{"$error":"#N/A"}},{"$f":"IFERROR(VLOOKUP(BK69,Sheet1!$A$2:$E$25,3,FALSE),\"\")","v":""},{"$f":"IFERROR(VLOOKUP(BK69,Sheet1!$A$2:$E$25,4,FALSE),\"\")","v":""},{"$f":"IFERROR(VLOOKUP(BK69,Sheet1!$A$2:$E$25,5,FALSE),\"\")","v":""},{"$f":"IFERROR(VLOOKUP(N69,Sheet1!$A$29:$B$38,2,FALSE),\"\")","v":""}]
["","","",null,null,null,null,null,{"$f":"IF(A70=\"\",\"\",\"Yes\")","v":""},{"$f":"IF(A70=\"\",\"\",\"Yes\")","v":""},{"$f":"IF(A70=\"\",\"\",\"Yes\")","v":""},null,"",null,"","","","","","","","","","","","","","","","","","","","","","","","",{"$f":"IF($L70=\"\",\"\",IF(AND($L70>=Sheet1!$F$2,'Pupil List'!$L70<Sheet1!$G$2),Sheet1!$A$2,\"\"))","v":""},{"$f":"IF($L70=\"\",\"\",IF(AND($L70>=Sheet1!$F$3,'Pupil List'!$L70<Sheet1!$G$3),Sheet1!$A$3,\"\"))","v":""},{"$f":"IF($L70=\"\",\"\",IF(AND($L70>=Sheet1!$F$4,'Pupil List'!$L70<Sheet1!$G$4),Sheet1!$A$4,\"\"))","v":""},{"$f":"IF($L70=\"\",\"\",IF(AND($L70>=Sheet1!$F$5,'Pupil List'!$L70<Sheet1!$G$5),Sheet1!$A$5,\"\"))","v":""},{"$f":"IF($L70=\"\",\"\",IF(AND($L70>=Sheet1!$F$6,'Pupil List'!$L70<Sheet1!$G$6),Sheet1!$A$6,\"\"))","v":""},{"$f":"IF($L70=\"\",\"\",IF(AND($L70>=Sheet1!$F$7,'Pupil List'!$L70<Sheet1!$G$7),Sheet1!$A$7,\"\"))","v":""},{"$f":"IF($L70=\"\",\"\",IF(AND($L70>=Sheet1!$F$8,'Pupil List'!$L70<Sheet1!$G$8),Sheet1!$A$8,\"\"))","v":""},{"$f":"IF($L70=\"\",\"\",IF(AND($L70>=Sheet1!$F$9,'Pupil List'!$L70<Sheet1!$G$9),Sheet1!$A$9,\"\"))","v":""},{"$f":"IF($L70=\"\",\"\",IF(AND($L70>=Sheet1!$F$10,'Pupil List'!$L70<Sheet1!$G$10),Sheet1!$A$10,\"\"))","v":""},{"$f":"IF($L70=\"\",\"\",IF(AND($L70>=Sheet1!$F$11,'Pupil List'!$L70<Sheet1!$G$11),Sheet1!$A$11,\"\"))","v":""},{"$f":"IF($L70=\"\",\"\",IF(AND($L70>=Sheet1!$F$12,'Pupil List'!$L70<Sheet1!$G$12),Sheet1!$A$12,\"\"))","v":""},{"$f":"IF($L70=\"\",\"\",IF(AND($L70>=Sheet1!$F$13,'Pupil List'!$L70<Sheet1!$G$13),Sheet1!$A$13,\"\"))","v":""},{"$f":"IF($L70=\"\",\"\",IF(AND($L70>=Sheet1!$F$14,'Pupil List'!$L70<Sheet1!$G$14),Sheet1!$A$14,\"\"))","v":""},{"$f":"IF($L70=\"\",\"\",IF(AND($L70>=Sheet1!$F$15,'Pupil List'!$L70<Sheet1!$G$15),Sheet1!$A$15,\"\"))","v":""},{"$f":"IF($L70=\"\",\"\",IF(AND($L70>=Sheet1!$F$16,'Pupil List'!$L70<Sheet1!$G$16),Sheet1!$A$16,\"\"))","v":""},{"$f":"IF($L70=\"\",\"\",IF(AND($L70>=Sheet1!$F$17,'Pupil List'!$L70<Sheet1!$G$17),Sheet1!$A$17,\"\"))","v":""},{"$f":"IF($L70=\"\",\"\",IF(AND($L70>=Sheet1!$F$18,'Pupil List'!$L70<Sheet1!$G$18),Sheet1!$A$18,\"\"))","v":""},{"$f":"IF($L70=\"\",\"\",IF(AND($L70>=Sheet1!$F$19,'Pupil List'!$L70<Sheet1!$G$19),Sheet1!$A$19,\"\"))","v":""},{"$f":"IF($L70=\"\",\"\",IF(AND($L70>=Sheet1!$F$20,'Pupil List'!$L70<Sheet1!$G$20),Sheet1!$A$20,\"\"))","v":""},{"$f":"IF($L70=\"\",\"\",IF(AND($L70>=Sheet1!$F$21,'Pupil List'!$L70<Sheet1!$G$21),Sheet1!$A$21,\"\"))","v":""},{"$f":"IF($L70=\"\",\"\",IF(AND($L70>=Sheet1!$F$22,'Pupil List'!$L70<Sheet1!$G$22),Sheet1!$A$22,\"\"))","v":""},{"$f":"IF($L70=\"\",\"\",IF(AND($L70>=Sheet1!$F$23,'Pupil List'!$L70<Sheet1!$G$23),Sheet1!$A$23,\"\"))","v":""},{"$f":"IF($L70=\"\",\"\",IF(AND($L70>=Sheet1!$F$24,'Pupil List'!$L70<Sheet1!$G$24),Sheet1!$A$24,\"\"))","v":""},{"$f":"IF($L70=\"\",\"\",IF(AND($L70>=Sheet1!$F$25,'Pupil List'!$L70<Sheet1!$G$25),Sheet1!$A$25,\"\"))","v":""},{"$error":"#N/A"},{"$f":"IFERROR(VLOOKUP(BK70,Sheet1!$A$2:$E$25,3,FALSE),\"\")","v":""},{"$f":"IFERROR(VLOOKUP(BK70,Sheet1!$A$2:$E$25,4,FALSE),\"\")","v":""},{"$f":"IFERROR(VLOOKUP(BK70,Sheet1!$A$2:$E$25,5,FALSE),\"\")","v":""},{"$f":"IFERROR(VLOOKUP(N70,Sheet1!$A$29:$B$38,2,FALSE),\"\")","v":""}]
["","","",null,null,null,null,null,"","","",null,"",null,"","","","","","","","","","","","","","","","","","","","","","","","",{"$f":"IF($L71=\"\",\"\",IF(AND($L71>=Sheet1!$F$2,'Pupil List'!$L71<Sheet1!$G$2),Sheet1!$A$2,\"\"))","v":""},{"$f":"IF($L71=\"\",\"\",IF(AND($L71>=Sheet1!$F$3,'Pupil List'!$L71<Sheet1!$G$3),Sheet1!$A$3,\"\"))","v":""},{"$f":"IF($L71=\"\",\"\",IF(AND($L71>=Sheet1!$F$4,'Pupil List'!$L71<Sheet1!$G$4),Sheet1!$A$4,\"\"))","v":""},{"$f":"IF($L71=\"\",\"\",IF(AND($L71>=Sheet1!$F$5,'Pupil List'!$L71<Sheet1!$G$5),Sheet1!$A$5,\"\"))","v":""},{"$f":"IF($L71=\"\",\"\",IF(AND($L71>=Sheet1!$F$6,'Pupil List'!$L71<Sheet1!$G$6),Sheet1!$A$6,\"\"))","v":""},{"$f":"IF($L71=\"\",\"\",IF(AND($L71>=Sheet1!$F$7,'Pupil List'!$L71<Sheet1!$G$7),Sheet1!$A$7,\"\"))","v":""},{"$f":"IF($L71=\"\",\"\",IF(AND($L71>=Sheet1!$F$8,'Pupil List'!$L71<Sheet1!$G$8),Sheet1!$A$8,\"\"))","v":""},{"$f":"IF($L71=\"\",\"\",IF(AND($L71>=Sheet1!$F$9,'Pupil List'!$L71<Sheet1!$G$9),Sheet1!$A$9,\"\"))","v":""},{"$f":"IF($L71=\"\",\"\",IF(AND($L71>=Sheet1!$F$10,'Pupil List'!$L71<Sheet1!$G$10),Sheet1!$A$10,\"\"))","v":""},{"$f":"IF($L71=\"\",\"\",IF(AND($L71>=Sheet1!$F$11,'Pupil List'!$L71<Sheet1!$G$11),Sheet1!$A$11,\"\"))","v":""},{"$f":"IF($L71=\"\",\"\",IF(AND($L71>=Sheet1!$F$12,'Pupil List'!$L71<Sheet1!$G$12),Sheet1!$A$12,\"\"))","v":""},{"$f":"IF($L71=\"\",\"\",IF(AND($L71>=Sheet1!$F$13,'Pupil List'!$L71<Sheet1!$G$13),Sheet1!$A$13,\"\"))","v":""},{"$f":"IF($L71=\"\",\"\",IF(AND($L71>=Sheet1!$F$14,'Pupil List'!$L71<Sheet1!$G$14),Sheet1!$A$14,\"\"))","v":""},{"$f":"IF($L71=\"\",\"\",IF(AND($L71>=Sheet1!$F$15,'Pupil List'!$L71<Sheet1!$G$15),Sheet1!$A$15,\"\"))","v":""},{"$f":"IF($L71=\"\",\"\",IF(AND($L71>=Sheet1!$F$16,'Pupil List'!$L71<Sheet1!$G$16),Sheet1!$A$16,\"\"))","v":""},{"$f":"IF($L71=\"\",\"\",IF(AND($L71>=Sheet1!$F$17,'Pupil List'!$L71<Sheet1!$G$17),Sheet1!$A$17,\"\"))","v":""},{"$f":"IF($L71=\"\",\"\",IF(AND($L71>=Sheet1!$F$18,'Pupil List'!$L71<Sheet1!$G$18),Sheet1!$A$18,\"\"))","v":""},{"$f":"IF($L71=\"\",\"\",IF(AND($L71>=Sheet1!$F$19,'Pupil List'!$L71<Sheet1!$G$19),Sheet1!$A$19,\"\"))","v":""},{"$f":"IF($L71=\"\",\"\",IF(AND($L71>=Sheet1!$F$20,'Pupil List'!$L71<Sheet1!$G$20),Sheet1!$A$20,\"\"))","v":""},{"$f":"IF($L71=\"\",\"\",IF(AND($L71>=Sheet1!$F$21,'Pupil List'!$L71<Sheet1!$G$21),Sheet1!$A$21,\"\"))","v":""},{"$f":"IF($L71=\"\",\"\",IF(AND($L71>=Sheet1!$F$22,'Pupil List'!$L71<Sheet1!$G$22),Sheet1!$A$22,\"\"))","v":""},{"$f":"IF($L71=\"\",\"\",IF(AND($L71>=Sheet1!$F$23,'Pupil List'!$L71<Sheet1!$G$23),Sheet1!$A$23,\"\"))","v":""},{"$f":"IF($L71=\"\",\"\",IF(AND($L71>=Sheet1!$F$24,'Pupil List'!$L71<Sheet1!$G$24),Sheet1!$A$24,\"\"))","v":""},{"$f":"IF($L71=\"\",\"\",IF(AND($L71>=Sheet1!$F$25,'Pupil List'!$L71<Sheet1!$G$25),Sheet1!$A$25,\"\"))","v":""},{"$error":"#N/A"},{"$f":"IFERROR(VLOOKUP(BK71,Sheet1!$A$2:$E$25,3,FALSE),\"\")","v":""},{"$f":"IFERROR(VLOOKUP(BK71,Sheet1!$A$2:$E$25,4,FALSE),\"\")","v":""},{"$f":"IFERROR(VLOOKUP(BK71,Sheet1!$A$2:$E$25,5,FALSE),\"\")","v":""},{"$f":"IFERROR(VLOOKUP(N71,Sheet1!$A$29:$B$38,2,FALSE),\"\")","v":""}]
["","","",null,null,null,null,null,"","","",null,"",null,"","","","","","","","","","","","","","","","","","","","","","","","",{"$f":"IF($L72=\"\",\"\",IF(AND($L72>=Sheet1!$F$2,'Pupil List'!$L72<Sheet1!$G$2),Sheet1!$A$2,\"\"))","v":""},{"$f":"IF($L72=\"\",\"\",IF(AND($L72>=Sheet1!$F$3,'Pupil List'!$L72<Sheet1!$G$3),Sheet1!$A$3,\"\"))","v":""},{"$f":"IF($L72=\"\",\"\",IF(AND($L72>=Sheet1!$F$4,'Pupil List'!$L72<Sheet1!$G$4),Sheet1!$A$4,\"\"))","v":""},{"$f":"IF($L72=\"\",\"\",IF(AND($L72>=Sheet1!$F$5,'Pupil List'!$L72<Sheet1!$G$5),Sheet1!$A$5,\"\"))","v":""},{"$f":"IF($L72=\"\",\"\",IF(AND($L72>=Sheet1!$F$6,'Pupil List'!$L72<Sheet1!$G$6),Sheet1!$A$6,\"\"))","v":""},{"$f":"IF($L72=\"\",\"\",IF(AND($L72>=Sheet1!$F$7,'Pupil List'!$L72<Sheet1!$G$7),Sheet1!$A$7,\"\"))","v":""},{"$f":"IF($L72=\"\",\"\",IF(AND($L72>=Sheet1!$F$8,'Pupil List'!$L72<Sheet1!$G$8),Sheet1!$A$8,\"\"))","v":""},{"$f":"IF($L72=\"\",\"\",IF(AND($L72>=Sheet1!$F$9,'Pupil List'!$L72<Sheet1!$G$9),Sheet1!$A$9,\"\"))","v":""},{"$f":"IF($L72=\"\",\"\",IF(AND($L72>=Sheet1!$F$10,'Pupil List'!$L72<Sheet1!$G$10),Sheet1!$A$10,\"\"))","v":""},{"$f":"IF($L72=\"\",\"\",IF(AND($L72>=Sheet1!$F$11,'Pupil List'!$L72<Sheet1!$G$11),Sheet1!$A$11,\"\"))","v":""},{"$f":"IF($L72=\"\",\"\",IF(AND($L72>=Sheet1!$F$12,'Pupil List'!$L72<Sheet1!$G$12),Sheet1!$A$12,\"\"))","v":""},{"$f":"IF($L72=\"\",\"\",IF(AND($L72>=Sheet1!$F$13,'Pupil List'!$L72<Sheet1!$G$13),Sheet1!$A$13,\"\"))","v":""},{"$f":"IF($L72=\"\",\"\",IF(AND($L72>=Sheet1!$F$14,'Pupil List'!$L72<Sheet1!$G$14),Sheet1!$A$14,\"\"))","v":""},{"$f":"IF($L72=\"\",\"\",IF(AND($L72>=Sheet1!$F$15,'Pupil List'!$L72<Sheet1!$G$15),Sheet1!$A$15,\"\"))","v":""},{"$f":"IF($L72=\"\",\"\",IF(AND($L72>=Sheet1!$F$16,'Pupil List'!$L72<Sheet1!$G$16),Sheet1!$A$16,\"\"))","v":""},{"$f":"IF($L72=\"\",\"\",IF(AND($L72>=Sheet1!$F$17,'Pupil List'!$L72<Sheet1!$G$17),Sheet1!$A$17,\"\"))","v":""},{"$f":"IF($L72=\"\",\"\",IF(AND($L72>=Sheet1!$F$18,'Pupil List'!$L72<Sheet1!$G$18),Sheet1!$A$18,\"\"))","v":""},{"$f":"IF($L72=\"\",\"\",IF(AND($L72>=Sheet1!$F$19,'Pupil List'!$L72<Sheet1!$G$19),Sheet1!$A$19,\"\"))","v":""},{"$f":"IF($L72=\"\",\"\",IF(AND($L72>=Sheet1!$F$20,'Pupil List'!$L72<Sheet1!$G$20),Sheet1!$A$20,\"\"))","v":""},{"$f":"IF($L72=\"\",\"\",IF(AND($L72>=Sheet1!$F$21,'Pupil List'!$L72<Sheet1!$G$21),Sheet1!$A$21,\"\"))","v":""},{"$f":"IF($L72=\"\",\"\",IF(AND($L72>=Sheet1!$F$22,'Pupil List'!$L72<Sheet1!$G$22),Sheet1!$A$22,\"\"))","v":""},{"$f":"IF($L72=\"\",\"\",IF(AND($L72>=Sheet1!$F$23,'Pupil List'!$L72<Sheet1!$G$23),Sheet1!$A$23,\"\"))","v":""},{"$f":"IF($L72=\"\",\"\",IF(AND($L72>=Sheet1!$F$24,'Pupil List'!$L72<Sheet1!$G$24),Sheet1!$A$24,\"\"))","v":""},{"$f":"IF($L72=\"\",\"\",IF(AND($L72>=Sheet1!$F$25,'Pupil List'!$L72<Sheet1!$G$25),Sheet1!$A$25,\"\"))","v":""},{"$error":"#N/A"},{"$f":"IFERROR(VLOOKUP(BK72,Sheet1!$A$2:$E$25,3,FALSE),\"\")","v":""},{"$f":"IFERROR(VLOOKUP(BK72,Sheet1!$A$2:$E$25,4,FALSE),\"\")","v":""},{"$f":"IFERROR(VLOOKUP(BK72,Sheet1!$A$2:$E$25,5,FALSE),\"\")","v":""},{"$f":"IFERROR(VLOOKUP(N72,Sheet1!$A$29:$B$38,2,FALSE),\"\")","v":""}]
["","","",null,null,null,null,null,"","","",null,"",null,"","","","","","","","","","","","","","","","","","","","","","","","",{"$f":"IF($L73=\"\",\"\",IF(AND($L73>=Sheet1!$F$2,'Pupil List'!$L73<Sheet1!$G$2),Sheet1!$A$2,\"\"))","v":""},{"$f":"IF($L73=\"\",\"\",IF(AND($L73>=Sheet1!$F$3,'Pupil List'!$L73<Sheet1!$G$3),Sheet1!$A$3,\"\"))","v":""},{"$f":"IF($L73=\"\",\"\",IF(AND($L73>=Sheet1!$F$4,'Pupil List'!$L73<Sheet1!$G$4),Sheet1!$A$4,\"\"))","v":""},{"$f":"IF($L73=\"\",\"\",IF(AND($L73>=Sheet1!$F$5,'Pupil List'!$L73<Sheet1!$G$5),Sheet1!$A$5,\"\"))","v":""},{"$f":"IF($L73=\"\",\"\",IF(AND($L73>=Sheet1!$F$6,'Pupil List'!$L73<Sheet1!$G$6),Sheet1!$A$6,\"\"))","v":""},{"$f":"IF($L73=\"\",\"\",IF(AND($L73>=Sheet1!$F$7,'Pupil List'!$L73<Sheet1!$G$7),Sheet1!$A$7,\"\"))","v":""},{"$f":"IF($L73=\"\",\"\",IF(AND($L73>=Sheet1!$F$8,'Pupil List'!$L73<Sheet1!$G$8),Sheet1!$A$8,\"\"))","v":""},{"$f":"IF($L73=\"\",\"\",IF(AND($L73>=Sheet1!$F$9,'Pupil List'!$L73<Sheet1!$G$9),Sheet1!$A$9,\"\"))","v":""},{"$f":"IF($L73=\"\",\"\",IF(AND($L73>=Sheet1!$F$10,'Pupil List'!$L73<Sheet1!$G$10),Sheet1!$A$10,\"\"))","v":""},{"$f":"IF($L73=\"\",\"\",IF(AND($L73>=Sheet1!$F$11,'Pupil List'!$L73<Sheet1!$G$11),Sheet1!$A$11,\"\"))","v":""},{"$f":"IF($L73=\"\",\"\",IF(AND($L73>=Sheet1!$F$12,'Pupil List'!$L73<Sheet1!$G$12),Sheet1!$A$12,\"\"))","v":""},{"$f":"IF($L73=\"\",\"\",IF(AND($L73>=Sheet1!$F$13,'Pupil List'!$L73<Sheet1!$G$13),Sheet1!$A$13,\"\"))","v":""},{"$f":"IF($L73=\"\",\"\",IF(AND($L73>=Sheet1!$F$14,'Pupil List'!$L73<Sheet1!$G$14),Sheet1!$A$14,\"\"))","v":""},{"$f":"IF($L73=\"\",\"\",IF(AND($L73>=Sheet1!$F$15,'Pupil List'!$L73<Sheet1!$G$15),Sheet1!$A$15,\"\"))","v":""},{"$f":"IF($L73=\"\",\"\",IF(AND($L73>=Sheet1!$F$16,'Pupil List'!$L73<Sheet1!$G$16),Sheet1!$A$16,\"\"))","v":""},{"$f":"IF($L73=\"\",\"\",IF(AND($L73>=Sheet1!$F$17,'Pupil List'!$L73<Sheet1!$G$17),Sheet1!$A$17,\"\"))","v":""},{"$f":"IF($L73=\"\",\"\",IF(AND($L73>=Sheet1!$F$18,'Pupil List'!$L73<Sheet1!$G$18),Sheet1!$A$18,\"\"))","v":""},{"$f":"IF($L73=\"\",\"\",IF(AND($L73>=Sheet1!$F$19,'Pupil List'!$L73<Sheet1!$G$19),Sheet1!$A$19,\"\"))","v":""},{"$f":"IF($L73=\"\",\"\",IF(AND($L73>=Sheet1!$F$20,'Pupil List'!$L73<Sheet1!$G$20),Sheet1!$A$20,\"\"))","v":""},{"$f":"IF($L73=\"\",\"\",IF(AND($L73>=Sheet1!$F$21,'Pupil List'!$L73<Sheet1!$G$21),Sheet1!$A$21,\"\"))","v":""},{"$f":"IF($L73=\"\",\"\",IF(AND($L73>=Sheet1!$F$22,'Pupil List'!$L73<Sheet1!$G$22),Sheet1!$A$22,\"\"))","v":""},{"$f":"IF($L73=\"\",\"\",IF(AND($L73>=Sheet1!$F$23,'Pupil List'!$L73<Sheet1!$G$23),Sheet1!$A$23,\"\"))","v":""},{"$f":"IF($L73=\"\",\"\",IF(AND($L73>=Sheet1!$F$24,'Pupil List'!$L73<Sheet1!$G$24),Sheet1!$A$24,\"\"))","v":""},{"$f":"IF($L73=\"\",\"\",IF(AND($L73>=Sheet1!$F$25,'Pupil List'!$L73<Sheet1!$G$25),Sheet1!$A$25,\"\"))","v":""},{"$error":"#N/A"},{"$f":"IFERROR(VLOOKUP(BK73,Sheet1!$A$2:$E$25,3,FALSE),\"\")","v":""},{"$f":"IFERROR(VLOOKUP(BK73,Sheet1!$A$2:$E$25,4,FALSE),\"\")","v":""},{"$f":"IFERROR(VLOOKUP(BK73,Sheet1!$A$2:$E$25,5,FALSE),\"\")","v":""},{"$f":"IFERROR(VLOOKUP(N73,Sheet1!$A$29:$B$38,2,FALSE),\"\")","v":""}]
["","","",null,null,null,null,null,"","","",null,"",null,"","","","","","","","","","","","","","","","","","","","","","","","",{"$f":"IF($L74=\"\",\"\",IF(AND($L74>=Sheet1!$F$2,'Pupil List'!$L74<Sheet1!$G$2),Sheet1!$A$2,\"\"))","v":""},{"$f":"IF($L74=\"\",\"\",IF(AND($L74>=Sheet1!$F$3,'Pupil List'!$L74<Sheet1!$G$3),Sheet1!$A$3,\"\"))","v":""},{"$f":"IF($L74=\"\",\"\",IF(AND($L74>=Sheet1!$F$4,'Pupil List'!$L74<Sheet1!$G$4),Sheet1!$A$4,\"\"))","v":""},{"$f":"IF($L74=\"\",\"\",IF(AND($L74>=Sheet1!$F$5,'Pupil List'!$L74<Sheet1!$G$5),Sheet1!$A$5,\"\"))","v":""},{"$f":"IF($L74=\"\",\"\",IF(AND($L74>=Sheet1!$F$6,'Pupil List'!$L74<Sheet1!$G$6),Sheet1!$A$6,\"\"))","v":""},{"$f":"IF($L74=\"\",\"\",IF(AND($L74>=Sheet1!$F$7,'Pupil List'!$L74<Sheet1!$G$7),Sheet1!$A$7,\"\"))","v":""},{"$f":"IF($L74=\"\",\"\",IF(AND($L74>=Sheet1!$F$8,'Pupil List'!$L74<Sheet1!$G$8),Sheet1!$A$8,\"\"))","v":""},{"$f":"IF($L74=\"\",\"\",IF(AND($L74>=Sheet1!$F$9,'Pupil List'!$L74<Sheet1!$G$9),Sheet1!$A$9,\"\"))","v":""},{"$f":"IF($L74=\"\",\"\",IF(AND($L74>=Sheet1!$F$10,'Pupil List'!$L74<Sheet1!$G$10),Sheet1!$A$10,\"\"))","v":""},{"$f":"IF($L74=\"\",\"\",IF(AND($L74>=Sheet1!$F$11,'Pupil List'!$L74<Sheet1!$G$11),Sheet1!$A$11,\"\"))","v":""},{"$f":"IF($L74=\"\",\"\",IF(AND($L74>=Sheet1!$F$12,'Pupil List'!$L74<Sheet1!$G$12),Sheet1!$A$12,\"\"))","v":""},{"$f":"IF($L74=\"\",\"\",IF(AND($L74>=Sheet1!$F$13,'Pupil List'!$L74<Sheet1!$G$13),Sheet1!$A$13,\"\"))","v":""},{"$f":"IF($L74=\"\",\"\",IF(AND($L74>=Sheet1!$F$14,'Pupil List'!$L74<Sheet1!$G$14),Sheet1!$A$14,\"\"))","v":""},{"$f":"IF($L74=\"\",\"\",IF(AND($L74>=Sheet1!$F$15,'Pupil List'!$L74<Sheet1!$G$15),Sheet1!$A$15,\"\"))","v":""},{"$f":"IF($L74=\"\",\"\",IF(AND($L74>=Sheet1!$F$16,'Pupil List'!$L74<Sheet1!$G$16),Sheet1!$A$16,\"\"))","v":""},{"$f":"IF($L74=\"\",\"\",IF(AND($L74>=Sheet1!$F$17,'Pupil List'!$L74<Sheet1!$G$17),Sheet1!$A$17,\"\"))","v":""},{"$f":"IF($L74=\"\",\"\",IF(AND($L74>=Sheet1!$F$18,'Pupil List'!$L74<Sheet1!$G$18),Sheet1!$A$18,\"\"))","v":""},{"$f":"IF($L74=\"\",\"\",IF(AND($L74>=Sheet1!$F$19,'Pupil List'!$L74<Sheet1!$G$19),Sheet1!$A$19,\"\"))","v":""},{"$f":"IF($L74=\"\",\"\",IF(AND($L74>=Sheet1!$F$20,'Pupil List'!$L74<Sheet1!$G$20),Sheet1!$A$20,\"\"))","v":""},{"$f":"IF($L74=\"\",\"\",IF(AND($L74>=Sheet1!$F$21,'Pupil List'!$L74<Sheet1!$G$21),Sheet1!$A$21,\"\"))","v":""},{"$f":"IF($L74=\"\",\"\",IF(AND($L74>=Sheet1!$F$22,'Pupil List'!$L74<Sheet1!$G$22),Sheet1!$A$22,\"\"))","v":""},{"$f":"IF($L74=\"\",\"\",IF(AND($L74>=Sheet1!$F$23,'Pupil List'!$L74<Sheet1!$G$23),Sheet1!$A$23,\"\"))","v":""},{"$f":"IF($L74=\"\",\"\",IF(AND($L74>=Sheet1!$F$24,'Pupil List'!$L74<Sheet1!$G$24),Sheet1!$A$24,\"\"))","v":""},{"$f":"IF($L74=\"\",\"\",IF(AND($L74>=Sheet1!$F$25,'Pupil List'!$L74<Sheet1!$G$25),Sheet1!$A$25,\"\"))","v":""},{"$error":"#N/A"},{"$f":"IFERROR(VLOOKUP(BK74,Sheet1!$A$2:$E$25,3,FALSE),\"\")","v":""},{"$f":"IFERROR(VLOOKUP(BK74,Sheet1!$A$2:$E$25,4,FALSE),\"\")","v":""},{"$f":"IFERROR(VLOOKUP(BK74,Sheet1!$A$2:$E$25,5,FALSE),\"\")","v":""},{"$f":"IFERROR(VLOOKUP(N74,Sheet1!$A$29:$B$38,2,FALSE),\"\")","v":""}]
["","","",null,null,null,null,null,"","","",null,"",null,"","","","","","","","","","","","","","","","","","","","","","","","",{"$f":"IF($L75=\"\",\"\",IF(AND($L75>=Sheet1!$F$2,'Pupil List'!$L75<Sheet1!$G$2),Sheet1!$A$2,\"\"))","v":""},{"$f":"IF($L75=\"\",\"\",IF(AND($L75>=Sheet1!$F$3,'Pupil List'!$L75<Sheet1!$G$3),Sheet1!$A$3,\"\"))","v":""},{"$f":"IF($L75=\"\",\"\",IF(AND($L75>=Sheet1!$F$4,'Pupil List'!$L75<Sheet1!$G$4),Sheet1!$A$4,\"\"))","v":""},{"$f":"IF($L75=\"\",\"\",IF(AND($L75>=Sheet1!$F$5,'Pupil List'!$L75<Sheet1!$G$5),Sheet1!$A$5,\"\"))","v":""},{"$f":"IF($L75=\"\",\"\",IF(AND($L75>=Sheet1!$F$6,'Pupil List'!$L75<Sheet1!$G$6),Sheet1!$A$6,\"\"))","v":""},{"$f":"IF($L75=\"\",\"\",IF(AND($L75>=Sheet1!$F$7,'Pupil List'!$L75<Sheet1!$G$7),Sheet1!$A$7,\"\"))","v":""},{"$f":"IF($L75=\"\",\"\",IF(AND($L75>=Sheet1!$F$8,'Pupil List'!$L75<Sheet1!$G$8),Sheet1!$A$8,\"\"))","v":""},{"$f":"IF($L75=\"\",\"\",IF(AND($L75>=Sheet1!$F$9,'Pupil List'!$L75<Sheet1!$G$9),Sheet1!$A$9,\"\"))","v":""},{"$f":"IF($L75=\"\",\"\",IF(AND($L75>=Sheet1!$F$10,'Pupil List'!$L75<Sheet1!$G$10),Sheet1!$A$10,\"\"))","v":""},{"$f":"IF($L75=\"\",\"\",IF(AND($L75>=Sheet1!$F$11,'Pupil List'!$L75<Sheet1!$G$11),Sheet1!$A$11,\"\"))","v":""},{"$f":"IF($L75=\"\",\"\",IF(AND($L75>=Sheet1!$F$12,'Pupil List'!$L75<Sheet1!$G$12),Sheet1!$A$12,\"\"))","v":""},{"$f":"IF($L75=\"\",\"\",IF(AND($L75>=Sheet1!$F$13,'Pupil List'!$L75<Sheet1!$G$13),Sheet1!$A$13,\"\"))","v":""},{"$f":"IF($L75=\"\",\"\",IF(AND($L75>=Sheet1!$F$14,'Pupil List'!$L75<Sheet1!$G$14),Sheet1!$A$14,\"\"))","v":""},{"$f":"IF($L75=\"\",\"\",IF(AND($L75>=Sheet1!$F$15,'Pupil List'!$L75<Sheet1!$G$15),Sheet1!$A$15,\"\"))","v":""},{"$f":"IF($L75=\"\",\"\",IF(AND($L75>=Sheet1!$F$16,'Pupil List'!$L75<Sheet1!$G$16),Sheet1!$A$16,\"\"))","v":""},{"$f":"IF($L75=\"\",\"\",IF(AND($L75>=Sheet1!$F$17,'Pupil List'!$L75<Sheet1!$G$17),Sheet1!$A$17,\"\"))","v":""},{"$f":"IF($L75=\"\",\"\",IF(AND($L75>=Sheet1!$F$18,'Pupil List'!$L75<Sheet1!$G$18),Sheet1!$A$18,\"\"))","v":""},{"$f":"IF($L75=\"\",\"\",IF(AND($L75>=Sheet1!$F$19,'Pupil List'!$L75<Sheet1!$G$19),Sheet1!$A$19,\"\"))","v":""},{"$f":"IF($L75=\"\",\"\",IF(AND($L75>=Sheet1!$F$20,'Pupil List'!$L75<Sheet1!$G$20),Sheet1!$A$20,\"\"))","v":""},{"$f":"IF($L75=\"\",\"\",IF(AND($L75>=Sheet1!$F$21,'Pupil List'!$L75<Sheet1!$G$21),Sheet1!$A$21,\"\"))","v":""},{"$f":"IF($L75=\"\",\"\",IF(AND($L75>=Sheet1!$F$22,'Pupil List'!$L75<Sheet1!$G$22),Sheet1!$A$22,\"\"))","v":""},{"$f":"IF($L75=\"\",\"\",IF(AND($L75>=Sheet1!$F$23,'Pupil List'!$L75<Sheet1!$G$23),Sheet1!$A$23,\"\"))","v":""},{"$f":"IF($L75=\"\",\"\",IF(AND($L75>=Sheet1!$F$24,'Pupil List'!$L75<Sheet1!$G$24),Sheet1!$A$24,\"\"))","v":""},{"$f":"IF($L75=\"\",\"\",IF(AND($L75>=Sheet1!$F$25,'Pupil List'!$L75<Sheet1!$G$25),Sheet1!$A$25,\"\"))","v":""},{"$error":"#N/A"},{"$f":"IFERROR(VLOOKUP(BK75,Sheet1!$A$2:$E$25,3,FALSE),\"\")","v":""},{"$f":"IFERROR(VLOOKUP(BK75,Sheet1!$A$2:$E$25,4,FALSE),\"\")","v":""},{"$f":"IFERROR(VLOOKUP(BK75,Sheet1!$A$2:$E$25,5,FALSE),\"\")","v":""},{"$f":"IFERROR(VLOOKUP(N75,Sheet1!$A$29:$B$38,2,FALSE),\"\")","v":""}]
["","","",null,null,null,null,null,"","","",null,"",null,"","","","","","","","","","","","","","","","","","","","","","","","",{"$f":"IF($L76=\"\",\"\",IF(AND($L76>=Sheet1!$F$2,'Pupil List'!$L76<Sheet1!$G$2),Sheet1!$A$2,\"\"))","v":""},{"$f":"IF($L76=\"\",\"\",IF(AND($L76>=Sheet1!$F$3,'Pupil List'!$L76<Sheet1!$G$3),Sheet1!$A$3,\"\"))","v":""},{"$f":"IF($L76=\"\",\"\",IF(AND($L76>=Sheet1!$F$4,'Pupil List'!$L76<Sheet1!$G$4),Sheet1!$A$4,\"\"))","v":""},{"$f":"IF($L76=\"\",\"\",IF(AND($L76>=Sheet1!$F$5,'Pupil List'!$L76<Sheet1!$G$5),Sheet1!$A$5,\"\"))","v":""},{"$f":"IF($L76=\"\",\"\",IF(AND($L76>=Sheet1!$F$6,'Pupil List'!$L76<Sheet1!$G$6),Sheet1!$A$6,\"\"))","v":""},{"$f":"IF($L76=\"\",\"\",IF(AND($L76>=Sheet1!$F$7,'Pupil List'!$L76<Sheet1!$G$7),Sheet1!$A$7,\"\"))","v":""},{"$f":"IF($L76=\"\",\"\",IF(AND($L76>=Sheet1!$F$8,'Pupil List'!$L76<Sheet1!$G$8),Sheet1!$A$8,\"\"))","v":""},{"$f":"IF($L76=\"\",\"\",IF(AND($L76>=Sheet1!$F$9,'Pupil List'!$L76<Sheet1!$G$9),Sheet1!$A$9,\"\"))","v":""},{"$f":"IF($L76=\"\",\"\",IF(AND($L76>=Sheet1!$F$10,'Pupil List'!$L76<Sheet1!$G$10),Sheet1!$A$10,\"\"))","v":""},{"$f":"IF($L76=\"\",\"\",IF(AND($L76>=Sheet1!$F$11,'Pupil List'!$L76<Sheet1!$G$11),Sheet1!$A$11,\"\"))","v":""},{"$f":"IF($L76=\"\",\"\",IF(AND($L76>=Sheet1!$F$12,'Pupil List'!$L76<Sheet1!$G$12),Sheet1!$A$12,\"\"))","v":""},{"$f":"IF($L76=\"\",\"\",IF(AND($L76>=Sheet1!$F$13,'Pupil List'!$L76<Sheet1!$G$13),Sheet1!$A$13,\"\"))","v":""},{"$f":"IF($L76=\"\",\"\",IF(AND($L76>=Sheet1!$F$14,'Pupil List'!$L76<Sheet1!$G$14),Sheet1!$A$14,\"\"))","v":""},{"$f":"IF($L76=\"\",\"\",IF(AND($L76>=Sheet1!$F$15,'Pupil List'!$L76<Sheet1!$G$15),Sheet1!$A$15,\"\"))","v":""},{"$f":"IF($L76=\"\",\"\",IF(AND($L76>=Sheet1!$F$16,'Pupil List'!$L76<Sheet1!$G$16),Sheet1!$A$16,\"\"))","v":""},{"$f":"IF($L76=\"\",\"\",IF(AND($L76>=Sheet1!$F$17,'Pupil List'!$L76<Sheet1!$G$17),Sheet1!$A$17,\"\"))","v":""},{"$f":"IF($L76=\"\",\"\",IF(AND($L76>=Sheet1!$F$18,'Pupil List'!$L76<Sheet1!$G$18),Sheet1!$A$18,\"\"))","v":""},{"$f":"IF($L76=\"\",\"\",IF(AND($L76>=Sheet1!$F$19,'Pupil List'!$L76<Sheet1!$G$19),Sheet1!$A$19,\"\"))","v":""},{"$f":"IF($L76=\"\",\"\",IF(AND($L76>=Sheet1!$F$20,'Pupil List'!$L76<Sheet1!$G$20),Sheet1!$A$20,\"\"))","v":""},{"$f":"IF($L76=\"\",\"\",IF(AND($L76>=Sheet1!$F$21,'Pupil List'!$L76<Sheet1!$G$21),Sheet1!$A$21,\"\"))","v":""},{"$f":"IF($L76=\"\",\"\",IF(AND($L76>=Sheet1!$F$22,'Pupil List'!$L76<Sheet1!$G$22),Sheet1!$A$22,\"\"))","v":""},{"$f":"IF($L76=\"\",\"\",IF(AND($L76>=Sheet1!$F$23,'Pupil List'!$L76<Sheet1!$G$23),Sheet1!$A$23,\"\"))","v":""},{"$f":"IF($L76=\"\",\"\",IF(AND($L76>=Sheet1!$F$24,'Pupil List'!$L76<Sheet1!$G$24),Sheet1!$A$24,\"\"))","v":""},{"$f":"IF($L76=\"\",\"\",IF(AND($L76>=Sheet1!$F$25,'Pupil List'!$L76<Sheet1!$G$25),Sheet1!$A$25,\"\"))","v":""},{"$error":"#N/A"},{"$f":"IFERROR(VLOOKUP(BK76,Sheet1!$A$2:$E$25,3,FALSE),\"\")","v":""},{"$f":"IFERROR(VLOOKUP(BK76,Sheet1!$A$2:$E$25,4,FALSE),\"\")","v":""},{"$f":"IFERROR(VLOOKUP(BK76,Sheet1!$A$2:$E$25,5,FALSE),\"\")","v":""},{"$f":"IFERROR(VLOOKUP(N76,Sheet1!$A$29:$B$38,2,FALSE),\"\")","v":""}]
["","","",null,null,null,null,null,"","","",null,"",null,"","","","","","","","","","","","","","","","","","","","","","","","",{"$f":"IF($L77=\"\",\"\",IF(AND($L77>=Sheet1!$F$2,'Pupil List'!$L77<Sheet1!$G$2),Sheet1!$A$2,\"\"))","v":""},{"$f":"IF($L77=\"\",\"\",IF(AND($L77>=Sheet1!$F$3,'Pupil List'!$L77<Sheet1!$G$3),Sheet1!$A$3,\"\"))","v":""},{"$f":"IF($L77=\"\",\"\",IF(AND($L77>=Sheet1!$F$4,'Pupil List'!$L77<Sheet1!$G$4),Sheet1!$A$4,\"\"))","v":""},{"$f":"IF($L77=\"\",\"\",IF(AND($L77>=Sheet1!$F$5,'Pupil List'!$L77<Sheet1!$G$5),Sheet1!$A$5,\"\"))","v":""},{"$f":"IF($L77=\"\",\"\",IF(AND($L77>=Sheet1!$F$6,'Pupil List'!$L77<Sheet1!$G$6),Sheet1!$A$6,\"\"))","v":""},{"$f":"IF($L77=\"\",\"\",IF(AND($L77>=Sheet1!$F$7,'Pupil List'!$L77<Sheet1!$G$7),Sheet1!$A$7,\"\"))","v":""},{"$f":"IF($L77=\"\",\"\",IF(AND($L77>=Sheet1!$F$8,'Pupil List'!$L77<Sheet1!$G$8),Sheet1!$A$8,\"\"))","v":""},{"$f":"IF($L77=\"\",\"\",IF(AND($L77>=Sheet1!$F$9,'Pupil List'!$L77<Sheet1!$G$9),Sheet1!$A$9,\"\"))","v":""},{"$f":"IF($L77=\"\",\"\",IF(AND($L77>=Sheet1!$F$10,'Pupil List'!$L77<Sheet1!$G$10),Sheet1!$A$10,\"\"))","v":""},{"$f":"IF($L77=\"\",\"\",IF(AND($L77>=Sheet1!$F$11,'Pupil List'!$L77<Sheet1!$G$11),Sheet1!$A$11,\"\"))","v":""},{"$f":"IF($L77=\"\",\"\",IF(AND($L77>=Sheet1!$F$12,'Pupil List'!$L77<Sheet1!$G$12),Sheet1!$A$12,\"\"))","v":""},{"$f":"IF($L77=\"\",\"\",IF(AND($L77>=Sheet1!$F$13,'Pupil List'!$L77<Sheet1!$G$13),Sheet1!$A$13,\"\"))","v":""},{"$f":"IF($L77=\"\",\"\",IF(AND($L77>=Sheet1!$F$14,'Pupil List'!$L77<Sheet1!$G$14),Sheet1!$A$14,\"\"))","v":""},{"$f":"IF($L77=\"\",\"\",IF(AND($L77>=Sheet1!$F$15,'Pupil List'!$L77<Sheet1!$G$15),Sheet1!$A$15,\"\"))","v":""},{"$f":"IF($L77=\"\",\"\",IF(AND($L77>=Sheet1!$F$16,'Pupil List'!$L77<Sheet1!$G$16),Sheet1!$A$16,\"\"))","v":""},{"$f":"IF($L77=\"\",\"\",IF(AND($L77>=Sheet1!$F$17,'Pupil List'!$L77<Sheet1!$G$17),Sheet1!$A$17,\"\"))","v":""},{"$f":"IF($L77=\"\",\"\",IF(AND($L77>=Sheet1!$F$18,'Pupil List'!$L77<Sheet1!$G$18),Sheet1!$A$18,\"\"))","v":""},{"$f":"IF($L77=\"\",\"\",IF(AND($L77>=Sheet1!$F$19,'Pupil List'!$L77<Sheet1!$G$19),Sheet1!$A$19,\"\"))","v":""},{"$f":"IF($L77=\"\",\"\",IF(AND($L77>=Sheet1!$F$20,'Pupil List'!$L77<Sheet1!$G$20),Sheet1!$A$20,\"\"))","v":""},{"$f":"IF($L77=\"\",\"\",IF(AND($L77>=Sheet1!$F$21,'Pupil List'!$L77<Sheet1!$G$21),Sheet1!$A$21,\"\"))","v":""},{"$f":"IF($L77=\"\",\"\",IF(AND($L77>=Sheet1!$F$22,'Pupil List'!$L77<Sheet1!$G$22),Sheet1!$A$22,\"\"))","v":""},{"$f":"IF($L77=\"\",\"\",IF(AND($L77>=Sheet1!$F$23,'Pupil List'!$L77<Sheet1!$G$23),Sheet1!$A$23,\"\"))","v":""},{"$f":"IF($L77=\"\",\"\",IF(AND($L77>=Sheet1!$F$24,'Pupil List'!$L77<Sheet1!$G$24),Sheet1!$A$24,\"\"))","v":""},{"$f":"IF($L77=\"\",\"\",IF(AND($L77>=Sheet1!$F$25,'Pupil List'!$L77<Sheet1!$G$25),Sheet1!$A$25,\"\"))","v":""},{"$error":"#N/A"},{"$f":"IFERROR(VLOOKUP(BK77,Sheet1!$A$2:$E$25,3,FALSE),\"\")","v":""},{"$f":"IFERROR(VLOOKUP(BK77,Sheet1!$A$2:$E$25,4,FALSE),\"\")","v":""},{"$f":"IFERROR(VLOOKUP(BK77,Sheet1!$A$2:$E$25,5,FALSE),\"\")","v":""},{"$f":"IFERROR(VLOOKUP(N77,Sheet1!$A$29:$B$38,2,FALSE),\"\")","v":""}]
["","","",null,null,null,null,null,"","","",null,"",null,"","","","","","","","","","","","","","","","","","","","","","","","",{"$f":"IF($L78=\"\",\"\",IF(AND($L78>=Sheet1!$F$2,'Pupil List'!$L78<Sheet1!$G$2),Sheet1!$A$2,\"\"))","v":""},{"$f":"IF($L78=\"\",\"\",IF(AND($L78>=Sheet1!$F$3,'Pupil List'!$L78<Sheet1!$G$3),Sheet1!$A$3,\"\"))","v":""},{"$f":"IF($L78=\"\",\"\",IF(AND($L78>=Sheet1!$F$4,'Pupil List'!$L78<Sheet1!$G$4),Sheet1!$A$4,\"\"))","v":""},{"$f":"IF($L78=\"\",\"\",IF(AND($L78>=Sheet1!$F$5,'Pupil List'!$L78<Sheet1!$G$5),Sheet1!$A$5,\"\"))","v":""},{"$f":"IF($L78=\"\",\"\",IF(AND($L78>=Sheet1!$F$6,'Pupil List'!$L78<Sheet1!$G$6),Sheet1!$A$6,\"\"))","v":""},{"$f":"IF($L78=\"\",\"\",IF(AND($L78>=Sheet1!$F$7,'Pupil List'!$L78<Sheet1!$G$7),Sheet1!$A$7,\"\"))","v":""},{"$f":"IF($L78=\"\",\"\",IF(AND($L78>=Sheet1!$F$8,'Pupil List'!$L78<Sheet1!$G$8),Sheet1!$A$8,\"\"))","v":""},{"$f":"IF($L78=\"\",\"\",IF(AND($L78>=Sheet1!$F$9,'Pupil List'!$L78<Sheet1!$G$9),Sheet1!$A$9,\"\"))","v":""},{"$f":"IF($L78=\"\",\"\",IF(AND($L78>=Sheet1!$F$10,'Pupil List'!$L78<Sheet1!$G$10),Sheet1!$A$10,\"\"))","v":""},{"$f":"IF($L78=\"\",\"\",IF(AND($L78>=Sheet1!$F$11,'Pupil List'!$L78<Sheet1!$G$11),Sheet1!$A$11,\"\"))","v":""},{"$f":"IF($L78=\"\",\"\",IF(AND($L78>=Sheet1!$F$12,'Pupil List'!$L78<Sheet1!$G$12),Sheet1!$A$12,\"\"))","v":""},{"$f":"IF($L78=\"\",\"\",IF(AND($L78>=Sheet1!$F$13,'Pupil List'!$L78<Sheet1!$G$13),Sheet1!$A$13,\"\"))","v":""},{"$f":"IF($L78=\"\",\"\",IF(AND($L78>=Sheet1!$F$14,'Pupil List'!$L78<Sheet1!$G$14),Sheet1!$A$14,\"\"))","v":""},{"$f":"IF($L78=\"\",\"\",IF(AND($L78>=Sheet1!$F$15,'Pupil List'!$L78<Sheet1!$G$15),Sheet1!$A$15,\"\"))","v":""},{"$f":"IF($L78=\"\",\"\",IF(AND($L78>=Sheet1!$F$16,'Pupil List'!$L78<Sheet1!$G$16),Sheet1!$A$16,\"\"))","v":""},{"$f":"IF($L78=\"\",\"\",IF(AND($L78>=Sheet1!$F$17,'Pupil List'!$L78<Sheet1!$G$17),Sheet1!$A$17,\"\"))","v":""},{"$f":"IF($L78=\"\",\"\",IF(AND($L78>=Sheet1!$F$18,'Pupil List'!$L78<Sheet1!$G$18),Sheet1!$A$18,\"\"))","v":""},{"$f":"IF($L78=\"\",\"\",IF(AND($L78>=Sheet1!$F$19,'Pupil List'!$L78<Sheet1!$G$19),Sheet1!$A$19,\"\"))","v":""},{"$f":"IF($L78=\"\",\"\",IF(AND($L78>=Sheet1!$F$20,'Pupil List'!$L78<Sheet1!$G$20),Sheet1!$A$20,\"\"))","v":""},{"$f":"IF($L78=\"\",\"\",IF(AND($L78>=Sheet1!$F$21,'Pupil List'!$L78<Sheet1!$G$21),Sheet1!$A$21,\"\"))","v":""},{"$f":"IF($L78=\"\",\"\",IF(AND($L78>=Sheet1!$F$22,'Pupil List'!$L78<Sheet1!$G$22),Sheet1!$A$22,\"\"))","v":""},{"$f":"IF($L78=\"\",\"\",IF(AND($L78>=Sheet1!$F$23,'Pupil List'!$L78<Sheet1!$G$23),Sheet1!$A$23,\"\"))","v":""},{"$f":"IF($L78=\"\",\"\",IF(AND($L78>=Sheet1!$F$24,'Pupil List'!$L78<Sheet1!$G$24),Sheet1!$A$24,\"\"))","v":""},{"$f":"IF($L78=\"\",\"\",IF(AND($L78>=Sheet1!$F$25,'Pupil List'!$L78<Sheet1!$G$25),Sheet1!$A$25,\"\"))","v":""},{"$error":"#N/A"},{"$f":"IFERROR(VLOOKUP(BK78,Sheet1!$A$2:$E$25,3,FALSE),\"\")","v":""},{"$f":"IFERROR(VLOOKUP(BK78,Sheet1!$A$2:$E$25,4,FALSE),\"\")","v":""},{"$f":"IFERROR(VLOOKUP(BK78,Sheet1!$A$2:$E$25,5,FALSE),\"\")","v":""},{"$f":"IFERROR(VLOOKUP(N78,Sheet1!$A$29:$B$38,2,FALSE),\"\")","v":""}]
["","","",null,null,null,null,null,"","","",null,"",null,"","","","","","","","","","","","","","","","","","","","","","","","",{"$f":"IF($L79=\"\",\"\",IF(AND($L79>=Sheet1!$F$2,'Pupil List'!$L79<Sheet1!$G$2),Sheet1!$A$2,\"\"))","v":""},{"$f":"IF($L79=\"\",\"\",IF(AND($L79>=Sheet1!$F$3,'Pupil List'!$L79<Sheet1!$G$3),Sheet1!$A$3,\"\"))","v":""},{"$f":"IF($L79=\"\",\"\",IF(AND($L79>=Sheet1!$F$4,'Pupil List'!$L79<Sheet1!$G$4),Sheet1!$A$4,\"\"))","v":""},{"$f":"IF($L79=\"\",\"\",IF(AND($L79>=Sheet1!$F$5,'Pupil List'!$L79<Sheet1!$G$5),Sheet1!$A$5,\"\"))","v":""},{"$f":"IF($L79=\"\",\"\",IF(AND($L79>=Sheet1!$F$6,'Pupil List'!$L79<Sheet1!$G$6),Sheet1!$A$6,\"\"))","v":""},{"$f":"IF($L79=\"\",\"\",IF(AND($L79>=Sheet1!$F$7,'Pupil List'!$L79<Sheet1!$G$7),Sheet1!$A$7,\"\"))","v":""},{"$f":"IF($L79=\"\",\"\",IF(AND($L79>=Sheet1!$F$8,'Pupil List'!$L79<Sheet1!$G$8),Sheet1!$A$8,\"\"))","v":""},{"$f":"IF($L79=\"\",\"\",IF(AND($L79>=Sheet1!$F$9,'Pupil List'!$L79<Sheet1!$G$9),Sheet1!$A$9,\"\"))","v":""},{"$f":"IF($L79=\"\",\"\",IF(AND($L79>=Sheet1!$F$10,'Pupil List'!$L79<Sheet1!$G$10),Sheet1!$A$10,\"\"))","v":""},{"$f":"IF($L79=\"\",\"\",IF(AND($L79>=Sheet1!$F$11,'Pupil List'!$L79<Sheet1!$G$11),Sheet1!$A$11,\"\"))","v":""},{"$f":"IF($L79=\"\",\"\",IF(AND($L79>=Sheet1!$F$12,'Pupil List'!$L79<Sheet1!$G$12),Sheet1!$A$12,\"\"))","v":""},{"$f":"IF($L79=\"\",\"\",IF(AND($L79>=Sheet1!$F$13,'Pupil List'!$L79<Sheet1!$G$13),Sheet1!$A$13,\"\"))","v":""},{"$f":"IF($L79=\"\",\"\",IF(AND($L79>=Sheet1!$F$14,'Pupil List'!$L79<Sheet1!$G$14),Sheet1!$A$14,\"\"))","v":""},{"$f":"IF($L79=\"\",\"\",IF(AND($L79>=Sheet1!$F$15,'Pupil List'!$L79<Sheet1!$G$15),Sheet1!$A$15,\"\"))","v":""},{"$f":"IF($L79=\"\",\"\",IF(AND($L79>=Sheet1!$F$16,'Pupil List'!$L79<Sheet1!$G$16),Sheet1!$A$16,\"\"))","v":""},{"$f":"IF($L79=\"\",\"\",IF(AND($L79>=Sheet1!$F$17,'Pupil List'!$L79<Sheet1!$G$17),Sheet1!$A$17,\"\"))","v":""},{"$f":"IF($L79=\"\",\"\",IF(AND($L79>=Sheet1!$F$18,'Pupil List'!$L79<Sheet1!$G$18),Sheet1!$A$18,\"\"))","v":""},{"$f":"IF($L79=\"\",\"\",IF(AND($L79>=Sheet1!$F$19,'Pupil List'!$L79<Sheet1!$G$19),Sheet1!$A$19,\"\"))","v":""},{"$f":"IF($L79=\"\",\"\",IF(AND($L79>=Sheet1!$F$20,'Pupil List'!$L79<Sheet1!$G$20),Sheet1!$A$20,\"\"))","v":""},{"$f":"IF($L79=\"\",\"\",IF(AND($L79>=Sheet1!$F$21,'Pupil List'!$L79<Sheet1!$G$21),Sheet1!$A$21,\"\"))","v":""},{"$f":"IF($L79=\"\",\"\",IF(AND($L79>=Sheet1!$F$22,'Pupil List'!$L79<Sheet1!$G$22),Sheet1!$A$22,\"\"))","v":""},{"$f":"IF($L79=\"\",\"\",IF(AND($L79>=Sheet1!$F$23,'Pupil List'!$L79<Sheet1!$G$23),Sheet1!$A$23,\"\"))","v":""},{"$f":"IF($L79=\"\",\"\",IF(AND($L79>=Sheet1!$F$24,'Pupil List'!$L79<Sheet1!$G$24),Sheet1!$A$24,\"\"))","v":""},{"$f":"IF($L79=\"\",\"\",IF(AND($L79>=Sheet1!$F$25,'Pupil List'!$L79<Sheet1!$G$25),Sheet1!$A$25,\"\"))","v":""},{"$error":"#N/A"},{"$f":"IFERROR(VLOOKUP(BK79,Sheet1!$A$2:$E$25,3,FALSE),\"\")","v":""},{"$f":"IFERROR(VLOOKUP(BK79,Sheet1!$A$2:$E$25,4,FALSE),\"\")","v":""},{"$f":"IFERROR(VLOOKUP(BK79,Sheet1!$A$2:$E$25,5,FALSE),\"\")","v":""},{"$f":"IFERROR(VLOOKUP(N79,Sheet1!$A$29:$B$38,2,FALSE),\"\")","v":""}]
["","","",null,null,null,null,null,"","","",null,"",null,"","","","","","","","","","","","","","","","","","","","","","","","",{"$f":"IF($L80=\"\",\"\",IF(AND($L80>=Sheet1!$F$2,'Pupil List'!$L80<Sheet1!$G$2),Sheet1!$A$2,\"\"))","v":""},{"$f":"IF($L80=\"\",\"\",IF(AND($L80>=Sheet1!$F$3,'Pupil List'!$L80<Sheet1!$G$3),Sheet1!$A$3,\"\"))","v":""},{"$f":"IF($L80=\"\",\"\",IF(AND($L80>=Sheet1!$F$4,'Pupil List'!$L80<Sheet1!$G$4),Sheet1!$A$4,\"\"))","v":""},{"$f":"IF($L80=\"\",\"\",IF(AND($L80>=Sheet1!$F$5,'Pupil List'!$L80<Sheet1!$G$5),Sheet1!$A$5,\"\"))","v":""},{"$f":"IF($L80=\"\",\"\",IF(AND($L80>=Sheet1!$F$6,'Pupil List'!$L80<Sheet1!$G$6),Sheet1!$A$6,\"\"))","v":""},{"$f":"IF($L80=\"\",\"\",IF(AND($L80>=Sheet1!$F$7,'Pupil List'!$L80<Sheet1!$G$7),Sheet1!$A$7,\"\"))","v":""},{"$f":"IF($L80=\"\",\"\",IF(AND($L80>=Sheet1!$F$8,'Pupil List'!$L80<Sheet1!$G$8),Sheet1!$A$8,\"\"))","v":""},{"$f":"IF($L80=\"\",\"\",IF(AND($L80>=Sheet1!$F$9,'Pupil List'!$L80<Sheet1!$G$9),Sheet1!$A$9,\"\"))","v":""},{"$f":"IF($L80=\"\",\"\",IF(AND($L80>=Sheet1!$F$10,'Pupil List'!$L80<Sheet1!$G$10),Sheet1!$A$10,\"\"))","v":""},{"$f":"IF($L80=\"\",\"\",IF(AND($L80>=Sheet1!$F$11,'Pupil List'!$L80<Sheet1!$G$11),Sheet1!$A$11,\"\"))","v":""},{"$f":"IF($L80=\"\",\"\",IF(AND($L80>=Sheet1!$F$12,'Pupil List'!$L80<Sheet1!$G$12),Sheet1!$A$12,\"\"))","v":""},{"$f":"IF($L80=\"\",\"\",IF(AND($L80>=Sheet1!$F$13,'Pupil List'!$L80<Sheet1!$G$13),Sheet1!$A$13,\"\"))","v":""},{"$f":"IF($L80=\"\",\"\",IF(AND($L80>=Sheet1!$F$14,'Pupil List'!$L80<Sheet1!$G$14),Sheet1!$A$14,\"\"))","v":""},{"$f":"IF($L80=\"\",\"\",IF(AND($L80>=Sheet1!$F$15,'Pupil List'!$L80<Sheet1!$G$15),Sheet1!$A$15,\"\"))","v":""},{"$f":"IF($L80=\"\",\"\",IF(AND($L80>=Sheet1!$F$16,'Pupil List'!$L80<Sheet1!$G$16),Sheet1!$A$16,\"\"))","v":""},{"$f":"IF($L80=\"\",\"\",IF(AND($L80>=Sheet1!$F$17,'Pupil List'!$L80<Sheet1!$G$17),Sheet1!$A$17,\"\"))","v":""},{"$f":"IF($L80=\"\",\"\",IF(AND($L80>=Sheet1!$F$18,'Pupil List'!$L80<Sheet1!$G$18),Sheet1!$A$18,\"\"))","v":""},{"$f":"IF($L80=\"\",\"\",IF(AND($L80>=Sheet1!$F$19,'Pupil List'!$L80<Sheet1!$G$19),Sheet1!$A$19,\"\"))","v":""},{"$f":"IF($L80=\"\",\"\",IF(AND($L80>=Sheet1!$F$20,'Pupil List'!$L80<Sheet1!$G$20),Sheet1!$A$20,\"\"))","v":""},{"$f":"IF($L80=\"\",\"\",IF(AND($L80>=Sheet1!$F$21,'Pupil List'!$L80<Sheet1!$G$21),Sheet1!$A$21,\"\"))","v":""},{"$f":"IF($L80=\"\",\"\",IF(AND($L80>=Sheet1!$F$22,'Pupil List'!$L80<Sheet1!$G$22),Sheet1!$A$22,\"\"))","v":""},{"$f":"IF($L80=\"\",\"\",IF(AND($L80>=Sheet1!$F$23,'Pupil List'!$L80<Sheet1!$G$23),Sheet1!$A$23,\"\"))","v":""},{"$f":"IF($L80=\"\",\"\",IF(AND($L80>=Sheet1!$F$24,'Pupil List'!$L80<Sheet1!$G$24),Sheet1!$A$24,\"\"))","v":""},{"$f":"IF($L80=\"\",\"\",IF(AND($L80>=Sheet1!$F$25,'Pupil List'!$L80<Sheet1!$G$25),Sheet1!$A$25,\"\"))","v":""},{"$error":"#N/A"},{"$f":"IFERROR(VLOOKUP(BK80,Sheet1!$A$2:$E$25,3,FALSE),\"\")","v":""},{"$f":"IFERROR(VLOOKUP(BK80,Sheet1!$A$2:$E$25,4,FALSE),\"\")","v":""},{"$f":"IFERROR(VLOOKUP(BK80,Sheet1!$A$2:$E$25,5,FALSE),\"\")","v":""},{"$f":"IFERROR(VLOOKUP(N80,Sheet1!$A$29:$B$38,2,FALSE),\"\")","v":""}]
["","","",null,null,null,null,null,"","","",null,"",null,"","","","","","","","","","","","","","","","","","","","","","","","",{"$f":"IF($L81=\"\",\"\",IF(AND($L81>=Sheet1!$F$2,'Pupil List'!$L81<Sheet1!$G$2),Sheet1!$A$2,\"\"))","v":""},{"$f":"IF($L81=\"\",\"\",IF(AND($L81>=Sheet1!$F$3,'Pupil List'!$L81<Sheet1!$G$3),Sheet1!$A$3,\"\"))","v":""},{"$f":"IF($L81=\"\",\"\",IF(AND($L81>=Sheet1!$F$4,'Pupil List'!$L81<Sheet1!$G$4),Sheet1!$A$4,\"\"))","v":""},{"$f":"IF($L81=\"\",\"\",IF(AND($L81>=Sheet1!$F$5,'Pupil List'!$L81<Sheet1!$G$5),Sheet1!$A$5,\"\"))","v":""},{"$f":"IF($L81=\"\",\"\",IF(AND($L81>=Sheet1!$F$6,'Pupil List'!$L81<Sheet1!$G$6),Sheet1!$A$6,\"\"))","v":""},{"$f":"IF($L81=\"\",\"\",IF(AND($L81>=Sheet1!$F$7,'Pupil List'!$L81<Sheet1!$G$7),Sheet1!$A$7,\"\"))","v":""},{"$f":"IF($L81=\"\",\"\",IF(AND($L81>=Sheet1!$F$8,'Pupil List'!$L81<Sheet1!$G$8),Sheet1!$A$8,\"\"))","v":""},{"$f":"IF($L81=\"\",\"\",IF(AND($L81>=Sheet1!$F$9,'Pupil List'!$L81<Sheet1!$G$9),Sheet1!$A$9,\"\"))","v":""},{"$f":"IF($L81=\"\",\"\",IF(AND($L81>=Sheet1!$F$10,'Pupil List'!$L81<Sheet1!$G$10),Sheet1!$A$10,\"\"))","v":""},{"$f":"IF($L81=\"\",\"\",IF(AND($L81>=Sheet1!$F$11,'Pupil List'!$L81<Sheet1!$G$11),Sheet1!$A$11,\"\"))","v":""},{"$f":"IF($L81=\"\",\"\",IF(AND($L81>=Sheet1!$F$12,'Pupil List'!$L81<Sheet1!$G$12),Sheet1!$A$12,\"\"))","v":""},{"$f":"IF($L81=\"\",\"\",IF(AND($L81>=Sheet1!$F$13,'Pupil List'!$L81<Sheet1!$G$13),Sheet1!$A$13,\"\"))","v":""},{"$f":"IF($L81=\"\",\"\",IF(AND($L81>=Sheet1!$F$14,'Pupil List'!$L81<Sheet1!$G$14),Sheet1!$A$14,\"\"))","v":""},{"$f":"IF($L81=\"\",\"\",IF(AND($L81>=Sheet1!$F$15,'Pupil List'!$L81<Sheet1!$G$15),Sheet1!$A$15,\"\"))","v":""},{"$f":"IF($L81=\"\",\"\",IF(AND($L81>=Sheet1!$F$16,'Pupil List'!$L81<Sheet1!$G$16),Sheet1!$A$16,\"\"))","v":""},{"$f":"IF($L81=\"\",\"\",IF(AND($L81>=Sheet1!$F$17,'Pupil List'!$L81<Sheet1!$G$17),Sheet1!$A$17,\"\"))","v":""},{"$f":"IF($L81=\"\",\"\",IF(AND($L81>=Sheet1!$F$18,'Pupil List'!$L81<Sheet1!$G$18),Sheet1!$A$18,\"\"))","v":""},{"$f":"IF($L81=\"\",\"\",IF(AND($L81>=Sheet1!$F$19,'Pupil List'!$L81<Sheet1!$G$19),Sheet1!$A$19,\"\"))","v":""},{"$f":"IF($L81=\"\",\"\",IF(AND($L81>=Sheet1!$F$20,'Pupil List'!$L81<Sheet1!$G$20),Sheet1!$A$20,\"\"))","v":""},{"$f":"IF($L81=\"\",\"\",IF(AND($L81>=Sheet1!$F$21,'Pupil List'!$L81<Sheet1!$G$21),Sheet1!$A$21,\"\"))","v":""},{"$f":"IF($L81=\"\",\"\",IF(AND($L81>=Sheet1!$F$22,'Pupil List'!$L81<Sheet1!$G$22),Sheet1!$A$22,\"\"))","v":""},{"$f":"IF($L81=\"\",\"\",IF(AND($L81>=Sheet1!$F$23,'Pupil List'!$L81<Sheet1!$G$23),Sheet1!$A$23,\"\"))","v":""},{"$f":"IF($L81=\"\",\"\",IF(AND($L81>=Sheet1!$F$24,'Pupil List'!$L81<Sheet1!$G$24),Sheet1!$A$24,\"\"))","v":""},{"$f":"IF($L81=\"\",\"\",IF(AND($L81>=Sheet1!$F$25,'Pupil List'!$L81<Sheet1!$G$25),Sheet1!$A$25,\"\"))","v":""},{"$error":"#N/A"},{"$f":"IFERROR(VLOOKUP(BK81,Sheet1!$A$2:$E$25,3,FALSE),\"\")","v":""},{"$f":"IFERROR(VLOOKUP(BK81,Sheet1!$A$2:$E$25,4,FALSE),\"\")","v":""},{"$f":"IFERROR(VLOOKUP(BK81,Sheet1!$A$2:$E$25,5,FALSE),\"\")","v":""},{"$f":"IFERROR(VLOOKUP(N81,Sheet1!$A$29:$B$38,2,FALSE),\"\")","v":""}]
["","","",null,null,null,null,null,"","","",null,"",null,"","","","","","","","","","","","","","","","","","","","","","","","",{"$f":"IF($L82=\"\",\"\",IF(AND($L82>=Sheet1!$F$2,'Pupil List'!$L82<Sheet1!$G$2),Sheet1!$A$2,\"\"))","v":""},{"$f":"IF($L82=\"\",\"\",IF(AND($L82>=Sheet1!$F$3,'Pupil List'!$L82<Sheet1!$G$3),Sheet1!$A$3,\"\"))","v":""},{"$f":"IF($L82=\"\",\"\",IF(AND($L82>=Sheet1!$F$4,'Pupil List'!$L82<Sheet1!$G$4),Sheet1!$A$4,\"\"))","v":""},{"$f":"IF($L82=\"\",\"\",IF(AND($L82>=Sheet1!$F$5,'Pupil List'!$L82<Sheet1!$G$5),Sheet1!$A$5,\"\"))","v":""},{"$f":"IF($L82=\"\",\"\",IF(AND($L82>=Sheet1!$F$6,'Pupil List'!$L82<Sheet1!$G$6),Sheet1!$A$6,\"\"))","v":""},{"$f":"IF($L82=\"\",\"\",IF(AND($L82>=Sheet1!$F$7,'Pupil List'!$L82<Sheet1!$G$7),Sheet1!$A$7,\"\"))","v":""},{"$f":"IF($L82=\"\",\"\",IF(AND($L82>=Sheet1!$F$8,'Pupil List'!$L82<Sheet1!$G$8),Sheet1!$A$8,\"\"))","v":""},{"$f":"IF($L82=\"\",\"\",IF(AND($L82>=Sheet1!$F$9,'Pupil List'!$L82<Sheet1!$G$9),Sheet1!$A$9,\"\"))","v":""},{"$f":"IF($L82=\"\",\"\",IF(AND($L82>=Sheet1!$F$10,'Pupil List'!$L82<Sheet1!$G$10),Sheet1!$A$10,\"\"))","v":""},{"$f":"IF($L82=\"\",\"\",IF(AND($L82>=Sheet1!$F$11,'Pupil List'!$L82<Sheet1!$G$11),Sheet1!$A$11,\"\"))","v":""},{"$f":"IF($L82=\"\",\"\",IF(AND($L82>=Sheet1!$F$12,'Pupil List'!$L82<Sheet1!$G$12),Sheet1!$A$12,\"\"))","v":""},{"$f":"IF($L82=\"\",\"\",IF(AND($L82>=Sheet1!$F$13,'Pupil List'!$L82<Sheet1!$G$13),Sheet1!$A$13,\"\"))","v":""},{"$f":"IF($L82=\"\",\"\",IF(AND($L82>=Sheet1!$F$14,'Pupil List'!$L82<Sheet1!$G$14),Sheet1!$A$14,\"\"))","v":""},{"$f":"IF($L82=\"\",\"\",IF(AND($L82>=Sheet1!$F$15,'Pupil List'!$L82<Sheet1!$G$15),Sheet1!$A$15,\"\"))","v":""},{"$f":"IF($L82=\"\",\"\",IF(AND($L82>=Sheet1!$F$16,'Pupil List'!$L82<Sheet1!$G$16),Sheet1!$A$16,\"\"))","v":""},{"$f":"IF($L82=\"\",\"\",IF(AND($L82>=Sheet1!$F$17,'Pupil List'!$L82<Sheet1!$G$17),Sheet1!$A$17,\"\"))","v":""},{"$f":"IF($L82=\"\",\"\",IF(AND($L82>=Sheet1!$F$18,'Pupil List'!$L82<Sheet1!$G$18),Sheet1!$A$18,\"\"))","v":""},{"$f":"IF($L82=\"\",\"\",IF(AND($L82>=Sheet1!$F$19,'Pupil List'!$L82<Sheet1!$G$19),Sheet1!$A$19,\"\"))","v":""},{"$f":"IF($L82=\"\",\"\",IF(AND($L82>=Sheet1!$F$20,'Pupil List'!$L82<Sheet1!$G$20),Sheet1!$A$20,\"\"))","v":""},{"$f":"IF($L82=\"\",\"\",IF(AND($L82>=Sheet1!$F$21,'Pupil List'!$L82<Sheet1!$G$21),Sheet1!$A$21,\"\"))","v":""},{"$f":"IF($L82=\"\",\"\",IF(AND($L82>=Sheet1!$F$22,'Pupil List'!$L82<Sheet1!$G$22),Sheet1!$A$22,\"\"))","v":""},{"$f":"IF($L82=\"\",\"\",IF(AND($L82>=Sheet1!$F$23,'Pupil List'!$L82<Sheet1!$G$23),Sheet1!$A$23,\"\"))","v":""},{"$f":"IF($L82=\"\",\"\",IF(AND($L82>=Sheet1!$F$24,'Pupil List'!$L82<Sheet1!$G$24),Sheet1!$A$24,\"\"))","v":""},{"$f":"IF($L82=\"\",\"\",IF(AND($L82>=Sheet1!$F$25,'Pupil List'!$L82<Sheet1!$G$25),Sheet1!$A$25,\"\"))","v":""},{"$error":"#N/A"},{"$f":"IFERROR(VLOOKUP(BK82,Sheet1!$A$2:$E$25,3,FALSE),\"\")","v":""},{"$f":"IFERROR(VLOOKUP(BK82,Sheet1!$A$2:$E$25,4,FALSE),\"\")","v":""},{"$f":"IFERROR(VLOOKUP(BK82,Sheet1!$A$2:$E$25,5,FALSE),\"\")","v":""},{"$f":"IFERROR(VLOOKUP(N82,Sheet1!$A$29:$B$38,2,FALSE),\"\")","v":""}]
["","","",null,null,null,null,null,"","","",null,"",null,"","","","","","","","","","","","","","","","","","","","","","","","",{"$f":"IF($L83=\"\",\"\",IF(AND($L83>=Sheet1!$F$2,'Pupil List'!$L83<Sheet1!$G$2),Sheet1!$A$2,\"\"))","v":""},{"$f":"IF($L83=\"\",\"\",IF(AND($L83>=Sheet1!$F$3,'Pupil List'!$L83<Sheet1!$G$3),Sheet1!$A$3,\"\"))","v":""},{"$f":"IF($L83=\"\",\"\",IF(AND($L83>=Sheet1!$F$4,'Pupil List'!$L83<Sheet1!$G$4),Sheet1!$A$4,\"\"))","v":""},{"$f":"IF($L83=\"\",\"\",IF(AND($L83>=Sheet1!$F$5,'Pupil List'!$L83<Sheet1!$G$5),Sheet1!$A$5,\"\"))","v":""},{"$f":"IF($L83=\"\",\"\",IF(AND($L83>=Sheet1!$F$6,'Pupil List'!$L83<Sheet1!$G$6),Sheet1!$A$6,\"\"))","v":""},{"$f":"IF($L83=\"\",\"\",IF(AND($L83>=Sheet1!$F$7,'Pupil List'!$L83<Sheet1!$G$7),Sheet1!$A$7,\"\"))","v":""},{"$f":"IF($L83=\"\",\"\",IF(AND($L83>=Sheet1!$F$8,'Pupil List'!$L83<Sheet1!$G$8),Sheet1!$A$8,\"\"))","v":""},{"$f":"IF($L83=\"\",\"\",IF(AND($L83>=Sheet1!$F$9,'Pupil List'!$L83<Sheet1!$G$9),Sheet1!$A$9,\"\"))","v":""},{"$f":"IF($L83=\"\",\"\",IF(AND($L83>=Sheet1!$F$10,'Pupil List'!$L83<Sheet1!$G$10),Sheet1!$A$10,\"\"))","v":""},{"$f":"IF($L83=\"\",\"\",IF(AND($L83>=Sheet1!$F$11,'Pupil List'!$L83<Sheet1!$G$11),Sheet1!$A$11,\"\"))","v":""},{"$f":"IF($L83=\"\",\"\",IF(AND($L83>=Sheet1!$F$12,'Pupil List'!$L83<Sheet1!$G$12),Sheet1!$A$12,\"\"))","v":""},{"$f":"IF($L83=\"\",\"\",IF(AND($L83>=Sheet1!$F$13,'Pupil List'!$L83<Sheet1!$G$13),Sheet1!$A$13,\"\"))","v":""},{"$f":"IF($L83=\"\",\"\",IF(AND($L83>=Sheet1!$F$14,'Pupil List'!$L83<Sheet1!$G$14),Sheet1!$A$14,\"\"))","v":""},{"$f":"IF($L83=\"\",\"\",IF(AND($L83>=Sheet1!$F$15,'Pupil List'!$L83<Sheet1!$G$15),Sheet1!$A$15,\"\"))","v":""},{"$f":"IF($L83=\"\",\"\",IF(AND($L83>=Sheet1!$F$16,'Pupil List'!$L83<Sheet1!$G$16),Sheet1!$A$16,\"\"))","v":""},{"$f":"IF($L83=\"\",\"\",IF(AND($L83>=Sheet1!$F$17,'Pupil List'!$L83<Sheet1!$G$17),Sheet1!$A$17,\"\"))","v":""},{"$f":"IF($L83=\"\",\"\",IF(AND($L83>=Sheet1!$F$18,'Pupil List'!$L83<Sheet1!$G$18),Sheet1!$A$18,\"\"))","v":""},{"$f":"IF($L83=\"\",\"\",IF(AND($L83>=Sheet1!$F$19,'Pupil List'!$L83<Sheet1!$G$19),Sheet1!$A$19,\"\"))","v":""},{"$f":"IF($L83=\"\",\"\",IF(AND($L83>=Sheet1!$F$20,'Pupil List'!$L83<Sheet1!$G$20),Sheet1!$A$20,\"\"))","v":""},{"$f":"IF($L83=\"\",\"\",IF(AND($L83>=Sheet1!$F$21,'Pupil List'!$L83<Sheet1!$G$21),Sheet1!$A$21,\"\"))","v":""},{"$f":"IF($L83=\"\",\"\",IF(AND($L83>=Sheet1!$F$22,'Pupil List'!$L83<Sheet1!$G$22),Sheet1!$A$22,\"\"))","v":""},{"$f":"IF($L83=\"\",\"\",IF(AND($L83>=Sheet1!$F$23,'Pupil List'!$L83<Sheet1!$G$23),Sheet1!$A$23,\"\"))","v":""},{"$f":"IF($L83=\"\",\"\",IF(AND($L83>=Sheet1!$F$24,'Pupil List'!$L83<Sheet1!$G$24),Sheet1!$A$24,\"\"))","v":""},{"$f":"IF($L83=\"\",\"\",IF(AND($L83>=Sheet1!$F$25,'Pupil List'!$L83<Sheet1!$G$25),Sheet1!$A$25,\"\"))","v":""},{"$error":"#N/A"},{"$f":"IFERROR(VLOOKUP(BK83,Sheet1!$A$2:$E$25,3,FALSE),\"\")","v":""},{"$f":"IFERROR(VLOOKUP(BK83,Sheet1!$A$2:$E$25,4,FALSE),\"\")","v":""},{"$f":"IFERROR(VLOOKUP(BK83,Sheet1!$A$2:$E$25,5,FALSE),\"\")","v":""},{"$f":"IFERROR(VLOOKUP(N83,Sheet1!$A$29:$B$38,2,FALSE),\"\")","v":""}]
["","","",null,null,null,null,null,"","","",null,"",null,"","","","","","","","","","","","","","","","","","","","","","","","",{"$f":"IF($L84=\"\",\"\",IF(AND($L84>=Sheet1!$F$2,'Pupil List'!$L84<Sheet1!$G$2),Sheet1!$A$2,\"\"))","v":""},{"$f":"IF($L84=\"\",\"\",IF(AND($L84>=Sheet1!$F$3,'Pupil List'!$L84<Sheet1!$G$3),Sheet1!$A$3,\"\"))","v":""},{"$f":"IF($L84=\"\",\"\",IF(AND($L84>=Sheet1!$F$4,'Pupil List'!$L84<Sheet1!$G$4),Sheet1!$A$4,\"\"))","v":""},{"$f":"IF($L84=\"\",\"\",IF(AND($L84>=Sheet1!$F$5,'Pupil List'!$L84<Sheet1!$G$5),Sheet1!$A$5,\"\"))","v":""},{"$f":"IF($L84=\"\",\"\",IF(AND($L84>=Sheet1!$F$6,'Pupil List'!$L84<Sheet1!$G$6),Sheet1!$A$6,\"\"))","v":""},{"$f":"IF($L84=\"\",\"\",IF(AND($L84>=Sheet1!$F$7,'Pupil List'!$L84<Sheet1!$G$7),Sheet1!$A$7,\"\"))","v":""},{"$f":"IF($L84=\"\",\"\",IF(AND($L84>=Sheet1!$F$8,'Pupil List'!$L84<Sheet1!$G$8),Sheet1!$A$8,\"\"))","v":""},{"$f":"IF($L84=\"\",\"\",IF(AND($L84>=Sheet1!$F$9,'Pupil List'!$L84<Sheet1!$G$9),Sheet1!$A$9,\"\"))","v":""},{"$f":"IF($L84=\"\",\"\",IF(AND($L84>=Sheet1!$F$10,'Pupil List'!$L84<Sheet1!$G$10),Sheet1!$A$10,\"\"))","v":""},{"$f":"IF($L84=\"\",\"\",IF(AND($L84>=Sheet1!$F$11,'Pupil List'!$L84<Sheet1!$G$11),Sheet1!$A$11,\"\"))","v":""},{"$f":"IF($L84=\"\",\"\",IF(AND($L84>=Sheet1!$F$12,'Pupil List'!$L84<Sheet1!$G$12),Sheet1!$A$12,\"\"))","v":""},{"$f":"IF($L84=\"\",\"\",IF(AND($L84>=Sheet1!$F$13,'Pupil List'!$L84<Sheet1!$G$13),Sheet1!$A$13,\"\"))","v":""},{"$f":"IF($L84=\"\",\"\",IF(AND($L84>=Sheet1!$F$14,'Pupil List'!$L84<Sheet1!$G$14),Sheet1!$A$14,\"\"))","v":""},{"$f":"IF($L84=\"\",\"\",IF(AND($L84>=Sheet1!$F$15,'Pupil List'!$L84<Sheet1!$G$15),Sheet1!$A$15,\"\"))","v":""},{"$f":"IF($L84=\"\",\"\",IF(AND($L84>=Sheet1!$F$16,'Pupil List'!$L84<Sheet1!$G$16),Sheet1!$A$16,\"\"))","v":""},{"$f":"IF($L84=\"\",\"\",IF(AND($L84>=Sheet1!$F$17,'Pupil List'!$L84<Sheet1!$G$17),Sheet1!$A$17,\"\"))","v":""},{"$f":"IF($L84=\"\",\"\",IF(AND($L84>=Sheet1!$F$18,'Pupil List'!$L84<Sheet1!$G$18),Sheet1!$A$18,\"\"))","v":""},{"$f":"IF($L84=\"\",\"\",IF(AND($L84>=Sheet1!$F$19,'Pupil List'!$L84<Sheet1!$G$19),Sheet1!$A$19,\"\"))","v":""},{"$f":"IF($L84=\"\",\"\",IF(AND($L84>=Sheet1!$F$20,'Pupil List'!$L84<Sheet1!$G$20),Sheet1!$A$20,\"\"))","v":""},{"$f":"IF($L84=\"\",\"\",IF(AND($L84>=Sheet1!$F$21,'Pupil List'!$L84<Sheet1!$G$21),Sheet1!$A$21,\"\"))","v":""},{"$f":"IF($L84=\"\",\"\",IF(AND($L84>=Sheet1!$F$22,'Pupil List'!$L84<Sheet1!$G$22),Sheet1!$A$22,\"\"))","v":""},{"$f":"IF($L84=\"\",\"\",IF(AND($L84>=Sheet1!$F$23,'Pupil List'!$L84<Sheet1!$G$23),Sheet1!$A$23,\"\"))","v":""},{"$f":"IF($L84=\"\",\"\",IF(AND($L84>=Sheet1!$F$24,'Pupil List'!$L84<Sheet1!$G$24),Sheet1!$A$24,\"\"))","v":""},{"$f":"IF($L84=\"\",\"\",IF(AND($L84>=Sheet1!$F$25,'Pupil List'!$L84<Sheet1!$G$25),Sheet1!$A$25,\"\"))","v":""},{"$error":"#N/A"},{"$f":"IFERROR(VLOOKUP(BK84,Sheet1!$A$2:$E$25,3,FALSE),\"\")","v":""},{"$f":"IFERROR(VLOOKUP(BK84,Sheet1!$A$2:$E$25,4,FALSE),\"\")","v":""},{"$f":"IFERROR(VLOOKUP(BK84,Sheet1!$A$2:$E$25,5,FALSE),\"\")","v":""},{"$f":"IFERROR(VLOOKUP(N84,Sheet1!$A$29:$B$38,2,FALSE),\"\")","v":""}]
["","","",null,null,null,null,null,"","","",null,"",null,"","","","","","","","","","","","","","","","","","","","","","","","",{"$f":"IF($L85=\"\",\"\",IF(AND($L85>=Sheet1!$F$2,'Pupil List'!$L85<Sheet1!$G$2),Sheet1!$A$2,\"\"))","v":""},{"$f":"IF($L85=\"\",\"\",IF(AND($L85>=Sheet1!$F$3,'Pupil List'!$L85<Sheet1!$G$3),Sheet1!$A$3,\"\"))","v":""},{"$f":"IF($L85=\"\",\"\",IF(AND($L85>=Sheet1!$F$4,'Pupil List'!$L85<Sheet1!$G$4),Sheet1!$A$4,\"\"))","v":""},{"$f":"IF($L85=\"\",\"\",IF(AND($L85>=Sheet1!$F$5,'Pupil List'!$L85<Sheet1!$G$5),Sheet1!$A$5,\"\"))","v":""},{"$f":"IF($L85=\"\",\"\",IF(AND($L85>=Sheet1!$F$6,'Pupil List'!$L85<Sheet1!$G$6),Sheet1!$A$6,\"\"))","v":""},{"$f":"IF($L85=\"\",\"\",IF(AND($L85>=Sheet1!$F$7,'Pupil List'!$L85<Sheet1!$G$7),Sheet1!$A$7,\"\"))","v":""},{"$f":"IF($L85=\"\",\"\",IF(AND($L85>=Sheet1!$F$8,'Pupil List'!$L85<Sheet1!$G$8),Sheet1!$A$8,\"\"))","v":""},{"$f":"IF($L85=\"\",\"\",IF(AND($L85>=Sheet1!$F$9,'Pupil List'!$L85<Sheet1!$G$9),Sheet1!$A$9,\"\"))","v":""},{"$f":"IF($L85=\"\",\"\",IF(AND($L85>=Sheet1!$F$10,'Pupil List'!$L85<Sheet1!$G$10),Sheet1!$A$10,\"\"))","v":""},{"$f":"IF($L85=\"\",\"\",IF(AND($L85>=Sheet1!$F$11,'Pupil List'!$L85<Sheet1!$G$11),Sheet1!$A$11,\"\"))","v":""},{"$f":"IF($L85=\"\",\"\",IF(AND($L85>=Sheet1!$F$12,'Pupil List'!$L85<Sheet1!$G$12),Sheet1!$A$12,\"\"))","v":""},{"$f":"IF($L85=\"\",\"\",IF(AND($L85>=Sheet1!$F$13,'Pupil List'!$L85<Sheet1!$G$13),Sheet1!$A$13,\"\"))","v":""},{"$f":"IF($L85=\"\",\"\",IF(AND($L85>=Sheet1!$F$14,'Pupil List'!$L85<Sheet1!$G$14),Sheet1!$A$14,\"\"))","v":""},{"$f":"IF($L85=\"\",\"\",IF(AND($L85>=Sheet1!$F$15,'Pupil List'!$L85<Sheet1!$G$15),Sheet1!$A$15,\"\"))","v":""},{"$f":"IF($L85=\"\",\"\",IF(AND($L85>=Sheet1!$F$16,'Pupil List'!$L85<Sheet1!$G$16),Sheet1!$A$16,\"\"))","v":""},{"$f":"IF($L85=\"\",\"\",IF(AND($L85>=Sheet1!$F$17,'Pupil List'!$L85<Sheet1!$G$17),Sheet1!$A$17,\"\"))","v":""},{"$f":"IF($L85=\"\",\"\",IF(AND($L85>=Sheet1!$F$18,'Pupil List'!$L85<Sheet1!$G$18),Sheet1!$A$18,\"\"))","v":""},{"$f":"IF($L85=\"\",\"\",IF(AND($L85>=Sheet1!$F$19,'Pupil List'!$L85<Sheet1!$G$19),Sheet1!$A$19,\"\"))","v":""},{"$f":"IF($L85=\"\",\"\",IF(AND($L85>=Sheet1!$F$20,'Pupil List'!$L85<Sheet1!$G$20),Sheet1!$A$20,\"\"))","v":""},{"$f":"IF($L85=\"\",\"\",IF(AND($L85>=Sheet1!$F$21,'Pupil List'!$L85<Sheet1!$G$21),Sheet1!$A$21,\"\"))","v":""},{"$f":"IF($L85=\"\",\"\",IF(AND($L85>=Sheet1!$F$22,'Pupil List'!$L85<Sheet1!$G$22),Sheet1!$A$22,\"\"))","v":""},{"$f":"IF($L85=\"\",\"\",IF(AND($L85>=Sheet1!$F$23,'Pupil List'!$L85<Sheet1!$G$23),Sheet1!$A$23,\"\"))","v":""},{"$f":"IF($L85=\"\",\"\",IF(AND($L85>=Sheet1!$F$24,'Pupil List'!$L85<Sheet1!$G$24),Sheet1!$A$24,\"\"))","v":""},{"$f":"IF($L85=\"\",\"\",IF(AND($L85>=Sheet1!$F$25,'Pupil List'!$L85<Sheet1!$G$25),Sheet1!$A$25,\"\"))","v":""},{"$error":"#N/A"},{"$f":"IFERROR(VLOOKUP(BK85,Sheet1!$A$2:$E$25,3,FALSE),\"\")","v":""},{"$f":"IFERROR(VLOOKUP(BK85,Sheet1!$A$2:$E$25,4,FALSE),\"\")","v":""},{"$f":"IFERROR(VLOOKUP(BK85,Sheet1!$A$2:$E$25,5,FALSE),\"\")","v":""},{"$f":"IFERROR(VLOOKUP(N85,Sheet1!$A$29:$B$38,2,FALSE),\"\")","v":""}]
["","","",null,null,null,null,null,"","","",null,"",null,"","","","","","","","","","","","","","","","","","","","","","","","",{"$f":"IF($L86=\"\",\"\",IF(AND($L86>=Sheet1!$F$2,'Pupil List'!$L86<Sheet1!$G$2),Sheet1!$A$2,\"\"))","v":""},{"$f":"IF($L86=\"\",\"\",IF(AND($L86>=Sheet1!$F$3,'Pupil List'!$L86<Sheet1!$G$3),Sheet1!$A$3,\"\"))","v":""},{"$f":"IF($L86=\"\",\"\",IF(AND($L86>=Sheet1!$F$4,'Pupil List'!$L86<Sheet1!$G$4),Sheet1!$A$4,\"\"))","v":""},{"$f":"IF($L86=\"\",\"\",IF(AND($L86>=Sheet1!$F$5,'Pupil List'!$L86<Sheet1!$G$5),Sheet1!$A$5,\"\"))","v":""},{"$f":"IF($L86=\"\",\"\",IF(AND($L86>=Sheet1!$F$6,'Pupil List'!$L86<Sheet1!$G$6),Sheet1!$A$6,\"\"))","v":""},{"$f":"IF($L86=\"\",\"\",IF(AND($L86>=Sheet1!$F$7,'Pupil List'!$L86<Sheet1!$G$7),Sheet1!$A$7,\"\"))","v":""},{"$f":"IF($L86=\"\",\"\",IF(AND($L86>=Sheet1!$F$8,'Pupil List'!$L86<Sheet1!$G$8),Sheet1!$A$8,\"\"))","v":""},{"$f":"IF($L86=\"\",\"\",IF(AND($L86>=Sheet1!$F$9,'Pupil List'!$L86<Sheet1!$G$9),Sheet1!$A$9,\"\"))","v":""},{"$f":"IF($L86=\"\",\"\",IF(AND($L86>=Sheet1!$F$10,'Pupil List'!$L86<Sheet1!$G$10),Sheet1!$A$10,\"\"))","v":""},{"$f":"IF($L86=\"\",\"\",IF(AND($L86>=Sheet1!$F$11,'Pupil List'!$L86<Sheet1!$G$11),Sheet1!$A$11,\"\"))","v":""},{"$f":"IF($L86=\"\",\"\",IF(AND($L86>=Sheet1!$F$12,'Pupil List'!$L86<Sheet1!$G$12),Sheet1!$A$12,\"\"))","v":""},{"$f":"IF($L86=\"\",\"\",IF(AND($L86>=Sheet1!$F$13,'Pupil List'!$L86<Sheet1!$G$13),Sheet1!$A$13,\"\"))","v":""},{"$f":"IF($L86=\"\",\"\",IF(AND($L86>=Sheet1!$F$14,'Pupil List'!$L86<Sheet1!$G$14),Sheet1!$A$14,\"\"))","v":""},{"$f":"IF($L86=\"\",\"\",IF(AND($L86>=Sheet1!$F$15,'Pupil List'!$L86<Sheet1!$G$15),Sheet1!$A$15,\"\"))","v":""},{"$f":"IF($L86=\"\",\"\",IF(AND($L86>=Sheet1!$F$16,'Pupil List'!$L86<Sheet1!$G$16),Sheet1!$A$16,\"\"))","v":""},{"$f":"IF($L86=\"\",\"\",IF(AND($L86>=Sheet1!$F$17,'Pupil List'!$L86<Sheet1!$G$17),Sheet1!$A$17,\"\"))","v":""},{"$f":"IF($L86=\"\",\"\",IF(AND($L86>=Sheet1!$F$18,'Pupil List'!$L86<Sheet1!$G$18),Sheet1!$A$18,\"\"))","v":""},{"$f":"IF($L86=\"\",\"\",IF(AND($L86>=Sheet1!$F$19,'Pupil List'!$L86<Sheet1!$G$19),Sheet1!$A$19,\"\"))","v":""},{"$f":"IF($L86=\"\",\"\",IF(AND($L86>=Sheet1!$F$20,'Pupil List'!$L86<Sheet1!$G$20),Sheet1!$A$20,\"\"))","v":""},{"$f":"IF($L86=\"\",\"\",IF(AND($L86>=Sheet1!$F$21,'Pupil List'!$L86<Sheet1!$G$21),Sheet1!$A$21,\"\"))","v":""},{"$f":"IF($L86=\"\",\"\",IF(AND($L86>=Sheet1!$F$22,'Pupil List'!$L86<Sheet1!$G$22),Sheet1!$A$22,\"\"))","v":""},{"$f":"IF($L86=\"\",\"\",IF(AND($L86>=Sheet1!$F$23,'Pupil List'!$L86<Sheet1!$G$23),Sheet1!$A$23,\"\"))","v":""},{"$f":"IF($L86=\"\",\"\",IF(AND($L86>=Sheet1!$F$24,'Pupil List'!$L86<Sheet1!$G$24),Sheet1!$A$24,\"\"))","v":""},{"$f":"IF($L86=\"\",\"\",IF(AND($L86>=Sheet1!$F$25,'Pupil List'!$L86<Sheet1!$G$25),Sheet1!$A$25,\"\"))","v":""},{"$error":"#N/A"},{"$f":"IFERROR(VLOOKUP(BK86,Sheet1!$A$2:$E$25,3,FALSE),\"\")","v":""},{"$f":"IFERROR(VLOOKUP(BK86,Sheet1!$A$2:$E$25,4,FALSE),\"\")","v":""},{"$f":"IFERROR(VLOOKUP(BK86,Sheet1!$A$2:$E$25,5,FALSE),\"\")","v":""},{"$f":"IFERROR(VLOOKUP(N86,Sheet1!$A$29:$B$38,2,FALSE),\"\")","v":""}]
["","","",null,null,null,null,null,"","","",null,"",null,"","","","","","","","","","","","","","","","","","","","","","","","",{"$f":"IF($L87=\"\",\"\",IF(AND($L87>=Sheet1!$F$2,'Pupil List'!$L87<Sheet1!$G$2),Sheet1!$A$2,\"\"))","v":""},{"$f":"IF($L87=\"\",\"\",IF(AND($L87>=Sheet1!$F$3,'Pupil List'!$L87<Sheet1!$G$3),Sheet1!$A$3,\"\"))","v":""},{"$f":"IF($L87=\"\",\"\",IF(AND($L87>=Sheet1!$F$4,'Pupil List'!$L87<Sheet1!$G$4),Sheet1!$A$4,\"\"))","v":""},{"$f":"IF($L87=\"\",\"\",IF(AND($L87>=Sheet1!$F$5,'Pupil List'!$L87<Sheet1!$G$5),Sheet1!$A$5,\"\"))","v":""},{"$f":"IF($L87=\"\",\"\",IF(AND($L87>=Sheet1!$F$6,'Pupil List'!$L87<Sheet1!$G$6),Sheet1!$A$6,\"\"))","v":""},{"$f":"IF($L87=\"\",\"\",IF(AND($L87>=Sheet1!$F$7,'Pupil List'!$L87<Sheet1!$G$7),Sheet1!$A$7,\"\"))","v":""},{"$f":"IF($L87=\"\",\"\",IF(AND($L87>=Sheet1!$F$8,'Pupil List'!$L87<Sheet1!$G$8),Sheet1!$A$8,\"\"))","v":""},{"$f":"IF($L87=\"\",\"\",IF(AND($L87>=Sheet1!$F$9,'Pupil List'!$L87<Sheet1!$G$9),Sheet1!$A$9,\"\"))","v":""},{"$f":"IF($L87=\"\",\"\",IF(AND($L87>=Sheet1!$F$10,'Pupil List'!$L87<Sheet1!$G$10),Sheet1!$A$10,\"\"))","v":""},{"$f":"IF($L87=\"\",\"\",IF(AND($L87>=Sheet1!$F$11,'Pupil List'!$L87<Sheet1!$G$11),Sheet1!$A$11,\"\"))","v":""},{"$f":"IF($L87=\"\",\"\",IF(AND($L87>=Sheet1!$F$12,'Pupil List'!$L87<Sheet1!$G$12),Sheet1!$A$12,\"\"))","v":""},{"$f":"IF($L87=\"\",\"\",IF(AND($L87>=Sheet1!$F$13,'Pupil List'!$L87<Sheet1!$G$13),Sheet1!$A$13,\"\"))","v":""},{"$f":"IF($L87=\"\",\"\",IF(AND($L87>=Sheet1!$F$14,'Pupil List'!$L87<Sheet1!$G$14),Sheet1!$A$14,\"\"))","v":""},{"$f":"IF($L87=\"\",\"\",IF(AND($L87>=Sheet1!$F$15,'Pupil List'!$L87<Sheet1!$G$15),Sheet1!$A$15,\"\"))","v":""},{"$f":"IF($L87=\"\",\"\",IF(AND($L87>=Sheet1!$F$16,'Pupil List'!$L87<Sheet1!$G$16),Sheet1!$A$16,\"\"))","v":""},{"$f":"IF($L87=\"\",\"\",IF(AND($L87>=Sheet1!$F$17,'Pupil List'!$L87<Sheet1!$G$17),Sheet1!$A$17,\"\"))","v":""},{"$f":"IF($L87=\"\",\"\",IF(AND($L87>=Sheet1!$F$18,'Pupil List'!$L87<Sheet1!$G$18),Sheet1!$A$18,\"\"))","v":""},{"$f":"IF($L87=\"\",\"\",IF(AND($L87>=Sheet1!$F$19,'Pupil List'!$L87<Sheet1!$G$19),Sheet1!$A$19,\"\"))","v":""},{"$f":"IF($L87=\"\",\"\",IF(AND($L87>=Sheet1!$F$20,'Pupil List'!$L87<Sheet1!$G$20),Sheet1!$A$20,\"\"))","v":""},{"$f":"IF($L87=\"\",\"\",IF(AND($L87>=Sheet1!$F$21,'Pupil List'!$L87<Sheet1!$G$21),Sheet1!$A$21,\"\"))","v":""},{"$f":"IF($L87=\"\",\"\",IF(AND($L87>=Sheet1!$F$22,'Pupil List'!$L87<Sheet1!$G$22),Sheet1!$A$22,\"\"))","v":""},{"$f":"IF($L87=\"\",\"\",IF(AND($L87>=Sheet1!$F$23,'Pupil List'!$L87<Sheet1!$G$23),Sheet1!$A$23,\"\"))","v":""},{"$f":"IF($L87=\"\",\"\",IF(AND($L87>=Sheet1!$F$24,'Pupil List'!$L87<Sheet1!$G$24),Sheet1!$A$24,\"\"))","v":""},{"$f":"IF($L87=\"\",\"\",IF(AND($L87>=Sheet1!$F$25,'Pupil List'!$L87<Sheet1!$G$25),Sheet1!$A$25,\"\"))","v":""},{"$error":"#N/A"},{"$f":"IFERROR(VLOOKUP(BK87,Sheet1!$A$2:$E$25,3,FALSE),\"\")","v":""},{"$f":"IFERROR(VLOOKUP(BK87,Sheet1!$A$2:$E$25,4,FALSE),\"\")","v":""},{"$f":"IFERROR(VLOOKUP(BK87,Sheet1!$A$2:$E$25,5,FALSE),\"\")","v":""},{"$f":"IFERROR(VLOOKUP(N87,Sheet1!$A$29:$B$38,2,FALSE),\"\")","v":""}]
["","","",null,null,null,null,null,"","","",null,"",null,"","","","","","","","","","","","","","","","","","","","","","","","",{"$f":"IF($L88=\"\",\"\",IF(AND($L88>=Sheet1!$F$2,'Pupil List'!$L88<Sheet1!$G$2),Sheet1!$A$2,\"\"))","v":""},{"$f":"IF($L88=\"\",\"\",IF(AND($L88>=Sheet1!$F$3,'Pupil List'!$L88<Sheet1!$G$3),Sheet1!$A$3,\"\"))","v":""},{"$f":"IF($L88=\"\",\"\",IF(AND($L88>=Sheet1!$F$4,'Pupil List'!$L88<Sheet1!$G$4),Sheet1!$A$4,\"\"))","v":""},{"$f":"IF($L88=\"\",\"\",IF(AND($L88>=Sheet1!$F$5,'Pupil List'!$L88<Sheet1!$G$5),Sheet1!$A$5,\"\"))","v":""},{"$f":"IF($L88=\"\",\"\",IF(AND($L88>=Sheet1!$F$6,'Pupil List'!$L88<Sheet1!$G$6),Sheet1!$A$6,\"\"))","v":""},{"$f":"IF($L88=\"\",\"\",IF(AND($L88>=Sheet1!$F$7,'Pupil List'!$L88<Sheet1!$G$7),Sheet1!$A$7,\"\"))","v":""},{"$f":"IF($L88=\"\",\"\",IF(AND($L88>=Sheet1!$F$8,'Pupil List'!$L88<Sheet1!$G$8),Sheet1!$A$8,\"\"))","v":""},{"$f":"IF($L88=\"\",\"\",IF(AND($L88>=Sheet1!$F$9,'Pupil List'!$L88<Sheet1!$G$9),Sheet1!$A$9,\"\"))","v":""},{"$f":"IF($L88=\"\",\"\",IF(AND($L88>=Sheet1!$F$10,'Pupil List'!$L88<Sheet1!$G$10),Sheet1!$A$10,\"\"))","v":""},{"$f":"IF($L88=\"\",\"\",IF(AND($L88>=Sheet1!$F$11,'Pupil List'!$L88<Sheet1!$G$11),Sheet1!$A$11,\"\"))","v":""},{"$f":"IF($L88=\"\",\"\",IF(AND($L88>=Sheet1!$F$12,'Pupil List'!$L88<Sheet1!$G$12),Sheet1!$A$12,\"\"))","v":""},{"$f":"IF($L88=\"\",\"\",IF(AND($L88>=Sheet1!$F$13,'Pupil List'!$L88<Sheet1!$G$13),Sheet1!$A$13,\"\"))","v":""},{"$f":"IF($L88=\"\",\"\",IF(AND($L88>=Sheet1!$F$14,'Pupil List'!$L88<Sheet1!$G$14),Sheet1!$A$14,\"\"))","v":""},{"$f":"IF($L88=\"\",\"\",IF(AND($L88>=Sheet1!$F$15,'Pupil List'!$L88<Sheet1!$G$15),Sheet1!$A$15,\"\"))","v":""},{"$f":"IF($L88=\"\",\"\",IF(AND($L88>=Sheet1!$F$16,'Pupil List'!$L88<Sheet1!$G$16),Sheet1!$A$16,\"\"))","v":""},{"$f":"IF($L88=\"\",\"\",IF(AND($L88>=Sheet1!$F$17,'Pupil List'!$L88<Sheet1!$G$17),Sheet1!$A$17,\"\"))","v":""},{"$f":"IF($L88=\"\",\"\",IF(AND($L88>=Sheet1!$F$18,'Pupil List'!$L88<Sheet1!$G$18),Sheet1!$A$18,\"\"))","v":""},{"$f":"IF($L88=\"\",\"\",IF(AND($L88>=Sheet1!$F$19,'Pupil List'!$L88<Sheet1!$G$19),Sheet1!$A$19,\"\"))","v":""},{"$f":"IF($L88=\"\",\"\",IF(AND($L88>=Sheet1!$F$20,'Pupil List'!$L88<Sheet1!$G$20),Sheet1!$A$20,\"\"))","v":""},{"$f":"IF($L88=\"\",\"\",IF(AND($L88>=Sheet1!$F$21,'Pupil List'!$L88<Sheet1!$G$21),Sheet1!$A$21,\"\"))","v":""},{"$f":"IF($L88=\"\",\"\",IF(AND($L88>=Sheet1!$F$22,'Pupil List'!$L88<Sheet1!$G$22),Sheet1!$A$22,\"\"))","v":""},{"$f":"IF($L88=\"\",\"\",IF(AND($L88>=Sheet1!$F$23,'Pupil List'!$L88<Sheet1!$G$23),Sheet1!$A$23,\"\"))","v":""},{"$f":"IF($L88=\"\",\"\",IF(AND($L88>=Sheet1!$F$24,'Pupil List'!$L88<Sheet1!$G$24),Sheet1!$A$24,\"\"))","v":""},{"$f":"IF($L88=\"\",\"\",IF(AND($L88>=Sheet1!$F$25,'Pupil List'!$L88<Sheet1!$G$25),Sheet1!$A$25,\"\"))","v":""},{"$error":"#N/A"},{"$f":"IFERROR(VLOOKUP(BK88,Sheet1!$A$2:$E$25,3,FALSE),\"\")","v":""},{"$f":"IFERROR(VLOOKUP(BK88,Sheet1!$A$2:$E$25,4,FALSE),\"\")","v":""},{"$f":"IFERROR(VLOOKUP(BK88,Sheet1!$A$2:$E$25,5,FALSE),\"\")","v":""},{"$f":"IFERROR(VLOOKUP(N88,Sheet1!$A$29:$B$38,2,FALSE),\"\")","v":""}]
["","","",null,null,null,null,null,"","","",null,"",null,"","","","","","","","","","","","","","","","","","","","","","","","",{"$f":"IF($L89=\"\",\"\",IF(AND($L89>=Sheet1!$F$2,'Pupil List'!$L89<Sheet1!$G$2),Sheet1!$A$2,\"\"))","v":""},{"$f":"IF($L89=\"\",\"\",IF(AND($L89>=Sheet1!$F$3,'Pupil List'!$L89<Sheet1!$G$3),Sheet1!$A$3,\"\"))","v":""},{"$f":"IF($L89=\"\",\"\",IF(AND($L89>=Sheet1!$F$4,'Pupil List'!$L89<Sheet1!$G$4),Sheet1!$A$4,\"\"))","v":""},{"$f":"IF($L89=\"\",\"\",IF(AND($L89>=Sheet1!$F$5,'Pupil List'!$L89<Sheet1!$G$5),Sheet1!$A$5,\"\"))","v":""},{"$f":"IF($L89=\"\",\"\",IF(AND($L89>=Sheet1!$F$6,'Pupil List'!$L89<Sheet1!$G$6),Sheet1!$A$6,\"\"))","v":""},{"$f":"IF($L89=\"\",\"\",IF(AND($L89>=Sheet1!$F$7,'Pupil List'!$L89<Sheet1!$G$7),Sheet1!$A$7,\"\"))","v":""},{"$f":"IF($L89=\"\",\"\",IF(AND($L89>=Sheet1!$F$8,'Pupil List'!$L89<Sheet1!$G$8),Sheet1!$A$8,\"\"))","v":""},{"$f":"IF($L89=\"\",\"\",IF(AND($L89>=Sheet1!$F$9,'Pupil List'!$L89<Sheet1!$G$9),Sheet1!$A$9,\"\"))","v":""},{"$f":"IF($L89=\"\",\"\",IF(AND($L89>=Sheet1!$F$10,'Pupil List'!$L89<Sheet1!$G$10),Sheet1!$A$10,\"\"))","v":""},{"$f":"IF($L89=\"\",\"\",IF(AND($L89>=Sheet1!$F$11,'Pupil List'!$L89<Sheet1!$G$11),Sheet1!$A$11,\"\"))","v":""},{"$f":"IF($L89=\"\",\"\",IF(AND($L89>=Sheet1!$F$12,'Pupil List'!$L89<Sheet1!$G$12),Sheet1!$A$12,\"\"))","v":""},{"$f":"IF($L89=\"\",\"\",IF(AND($L89>=Sheet1!$F$13,'Pupil List'!$L89<Sheet1!$G$13),Sheet1!$A$13,\"\"))","v":""},{"$f":"IF($L89=\"\",\"\",IF(AND($L89>=Sheet1!$F$14,'Pupil List'!$L89<Sheet1!$G$14),Sheet1!$A$14,\"\"))","v":""},{"$f":"IF($L89=\"\",\"\",IF(AND($L89>=Sheet1!$F$15,'Pupil List'!$L89<Sheet1!$G$15),Sheet1!$A$15,\"\"))","v":""},{"$f":"IF($L89=\"\",\"\",IF(AND($L89>=Sheet1!$F$16,'Pupil List'!$L89<Sheet1!$G$16),Sheet1!$A$16,\"\"))","v":""},{"$f":"IF($L89=\"\",\"\",IF(AND($L89>=Sheet1!$F$17,'Pupil List'!$L89<Sheet1!$G$17),Sheet1!$A$17,\"\"))","v":""},{"$f":"IF($L89=\"\",\"\",IF(AND($L89>=Sheet1!$F$18,'Pupil List'!$L89<Sheet1!$G$18),Sheet1!$A$18,\"\"))","v":""},{"$f":"IF($L89=\"\",\"\",IF(AND($L89>=Sheet1!$F$19,'Pupil List'!$L89<Sheet1!$G$19),Sheet1!$A$19,\"\"))","v":""},{"$f":"IF($L89=\"\",\"\",IF(AND($L89>=Sheet1!$F$20,'Pupil List'!$L89<Sheet1!$G$20),Sheet1!$A$20,\"\"))","v":""},{"$f":"IF($L89=\"\",\"\",IF(AND($L89>=Sheet1!$F$21,'Pupil List'!$L89<Sheet1!$G$21),Sheet1!$A$21,\"\"))","v":""},{"$f":"IF($L89=\"\",\"\",IF(AND($L89>=Sheet1!$F$22,'Pupil List'!$L89<Sheet1!$G$22),Sheet1!$A$22,\"\"))","v":""},{"$f":"IF($L89=\"\",\"\",IF(AND($L89>=Sheet1!$F$23,'Pupil List'!$L89<Sheet1!$G$23),Sheet1!$A$23,\"\"))","v":""},{"$f":"IF($L89=\"\",\"\",IF(AND($L89>=Sheet1!$F$24,'Pupil List'!$L89<Sheet1!$G$24),Sheet1!$A$24,\"\"))","v":""},{"$f":"IF($L89=\"\",\"\",IF(AND($L89>=Sheet1!$F$25,'Pupil List'!$L89<Sheet1!$G$25),Sheet1!$A$25,\"\"))","v":""},{"$error":"#N/A"},{"$f":"IFERROR(VLOOKUP(BK89,Sheet1!$A$2:$E$25,3,FALSE),\"\")","v":""},{"$f":"IFERROR(VLOOKUP(BK89,Sheet1!$A$2:$E$25,4,FALSE),\"\")","v":""},{"$f":"IFERROR(VLOOKUP(BK89,Sheet1!$A$2:$E$25,5,FALSE),\"\")","v":""},{"$f":"IFERROR(VLOOKUP(N89,Sheet1!$A$29:$B$38,2,FALSE),\"\")","v":""}]
["","","",null,null,null,null,null,"","","",null,"",null,"","","","","","","","","","","","","","","","","","","","","","","","",{"$f":"IF($L90=\"\",\"\",IF(AND($L90>=Sheet1!$F$2,'Pupil List'!$L90<Sheet1!$G$2),Sheet1!$A$2,\"\"))","v":""},{"$f":"IF($L90=\"\",\"\",IF(AND($L90>=Sheet1!$F$3,'Pupil List'!$L90<Sheet1!$G$3),Sheet1!$A$3,\"\"))","v":""},{"$f":"IF($L90=\"\",\"\",IF(AND($L90>=Sheet1!$F$4,'Pupil List'!$L90<Sheet1!$G$4),Sheet1!$A$4,\"\"))","v":""},{"$f":"IF($L90=\"\",\"\",IF(AND($L90>=Sheet1!$F$5,'Pupil List'!$L90<Sheet1!$G$5),Sheet1!$A$5,\"\"))","v":""},{"$f":"IF($L90=\"\",\"\",IF(AND($L90>=Sheet1!$F$6,'Pupil List'!$L90<Sheet1!$G$6),Sheet1!$A$6,\"\"))","v":""},{"$f":"IF($L90=\"\",\"\",IF(AND($L90>=Sheet1!$F$7,'Pupil List'!$L90<Sheet1!$G$7),Sheet1!$A$7,\"\"))","v":""},{"$f":"IF($L90=\"\",\"\",IF(AND($L90>=Sheet1!$F$8,'Pupil List'!$L90<Sheet1!$G$8),Sheet1!$A$8,\"\"))","v":""},{"$f":"IF($L90=\"\",\"\",IF(AND($L90>=Sheet1!$F$9,'Pupil List'!$L90<Sheet1!$G$9),Sheet1!$A$9,\"\"))","v":""},{"$f":"IF($L90=\"\",\"\",IF(AND($L90>=Sheet1!$F$10,'Pupil List'!$L90<Sheet1!$G$10),Sheet1!$A$10,\"\"))","v":""},{"$f":"IF($L90=\"\",\"\",IF(AND($L90>=Sheet1!$F$11,'Pupil List'!$L90<Sheet1!$G$11),Sheet1!$A$11,\"\"))","v":""},{"$f":"IF($L90=\"\",\"\",IF(AND($L90>=Sheet1!$F$12,'Pupil List'!$L90<Sheet1!$G$12),Sheet1!$A$12,\"\"))","v":""},{"$f":"IF($L90=\"\",\"\",IF(AND($L90>=Sheet1!$F$13,'Pupil List'!$L90<Sheet1!$G$13),Sheet1!$A$13,\"\"))","v":""},{"$f":"IF($L90=\"\",\"\",IF(AND($L90>=Sheet1!$F$14,'Pupil List'!$L90<Sheet1!$G$14),Sheet1!$A$14,\"\"))","v":""},{"$f":"IF($L90=\"\",\"\",IF(AND($L90>=Sheet1!$F$15,'Pupil List'!$L90<Sheet1!$G$15),Sheet1!$A$15,\"\"))","v":""},{"$f":"IF($L90=\"\",\"\",IF(AND($L90>=Sheet1!$F$16,'Pupil List'!$L90<Sheet1!$G$16),Sheet1!$A$16,\"\"))","v":""},{"$f":"IF($L90=\"\",\"\",IF(AND($L90>=Sheet1!$F$17,'Pupil List'!$L90<Sheet1!$G$17),Sheet1!$A$17,\"\"))","v":""},{"$f":"IF($L90=\"\",\"\",IF(AND($L90>=Sheet1!$F$18,'Pupil List'!$L90<Sheet1!$G$18),Sheet1!$A$18,\"\"))","v":""},{"$f":"IF($L90=\"\",\"\",IF(AND($L90>=Sheet1!$F$19,'Pupil List'!$L90<Sheet1!$G$19),Sheet1!$A$19,\"\"))","v":""},{"$f":"IF($L90=\"\",\"\",IF(AND($L90>=Sheet1!$F$20,'Pupil List'!$L90<Sheet1!$G$20),Sheet1!$A$20,\"\"))","v":""},{"$f":"IF($L90=\"\",\"\",IF(AND($L90>=Sheet1!$F$21,'Pupil List'!$L90<Sheet1!$G$21),Sheet1!$A$21,\"\"))","v":""},{"$f":"IF($L90=\"\",\"\",IF(AND($L90>=Sheet1!$F$22,'Pupil List'!$L90<Sheet1!$G$22),Sheet1!$A$22,\"\"))","v":""},{"$f":"IF($L90=\"\",\"\",IF(AND($L90>=Sheet1!$F$23,'Pupil List'!$L90<Sheet1!$G$23),Sheet1!$A$23,\"\"))","v":""},{"$f":"IF($L90=\"\",\"\",IF(AND($L90>=Sheet1!$F$24,'Pupil List'!$L90<Sheet1!$G$24),Sheet1!$A$24,\"\"))","v":""},{"$f":"IF($L90=\"\",\"\",IF(AND($L90>=Sheet1!$F$25,'Pupil List'!$L90<Sheet1!$G$25),Sheet1!$A$25,\"\"))","v":""},{"$error":"#N/A"},{"$f":"IFERROR(VLOOKUP(BK90,Sheet1!$A$2:$E$25,3,FALSE),\"\")","v":""},{"$f":"IFERROR(VLOOKUP(BK90,Sheet1!$A$2:$E$25,4,FALSE),\"\")","v":""},{"$f":"IFERROR(VLOOKUP(BK90,Sheet1!$A$2:$E$25,5,FALSE),\"\")","v":""},{"$f":"IFERROR(VLOOKUP(N90,Sheet1!$A$29:$B$38,2,FALSE),\"\")","v":""}]
["","","",null,null,null,null,null,"","","",null,"",null,"","","","","","","","","","","","","","","","","","","","","","","","",{"$f":"IF($L91=\"\",\"\",IF(AND($L91>=Sheet1!$F$2,'Pupil List'!$L91<Sheet1!$G$2),Sheet1!$A$2,\"\"))","v":""},{"$f":"IF($L91=\"\",\"\",IF(AND($L91>=Sheet1!$F$3,'Pupil List'!$L91<Sheet1!$G$3),Sheet1!$A$3,\"\"))","v":""},{"$f":"IF($L91=\"\",\"\",IF(AND($L91>=Sheet1!$F$4,'Pupil List'!$L91<Sheet1!$G$4),Sheet1!$A$4,\"\"))","v":""},{"$f":"IF($L91=\"\",\"\",IF(AND($L91>=Sheet1!$F$5,'Pupil List'!$L91<Sheet1!$G$5),Sheet1!$A$5,\"\"))","v":""},{"$f":"IF($L91=\"\",\"\",IF(AND($L91>=Sheet1!$F$6,'Pupil List'!$L91<Sheet1!$G$6),Sheet1!$A$6,\"\"))","v":""},{"$f":"IF($L91=\"\",\"\",IF(AND($L91>=Sheet1!$F$7,'Pupil List'!$L91<Sheet1!$G$7),Sheet1!$A$7,\"\"))","v":""},{"$f":"IF($L91=\"\",\"\",IF(AND($L91>=Sheet1!$F$8,'Pupil List'!$L91<Sheet1!$G$8),Sheet1!$A$8,\"\"))","v":""},{"$f":"IF($L91=\"\",\"\",IF(AND($L91>=Sheet1!$F$9,'Pupil List'!$L91<Sheet1!$G$9),Sheet1!$A$9,\"\"))","v":""},{"$f":"IF($L91=\"\",\"\",IF(AND($L91>=Sheet1!$F$10,'Pupil List'!$L91<Sheet1!$G$10),Sheet1!$A$10,\"\"))","v":""},{"$f":"IF($L91=\"\",\"\",IF(AND($L91>=Sheet1!$F$11,'Pupil List'!$L91<Sheet1!$G$11),Sheet1!$A$11,\"\"))","v":""},{"$f":"IF($L91=\"\",\"\",IF(AND($L91>=Sheet1!$F$12,'Pupil List'!$L91<Sheet1!$G$12),Sheet1!$A$12,\"\"))","v":""},{"$f":"IF($L91=\"\",\"\",IF(AND($L91>=Sheet1!$F$13,'Pupil List'!$L91<Sheet1!$G$13),Sheet1!$A$13,\"\"))","v":""},{"$f":"IF($L91=\"\",\"\",IF(AND($L91>=Sheet1!$F$14,'Pupil List'!$L91<Sheet1!$G$14),Sheet1!$A$14,\"\"))","v":""},{"$f":"IF($L91=\"\",\"\",IF(AND($L91>=Sheet1!$F$15,'Pupil List'!$L91<Sheet1!$G$15),Sheet1!$A$15,\"\"))","v":""},{"$f":"IF($L91=\"\",\"\",IF(AND($L91>=Sheet1!$F$16,'Pupil List'!$L91<Sheet1!$G$16),Sheet1!$A$16,\"\"))","v":""},{"$f":"IF($L91=\"\",\"\",IF(AND($L91>=Sheet1!$F$17,'Pupil List'!$L91<Sheet1!$G$17),Sheet1!$A$17,\"\"))","v":""},{"$f":"IF($L91=\"\",\"\",IF(AND($L91>=Sheet1!$F$18,'Pupil List'!$L91<Sheet1!$G$18),Sheet1!$A$18,\"\"))","v":""},{"$f":"IF($L91=\"\",\"\",IF(AND($L91>=Sheet1!$F$19,'Pupil List'!$L91<Sheet1!$G$19),Sheet1!$A$19,\"\"))","v":""},{"$f":"IF($L91=\"\",\"\",IF(AND($L91>=Sheet1!$F$20,'Pupil List'!$L91<Sheet1!$G$20),Sheet1!$A$20,\"\"))","v":""},{"$f":"IF($L91=\"\",\"\",IF(AND($L91>=Sheet1!$F$21,'Pupil List'!$L91<Sheet1!$G$21),Sheet1!$A$21,\"\"))","v":""},{"$f":"IF($L91=\"\",\"\",IF(AND($L91>=Sheet1!$F$22,'Pupil List'!$L91<Sheet1!$G$22),Sheet1!$A$22,\"\"))","v":""},{"$f":"IF($L91=\"\",\"\",IF(AND($L91>=Sheet1!$F$23,'Pupil List'!$L91<Sheet1!$G$23),Sheet1!$A$23,\"\"))","v":""},{"$f":"IF($L91=\"\",\"\",IF(AND($L91>=Sheet1!$F$24,'Pupil List'!$L91<Sheet1!$G$24),Sheet1!$A$24,\"\"))","v":""},{"$f":"IF($L91=\"\",\"\",IF(AND($L91>=Sheet1!$F$25,'Pupil List'!$L91<Sheet1!$G$25),Sheet1!$A$25,\"\"))","v":""},{"$error":"#N/A"},{"$f":"IFERROR(VLOOKUP(BK91,Sheet1!$A$2:$E$25,3,FALSE),\"\")","v":""},{"$f":"IFERROR(VLOOKUP(BK91,Sheet1!$A$2:$E$25,4,FALSE),\"\")","v":""},{"$f":"IFERROR(VLOOKUP(BK91,Sheet1!$A$2:$E$25,5,FALSE),\"\")","v":""},{"$f":"IFERROR(VLOOKUP(N91,Sheet1!$A$29:$B$38,2,FALSE),\"\")","v":""}]
["","","",null,null,null,null,null,"","","",null,"",null,"","","","","","","","","","","","","","","","","","","","","","","","",{"$f":"IF($L92=\"\",\"\",IF(AND($L92>=Sheet1!$F$2,'Pupil List'!$L92<Sheet1!$G$2),Sheet1!$A$2,\"\"))","v":""},{"$f":"IF($L92=\"\",\"\",IF(AND($L92>=Sheet1!$F$3,'Pupil List'!$L92<Sheet1!$G$3),Sheet1!$A$3,\"\"))","v":""},{"$f":"IF($L92=\"\",\"\",IF(AND($L92>=Sheet1!$F$4,'Pupil List'!$L92<Sheet1!$G$4),Sheet1!$A$4,\"\"))","v":""},{"$f":"IF($L92=\"\",\"\",IF(AND($L92>=Sheet1!$F$5,'Pupil List'!$L92<Sheet1!$G$5),Sheet1!$A$5,\"\"))","v":""},{"$f":"IF($L92=\"\",\"\",IF(AND($L92>=Sheet1!$F$6,'Pupil List'!$L92<Sheet1!$G$6),Sheet1!$A$6,\"\"))","v":""},{"$f":"IF($L92=\"\",\"\",IF(AND($L92>=Sheet1!$F$7,'Pupil List'!$L92<Sheet1!$G$7),Sheet1!$A$7,\"\"))","v":""},{"$f":"IF($L92=\"\",\"\",IF(AND($L92>=Sheet1!$F$8,'Pupil List'!$L92<Sheet1!$G$8),Sheet1!$A$8,\"\"))","v":""},{"$f":"IF($L92=\"\",\"\",IF(AND($L92>=Sheet1!$F$9,'Pupil List'!$L92<Sheet1!$G$9),Sheet1!$A$9,\"\"))","v":""},{"$f":"IF($L92=\"\",\"\",IF(AND($L92>=Sheet1!$F$10,'Pupil List'!$L92<Sheet1!$G$10),Sheet1!$A$10,\"\"))","v":""},{"$f":"IF($L92=\"\",\"\",IF(AND($L92>=Sheet1!$F$11,'Pupil List'!$L92<Sheet1!$G$11),Sheet1!$A$11,\"\"))","v":""},{"$f":"IF($L92=\"\",\"\",IF(AND($L92>=Sheet1!$F$12,'Pupil List'!$L92<Sheet1!$G$12),Sheet1!$A$12,\"\"))","v":""},{"$f":"IF($L92=\"\",\"\",IF(AND($L92>=Sheet1!$F$13,'Pupil List'!$L92<Sheet1!$G$13),Sheet1!$A$13,\"\"))","v":""},{"$f":"IF($L92=\"\",\"\",IF(AND($L92>=Sheet1!$F$14,'Pupil List'!$L92<Sheet1!$G$14),Sheet1!$A$14,\"\"))","v":""},{"$f":"IF($L92=\"\",\"\",IF(AND($L92>=Sheet1!$F$15,'Pupil List'!$L92<Sheet1!$G$15),Sheet1!$A$15,\"\"))","v":""},{"$f":"IF($L92=\"\",\"\",IF(AND($L92>=Sheet1!$F$16,'Pupil List'!$L92<Sheet1!$G$16),Sheet1!$A$16,\"\"))","v":""},{"$f":"IF($L92=\"\",\"\",IF(AND($L92>=Sheet1!$F$17,'Pupil List'!$L92<Sheet1!$G$17),Sheet1!$A$17,\"\"))","v":""},{"$f":"IF($L92=\"\",\"\",IF(AND($L92>=Sheet1!$F$18,'Pupil List'!$L92<Sheet1!$G$18),Sheet1!$A$18,\"\"))","v":""},{"$f":"IF($L92=\"\",\"\",IF(AND($L92>=Sheet1!$F$19,'Pupil List'!$L92<Sheet1!$G$19),Sheet1!$A$19,\"\"))","v":""},{"$f":"IF($L92=\"\",\"\",IF(AND($L92>=Sheet1!$F$20,'Pupil List'!$L92<Sheet1!$G$20),Sheet1!$A$20,\"\"))","v":""},{"$f":"IF($L92=\"\",\"\",IF(AND($L92>=Sheet1!$F$21,'Pupil List'!$L92<Sheet1!$G$21),Sheet1!$A$21,\"\"))","v":""},{"$f":"IF($L92=\"\",\"\",IF(AND($L92>=Sheet1!$F$22,'Pupil List'!$L92<Sheet1!$G$22),Sheet1!$A$22,\"\"))","v":""},{"$f":"IF($L92=\"\",\"\",IF(AND($L92>=Sheet1!$F$23,'Pupil List'!$L92<Sheet1!$G$23),Sheet1!$A$23,\"\"))","v":""},{"$f":"IF($L92=\"\",\"\",IF(AND($L92>=Sheet1!$F$24,'Pupil List'!$L92<Sheet1!$G$24),Sheet1!$A$24,\"\"))","v":""},{"$f":"IF($L92=\"\",\"\",IF(AND($L92>=Sheet1!$F$25,'Pupil List'!$L92<Sheet1!$G$25),Sheet1!$A$25,\"\"))","v":""},{"$error":"#N/A"},{"$f":"IFERROR(VLOOKUP(BK92,Sheet1!$A$2:$E$25,3,FALSE),\"\")","v":""},{"$f":"IFERROR(VLOOKUP(BK92,Sheet1!$A$2:$E$25,4,FALSE),\"\")","v":""},{"$f":"IFERROR(VLOOKUP(BK92,Sheet1!$A$2:$E$25,5,FALSE),\"\")","v":""},{"$f":"IFERROR(VLOOKUP(N92,Sheet1!$A$29:$B$38,2,FALSE),\"\")","v":""}]
["","","",null,null,null,null,null,"","","",null,"",null,"","","","","","","","","","","","","","","","","","","","","","","","",{"$f":"IF($L93=\"\",\"\",IF(AND($L93>=Sheet1!$F$2,'Pupil List'!$L93<Sheet1!$G$2),Sheet1!$A$2,\"\"))","v":""},{"$f":"IF($L93=\"\",\"\",IF(AND($L93>=Sheet1!$F$3,'Pupil List'!$L93<Sheet1!$G$3),Sheet1!$A$3,\"\"))","v":""},{"$f":"IF($L93=\"\",\"\",IF(AND($L93>=Sheet1!$F$4,'Pupil List'!$L93<Sheet1!$G$4),Sheet1!$A$4,\"\"))","v":""},{"$f":"IF($L93=\"\",\"\",IF(AND($L93>=Sheet1!$F$5,'Pupil List'!$L93<Sheet1!$G$5),Sheet1!$A$5,\"\"))","v":""},{"$f":"IF($L93=\"\",\"\",IF(AND($L93>=Sheet1!$F$6,'Pupil List'!$L93<Sheet1!$G$6),Sheet1!$A$6,\"\"))","v":""},{"$f":"IF($L93=\"\",\"\",IF(AND($L93>=Sheet1!$F$7,'Pupil List'!$L93<Sheet1!$G$7),Sheet1!$A$7,\"\"))","v":""},{"$f":"IF($L93=\"\",\"\",IF(AND($L93>=Sheet1!$F$8,'Pupil List'!$L93<Sheet1!$G$8),Sheet1!$A$8,\"\"))","v":""},{"$f":"IF($L93=\"\",\"\",IF(AND($L93>=Sheet1!$F$9,'Pupil List'!$L93<Sheet1!$G$9),Sheet1!$A$9,\"\"))","v":""},{"$f":"IF($L93=\"\",\"\",IF(AND($L93>=Sheet1!$F$10,'Pupil List'!$L93<Sheet1!$G$10),Sheet1!$A$10,\"\"))","v":""},{"$f":"IF($L93=\"\",\"\",IF(AND($L93>=Sheet1!$F$11,'Pupil List'!$L93<Sheet1!$G$11),Sheet1!$A$11,\"\"))","v":""},{"$f":"IF($L93=\"\",\"\",IF(AND($L93>=Sheet1!$F$12,'Pupil List'!$L93<Sheet1!$G$12),Sheet1!$A$12,\"\"))","v":""},{"$f":"IF($L93=\"\",\"\",IF(AND($L93>=Sheet1!$F$13,'Pupil List'!$L93<Sheet1!$G$13),Sheet1!$A$13,\"\"))","v":""},{"$f":"IF($L93=\"\",\"\",IF(AND($L93>=Sheet1!$F$14,'Pupil List'!$L93<Sheet1!$G$14),Sheet1!$A$14,\"\"))","v":""},{"$f":"IF($L93=\"\",\"\",IF(AND($L93>=Sheet1!$F$15,'Pupil List'!$L93<Sheet1!$G$15),Sheet1!$A$15,\"\"))","v":""},{"$f":"IF($L93=\"\",\"\",IF(AND($L93>=Sheet1!$F$16,'Pupil List'!$L93<Sheet1!$G$16),Sheet1!$A$16,\"\"))","v":""},{"$f":"IF($L93=\"\",\"\",IF(AND($L93>=Sheet1!$F$17,'Pupil List'!$L93<Sheet1!$G$17),Sheet1!$A$17,\"\"))","v":""},{"$f":"IF($L93=\"\",\"\",IF(AND($L93>=Sheet1!$F$18,'Pupil List'!$L93<Sheet1!$G$18),Sheet1!$A$18,\"\"))","v":""},{"$f":"IF($L93=\"\",\"\",IF(AND($L93>=Sheet1!$F$19,'Pupil List'!$L93<Sheet1!$G$19),Sheet1!$A$19,\"\"))","v":""},{"$f":"IF($L93=\"\",\"\",IF(AND($L93>=Sheet1!$F$20,'Pupil List'!$L93<Sheet1!$G$20),Sheet1!$A$20,\"\"))","v":""},{"$f":"IF($L93=\"\",\"\",IF(AND($L93>=Sheet1!$F$21,'Pupil List'!$L93<Sheet1!$G$21),Sheet1!$A$21,\"\"))","v":""},{"$f":"IF($L93=\"\",\"\",IF(AND($L93>=Sheet1!$F$22,'Pupil List'!$L93<Sheet1!$G$22),Sheet1!$A$22,\"\"))","v":""},{"$f":"IF($L93=\"\",\"\",IF(AND($L93>=Sheet1!$F$23,'Pupil List'!$L93<Sheet1!$G$23),Sheet1!$A$23,\"\"))","v":""},{"$f":"IF($L93=\"\",\"\",IF(AND($L93>=Sheet1!$F$24,'Pupil List'!$L93<Sheet1!$G$24),Sheet1!$A$24,\"\"))","v":""},{"$f":"IF($L93=\"\",\"\",IF(AND($L93>=Sheet1!$F$25,'Pupil List'!$L93<Sheet1!$G$25),Sheet1!$A$25,\"\"))","v":""},{"$error":"#N/A"},{"$f":"IFERROR(VLOOKUP(BK93,Sheet1!$A$2:$E$25,3,FALSE),\"\")","v":""},{"$f":"IFERROR(VLOOKUP(BK93,Sheet1!$A$2:$E$25,4,FALSE),\"\")","v":""},{"$f":"IFERROR(VLOOKUP(BK93,Sheet1!$A$2:$E$25,5,FALSE),\"\")","v":""},{"$f":"IFERROR(VLOOKUP(N93,Sheet1!$A$29:$B$38,2,FALSE),\"\")","v":""}]
["","","",null,null,null,null,null,"","","",null,"",null,"","","","","","","","","","","","","","","","","","","","","","","","",{"$f":"IF($L94=\"\",\"\",IF(AND($L94>=Sheet1!$F$2,'Pupil List'!$L94<Sheet1!$G$2),Sheet1!$A$2,\"\"))","v":""},{"$f":"IF($L94=\"\",\"\",IF(AND($L94>=Sheet1!$F$3,'Pupil List'!$L94<Sheet1!$G$3),Sheet1!$A$3,\"\"))","v":""},{"$f":"IF($L94=\"\",\"\",IF(AND($L94>=Sheet1!$F$4,'Pupil List'!$L94<Sheet1!$G$4),Sheet1!$A$4,\"\"))","v":""},{"$f":"IF($L94=\"\",\"\",IF(AND($L94>=Sheet1!$F$5,'Pupil List'!$L94<Sheet1!$G$5),Sheet1!$A$5,\"\"))","v":""},{"$f":"IF($L94=\"\",\"\",IF(AND($L94>=Sheet1!$F$6,'Pupil List'!$L94<Sheet1!$G$6),Sheet1!$A$6,\"\"))","v":""},{"$f":"IF($L94=\"\",\"\",IF(AND($L94>=Sheet1!$F$7,'Pupil List'!$L94<Sheet1!$G$7),Sheet1!$A$7,\"\"))","v":""},{"$f":"IF($L94=\"\",\"\",IF(AND($L94>=Sheet1!$F$8,'Pupil List'!$L94<Sheet1!$G$8),Sheet1!$A$8,\"\"))","v":""},{"$f":"IF($L94=\"\",\"\",IF(AND($L94>=Sheet1!$F$9,'Pupil List'!$L94<Sheet1!$G$9),Sheet1!$A$9,\"\"))","v":""},{"$f":"IF($L94=\"\",\"\",IF(AND($L94>=Sheet1!$F$10,'Pupil List'!$L94<Sheet1!$G$10),Sheet1!$A$10,\"\"))","v":""},{"$f":"IF($L94=\"\",\"\",IF(AND($L94>=Sheet1!$F$11,'Pupil List'!$L94<Sheet1!$G$11),Sheet1!$A$11,\"\"))","v":""},{"$f":"IF($L94=\"\",\"\",IF(AND($L94>=Sheet1!$F$12,'Pupil List'!$L94<Sheet1!$G$12),Sheet1!$A$12,\"\"))","v":""},{"$f":"IF($L94=\"\",\"\",IF(AND($L94>=Sheet1!$F$13,'Pupil List'!$L94<Sheet1!$G$13),Sheet1!$A$13,\"\"))","v":""},{"$f":"IF($L94=\"\",\"\",IF(AND($L94>=Sheet1!$F$14,'Pupil List'!$L94<Sheet1!$G$14),Sheet1!$A$14,\"\"))","v":""},{"$f":"IF($L94=\"\",\"\",IF(AND($L94>=Sheet1!$F$15,'Pupil List'!$L94<Sheet1!$G$15),Sheet1!$A$15,\"\"))","v":""},{"$f":"IF($L94=\"\",\"\",IF(AND($L94>=Sheet1!$F$16,'Pupil List'!$L94<Sheet1!$G$16),Sheet1!$A$16,\"\"))","v":""},{"$f":"IF($L94=\"\",\"\",IF(AND($L94>=Sheet1!$F$17,'Pupil List'!$L94<Sheet1!$G$17),Sheet1!$A$17,\"\"))","v":""},{"$f":"IF($L94=\"\",\"\",IF(AND($L94>=Sheet1!$F$18,'Pupil List'!$L94<Sheet1!$G$18),Sheet1!$A$18,\"\"))","v":""},{"$f":"IF($L94=\"\",\"\",IF(AND($L94>=Sheet1!$F$19,'Pupil List'!$L94<Sheet1!$G$19),Sheet1!$A$19,\"\"))","v":""},{"$f":"IF($L94=\"\",\"\",IF(AND($L94>=Sheet1!$F$20,'Pupil List'!$L94<Sheet1!$G$20),Sheet1!$A$20,\"\"))","v":""},{"$f":"IF($L94=\"\",\"\",IF(AND($L94>=Sheet1!$F$21,'Pupil List'!$L94<Sheet1!$G$21),Sheet1!$A$21,\"\"))","v":""},{"$f":"IF($L94=\"\",\"\",IF(AND($L94>=Sheet1!$F$22,'Pupil List'!$L94<Sheet1!$G$22),Sheet1!$A$22,\"\"))","v":""},{"$f":"IF($L94=\"\",\"\",IF(AND($L94>=Sheet1!$F$23,'Pupil List'!$L94<Sheet1!$G$23),Sheet1!$A$23,\"\"))","v":""},{"$f":"IF($L94=\"\",\"\",IF(AND($L94>=Sheet1!$F$24,'Pupil List'!$L94<Sheet1!$G$24),Sheet1!$A$24,\"\"))","v":""},{"$f":"IF($L94=\"\",\"\",IF(AND($L94>=Sheet1!$F$25,'Pupil List'!$L94<Sheet1!$G$25),Sheet1!$A$25,\"\"))","v":""},{"$error":"#N/A"},{"$f":"IFERROR(VLOOKUP(BK94,Sheet1!$A$2:$E$25,3,FALSE),\"\")","v":""},{"$f":"IFERROR(VLOOKUP(BK94,Sheet1!$A$2:$E$25,4,FALSE),\"\")","v":""},{"$f":"IFERROR(VLOOKUP(BK94,Sheet1!$A$2:$E$25,5,FALSE),\"\")","v":""},{"$f":"IFERROR(VLOOKUP(N94,Sheet1!$A$29:$B$38,2,FALSE),\"\")","v":""}]
["","","",null,null,null,null,null,"","","",null,"",null,"","","","","","","","","","","","","","","","","","","","","","","","",{"$f":"IF($L95=\"\",\"\",IF(AND($L95>=Sheet1!$F$2,'Pupil List'!$L95<Sheet1!$G$2),Sheet1!$A$2,\"\"))","v":""},{"$f":"IF($L95=\"\",\"\",IF(AND($L95>=Sheet1!$F$3,'Pupil List'!$L95<Sheet1!$G$3),Sheet1!$A$3,\"\"))","v":""},{"$f":"IF($L95=\"\",\"\",IF(AND($L95>=Sheet1!$F$4,'Pupil List'!$L95<Sheet1!$G$4),Sheet1!$A$4,\"\"))","v":""},{"$f":"IF($L95=\"\",\"\",IF(AND($L95>=Sheet1!$F$5,'Pupil List'!$L95<Sheet1!$G$5),Sheet1!$A$5,\"\"))","v":""},{"$f":"IF($L95=\"\",\"\",IF(AND($L95>=Sheet1!$F$6,'Pupil List'!$L95<Sheet1!$G$6),Sheet1!$A$6,\"\"))","v":""},{"$f":"IF($L95=\"\",\"\",IF(AND($L95>=Sheet1!$F$7,'Pupil List'!$L95<Sheet1!$G$7),Sheet1!$A$7,\"\"))","v":""},{"$f":"IF($L95=\"\",\"\",IF(AND($L95>=Sheet1!$F$8,'Pupil List'!$L95<Sheet1!$G$8),Sheet1!$A$8,\"\"))","v":""},{"$f":"IF($L95=\"\",\"\",IF(AND($L95>=Sheet1!$F$9,'Pupil List'!$L95<Sheet1!$G$9),Sheet1!$A$9,\"\"))","v":""},{"$f":"IF($L95=\"\",\"\",IF(AND($L95>=Sheet1!$F$10,'Pupil List'!$L95<Sheet1!$G$10),Sheet1!$A$10,\"\"))","v":""},{"$f":"IF($L95=\"\",\"\",IF(AND($L95>=Sheet1!$F$11,'Pupil List'!$L95<Sheet1!$G$11),Sheet1!$A$11,\"\"))","v":""},{"$f":"IF($L95=\"\",\"\",IF(AND($L95>=Sheet1!$F$12,'Pupil List'!$L95<Sheet1!$G$12),Sheet1!$A$12,\"\"))","v":""},{"$f":"IF($L95=\"\",\"\",IF(AND($L95>=Sheet1!$F$13,'Pupil List'!$L95<Sheet1!$G$13),Sheet1!$A$13,\"\"))","v":""},{"$f":"IF($L95=\"\",\"\",IF(AND($L95>=Sheet1!$F$14,'Pupil List'!$L95<Sheet1!$G$14),Sheet1!$A$14,\"\"))","v":""},{"$f":"IF($L95=\"\",\"\",IF(AND($L95>=Sheet1!$F$15,'Pupil List'!$L95<Sheet1!$G$15),Sheet1!$A$15,\"\"))","v":""},{"$f":"IF($L95=\"\",\"\",IF(AND($L95>=Sheet1!$F$16,'Pupil List'!$L95<Sheet1!$G$16),Sheet1!$A$16,\"\"))","v":""},{"$f":"IF($L95=\"\",\"\",IF(AND($L95>=Sheet1!$F$17,'Pupil List'!$L95<Sheet1!$G$17),Sheet1!$A$17,\"\"))","v":""},{"$f":"IF($L95=\"\",\"\",IF(AND($L95>=Sheet1!$F$18,'Pupil List'!$L95<Sheet1!$G$18),Sheet1!$A$18,\"\"))","v":""},{"$f":"IF($L95=\"\",\"\",IF(AND($L95>=Sheet1!$F$19,'Pupil List'!$L95<Sheet1!$G$19),Sheet1!$A$19,\"\"))","v":""},{"$f":"IF($L95=\"\",\"\",IF(AND($L95>=Sheet1!$F$20,'Pupil List'!$L95<Sheet1!$G$20),Sheet1!$A$20,\"\"))","v":""},{"$f":"IF($L95=\"\",\"\",IF(AND($L95>=Sheet1!$F$21,'Pupil List'!$L95<Sheet1!$G$21),Sheet1!$A$21,\"\"))","v":""},{"$f":"IF($L95=\"\",\"\",IF(AND($L95>=Sheet1!$F$22,'Pupil List'!$L95<Sheet1!$G$22),Sheet1!$A$22,\"\"))","v":""},{"$f":"IF($L95=\"\",\"\",IF(AND($L95>=Sheet1!$F$23,'Pupil List'!$L95<Sheet1!$G$23),Sheet1!$A$23,\"\"))","v":""},{"$f":"IF($L95=\"\",\"\",IF(AND($L95>=Sheet1!$F$24,'Pupil List'!$L95<Sheet1!$G$24),Sheet1!$A$24,\"\"))","v":""},{"$f":"IF($L95=\"\",\"\",IF(AND($L95>=Sheet1!$F$25,'Pupil List'!$L95<Sheet1!$G$25),Sheet1!$A$25,\"\"))","v":""},{"$error":"#N/A"},{"$f":"IFERROR(VLOOKUP(BK95,Sheet1!$A$2:$E$25,3,FALSE),\"\")","v":""},{"$f":"IFERROR(VLOOKUP(BK95,Sheet1!$A$2:$E$25,4,FALSE),\"\")","v":""},{"$f":"IFERROR(VLOOKUP(BK95,Sheet1!$A$2:$E$25,5,FALSE),\"\")","v":""},{"$f":"IFERROR(VLOOKUP(N95,Sheet1!$A$29:$B$38,2,FALSE),\"\")","v":""}]
["","","",null,null,null,null,null,"","","",null,"",null,"","","","","","","","","","","","","","","","","","","","","","","","",{"$f":"IF($L96=\"\",\"\",IF(AND($L96>=Sheet1!$F$2,'Pupil List'!$L96<Sheet1!$G$2),Sheet1!$A$2,\"\"))","v":""},{"$f":"IF($L96=\"\",\"\",IF(AND($L96>=Sheet1!$F$3,'Pupil List'!$L96<Sheet1!$G$3),Sheet1!$A$3,\"\"))","v":""},{"$f":"IF($L96=\"\",\"\",IF(AND($L96>=Sheet1!$F$4,'Pupil List'!$L96<Sheet1!$G$4),Sheet1!$A$4,\"\"))","v":""},{"$f":"IF($L96=\"\",\"\",IF(AND($L96>=Sheet1!$F$5,'Pupil List'!$L96<Sheet1!$G$5),Sheet1!$A$5,\"\"))","v":""},{"$f":"IF($L96=\"\",\"\",IF(AND($L96>=Sheet1!$F$6,'Pupil List'!$L96<Sheet1!$G$6),Sheet1!$A$6,\"\"))","v":""},{"$f":"IF($L96=\"\",\"\",IF(AND($L96>=Sheet1!$F$7,'Pupil List'!$L96<Sheet1!$G$7),Sheet1!$A$7,\"\"))","v":""},{"$f":"IF($L96=\"\",\"\",IF(AND($L96>=Sheet1!$F$8,'Pupil List'!$L96<Sheet1!$G$8),Sheet1!$A$8,\"\"))","v":""},{"$f":"IF($L96=\"\",\"\",IF(AND($L96>=Sheet1!$F$9,'Pupil List'!$L96<Sheet1!$G$9),Sheet1!$A$9,\"\"))","v":""},{"$f":"IF($L96=\"\",\"\",IF(AND($L96>=Sheet1!$F$10,'Pupil List'!$L96<Sheet1!$G$10),Sheet1!$A$10,\"\"))","v":""},{"$f":"IF($L96=\"\",\"\",IF(AND($L96>=Sheet1!$F$11,'Pupil List'!$L96<Sheet1!$G$11),Sheet1!$A$11,\"\"))","v":""},{"$f":"IF($L96=\"\",\"\",IF(AND($L96>=Sheet1!$F$12,'Pupil List'!$L96<Sheet1!$G$12),Sheet1!$A$12,\"\"))","v":""},{"$f":"IF($L96=\"\",\"\",IF(AND($L96>=Sheet1!$F$13,'Pupil List'!$L96<Sheet1!$G$13),Sheet1!$A$13,\"\"))","v":""},{"$f":"IF($L96=\"\",\"\",IF(AND($L96>=Sheet1!$F$14,'Pupil List'!$L96<Sheet1!$G$14),Sheet1!$A$14,\"\"))","v":""},{"$f":"IF($L96=\"\",\"\",IF(AND($L96>=Sheet1!$F$15,'Pupil List'!$L96<Sheet1!$G$15),Sheet1!$A$15,\"\"))","v":""},{"$f":"IF($L96=\"\",\"\",IF(AND($L96>=Sheet1!$F$16,'Pupil List'!$L96<Sheet1!$G$16),Sheet1!$A$16,\"\"))","v":""},{"$f":"IF($L96=\"\",\"\",IF(AND($L96>=Sheet1!$F$17,'Pupil List'!$L96<Sheet1!$G$17),Sheet1!$A$17,\"\"))","v":""},{"$f":"IF($L96=\"\",\"\",IF(AND($L96>=Sheet1!$F$18,'Pupil List'!$L96<Sheet1!$G$18),Sheet1!$A$18,\"\"))","v":""},{"$f":"IF($L96=\"\",\"\",IF(AND($L96>=Sheet1!$F$19,'Pupil List'!$L96<Sheet1!$G$19),Sheet1!$A$19,\"\"))","v":""},{"$f":"IF($L96=\"\",\"\",IF(AND($L96>=Sheet1!$F$20,'Pupil List'!$L96<Sheet1!$G$20),Sheet1!$A$20,\"\"))","v":""},{"$f":"IF($L96=\"\",\"\",IF(AND($L96>=Sheet1!$F$21,'Pupil List'!$L96<Sheet1!$G$21),Sheet1!$A$21,\"\"))","v":""},{"$f":"IF($L96=\"\",\"\",IF(AND($L96>=Sheet1!$F$22,'Pupil List'!$L96<Sheet1!$G$22),Sheet1!$A$22,\"\"))","v":""},{"$f":"IF($L96=\"\",\"\",IF(AND($L96>=Sheet1!$F$23,'Pupil List'!$L96<Sheet1!$G$23),Sheet1!$A$23,\"\"))","v":""},{"$f":"IF($L96=\"\",\"\",IF(AND($L96>=Sheet1!$F$24,'Pupil List'!$L96<Sheet1!$G$24),Sheet1!$A$24,\"\"))","v":""},{"$f":"IF($L96=\"\",\"\",IF(AND($L96>=Sheet1!$F$25,'Pupil List'!$L96<Sheet1!$G$25),Sheet1!$A$25,\"\"))","v":""},{"$error":"#N/A"},{"$f":"IFERROR(VLOOKUP(BK96,Sheet1!$A$2:$E$25,3,FALSE),\"\")","v":""},{"$f":"IFERROR(VLOOKUP(BK96,Sheet1!$A$2:$E$25,4,FALSE),\"\")","v":""},{"$f":"IFERROR(VLOOKUP(BK96,Sheet1!$A$2:$E$25,5,FALSE),\"\")","v":""},{"$f":"IFERROR(VLOOKUP(N96,Sheet1!$A$29:$B$38,2,FALSE),\"\")","v":""}]
["","","",null,null,null,null,null,"","","",null,"",null,"","","","","","","","","","","","","","","","","","","","","","","","",{"$f":"IF($L97=\"\",\"\",IF(AND($L97>=Sheet1!$F$2,'Pupil List'!$L97<Sheet1!$G$2),Sheet1!$A$2,\"\"))","v":""},{"$f":"IF($L97=\"\",\"\",IF(AND($L97>=Sheet1!$F$3,'Pupil List'!$L97<Sheet1!$G$3),Sheet1!$A$3,\"\"))","v":""},{"$f":"IF($L97=\"\",\"\",IF(AND($L97>=Sheet1!$F$4,'Pupil List'!$L97<Sheet1!$G$4),Sheet1!$A$4,\"\"))","v":""},{"$f":"IF($L97=\"\",\"\",IF(AND($L97>=Sheet1!$F$5,'Pupil List'!$L97<Sheet1!$G$5),Sheet1!$A$5,\"\"))","v":""},{"$f":"IF($L97=\"\",\"\",IF(AND($L97>=Sheet1!$F$6,'Pupil List'!$L97<Sheet1!$G$6),Sheet1!$A$6,\"\"))","v":""},{"$f":"IF($L97=\"\",\"\",IF(AND($L97>=Sheet1!$F$7,'Pupil List'!$L97<Sheet1!$G$7),Sheet1!$A$7,\"\"))","v":""},{"$f":"IF($L97=\"\",\"\",IF(AND($L97>=Sheet1!$F$8,'Pupil List'!$L97<Sheet1!$G$8),Sheet1!$A$8,\"\"))","v":""},{"$f":"IF($L97=\"\",\"\",IF(AND($L97>=Sheet1!$F$9,'Pupil List'!$L97<Sheet1!$G$9),Sheet1!$A$9,\"\"))","v":""},{"$f":"IF($L97=\"\",\"\",IF(AND($L97>=Sheet1!$F$10,'Pupil List'!$L97<Sheet1!$G$10),Sheet1!$A$10,\"\"))","v":""},{"$f":"IF($L97=\"\",\"\",IF(AND($L97>=Sheet1!$F$11,'Pupil List'!$L97<Sheet1!$G$11),Sheet1!$A$11,\"\"))","v":""},{"$f":"IF($L97=\"\",\"\",IF(AND($L97>=Sheet1!$F$12,'Pupil List'!$L97<Sheet1!$G$12),Sheet1!$A$12,\"\"))","v":""},{"$f":"IF($L97=\"\",\"\",IF(AND($L97>=Sheet1!$F$13,'Pupil List'!$L97<Sheet1!$G$13),Sheet1!$A$13,\"\"))","v":""},{"$f":"IF($L97=\"\",\"\",IF(AND($L97>=Sheet1!$F$14,'Pupil List'!$L97<Sheet1!$G$14),Sheet1!$A$14,\"\"))","v":""},{"$f":"IF($L97=\"\",\"\",IF(AND($L97>=Sheet1!$F$15,'Pupil List'!$L97<Sheet1!$G$15),Sheet1!$A$15,\"\"))","v":""},{"$f":"IF($L97=\"\",\"\",IF(AND($L97>=Sheet1!$F$16,'Pupil List'!$L97<Sheet1!$G$16),Sheet1!$A$16,\"\"))","v":""},{"$f":"IF($L97=\"\",\"\",IF(AND($L97>=Sheet1!$F$17,'Pupil List'!$L97<Sheet1!$G$17),Sheet1!$A$17,\"\"))","v":""},{"$f":"IF($L97=\"\",\"\",IF(AND($L97>=Sheet1!$F$18,'Pupil List'!$L97<Sheet1!$G$18),Sheet1!$A$18,\"\"))","v":""},{"$f":"IF($L97=\"\",\"\",IF(AND($L97>=Sheet1!$F$19,'Pupil List'!$L97<Sheet1!$G$19),Sheet1!$A$19,\"\"))","v":""},{"$f":"IF($L97=\"\",\"\",IF(AND($L97>=Sheet1!$F$20,'Pupil List'!$L97<Sheet1!$G$20),Sheet1!$A$20,\"\"))","v":""},{"$f":"IF($L97=\"\",\"\",IF(AND($L97>=Sheet1!$F$21,'Pupil List'!$L97<Sheet1!$G$21),Sheet1!$A$21,\"\"))","v":""},{"$f":"IF($L97=\"\",\"\",IF(AND($L97>=Sheet1!$F$22,'Pupil List'!$L97<Sheet1!$G$22),Sheet1!$A$22,\"\"))","v":""},{"$f":"IF($L97=\"\",\"\",IF(AND($L97>=Sheet1!$F$23,'Pupil List'!$L97<Sheet1!$G$23),Sheet1!$A$23,\"\"))","v":""},{"$f":"IF($L97=\"\",\"\",IF(AND($L97>=Sheet1!$F$24,'Pupil List'!$L97<Sheet1!$G$24),Sheet1!$A$24,\"\"))","v":""},{"$f":"IF($L97=\"\",\"\",IF(AND($L97>=Sheet1!$F$25,'Pupil List'!$L97<Sheet1!$G$25),Sheet1!$A$25,\"\"))","v":""},{"$error":"#N/A"},{"$f":"IFERROR(VLOOKUP(BK97,Sheet1!$A$2:$E$25,3,FALSE),\"\")","v":""},{"$f":"IFERROR(VLOOKUP(BK97,Sheet1!$A$2:$E$25,4,FALSE),\"\")","v":""},{"$f":"IFERROR(VLOOKUP(BK97,Sheet1!$A$2:$E$25,5,FALSE),\"\")","v":""},{"$f":"IFERROR(VLOOKUP(N97,Sheet1!$A$29:$B$38,2,FALSE),\"\")","v":""}]
["","","",null,null,null,null,null,"","","",null,"",null,"","","","","","","","","","","","","","","","","","","","","","","","",{"$f":"IF($L98=\"\",\"\",IF(AND($L98>=Sheet1!$F$2,'Pupil List'!$L98<Sheet1!$G$2),Sheet1!$A$2,\"\"))","v":""},{"$f":"IF($L98=\"\",\"\",IF(AND($L98>=Sheet1!$F$3,'Pupil List'!$L98<Sheet1!$G$3),Sheet1!$A$3,\"\"))","v":""},{"$f":"IF($L98=\"\",\"\",IF(AND($L98>=Sheet1!$F$4,'Pupil List'!$L98<Sheet1!$G$4),Sheet1!$A$4,\"\"))","v":""},{"$f":"IF($L98=\"\",\"\",IF(AND($L98>=Sheet1!$F$5,'Pupil List'!$L98<Sheet1!$G$5),Sheet1!$A$5,\"\"))","v":""},{"$f":"IF($L98=\"\",\"\",IF(AND($L98>=Sheet1!$F$6,'Pupil List'!$L98<Sheet1!$G$6),Sheet1!$A$6,\"\"))","v":""},{"$f":"IF($L98=\"\",\"\",IF(AND($L98>=Sheet1!$F$7,'Pupil List'!$L98<Sheet1!$G$7),Sheet1!$A$7,\"\"))","v":""},{"$f":"IF($L98=\"\",\"\",IF(AND($L98>=Sheet1!$F$8,'Pupil List'!$L98<Sheet1!$G$8),Sheet1!$A$8,\"\"))","v":""},{"$f":"IF($L98=\"\",\"\",IF(AND($L98>=Sheet1!$F$9,'Pupil List'!$L98<Sheet1!$G$9),Sheet1!$A$9,\"\"))","v":""},{"$f":"IF($L98=\"\",\"\",IF(AND($L98>=Sheet1!$F$10,'Pupil List'!$L98<Sheet1!$G$10),Sheet1!$A$10,\"\"))","v":""},{"$f":"IF($L98=\"\",\"\",IF(AND($L98>=Sheet1!$F$11,'Pupil List'!$L98<Sheet1!$G$11),Sheet1!$A$11,\"\"))","v":""},{"$f":"IF($L98=\"\",\"\",IF(AND($L98>=Sheet1!$F$12,'Pupil List'!$L98<Sheet1!$G$12),Sheet1!$A$12,\"\"))","v":""},{"$f":"IF($L98=\"\",\"\",IF(AND($L98>=Sheet1!$F$13,'Pupil List'!$L98<Sheet1!$G$13),Sheet1!$A$13,\"\"))","v":""},{"$f":"IF($L98=\"\",\"\",IF(AND($L98>=Sheet1!$F$14,'Pupil List'!$L98<Sheet1!$G$14),Sheet1!$A$14,\"\"))","v":""},{"$f":"IF($L98=\"\",\"\",IF(AND($L98>=Sheet1!$F$15,'Pupil List'!$L98<Sheet1!$G$15),Sheet1!$A$15,\"\"))","v":""},{"$f":"IF($L98=\"\",\"\",IF(AND($L98>=Sheet1!$F$16,'Pupil List'!$L98<Sheet1!$G$16),Sheet1!$A$16,\"\"))","v":""},{"$f":"IF($L98=\"\",\"\",IF(AND($L98>=Sheet1!$F$17,'Pupil List'!$L98<Sheet1!$G$17),Sheet1!$A$17,\"\"))","v":""},{"$f":"IF($L98=\"\",\"\",IF(AND($L98>=Sheet1!$F$18,'Pupil List'!$L98<Sheet1!$G$18),Sheet1!$A$18,\"\"))","v":""},{"$f":"IF($L98=\"\",\"\",IF(AND($L98>=Sheet1!$F$19,'Pupil List'!$L98<Sheet1!$G$19),Sheet1!$A$19,\"\"))","v":""},{"$f":"IF($L98=\"\",\"\",IF(AND($L98>=Sheet1!$F$20,'Pupil List'!$L98<Sheet1!$G$20),Sheet1!$A$20,\"\"))","v":""},{"$f":"IF($L98=\"\",\"\",IF(AND($L98>=Sheet1!$F$21,'Pupil List'!$L98<Sheet1!$G$21),Sheet1!$A$21,\"\"))","v":""},{"$f":"IF($L98=\"\",\"\",IF(AND($L98>=Sheet1!$F$22,'Pupil List'!$L98<Sheet1!$G$22),Sheet1!$A$22,\"\"))","v":""},{"$f":"IF($L98=\"\",\"\",IF(AND($L98>=Sheet1!$F$23,'Pupil List'!$L98<Sheet1!$G$23),Sheet1!$A$23,\"\"))","v":""},{"$f":"IF($L98=\"\",\"\",IF(AND($L98>=Sheet1!$F$24,'Pupil List'!$L98<Sheet1!$G$24),Sheet1!$A$24,\"\"))","v":""},{"$f":"IF($L98=\"\",\"\",IF(AND($L98>=Sheet1!$F$25,'Pupil List'!$L98<Sheet1!$G$25),Sheet1!$A$25,\"\"))","v":""},{"$error":"#N/A"},{"$f":"IFERROR(VLOOKUP(BK98,Sheet1!$A$2:$E$25,3,FALSE),\"\")","v":""},{"$f":"IFERROR(VLOOKUP(BK98,Sheet1!$A$2:$E$25,4,FALSE),\"\")","v":""},{"$f":"IFERROR(VLOOKUP(BK98,Sheet1!$A$2:$E$25,5,FALSE),\"\")","v":""},{"$f":"IFERROR(VLOOKUP(N98,Sheet1!$A$29:$B$38,2,FALSE),\"\")","v":""}]
["","","",null,null,null,null,null,"","","",null,"",null,"","","","","","","","","","","","","","","","","","","","","","","","",{"$f":"IF($L99=\"\",\"\",IF(AND($L99>=Sheet1!$F$2,'Pupil List'!$L99<Sheet1!$G$2),Sheet1!$A$2,\"\"))","v":""},{"$f":"IF($L99=\"\",\"\",IF(AND($L99>=Sheet1!$F$3,'Pupil List'!$L99<Sheet1!$G$3),Sheet1!$A$3,\"\"))","v":""},{"$f":"IF($L99=\"\",\"\",IF(AND($L99>=Sheet1!$F$4,'Pupil List'!$L99<Sheet1!$G$4),Sheet1!$A$4,\"\"))","v":""},{"$f":"IF($L99=\"\",\"\",IF(AND($L99>=Sheet1!$F$5,'Pupil List'!$L99<Sheet1!$G$5),Sheet1!$A$5,\"\"))","v":""},{"$f":"IF($L99=\"\",\"\",IF(AND($L99>=Sheet1!$F$6,'Pupil List'!$L99<Sheet1!$G$6),Sheet1!$A$6,\"\"))","v":""},{"$f":"IF($L99=\"\",\"\",IF(AND($L99>=Sheet1!$F$7,'Pupil List'!$L99<Sheet1!$G$7),Sheet1!$A$7,\"\"))","v":""},{"$f":"IF($L99=\"\",\"\",IF(AND($L99>=Sheet1!$F$8,'Pupil List'!$L99<Sheet1!$G$8),Sheet1!$A$8,\"\"))","v":""},{"$f":"IF($L99=\"\",\"\",IF(AND($L99>=Sheet1!$F$9,'Pupil List'!$L99<Sheet1!$G$9),Sheet1!$A$9,\"\"))","v":""},{"$f":"IF($L99=\"\",\"\",IF(AND($L99>=Sheet1!$F$10,'Pupil List'!$L99<Sheet1!$G$10),Sheet1!$A$10,\"\"))","v":""},{"$f":"IF($L99=\"\",\"\",IF(AND($L99>=Sheet1!$F$11,'Pupil List'!$L99<Sheet1!$G$11),Sheet1!$A$11,\"\"))","v":""},{"$f":"IF($L99=\"\",\"\",IF(AND($L99>=Sheet1!$F$12,'Pupil List'!$L99<Sheet1!$G$12),Sheet1!$A$12,\"\"))","v":""},{"$f":"IF($L99=\"\",\"\",IF(AND($L99>=Sheet1!$F$13,'Pupil List'!$L99<Sheet1!$G$13),Sheet1!$A$13,\"\"))","v":""},{"$f":"IF($L99=\"\",\"\",IF(AND($L99>=Sheet1!$F$14,'Pupil List'!$L99<Sheet1!$G$14),Sheet1!$A$14,\"\"))","v":""},{"$f":"IF($L99=\"\",\"\",IF(AND($L99>=Sheet1!$F$15,'Pupil List'!$L99<Sheet1!$G$15),Sheet1!$A$15,\"\"))","v":""},{"$f":"IF($L99=\"\",\"\",IF(AND($L99>=Sheet1!$F$16,'Pupil List'!$L99<Sheet1!$G$16),Sheet1!$A$16,\"\"))","v":""},{"$f":"IF($L99=\"\",\"\",IF(AND($L99>=Sheet1!$F$17,'Pupil List'!$L99<Sheet1!$G$17),Sheet1!$A$17,\"\"))","v":""},{"$f":"IF($L99=\"\",\"\",IF(AND($L99>=Sheet1!$F$18,'Pupil List'!$L99<Sheet1!$G$18),Sheet1!$A$18,\"\"))","v":""},{"$f":"IF($L99=\"\",\"\",IF(AND($L99>=Sheet1!$F$19,'Pupil List'!$L99<Sheet1!$G$19),Sheet1!$A$19,\"\"))","v":""},{"$f":"IF($L99=\"\",\"\",IF(AND($L99>=Sheet1!$F$20,'Pupil List'!$L99<Sheet1!$G$20),Sheet1!$A$20,\"\"))","v":""},{"$f":"IF($L99=\"\",\"\",IF(AND($L99>=Sheet1!$F$21,'Pupil List'!$L99<Sheet1!$G$21),Sheet1!$A$21,\"\"))","v":""},{"$f":"IF($L99=\"\",\"\",IF(AND($L99>=Sheet1!$F$22,'Pupil List'!$L99<Sheet1!$G$22),Sheet1!$A$22,\"\"))","v":""},{"$f":"IF($L99=\"\",\"\",IF(AND($L99>=Sheet1!$F$23,'Pupil List'!$L99<Sheet1!$G$23),Sheet1!$A$23,\"\"))","v":""},{"$f":"IF($L99=\"\",\"\",IF(AND($L99>=Sheet1!$F$24,'Pupil List'!$L99<Sheet1!$G$24),Sheet1!$A$24,\"\"))","v":""},{"$f":"IF($L99=\"\",\"\",IF(AND($L99>=Sheet1!$F$25,'Pupil List'!$L99<Sheet1!$G$25),Sheet1!$A$25,\"\"))","v":""},{"$error":"#N/A"},{"$f":"IFERROR(VLOOKUP(BK99,Sheet1!$A$2:$E$25,3,FALSE),\"\")","v":""},{"$f":"IFERROR(VLOOKUP(BK99,Sheet1!$A$2:$E$25,4,FALSE),\"\")","v":""},{"$f":"IFERROR(VLOOKUP(BK99,Sheet1!$A$2:$E$25,5,FALSE),\"\")","v":""},{"$f":"IFERROR(VLOOKUP(N99,Sheet1!$A$29:$B$38,2,FALSE),\"\")","v":""}]
["","","",null,null,null,null,null,"","","",null,"",null,"","","","","","","","","","","","","","","","","","","","","","","","",{"$f":"IF($L100=\"\",\"\",IF(AND($L100>=Sheet1!$F$2,'Pupil List'!$L100<Sheet1!$G$2),Sheet1!$A$2,\"\"))","v":""},{"$f":"IF($L100=\"\",\"\",IF(AND($L100>=Sheet1!$F$3,'Pupil List'!$L100<Sheet1!$G$3),Sheet1!$A$3,\"\"))","v":""},{"$f":"IF($L100=\"\",\"\",IF(AND($L100>=Sheet1!$F$4,'Pupil List'!$L100<Sheet1!$G$4),Sheet1!$A$4,\"\"))","v":""},{"$f":"IF($L100=\"\",\"\",IF(AND($L100>=Sheet1!$F$5,'Pupil List'!$L100<Sheet1!$G$5),Sheet1!$A$5,\"\"))","v":""},{"$f":"IF($L100=\"\",\"\",IF(AND($L100>=Sheet1!$F$6,'Pupil List'!$L100<Sheet1!$G$6),Sheet1!$A$6,\"\"))","v":""},{"$f":"IF($L100=\"\",\"\",IF(AND($L100>=Sheet1!$F$7,'Pupil List'!$L100<Sheet1!$G$7),Sheet1!$A$7,\"\"))","v":""},{"$f":"IF($L100=\"\",\"\",IF(AND($L100>=Sheet1!$F$8,'Pupil List'!$L100<Sheet1!$G$8),Sheet1!$A$8,\"\"))","v":""},{"$f":"IF($L100=\"\",\"\",IF(AND($L100>=Sheet1!$F$9,'Pupil List'!$L100<Sheet1!$G$9),Sheet1!$A$9,\"\"))","v":""},{"$f":"IF($L100=\"\",\"\",IF(AND($L100>=Sheet1!$F$10,'Pupil List'!$L100<Sheet1!$G$10),Sheet1!$A$10,\"\"))","v":""},{"$f":"IF($L100=\"\",\"\",IF(AND($L100>=Sheet1!$F$11,'Pupil List'!$L100<Sheet1!$G$11),Sheet1!$A$11,\"\"))","v":""},{"$f":"IF($L100=\"\",\"\",IF(AND($L100>=Sheet1!$F$12,'Pupil List'!$L100<Sheet1!$G$12),Sheet1!$A$12,\"\"))","v":""},{"$f":"IF($L100=\"\",\"\",IF(AND($L100>=Sheet1!$F$13,'Pupil List'!$L100<Sheet1!$G$13),Sheet1!$A$13,\"\"))","v":""},{"$f":"IF($L100=\"\",\"\",IF(AND($L100>=Sheet1!$F$14,'Pupil List'!$L100<Sheet1!$G$14),Sheet1!$A$14,\"\"))","v":""},{"$f":"IF($L100=\"\",\"\",IF(AND($L100>=Sheet1!$F$15,'Pupil List'!$L100<Sheet1!$G$15),Sheet1!$A$15,\"\"))","v":""},{"$f":"IF($L100=\"\",\"\",IF(AND($L100>=Sheet1!$F$16,'Pupil List'!$L100<Sheet1!$G$16),Sheet1!$A$16,\"\"))","v":""},{"$f":"IF($L100=\"\",\"\",IF(AND($L100>=Sheet1!$F$17,'Pupil List'!$L100<Sheet1!$G$17),Sheet1!$A$17,\"\"))","v":""},{"$f":"IF($L100=\"\",\"\",IF(AND($L100>=Sheet1!$F$18,'Pupil List'!$L100<Sheet1!$G$18),Sheet1!$A$18,\"\"))","v":""},{"$f":"IF($L100=\"\",\"\",IF(AND($L100>=Sheet1!$F$19,'Pupil List'!$L100<Sheet1!$G$19),Sheet1!$A$19,\"\"))","v":""},{"$f":"IF($L100=\"\",\"\",IF(AND($L100>=Sheet1!$F$20,'Pupil List'!$L100<Sheet1!$G$20),Sheet1!$A$20,\"\"))","v":""},{"$f":"IF($L100=\"\",\"\",IF(AND($L100>=Sheet1!$F$21,'Pupil List'!$L100<Sheet1!$G$21),Sheet1!$A$21,\"\"))","v":""},{"$f":"IF($L100=\"\",\"\",IF(AND($L100>=Sheet1!$F$22,'Pupil List'!$L100<Sheet1!$G$22),Sheet1!$A$22,\"\"))","v":""},{"$f":"IF($L100=\"\",\"\",IF(AND($L100>=Sheet1!$F$23,'Pupil List'!$L100<Sheet1!$G$23),Sheet1!$A$23,\"\"))","v":""},{"$f":"IF($L100=\"\",\"\",IF(AND($L100>=Sheet1!$F$24,'Pupil List'!$L100<Sheet1!$G$24),Sheet1!$A$24,\"\"))","v":""},{"$f":"IF($L100=\"\",\"\",IF(AND($L100>=Sheet1!$F$25,'Pupil List'!$L100<Sheet1!$G$25),Sheet1!$A$25,\"\"))","v":""},{"$error":"#N/A"},{"$f":"IFERROR(VLOOKUP(BK100,Sheet1!$A$2:$E$25,3,FALSE),\"\")","v":""},{"$f":"IFERROR(VLOOKUP(BK100,Sheet1!$A$2:$E$25,4,FALSE),\"\")","v":""},{"$f":"IFERROR(VLOOKUP(BK100,Sheet1!$A$2:$E$25,5,FALSE),\"\")","v":""},{"$f":"IFERROR(VLOOKUP(N100,Sheet1!$A$29:$B$38,2,FALSE),\"\")","v":""}]
["","","",null,null,null,null,null,"","","",null,"",null,"","","","","","","","","","","","","","","","","","","","","","","","",{"$f":"IF($L101=\"\",\"\",IF(AND($L101>=Sheet1!$F$2,'Pupil List'!$L101<Sheet1!$G$2),Sheet1!$A$2,\"\"))","v":""},{"$f":"IF($L101=\"\",\"\",IF(AND($L101>=Sheet1!$F$3,'Pupil List'!$L101<Sheet1!$G$3),Sheet1!$A$3,\"\"))","v":""},{"$f":"IF($L101=\"\",\"\",IF(AND($L101>=Sheet1!$F$4,'Pupil List'!$L101<Sheet1!$G$4),Sheet1!$A$4,\"\"))","v":""},{"$f":"IF($L101=\"\",\"\",IF(AND($L101>=Sheet1!$F$5,'Pupil List'!$L101<Sheet1!$G$5),Sheet1!$A$5,\"\"))","v":""},{"$f":"IF($L101=\"\",\"\",IF(AND($L101>=Sheet1!$F$6,'Pupil List'!$L101<Sheet1!$G$6),Sheet1!$A$6,\"\"))","v":""},{"$f":"IF($L101=\"\",\"\",IF(AND($L101>=Sheet1!$F$7,'Pupil List'!$L101<Sheet1!$G$7),Sheet1!$A$7,\"\"))","v":""},{"$f":"IF($L101=\"\",\"\",IF(AND($L101>=Sheet1!$F$8,'Pupil List'!$L101<Sheet1!$G$8),Sheet1!$A$8,\"\"))","v":""},{"$f":"IF($L101=\"\",\"\",IF(AND($L101>=Sheet1!$F$9,'Pupil List'!$L101<Sheet1!$G$9),Sheet1!$A$9,\"\"))","v":""},{"$f":"IF($L101=\"\",\"\",IF(AND($L101>=Sheet1!$F$10,'Pupil List'!$L101<Sheet1!$G$10),Sheet1!$A$10,\"\"))","v":""},{"$f":"IF($L101=\"\",\"\",IF(AND($L101>=Sheet1!$F$11,'Pupil List'!$L101<Sheet1!$G$11),Sheet1!$A$11,\"\"))","v":""},{"$f":"IF($L101=\"\",\"\",IF(AND($L101>=Sheet1!$F$12,'Pupil List'!$L101<Sheet1!$G$12),Sheet1!$A$12,\"\"))","v":""},{"$f":"IF($L101=\"\",\"\",IF(AND($L101>=Sheet1!$F$13,'Pupil List'!$L101<Sheet1!$G$13),Sheet1!$A$13,\"\"))","v":""},{"$f":"IF($L101=\"\",\"\",IF(AND($L101>=Sheet1!$F$14,'Pupil List'!$L101<Sheet1!$G$14),Sheet1!$A$14,\"\"))","v":""},{"$f":"IF($L101=\"\",\"\",IF(AND($L101>=Sheet1!$F$15,'Pupil List'!$L101<Sheet1!$G$15),Sheet1!$A$15,\"\"))","v":""},{"$f":"IF($L101=\"\",\"\",IF(AND($L101>=Sheet1!$F$16,'Pupil List'!$L101<Sheet1!$G$16),Sheet1!$A$16,\"\"))","v":""},{"$f":"IF($L101=\"\",\"\",IF(AND($L101>=Sheet1!$F$17,'Pupil List'!$L101<Sheet1!$G$17),Sheet1!$A$17,\"\"))","v":""},{"$f":"IF($L101=\"\",\"\",IF(AND($L101>=Sheet1!$F$18,'Pupil List'!$L101<Sheet1!$G$18),Sheet1!$A$18,\"\"))","v":""},{"$f":"IF($L101=\"\",\"\",IF(AND($L101>=Sheet1!$F$19,'Pupil List'!$L101<Sheet1!$G$19),Sheet1!$A$19,\"\"))","v":""},{"$f":"IF($L101=\"\",\"\",IF(AND($L101>=Sheet1!$F$20,'Pupil List'!$L101<Sheet1!$G$20),Sheet1!$A$20,\"\"))","v":""},{"$f":"IF($L101=\"\",\"\",IF(AND($L101>=Sheet1!$F$21,'Pupil List'!$L101<Sheet1!$G$21),Sheet1!$A$21,\"\"))","v":""},{"$f":"IF($L101=\"\",\"\",IF(AND($L101>=Sheet1!$F$22,'Pupil List'!$L101<Sheet1!$G$22),Sheet1!$A$22,\"\"))","v":""},{"$f":"IF($L101=\"\",\"\",IF(AND($L101>=Sheet1!$F$23,'Pupil List'!$L101<Sheet1!$G$23),Sheet1!$A$23,\"\"))","v":""},{"$f":"IF($L101=\"\",\"\",IF(AND($L101>=Sheet1!$F$24,'Pupil List'!$L101<Sheet1!$G$24),Sheet1!$A$24,\"\"))","v":""},{"$f":"IF($L101=\"\",\"\",IF(AND($L101>=Sheet1!$F$25,'Pupil List'!$L101<Sheet1!$G$25),Sheet1!$A$25,\"\"))","v":""},{"$error":"#N/A"},{"$f":"IFERROR(VLOOKUP(BK101,Sheet1!$A$2:$E$25,3,FALSE),\"\")","v":""},{"$f":"IFERROR(VLOOKUP(BK101,Sheet1!$A$2:$E$25,4,FALSE),\"\")","v":""},{"$f":"IFERROR(VLOOKUP(BK101,Sheet1!$A$2:$E$25,5,FALSE),\"\")","v":""},{"$f":"IFERROR(VLOOKUP(N101,Sheet1!$A$29:$B$38,2,FALSE),\"\")","v":""}]
["","","",null,null,null,null,null,"","","",null,"",null,"","","","","","","","","","","","","","","","","","","","","","","","",{"$f":"IF($L102=\"\",\"\",IF(AND($L102>=Sheet1!$F$2,'Pupil List'!$L102<Sheet1!$G$2),Sheet1!$A$2,\"\"))","v":""},{"$f":"IF($L102=\"\",\"\",IF(AND($L102>=Sheet1!$F$3,'Pupil List'!$L102<Sheet1!$G$3),Sheet1!$A$3,\"\"))","v":""},{"$f":"IF($L102=\"\",\"\",IF(AND($L102>=Sheet1!$F$4,'Pupil List'!$L102<Sheet1!$G$4),Sheet1!$A$4,\"\"))","v":""},{"$f":"IF($L102=\"\",\"\",IF(AND($L102>=Sheet1!$F$5,'Pupil List'!$L102<Sheet1!$G$5),Sheet1!$A$5,\"\"))","v":""},{"$f":"IF($L102=\"\",\"\",IF(AND($L102>=Sheet1!$F$6,'Pupil List'!$L102<Sheet1!$G$6),Sheet1!$A$6,\"\"))","v":""},{"$f":"IF($L102=\"\",\"\",IF(AND($L102>=Sheet1!$F$7,'Pupil List'!$L102<Sheet1!$G$7),Sheet1!$A$7,\"\"))","v":""},{"$f":"IF($L102=\"\",\"\",IF(AND($L102>=Sheet1!$F$8,'Pupil List'!$L102<Sheet1!$G$8),Sheet1!$A$8,\"\"))","v":""},{"$f":"IF($L102=\"\",\"\",IF(AND($L102>=Sheet1!$F$9,'Pupil List'!$L102<Sheet1!$G$9),Sheet1!$A$9,\"\"))","v":""},{"$f":"IF($L102=\"\",\"\",IF(AND($L102>=Sheet1!$F$10,'Pupil List'!$L102<Sheet1!$G$10),Sheet1!$A$10,\"\"))","v":""},{"$f":"IF($L102=\"\",\"\",IF(AND($L102>=Sheet1!$F$11,'Pupil List'!$L102<Sheet1!$G$11),Sheet1!$A$11,\"\"))","v":""},{"$f":"IF($L102=\"\",\"\",IF(AND($L102>=Sheet1!$F$12,'Pupil List'!$L102<Sheet1!$G$12),Sheet1!$A$12,\"\"))","v":""},{"$f":"IF($L102=\"\",\"\",IF(AND($L102>=Sheet1!$F$13,'Pupil List'!$L102<Sheet1!$G$13),Sheet1!$A$13,\"\"))","v":""},{"$f":"IF($L102=\"\",\"\",IF(AND($L102>=Sheet1!$F$14,'Pupil List'!$L102<Sheet1!$G$14),Sheet1!$A$14,\"\"))","v":""},{"$f":"IF($L102=\"\",\"\",IF(AND($L102>=Sheet1!$F$15,'Pupil List'!$L102<Sheet1!$G$15),Sheet1!$A$15,\"\"))","v":""},{"$f":"IF($L102=\"\",\"\",IF(AND($L102>=Sheet1!$F$16,'Pupil List'!$L102<Sheet1!$G$16),Sheet1!$A$16,\"\"))","v":""},{"$f":"IF($L102=\"\",\"\",IF(AND($L102>=Sheet1!$F$17,'Pupil List'!$L102<Sheet1!$G$17),Sheet1!$A$17,\"\"))","v":""},{"$f":"IF($L102=\"\",\"\",IF(AND($L102>=Sheet1!$F$18,'Pupil List'!$L102<Sheet1!$G$18),Sheet1!$A$18,\"\"))","v":""},{"$f":"IF($L102=\"\",\"\",IF(AND($L102>=Sheet1!$F$19,'Pupil List'!$L102<Sheet1!$G$19),Sheet1!$A$19,\"\"))","v":""},{"$f":"IF($L102=\"\",\"\",IF(AND($L102>=Sheet1!$F$20,'Pupil List'!$L102<Sheet1!$G$20),Sheet1!$A$20,\"\"))","v":""},{"$f":"IF($L102=\"\",\"\",IF(AND($L102>=Sheet1!$F$21,'Pupil List'!$L102<Sheet1!$G$21),Sheet1!$A$21,\"\"))","v":""},{"$f":"IF($L102=\"\",\"\",IF(AND($L102>=Sheet1!$F$22,'Pupil List'!$L102<Sheet1!$G$22),Sheet1!$A$22,\"\"))","v":""},{"$f":"IF($L102=\"\",\"\",IF(AND($L102>=Sheet1!$F$23,'Pupil List'!$L102<Sheet1!$G$23),Sheet1!$A$23,\"\"))","v":""},{"$f":"IF($L102=\"\",\"\",IF(AND($L102>=Sheet1!$F$24,'Pupil List'!$L102<Sheet1!$G$24),Sheet1!$A$24,\"\"))","v":""},{"$f":"IF($L102=\"\",\"\",IF(AND($L102>=Sheet1!$F$25,'Pupil List'!$L102<Sheet1!$G$25),Sheet1!$A$25,\"\"))","v":""},{"$error":"#N/A"},{"$f":"IFERROR(VLOOKUP(BK102,Sheet1!$A$2:$E$25,3,FALSE),\"\")","v":""},{"$f":"IFERROR(VLOOKUP(BK102,Sheet1!$A$2:$E$25,4,FALSE),\"\")","v":""},{"$f":"IFERROR(VLOOKUP(BK102,Sheet1!$A$2:$E$25,5,FALSE),\"\")","v":""},{"$f":"IFERROR(VLOOKUP(N102,Sheet1!$A$29:$B$38,2,FALSE),\"\")","v":""}]
["","","",null,null,null,null,null,"","","",null,"",null,"","","","","","","","","","","","","","","","","","","","","","","","",{"$f":"IF($L103=\"\",\"\",IF(AND($L103>=Sheet1!$F$2,'Pupil List'!$L103<Sheet1!$G$2),Sheet1!$A$2,\"\"))","v":""},{"$f":"IF($L103=\"\",\"\",IF(AND($L103>=Sheet1!$F$3,'Pupil List'!$L103<Sheet1!$G$3),Sheet1!$A$3,\"\"))","v":""},{"$f":"IF($L103=\"\",\"\",IF(AND($L103>=Sheet1!$F$4,'Pupil List'!$L103<Sheet1!$G$4),Sheet1!$A$4,\"\"))","v":""},{"$f":"IF($L103=\"\",\"\",IF(AND($L103>=Sheet1!$F$5,'Pupil List'!$L103<Sheet1!$G$5),Sheet1!$A$5,\"\"))","v":""},{"$f":"IF($L103=\"\",\"\",IF(AND($L103>=Sheet1!$F$6,'Pupil List'!$L103<Sheet1!$G$6),Sheet1!$A$6,\"\"))","v":""},{"$f":"IF($L103=\"\",\"\",IF(AND($L103>=Sheet1!$F$7,'Pupil List'!$L103<Sheet1!$G$7),Sheet1!$A$7,\"\"))","v":""},{"$f":"IF($L103=\"\",\"\",IF(AND($L103>=Sheet1!$F$8,'Pupil List'!$L103<Sheet1!$G$8),Sheet1!$A$8,\"\"))","v":""},{"$f":"IF($L103=\"\",\"\",IF(AND($L103>=Sheet1!$F$9,'Pupil List'!$L103<Sheet1!$G$9),Sheet1!$A$9,\"\"))","v":""},{"$f":"IF($L103=\"\",\"\",IF(AND($L103>=Sheet1!$F$10,'Pupil List'!$L103<Sheet1!$G$10),Sheet1!$A$10,\"\"))","v":""},{"$f":"IF($L103=\"\",\"\",IF(AND($L103>=Sheet1!$F$11,'Pupil List'!$L103<Sheet1!$G$11),Sheet1!$A$11,\"\"))","v":""},{"$f":"IF($L103=\"\",\"\",IF(AND($L103>=Sheet1!$F$12,'Pupil List'!$L103<Sheet1!$G$12),Sheet1!$A$12,\"\"))","v":""},{"$f":"IF($L103=\"\",\"\",IF(AND($L103>=Sheet1!$F$13,'Pupil List'!$L103<Sheet1!$G$13),Sheet1!$A$13,\"\"))","v":""},{"$f":"IF($L103=\"\",\"\",IF(AND($L103>=Sheet1!$F$14,'Pupil List'!$L103<Sheet1!$G$14),Sheet1!$A$14,\"\"))","v":""},{"$f":"IF($L103=\"\",\"\",IF(AND($L103>=Sheet1!$F$15,'Pupil List'!$L103<Sheet1!$G$15),Sheet1!$A$15,\"\"))","v":""},{"$f":"IF($L103=\"\",\"\",IF(AND($L103>=Sheet1!$F$16,'Pupil List'!$L103<Sheet1!$G$16),Sheet1!$A$16,\"\"))","v":""},{"$f":"IF($L103=\"\",\"\",IF(AND($L103>=Sheet1!$F$17,'Pupil List'!$L103<Sheet1!$G$17),Sheet1!$A$17,\"\"))","v":""},{"$f":"IF($L103=\"\",\"\",IF(AND($L103>=Sheet1!$F$18,'Pupil List'!$L103<Sheet1!$G$18),Sheet1!$A$18,\"\"))","v":""},{"$f":"IF($L103=\"\",\"\",IF(AND($L103>=Sheet1!$F$19,'Pupil List'!$L103<Sheet1!$G$19),Sheet1!$A$19,\"\"))","v":""},{"$f":"IF($L103=\"\",\"\",IF(AND($L103>=Sheet1!$F$20,'Pupil List'!$L103<Sheet1!$G$20),Sheet1!$A$20,\"\"))","v":""},{"$f":"IF($L103=\"\",\"\",IF(AND($L103>=Sheet1!$F$21,'Pupil List'!$L103<Sheet1!$G$21),Sheet1!$A$21,\"\"))","v":""},{"$f":"IF($L103=\"\",\"\",IF(AND($L103>=Sheet1!$F$22,'Pupil List'!$L103<Sheet1!$G$22),Sheet1!$A$22,\"\"))","v":""},{"$f":"IF($L103=\"\",\"\",IF(AND($L103>=Sheet1!$F$23,'Pupil List'!$L103<Sheet1!$G$23),Sheet1!$A$23,\"\"))","v":""},{"$f":"IF($L103=\"\",\"\",IF(AND($L103>=Sheet1!$F$24,'Pupil List'!$L103<Sheet1!$G$24),Sheet1!$A$24,\"\"))","v":""},{"$f":"IF($L103=\"\",\"\",IF(AND($L103>=Sheet1!$F$25,'Pupil List'!$L103<Sheet1!$G$25),Sheet1!$A$25,\"\"))","v":""},{"$error":"#N/A"},{"$f":"IFERROR(VLOOKUP(BK103,Sheet1!$A$2:$E$25,3,FALSE),\"\")","v":""},{"$f":"IFERROR(VLOOKUP(BK103,Sheet1!$A$2:$E$25,4,FALSE),\"\")","v":""},{"$f":"IFERROR(VLOOKUP(BK103,Sheet1!$A$2:$E$25,5,FALSE),\"\")","v":""},{"$f":"IFERROR(VLOOKUP(N103,Sheet1!$A$29:$B$38,2,FALSE),\"\")","v":""}]
["","","",null,null,null,null,null,"","","",null,"",null,"","","","","","","","","","","","","","","","","","","","","","","","",{"$f":"IF($L104=\"\",\"\",IF(AND($L104>=Sheet1!$F$2,'Pupil List'!$L104<Sheet1!$G$2),Sheet1!$A$2,\"\"))","v":""},{"$f":"IF($L104=\"\",\"\",IF(AND($L104>=Sheet1!$F$3,'Pupil List'!$L104<Sheet1!$G$3),Sheet1!$A$3,\"\"))","v":""},{"$f":"IF($L104=\"\",\"\",IF(AND($L104>=Sheet1!$F$4,'Pupil List'!$L104<Sheet1!$G$4),Sheet1!$A$4,\"\"))","v":""},{"$f":"IF($L104=\"\",\"\",IF(AND($L104>=Sheet1!$F$5,'Pupil List'!$L104<Sheet1!$G$5),Sheet1!$A$5,\"\"))","v":""},{"$f":"IF($L104=\"\",\"\",IF(AND($L104>=Sheet1!$F$6,'Pupil List'!$L104<Sheet1!$G$6),Sheet1!$A$6,\"\"))","v":""},{"$f":"IF($L104=\"\",\"\",IF(AND($L104>=Sheet1!$F$7,'Pupil List'!$L104<Sheet1!$G$7),Sheet1!$A$7,\"\"))","v":""},{"$f":"IF($L104=\"\",\"\",IF(AND($L104>=Sheet1!$F$8,'Pupil List'!$L104<Sheet1!$G$8),Sheet1!$A$8,\"\"))","v":""},{"$f":"IF($L104=\"\",\"\",IF(AND($L104>=Sheet1!$F$9,'Pupil List'!$L104<Sheet1!$G$9),Sheet1!$A$9,\"\"))","v":""},{"$f":"IF($L104=\"\",\"\",IF(AND($L104>=Sheet1!$F$10,'Pupil List'!$L104<Sheet1!$G$10),Sheet1!$A$10,\"\"))","v":""},{"$f":"IF($L104=\"\",\"\",IF(AND($L104>=Sheet1!$F$11,'Pupil List'!$L104<Sheet1!$G$11),Sheet1!$A$11,\"\"))","v":""},{"$f":"IF($L104=\"\",\"\",IF(AND($L104>=Sheet1!$F$12,'Pupil List'!$L104<Sheet1!$G$12),Sheet1!$A$12,\"\"))","v":""},{"$f":"IF($L104=\"\",\"\",IF(AND($L104>=Sheet1!$F$13,'Pupil List'!$L104<Sheet1!$G$13),Sheet1!$A$13,\"\"))","v":""},{"$f":"IF($L104=\"\",\"\",IF(AND($L104>=Sheet1!$F$14,'Pupil List'!$L104<Sheet1!$G$14),Sheet1!$A$14,\"\"))","v":""},{"$f":"IF($L104=\"\",\"\",IF(AND($L104>=Sheet1!$F$15,'Pupil List'!$L104<Sheet1!$G$15),Sheet1!$A$15,\"\"))","v":""},{"$f":"IF($L104=\"\",\"\",IF(AND($L104>=Sheet1!$F$16,'Pupil List'!$L104<Sheet1!$G$16),Sheet1!$A$16,\"\"))","v":""},{"$f":"IF($L104=\"\",\"\",IF(AND($L104>=Sheet1!$F$17,'Pupil List'!$L104<Sheet1!$G$17),Sheet1!$A$17,\"\"))","v":""},{"$f":"IF($L104=\"\",\"\",IF(AND($L104>=Sheet1!$F$18,'Pupil List'!$L104<Sheet1!$G$18),Sheet1!$A$18,\"\"))","v":""},{"$f":"IF($L104=\"\",\"\",IF(AND($L104>=Sheet1!$F$19,'Pupil List'!$L104<Sheet1!$G$19),Sheet1!$A$19,\"\"))","v":""},{"$f":"IF($L104=\"\",\"\",IF(AND($L104>=Sheet1!$F$20,'Pupil List'!$L104<Sheet1!$G$20),Sheet1!$A$20,\"\"))","v":""},{"$f":"IF($L104=\"\",\"\",IF(AND($L104>=Sheet1!$F$21,'Pupil List'!$L104<Sheet1!$G$21),Sheet1!$A$21,\"\"))","v":""},{"$f":"IF($L104=\"\",\"\",IF(AND($L104>=Sheet1!$F$22,'Pupil List'!$L104<Sheet1!$G$22),Sheet1!$A$22,\"\"))","v":""},{"$f":"IF($L104=\"\",\"\",IF(AND($L104>=Sheet1!$F$23,'Pupil List'!$L104<Sheet1!$G$23),Sheet1!$A$23,\"\"))","v":""},{"$f":"IF($L104=\"\",\"\",IF(AND($L104>=Sheet1!$F$24,'Pupil List'!$L104<Sheet1!$G$24),Sheet1!$A$24,\"\"))","v":""},{"$f":"IF($L104=\"\",\"\",IF(AND($L104>=Sheet1!$F$25,'Pupil List'!$L104<Sheet1!$G$25),Sheet1!$A$25,\"\"))","v":""},{"$error":"#N/A"},{"$f":"IFERROR(VLOOKUP(BK104,Sheet1!$A$2:$E$25,3,FALSE),\"\")","v":""},{"$f":"IFERROR(VLOOKUP(BK104,Sheet1!$A$2:$E$25,4,FALSE),\"\")","v":""},{"$f":"IFERROR(VLOOKUP(BK104,Sheet1!$A$2:$E$25,5,FALSE),\"\")","v":""},{"$f":"IFERROR(VLOOKUP(N104,Sheet1!$A$29:$B$38,2,FALSE),\"\")","v":""}]
["","","",null,null,null,null,null,"","","",null,"",null,"","","","","","","","","","","","","","","","","","","","","","","","",{"$f":"IF($L105=\"\",\"\",IF(AND($L105>=Sheet1!$F$2,'Pupil List'!$L105<Sheet1!$G$2),Sheet1!$A$2,\"\"))","v":""},{"$f":"IF($L105=\"\",\"\",IF(AND($L105>=Sheet1!$F$3,'Pupil List'!$L105<Sheet1!$G$3),Sheet1!$A$3,\"\"))","v":""},{"$f":"IF($L105=\"\",\"\",IF(AND($L105>=Sheet1!$F$4,'Pupil List'!$L105<Sheet1!$G$4),Sheet1!$A$4,\"\"))","v":""},{"$f":"IF($L105=\"\",\"\",IF(AND($L105>=Sheet1!$F$5,'Pupil List'!$L105<Sheet1!$G$5),Sheet1!$A$5,\"\"))","v":""},{"$f":"IF($L105=\"\",\"\",IF(AND($L105>=Sheet1!$F$6,'Pupil List'!$L105<Sheet1!$G$6),Sheet1!$A$6,\"\"))","v":""},{"$f":"IF($L105=\"\",\"\",IF(AND($L105>=Sheet1!$F$7,'Pupil List'!$L105<Sheet1!$G$7),Sheet1!$A$7,\"\"))","v":""},{"$f":"IF($L105=\"\",\"\",IF(AND($L105>=Sheet1!$F$8,'Pupil List'!$L105<Sheet1!$G$8),Sheet1!$A$8,\"\"))","v":""},{"$f":"IF($L105=\"\",\"\",IF(AND($L105>=Sheet1!$F$9,'Pupil List'!$L105<Sheet1!$G$9),Sheet1!$A$9,\"\"))","v":""},{"$f":"IF($L105=\"\",\"\",IF(AND($L105>=Sheet1!$F$10,'Pupil List'!$L105<Sheet1!$G$10),Sheet1!$A$10,\"\"))","v":""},{"$f":"IF($L105=\"\",\"\",IF(AND($L105>=Sheet1!$F$11,'Pupil List'!$L105<Sheet1!$G$11),Sheet1!$A$11,\"\"))","v":""},{"$f":"IF($L105=\"\",\"\",IF(AND($L105>=Sheet1!$F$12,'Pupil List'!$L105<Sheet1!$G$12),Sheet1!$A$12,\"\"))","v":""},{"$f":"IF($L105=\"\",\"\",IF(AND($L105>=Sheet1!$F$13,'Pupil List'!$L105<Sheet1!$G$13),Sheet1!$A$13,\"\"))","v":""},{"$f":"IF($L105=\"\",\"\",IF(AND($L105>=Sheet1!$F$14,'Pupil List'!$L105<Sheet1!$G$14),Sheet1!$A$14,\"\"))","v":""},{"$f":"IF($L105=\"\",\"\",IF(AND($L105>=Sheet1!$F$15,'Pupil List'!$L105<Sheet1!$G$15),Sheet1!$A$15,\"\"))","v":""},{"$f":"IF($L105=\"\",\"\",IF(AND($L105>=Sheet1!$F$16,'Pupil List'!$L105<Sheet1!$G$16),Sheet1!$A$16,\"\"))","v":""},{"$f":"IF($L105=\"\",\"\",IF(AND($L105>=Sheet1!$F$17,'Pupil List'!$L105<Sheet1!$G$17),Sheet1!$A$17,\"\"))","v":""},{"$f":"IF($L105=\"\",\"\",IF(AND($L105>=Sheet1!$F$18,'Pupil List'!$L105<Sheet1!$G$18),Sheet1!$A$18,\"\"))","v":""},{"$f":"IF($L105=\"\",\"\",IF(AND($L105>=Sheet1!$F$19,'Pupil List'!$L105<Sheet1!$G$19),Sheet1!$A$19,\"\"))","v":""},{"$f":"IF($L105=\"\",\"\",IF(AND($L105>=Sheet1!$F$20,'Pupil List'!$L105<Sheet1!$G$20),Sheet1!$A$20,\"\"))","v":""},{"$f":"IF($L105=\"\",\"\",IF(AND($L105>=Sheet1!$F$21,'Pupil List'!$L105<Sheet1!$G$21),Sheet1!$A$21,\"\"))","v":""},{"$f":"IF($L105=\"\",\"\",IF(AND($L105>=Sheet1!$F$22,'Pupil List'!$L105<Sheet1!$G$22),Sheet1!$A$22,\"\"))","v":""},{"$f":"IF($L105=\"\",\"\",IF(AND($L105>=Sheet1!$F$23,'Pupil List'!$L105<Sheet1!$G$23),Sheet1!$A$23,\"\"))","v":""},{"$f":"IF($L105=\"\",\"\",IF(AND($L105>=Sheet1!$F$24,'Pupil List'!$L105<Sheet1!$G$24),Sheet1!$A$24,\"\"))","v":""},{"$f":"IF($L105=\"\",\"\",IF(AND($L105>=Sheet1!$F$25,'Pupil List'!$L105<Sheet1!$G$25),Sheet1!$A$25,\"\"))","v":""},{"$error":"#N/A"},{"$f":"IFERROR(VLOOKUP(BK105,Sheet1!$A$2:$E$25,3,FALSE),\"\")","v":""},{"$f":"IFERROR(VLOOKUP(BK105,Sheet1!$A$2:$E$25,4,FALSE),\"\")","v":""},{"$f":"IFERROR(VLOOKUP(BK105,Sheet1!$A$2:$E$25,5,FALSE),\"\")","v":""},{"$f":"IFERROR(VLOOKUP(N105,Sheet1!$A$29:$B$38,2,FALSE),\"\")","v":""}]
["","","",null,null,null,null,null,"","","",null,"",null,"","","","","","","","","","","","","","","","","","","","","","","","",{"$f":"IF($L106=\"\",\"\",IF(AND($L106>=Sheet1!$F$2,'Pupil List'!$L106<Sheet1!$G$2),Sheet1!$A$2,\"\"))","v":""},{"$f":"IF($L106=\"\",\"\",IF(AND($L106>=Sheet1!$F$3,'Pupil List'!$L106<Sheet1!$G$3),Sheet1!$A$3,\"\"))","v":""},{"$f":"IF($L106=\"\",\"\",IF(AND($L106>=Sheet1!$F$4,'Pupil List'!$L106<Sheet1!$G$4),Sheet1!$A$4,\"\"))","v":""},{"$f":"IF($L106=\"\",\"\",IF(AND($L106>=Sheet1!$F$5,'Pupil List'!$L106<Sheet1!$G$5),Sheet1!$A$5,\"\"))","v":""},{"$f":"IF($L106=\"\",\"\",IF(AND($L106>=Sheet1!$F$6,'Pupil List'!$L106<Sheet1!$G$6),Sheet1!$A$6,\"\"))","v":""},{"$f":"IF($L106=\"\",\"\",IF(AND($L106>=Sheet1!$F$7,'Pupil List'!$L106<Sheet1!$G$7),Sheet1!$A$7,\"\"))","v":""},{"$f":"IF($L106=\"\",\"\",IF(AND($L106>=Sheet1!$F$8,'Pupil List'!$L106<Sheet1!$G$8),Sheet1!$A$8,\"\"))","v":""},{"$f":"IF($L106=\"\",\"\",IF(AND($L106>=Sheet1!$F$9,'Pupil List'!$L106<Sheet1!$G$9),Sheet1!$A$9,\"\"))","v":""},{"$f":"IF($L106=\"\",\"\",IF(AND($L106>=Sheet1!$F$10,'Pupil List'!$L106<Sheet1!$G$10),Sheet1!$A$10,\"\"))","v":""},{"$f":"IF($L106=\"\",\"\",IF(AND($L106>=Sheet1!$F$11,'Pupil List'!$L106<Sheet1!$G$11),Sheet1!$A$11,\"\"))","v":""},{"$f":"IF($L106=\"\",\"\",IF(AND($L106>=Sheet1!$F$12,'Pupil List'!$L106<Sheet1!$G$12),Sheet1!$A$12,\"\"))","v":""},{"$f":"IF($L106=\"\",\"\",IF(AND($L106>=Sheet1!$F$13,'Pupil List'!$L106<Sheet1!$G$13),Sheet1!$A$13,\"\"))","v":""},{"$f":"IF($L106=\"\",\"\",IF(AND($L106>=Sheet1!$F$14,'Pupil List'!$L106<Sheet1!$G$14),Sheet1!$A$14,\"\"))","v":""},{"$f":"IF($L106=\"\",\"\",IF(AND($L106>=Sheet1!$F$15,'Pupil List'!$L106<Sheet1!$G$15),Sheet1!$A$15,\"\"))","v":""},{"$f":"IF($L106=\"\",\"\",IF(AND($L106>=Sheet1!$F$16,'Pupil List'!$L106<Sheet1!$G$16),Sheet1!$A$16,\"\"))","v":""},{"$f":"IF($L106=\"\",\"\",IF(AND($L106>=Sheet1!$F$17,'Pupil List'!$L106<Sheet1!$G$17),Sheet1!$A$17,\"\"))","v":""},{"$f":"IF($L106=\"\",\"\",IF(AND($L106>=Sheet1!$F$18,'Pupil List'!$L106<Sheet1!$G$18),Sheet1!$A$18,\"\"))","v":""},{"$f":"IF($L106=\"\",\"\",IF(AND($L106>=Sheet1!$F$19,'Pupil List'!$L106<Sheet1!$G$19),Sheet1!$A$19,\"\"))","v":""},{"$f":"IF($L106=\"\",\"\",IF(AND($L106>=Sheet1!$F$20,'Pupil List'!$L106<Sheet1!$G$20),Sheet1!$A$20,\"\"))","v":""},{"$f":"IF($L106=\"\",\"\",IF(AND($L106>=Sheet1!$F$21,'Pupil List'!$L106<Sheet1!$G$21),Sheet1!$A$21,\"\"))","v":""},{"$f":"IF($L106=\"\",\"\",IF(AND($L106>=Sheet1!$F$22,'Pupil List'!$L106<Sheet1!$G$22),Sheet1!$A$22,\"\"))","v":""},{"$f":"IF($L106=\"\",\"\",IF(AND($L106>=Sheet1!$F$23,'Pupil List'!$L106<Sheet1!$G$23),Sheet1!$A$23,\"\"))","v":""},{"$f":"IF($L106=\"\",\"\",IF(AND($L106>=Sheet1!$F$24,'Pupil List'!$L106<Sheet1!$G$24),Sheet1!$A$24,\"\"))","v":""},{"$f":"IF($L106=\"\",\"\",IF(AND($L106>=Sheet1!$F$25,'Pupil List'!$L106<Sheet1!$G$25),Sheet1!$A$25,\"\"))","v":""},{"$error":"#N/A"},{"$f":"IFERROR(VLOOKUP(BK106,Sheet1!$A$2:$E$25,3,FALSE),\"\")","v":""},{"$f":"IFERROR(VLOOKUP(BK106,Sheet1!$A$2:$E$25,4,FALSE),\"\")","v":""},{"$f":"IFERROR(VLOOKUP(BK106,Sheet1!$A$2:$E$25,5,FALSE),\"\")","v":""},{"$f":"IFERROR(VLOOKUP(N106,Sheet1!$A$29:$B$38,2,FALSE),\"\")","v":""}]
["","","",null,null,null,null,null,"","","",null,"",null,"","","","","","","","","","","","","","","","","","","","","","","","",{"$f":"IF($L107=\"\",\"\",IF(AND($L107>=Sheet1!$F$2,'Pupil List'!$L107<Sheet1!$G$2),Sheet1!$A$2,\"\"))","v":""},{"$f":"IF($L107=\"\",\"\",IF(AND($L107>=Sheet1!$F$3,'Pupil List'!$L107<Sheet1!$G$3),Sheet1!$A$3,\"\"))","v":""},{"$f":"IF($L107=\"\",\"\",IF(AND($L107>=Sheet1!$F$4,'Pupil List'!$L107<Sheet1!$G$4),Sheet1!$A$4,\"\"))","v":""},{"$f":"IF($L107=\"\",\"\",IF(AND($L107>=Sheet1!$F$5,'Pupil List'!$L107<Sheet1!$G$5),Sheet1!$A$5,\"\"))","v":""},{"$f":"IF($L107=\"\",\"\",IF(AND($L107>=Sheet1!$F$6,'Pupil List'!$L107<Sheet1!$G$6),Sheet1!$A$6,\"\"))","v":""},{"$f":"IF($L107=\"\",\"\",IF(AND($L107>=Sheet1!$F$7,'Pupil List'!$L107<Sheet1!$G$7),Sheet1!$A$7,\"\"))","v":""},{"$f":"IF($L107=\"\",\"\",IF(AND($L107>=Sheet1!$F$8,'Pupil List'!$L107<Sheet1!$G$8),Sheet1!$A$8,\"\"))","v":""},{"$f":"IF($L107=\"\",\"\",IF(AND($L107>=Sheet1!$F$9,'Pupil List'!$L107<Sheet1!$G$9),Sheet1!$A$9,\"\"))","v":""},{"$f":"IF($L107=\"\",\"\",IF(AND($L107>=Sheet1!$F$10,'Pupil List'!$L107<Sheet1!$G$10),Sheet1!$A$10,\"\"))","v":""},{"$f":"IF($L107=\"\",\"\",IF(AND($L107>=Sheet1!$F$11,'Pupil List'!$L107<Sheet1!$G$11),Sheet1!$A$11,\"\"))","v":""},{"$f":"IF($L107=\"\",\"\",IF(AND($L107>=Sheet1!$F$12,'Pupil List'!$L107<Sheet1!$G$12),Sheet1!$A$12,\"\"))","v":""},{"$f":"IF($L107=\"\",\"\",IF(AND($L107>=Sheet1!$F$13,'Pupil List'!$L107<Sheet1!$G$13),Sheet1!$A$13,\"\"))","v":""},{"$f":"IF($L107=\"\",\"\",IF(AND($L107>=Sheet1!$F$14,'Pupil List'!$L107<Sheet1!$G$14),Sheet1!$A$14,\"\"))","v":""},{"$f":"IF($L107=\"\",\"\",IF(AND($L107>=Sheet1!$F$15,'Pupil List'!$L107<Sheet1!$G$15),Sheet1!$A$15,\"\"))","v":""},{"$f":"IF($L107=\"\",\"\",IF(AND($L107>=Sheet1!$F$16,'Pupil List'!$L107<Sheet1!$G$16),Sheet1!$A$16,\"\"))","v":""},{"$f":"IF($L107=\"\",\"\",IF(AND($L107>=Sheet1!$F$17,'Pupil List'!$L107<Sheet1!$G$17),Sheet1!$A$17,\"\"))","v":""},{"$f":"IF($L107=\"\",\"\",IF(AND($L107>=Sheet1!$F$18,'Pupil List'!$L107<Sheet1!$G$18),Sheet1!$A$18,\"\"))","v":""},{"$f":"IF($L107=\"\",\"\",IF(AND($L107>=Sheet1!$F$19,'Pupil List'!$L107<Sheet1!$G$19),Sheet1!$A$19,\"\"))","v":""},{"$f":"IF($L107=\"\",\"\",IF(AND($L107>=Sheet1!$F$20,'Pupil List'!$L107<Sheet1!$G$20),Sheet1!$A$20,\"\"))","v":""},{"$f":"IF($L107=\"\",\"\",IF(AND($L107>=Sheet1!$F$21,'Pupil List'!$L107<Sheet1!$G$21),Sheet1!$A$21,\"\"))","v":""},{"$f":"IF($L107=\"\",\"\",IF(AND($L107>=Sheet1!$F$22,'Pupil List'!$L107<Sheet1!$G$22),Sheet1!$A$22,\"\"))","v":""},{"$f":"IF($L107=\"\",\"\",IF(AND($L107>=Sheet1!$F$23,'Pupil List'!$L107<Sheet1!$G$23),Sheet1!$A$23,\"\"))","v":""},{"$f":"IF($L107=\"\",\"\",IF(AND($L107>=Sheet1!$F$24,'Pupil List'!$L107<Sheet1!$G$24),Sheet1!$A$24,\"\"))","v":""},{"$f":"IF($L107=\"\",\"\",IF(AND($L107>=Sheet1!$F$25,'Pupil List'!$L107<Sheet1!$G$25),Sheet1!$A$25,\"\"))","v":""},{"$error":"#N/A"},{"$f":"IFERROR(VLOOKUP(BK107,Sheet1!$A$2:$E$25,3,FALSE),\"\")","v":""},{"$f":"IFERROR(VLOOKUP(BK107,Sheet1!$A$2:$E$25,4,FALSE),\"\")","v":""},{"$f":"IFERROR(VLOOKUP(BK107,Sheet1!$A$2:$E$25,5,FALSE),\"\")","v":""},{"$f":"IFERROR(VLOOKUP(N107,Sheet1!$A$29:$B$38,2,FALSE),\"\")","v":""}]
["","","",null,null,null,null,null,"","","",null,"",null,"","","","","","","","","","","","","","","","","","","","","","","","",{"$f":"IF($L108=\"\",\"\",IF(AND($L108>=Sheet1!$F$2,'Pupil List'!$L108<Sheet1!$G$2),Sheet1!$A$2,\"\"))","v":""},{"$f":"IF($L108=\"\",\"\",IF(AND($L108>=Sheet1!$F$3,'Pupil List'!$L108<Sheet1!$G$3),Sheet1!$A$3,\"\"))","v":""},{"$f":"IF($L108=\"\",\"\",IF(AND($L108>=Sheet1!$F$4,'Pupil List'!$L108<Sheet1!$G$4),Sheet1!$A$4,\"\"))","v":""},{"$f":"IF($L108=\"\",\"\",IF(AND($L108>=Sheet1!$F$5,'Pupil List'!$L108<Sheet1!$G$5),Sheet1!$A$5,\"\"))","v":""},{"$f":"IF($L108=\"\",\"\",IF(AND($L108>=Sheet1!$F$6,'Pupil List'!$L108<Sheet1!$G$6),Sheet1!$A$6,\"\"))","v":""},{"$f":"IF($L108=\"\",\"\",IF(AND($L108>=Sheet1!$F$7,'Pupil List'!$L108<Sheet1!$G$7),Sheet1!$A$7,\"\"))","v":""},{"$f":"IF($L108=\"\",\"\",IF(AND($L108>=Sheet1!$F$8,'Pupil List'!$L108<Sheet1!$G$8),Sheet1!$A$8,\"\"))","v":""},{"$f":"IF($L108=\"\",\"\",IF(AND($L108>=Sheet1!$F$9,'Pupil List'!$L108<Sheet1!$G$9),Sheet1!$A$9,\"\"))","v":""},{"$f":"IF($L108=\"\",\"\",IF(AND($L108>=Sheet1!$F$10,'Pupil List'!$L108<Sheet1!$G$10),Sheet1!$A$10,\"\"))","v":""},{"$f":"IF($L108=\"\",\"\",IF(AND($L108>=Sheet1!$F$11,'Pupil List'!$L108<Sheet1!$G$11),Sheet1!$A$11,\"\"))","v":""},{"$f":"IF($L108=\"\",\"\",IF(AND($L108>=Sheet1!$F$12,'Pupil List'!$L108<Sheet1!$G$12),Sheet1!$A$12,\"\"))","v":""},{"$f":"IF($L108=\"\",\"\",IF(AND($L108>=Sheet1!$F$13,'Pupil List'!$L108<Sheet1!$G$13),Sheet1!$A$13,\"\"))","v":""},{"$f":"IF($L108=\"\",\"\",IF(AND($L108>=Sheet1!$F$14,'Pupil List'!$L108<Sheet1!$G$14),Sheet1!$A$14,\"\"))","v":""},{"$f":"IF($L108=\"\",\"\",IF(AND($L108>=Sheet1!$F$15,'Pupil List'!$L108<Sheet1!$G$15),Sheet1!$A$15,\"\"))","v":""},{"$f":"IF($L108=\"\",\"\",IF(AND($L108>=Sheet1!$F$16,'Pupil List'!$L108<Sheet1!$G$16),Sheet1!$A$16,\"\"))","v":""},{"$f":"IF($L108=\"\",\"\",IF(AND($L108>=Sheet1!$F$17,'Pupil List'!$L108<Sheet1!$G$17),Sheet1!$A$17,\"\"))","v":""},{"$f":"IF($L108=\"\",\"\",IF(AND($L108>=Sheet1!$F$18,'Pupil List'!$L108<Sheet1!$G$18),Sheet1!$A$18,\"\"))","v":""},{"$f":"IF($L108=\"\",\"\",IF(AND($L108>=Sheet1!$F$19,'Pupil List'!$L108<Sheet1!$G$19),Sheet1!$A$19,\"\"))","v":""},{"$f":"IF($L108=\"\",\"\",IF(AND($L108>=Sheet1!$F$20,'Pupil List'!$L108<Sheet1!$G$20),Sheet1!$A$20,\"\"))","v":""},{"$f":"IF($L108=\"\",\"\",IF(AND($L108>=Sheet1!$F$21,'Pupil List'!$L108<Sheet1!$G$21),Sheet1!$A$21,\"\"))","v":""},{"$f":"IF($L108=\"\",\"\",IF(AND($L108>=Sheet1!$F$22,'Pupil List'!$L108<Sheet1!$G$22),Sheet1!$A$22,\"\"))","v":""},{"$f":"IF($L108=\"\",\"\",IF(AND($L108>=Sheet1!$F$23,'Pupil List'!$L108<Sheet1!$G$23),Sheet1!$A$23,\"\"))","v":""},{"$f":"IF($L108=\"\",\"\",IF(AND($L108>=Sheet1!$F$24,'Pupil List'!$L108<Sheet1!$G$24),Sheet1!$A$24,\"\"))","v":""},{"$f":"IF($L108=\"\",\"\",IF(AND($L108>=Sheet1!$F$25,'Pupil List'!$L108<Sheet1!$G$25),Sheet1!$A$25,\"\"))","v":""},{"$error":"#N/A"},{"$f":"IFERROR(VLOOKUP(BK108,Sheet1!$A$2:$E$25,3,FALSE),\"\")","v":""},{"$f":"IFERROR(VLOOKUP(BK108,Sheet1!$A$2:$E$25,4,FALSE),\"\")","v":""},{"$f":"IFERROR(VLOOKUP(BK108,Sheet1!$A$2:$E$25,5,FALSE),\"\")","v":""},{"$f":"IFERROR(VLOOKUP(N108,Sheet1!$A$29:$B$38,2,FALSE),\"\")","v":""}]
["","","",null,null,null,null,null,"","","",null,"",null,"","","","","","","","","","","","","","","","","","","","","","","","",{"$f":"IF($L109=\"\",\"\",IF(AND($L109>=Sheet1!$F$2,'Pupil List'!$L109<Sheet1!$G$2),Sheet1!$A$2,\"\"))","v":""},{"$f":"IF($L109=\"\",\"\",IF(AND($L109>=Sheet1!$F$3,'Pupil List'!$L109<Sheet1!$G$3),Sheet1!$A$3,\"\"))","v":""},{"$f":"IF($L109=\"\",\"\",IF(AND($L109>=Sheet1!$F$4,'Pupil List'!$L109<Sheet1!$G$4),Sheet1!$A$4,\"\"))","v":""},{"$f":"IF($L109=\"\",\"\",IF(AND($L109>=Sheet1!$F$5,'Pupil List'!$L109<Sheet1!$G$5),Sheet1!$A$5,\"\"))","v":""},{"$f":"IF($L109=\"\",\"\",IF(AND($L109>=Sheet1!$F$6,'Pupil List'!$L109<Sheet1!$G$6),Sheet1!$A$6,\"\"))","v":""},{"$f":"IF($L109=\"\",\"\",IF(AND($L109>=Sheet1!$F$7,'Pupil List'!$L109<Sheet1!$G$7),Sheet1!$A$7,\"\"))","v":""},{"$f":"IF($L109=\"\",\"\",IF(AND($L109>=Sheet1!$F$8,'Pupil List'!$L109<Sheet1!$G$8),Sheet1!$A$8,\"\"))","v":""},{"$f":"IF($L109=\"\",\"\",IF(AND($L109>=Sheet1!$F$9,'Pupil List'!$L109<Sheet1!$G$9),Sheet1!$A$9,\"\"))","v":""},{"$f":"IF($L109=\"\",\"\",IF(AND($L109>=Sheet1!$F$10,'Pupil List'!$L109<Sheet1!$G$10),Sheet1!$A$10,\"\"))","v":""},{"$f":"IF($L109=\"\",\"\",IF(AND($L109>=Sheet1!$F$11,'Pupil List'!$L109<Sheet1!$G$11),Sheet1!$A$11,\"\"))","v":""},{"$f":"IF($L109=\"\",\"\",IF(AND($L109>=Sheet1!$F$12,'Pupil List'!$L109<Sheet1!$G$12),Sheet1!$A$12,\"\"))","v":""},{"$f":"IF($L109=\"\",\"\",IF(AND($L109>=Sheet1!$F$13,'Pupil List'!$L109<Sheet1!$G$13),Sheet1!$A$13,\"\"))","v":""},{"$f":"IF($L109=\"\",\"\",IF(AND($L109>=Sheet1!$F$14,'Pupil List'!$L109<Sheet1!$G$14),Sheet1!$A$14,\"\"))","v":""},{"$f":"IF($L109=\"\",\"\",IF(AND($L109>=Sheet1!$F$15,'Pupil List'!$L109<Sheet1!$G$15),Sheet1!$A$15,\"\"))","v":""},{"$f":"IF($L109=\"\",\"\",IF(AND($L109>=Sheet1!$F$16,'Pupil List'!$L109<Sheet1!$G$16),Sheet1!$A$16,\"\"))","v":""},{"$f":"IF($L109=\"\",\"\",IF(AND($L109>=Sheet1!$F$17,'Pupil List'!$L109<Sheet1!$G$17),Sheet1!$A$17,\"\"))","v":""},{"$f":"IF($L109=\"\",\"\",IF(AND($L109>=Sheet1!$F$18,'Pupil List'!$L109<Sheet1!$G$18),Sheet1!$A$18,\"\"))","v":""},{"$f":"IF($L109=\"\",\"\",IF(AND($L109>=Sheet1!$F$19,'Pupil List'!$L109<Sheet1!$G$19),Sheet1!$A$19,\"\"))","v":""},{"$f":"IF($L109=\"\",\"\",IF(AND($L109>=Sheet1!$F$20,'Pupil List'!$L109<Sheet1!$G$20),Sheet1!$A$20,\"\"))","v":""},{"$f":"IF($L109=\"\",\"\",IF(AND($L109>=Sheet1!$F$21,'Pupil List'!$L109<Sheet1!$G$21),Sheet1!$A$21,\"\"))","v":""},{"$f":"IF($L109=\"\",\"\",IF(AND($L109>=Sheet1!$F$22,'Pupil List'!$L109<Sheet1!$G$22),Sheet1!$A$22,\"\"))","v":""},{"$f":"IF($L109=\"\",\"\",IF(AND($L109>=Sheet1!$F$23,'Pupil List'!$L109<Sheet1!$G$23),Sheet1!$A$23,\"\"))","v":""},{"$f":"IF($L109=\"\",\"\",IF(AND($L109>=Sheet1!$F$24,'Pupil List'!$L109<Sheet1!$G$24),Sheet1!$A$24,\"\"))","v":""},{"$f":"IF($L109=\"\",\"\",IF(AND($L109>=Sheet1!$F$25,'Pupil List'!$L109<Sheet1!$G$25),Sheet1!$A$25,\"\"))","v":""},{"$error":"#N/A"},{"$f":"IFERROR(VLOOKUP(BK109,Sheet1!$A$2:$E$25,3,FALSE),\"\")","v":""},{"$f":"IFERROR(VLOOKUP(BK109,Sheet1!$A$2:$E$25,4,FALSE),\"\")","v":""},{"$f":"IFERROR(VLOOKUP(BK109,Sheet1!$A$2:$E$25,5,FALSE),\"\")","v":""},{"$f":"IFERROR(VLOOKUP(N109,Sheet1!$A$29:$B$38,2,FALSE),\"\")","v":""}]
["","","",null,null,null,null,null,"","","",null,"",null,"","","","","","","","","","","","","","","","","","","","","","","","",{"$f":"IF($L110=\"\",\"\",IF(AND($L110>=Sheet1!$F$2,'Pupil List'!$L110<Sheet1!$G$2),Sheet1!$A$2,\"\"))","v":""},{"$f":"IF($L110=\"\",\"\",IF(AND($L110>=Sheet1!$F$3,'Pupil List'!$L110<Sheet1!$G$3),Sheet1!$A$3,\"\"))","v":""},{"$f":"IF($L110=\"\",\"\",IF(AND($L110>=Sheet1!$F$4,'Pupil List'!$L110<Sheet1!$G$4),Sheet1!$A$4,\"\"))","v":""},{"$f":"IF($L110=\"\",\"\",IF(AND($L110>=Sheet1!$F$5,'Pupil List'!$L110<Sheet1!$G$5),Sheet1!$A$5,\"\"))","v":""},{"$f":"IF($L110=\"\",\"\",IF(AND($L110>=Sheet1!$F$6,'Pupil List'!$L110<Sheet1!$G$6),Sheet1!$A$6,\"\"))","v":""},{"$f":"IF($L110=\"\",\"\",IF(AND($L110>=Sheet1!$F$7,'Pupil List'!$L110<Sheet1!$G$7),Sheet1!$A$7,\"\"))","v":""},{"$f":"IF($L110=\"\",\"\",IF(AND($L110>=Sheet1!$F$8,'Pupil List'!$L110<Sheet1!$G$8),Sheet1!$A$8,\"\"))","v":""},{"$f":"IF($L110=\"\",\"\",IF(AND($L110>=Sheet1!$F$9,'Pupil List'!$L110<Sheet1!$G$9),Sheet1!$A$9,\"\"))","v":""},{"$f":"IF($L110=\"\",\"\",IF(AND($L110>=Sheet1!$F$10,'Pupil List'!$L110<Sheet1!$G$10),Sheet1!$A$10,\"\"))","v":""},{"$f":"IF($L110=\"\",\"\",IF(AND($L110>=Sheet1!$F$11,'Pupil List'!$L110<Sheet1!$G$11),Sheet1!$A$11,\"\"))","v":""},{"$f":"IF($L110=\"\",\"\",IF(AND($L110>=Sheet1!$F$12,'Pupil List'!$L110<Sheet1!$G$12),Sheet1!$A$12,\"\"))","v":""},{"$f":"IF($L110=\"\",\"\",IF(AND($L110>=Sheet1!$F$13,'Pupil List'!$L110<Sheet1!$G$13),Sheet1!$A$13,\"\"))","v":""},{"$f":"IF($L110=\"\",\"\",IF(AND($L110>=Sheet1!$F$14,'Pupil List'!$L110<Sheet1!$G$14),Sheet1!$A$14,\"\"))","v":""},{"$f":"IF($L110=\"\",\"\",IF(AND($L110>=Sheet1!$F$15,'Pupil List'!$L110<Sheet1!$G$15),Sheet1!$A$15,\"\"))","v":""},{"$f":"IF($L110=\"\",\"\",IF(AND($L110>=Sheet1!$F$16,'Pupil List'!$L110<Sheet1!$G$16),Sheet1!$A$16,\"\"))","v":""},{"$f":"IF($L110=\"\",\"\",IF(AND($L110>=Sheet1!$F$17,'Pupil List'!$L110<Sheet1!$G$17),Sheet1!$A$17,\"\"))","v":""},{"$f":"IF($L110=\"\",\"\",IF(AND($L110>=Sheet1!$F$18,'Pupil List'!$L110<Sheet1!$G$18),Sheet1!$A$18,\"\"))","v":""},{"$f":"IF($L110=\"\",\"\",IF(AND($L110>=Sheet1!$F$19,'Pupil List'!$L110<Sheet1!$G$19),Sheet1!$A$19,\"\"))","v":""},{"$f":"IF($L110=\"\",\"\",IF(AND($L110>=Sheet1!$F$20,'Pupil List'!$L110<Sheet1!$G$20),Sheet1!$A$20,\"\"))","v":""},{"$f":"IF($L110=\"\",\"\",IF(AND($L110>=Sheet1!$F$21,'Pupil List'!$L110<Sheet1!$G$21),Sheet1!$A$21,\"\"))","v":""},{"$f":"IF($L110=\"\",\"\",IF(AND($L110>=Sheet1!$F$22,'Pupil List'!$L110<Sheet1!$G$22),Sheet1!$A$22,\"\"))","v":""},{"$f":"IF($L110=\"\",\"\",IF(AND($L110>=Sheet1!$F$23,'Pupil List'!$L110<Sheet1!$G$23),Sheet1!$A$23,\"\"))","v":""},{"$f":"IF($L110=\"\",\"\",IF(AND($L110>=Sheet1!$F$24,'Pupil List'!$L110<Sheet1!$G$24),Sheet1!$A$24,\"\"))","v":""},{"$f":"IF($L110=\"\",\"\",IF(AND($L110>=Sheet1!$F$25,'Pupil List'!$L110<Sheet1!$G$25),Sheet1!$A$25,\"\"))","v":""},{"$error":"#N/A"},{"$f":"IFERROR(VLOOKUP(BK110,Sheet1!$A$2:$E$25,3,FALSE),\"\")","v":""},{"$f":"IFERROR(VLOOKUP(BK110,Sheet1!$A$2:$E$25,4,FALSE),\"\")","v":""},{"$f":"IFERROR(VLOOKUP(BK110,Sheet1!$A$2:$E$25,5,FALSE),\"\")","v":""},{"$f":"IFERROR(VLOOKUP(N110,Sheet1!$A$29:$B$38,2,FALSE),\"\")","v":""}]
["","","",null,null,null,null,null,"","","",null,"",null,"","","","","","","","","","","","","","","","","","","","","","","","",{"$f":"IF($L111=\"\",\"\",IF(AND($L111>=Sheet1!$F$2,'Pupil List'!$L111<Sheet1!$G$2),Sheet1!$A$2,\"\"))","v":""},{"$f":"IF($L111=\"\",\"\",IF(AND($L111>=Sheet1!$F$3,'Pupil List'!$L111<Sheet1!$G$3),Sheet1!$A$3,\"\"))","v":""},{"$f":"IF($L111=\"\",\"\",IF(AND($L111>=Sheet1!$F$4,'Pupil List'!$L111<Sheet1!$G$4),Sheet1!$A$4,\"\"))","v":""},{"$f":"IF($L111=\"\",\"\",IF(AND($L111>=Sheet1!$F$5,'Pupil List'!$L111<Sheet1!$G$5),Sheet1!$A$5,\"\"))","v":""},{"$f":"IF($L111=\"\",\"\",IF(AND($L111>=Sheet1!$F$6,'Pupil List'!$L111<Sheet1!$G$6),Sheet1!$A$6,\"\"))","v":""},{"$f":"IF($L111=\"\",\"\",IF(AND($L111>=Sheet1!$F$7,'Pupil List'!$L111<Sheet1!$G$7),Sheet1!$A$7,\"\"))","v":""},{"$f":"IF($L111=\"\",\"\",IF(AND($L111>=Sheet1!$F$8,'Pupil List'!$L111<Sheet1!$G$8),Sheet1!$A$8,\"\"))","v":""},{"$f":"IF($L111=\"\",\"\",IF(AND($L111>=Sheet1!$F$9,'Pupil List'!$L111<Sheet1!$G$9),Sheet1!$A$9,\"\"))","v":""},{"$f":"IF($L111=\"\",\"\",IF(AND($L111>=Sheet1!$F$10,'Pupil List'!$L111<Sheet1!$G$10),Sheet1!$A$10,\"\"))","v":""},{"$f":"IF($L111=\"\",\"\",IF(AND($L111>=Sheet1!$F$11,'Pupil List'!$L111<Sheet1!$G$11),Sheet1!$A$11,\"\"))","v":""},{"$f":"IF($L111=\"\",\"\",IF(AND($L111>=Sheet1!$F$12,'Pupil List'!$L111<Sheet1!$G$12),Sheet1!$A$12,\"\"))","v":""},{"$f":"IF($L111=\"\",\"\",IF(AND($L111>=Sheet1!$F$13,'Pupil List'!$L111<Sheet1!$G$13),Sheet1!$A$13,\"\"))","v":""},{"$f":"IF($L111=\"\",\"\",IF(AND($L111>=Sheet1!$F$14,'Pupil List'!$L111<Sheet1!$G$14),Sheet1!$A$14,\"\"))","v":""},{"$f":"IF($L111=\"\",\"\",IF(AND($L111>=Sheet1!$F$15,'Pupil List'!$L111<Sheet1!$G$15),Sheet1!$A$15,\"\"))","v":""},{"$f":"IF($L111=\"\",\"\",IF(AND($L111>=Sheet1!$F$16,'Pupil List'!$L111<Sheet1!$G$16),Sheet1!$A$16,\"\"))","v":""},{"$f":"IF($L111=\"\",\"\",IF(AND($L111>=Sheet1!$F$17,'Pupil List'!$L111<Sheet1!$G$17),Sheet1!$A$17,\"\"))","v":""},{"$f":"IF($L111=\"\",\"\",IF(AND($L111>=Sheet1!$F$18,'Pupil List'!$L111<Sheet1!$G$18),Sheet1!$A$18,\"\"))","v":""},{"$f":"IF($L111=\"\",\"\",IF(AND($L111>=Sheet1!$F$19,'Pupil List'!$L111<Sheet1!$G$19),Sheet1!$A$19,\"\"))","v":""},{"$f":"IF($L111=\"\",\"\",IF(AND($L111>=Sheet1!$F$20,'Pupil List'!$L111<Sheet1!$G$20),Sheet1!$A$20,\"\"))","v":""},{"$f":"IF($L111=\"\",\"\",IF(AND($L111>=Sheet1!$F$21,'Pupil List'!$L111<Sheet1!$G$21),Sheet1!$A$21,\"\"))","v":""},{"$f":"IF($L111=\"\",\"\",IF(AND($L111>=Sheet1!$F$22,'Pupil List'!$L111<Sheet1!$G$22),Sheet1!$A$22,\"\"))","v":""},{"$f":"IF($L111=\"\",\"\",IF(AND($L111>=Sheet1!$F$23,'Pupil List'!$L111<Sheet1!$G$23),Sheet1!$A$23,\"\"))","v":""},{"$f":"IF($L111=\"\",\"\",IF(AND($L111>=Sheet1!$F$24,'Pupil List'!$L111<Sheet1!$G$24),Sheet1!$A$24,\"\"))","v":""},{"$f":"IF($L111=\"\",\"\",IF(AND($L111>=Sheet1!$F$25,'Pupil List'!$L111<Sheet1!$G$25),Sheet1!$A$25,\"\"))","v":""},{"$error":"#N/A"},{"$f":"IFERROR(VLOOKUP(BK111,Sheet1!$A$2:$E$25,3,FALSE),\"\")","v":""},{"$f":"IFERROR(VLOOKUP(BK111,Sheet1!$A$2:$E$25,4,FALSE),\"\")","v":""},{"$f":"IFERROR(VLOOKUP(BK111,Sheet1!$A$2:$E$25,5,FALSE),\"\")","v":""},{"$f":"IFERROR(VLOOKUP(N111,Sheet1!$A$29:$B$38,2,FALSE),\"\")","v":""}]
["","","",null,null,null,null,null,"","","",null,"",null,"","","","","","","","","","","","","","","","","","","","","","","","",{"$f":"IF($L112=\"\",\"\",IF(AND($L112>=Sheet1!$F$2,'Pupil List'!$L112<Sheet1!$G$2),Sheet1!$A$2,\"\"))","v":""},{"$f":"IF($L112=\"\",\"\",IF(AND($L112>=Sheet1!$F$3,'Pupil List'!$L112<Sheet1!$G$3),Sheet1!$A$3,\"\"))","v":""},{"$f":"IF($L112=\"\",\"\",IF(AND($L112>=Sheet1!$F$4,'Pupil List'!$L112<Sheet1!$G$4),Sheet1!$A$4,\"\"))","v":""},{"$f":"IF($L112=\"\",\"\",IF(AND($L112>=Sheet1!$F$5,'Pupil List'!$L112<Sheet1!$G$5),Sheet1!$A$5,\"\"))","v":""},{"$f":"IF($L112=\"\",\"\",IF(AND($L112>=Sheet1!$F$6,'Pupil List'!$L112<Sheet1!$G$6),Sheet1!$A$6,\"\"))","v":""},{"$f":"IF($L112=\"\",\"\",IF(AND($L112>=Sheet1!$F$7,'Pupil List'!$L112<Sheet1!$G$7),Sheet1!$A$7,\"\"))","v":""},{"$f":"IF($L112=\"\",\"\",IF(AND($L112>=Sheet1!$F$8,'Pupil List'!$L112<Sheet1!$G$8),Sheet1!$A$8,\"\"))","v":""},{"$f":"IF($L112=\"\",\"\",IF(AND($L112>=Sheet1!$F$9,'Pupil List'!$L112<Sheet1!$G$9),Sheet1!$A$9,\"\"))","v":""},{"$f":"IF($L112=\"\",\"\",IF(AND($L112>=Sheet1!$F$10,'Pupil List'!$L112<Sheet1!$G$10),Sheet1!$A$10,\"\"))","v":""},{"$f":"IF($L112=\"\",\"\",IF(AND($L112>=Sheet1!$F$11,'Pupil List'!$L112<Sheet1!$G$11),Sheet1!$A$11,\"\"))","v":""},{"$f":"IF($L112=\"\",\"\",IF(AND($L112>=Sheet1!$F$12,'Pupil List'!$L112<Sheet1!$G$12),Sheet1!$A$12,\"\"))","v":""},{"$f":"IF($L112=\"\",\"\",IF(AND($L112>=Sheet1!$F$13,'Pupil List'!$L112<Sheet1!$G$13),Sheet1!$A$13,\"\"))","v":""},{"$f":"IF($L112=\"\",\"\",IF(AND($L112>=Sheet1!$F$14,'Pupil List'!$L112<Sheet1!$G$14),Sheet1!$A$14,\"\"))","v":""},{"$f":"IF($L112=\"\",\"\",IF(AND($L112>=Sheet1!$F$15,'Pupil List'!$L112<Sheet1!$G$15),Sheet1!$A$15,\"\"))","v":""},{"$f":"IF($L112=\"\",\"\",IF(AND($L112>=Sheet1!$F$16,'Pupil List'!$L112<Sheet1!$G$16),Sheet1!$A$16,\"\"))","v":""},{"$f":"IF($L112=\"\",\"\",IF(AND($L112>=Sheet1!$F$17,'Pupil List'!$L112<Sheet1!$G$17),Sheet1!$A$17,\"\"))","v":""},{"$f":"IF($L112=\"\",\"\",IF(AND($L112>=Sheet1!$F$18,'Pupil List'!$L112<Sheet1!$G$18),Sheet1!$A$18,\"\"))","v":""},{"$f":"IF($L112=\"\",\"\",IF(AND($L112>=Sheet1!$F$19,'Pupil List'!$L112<Sheet1!$G$19),Sheet1!$A$19,\"\"))","v":""},{"$f":"IF($L112=\"\",\"\",IF(AND($L112>=Sheet1!$F$20,'Pupil List'!$L112<Sheet1!$G$20),Sheet1!$A$20,\"\"))","v":""},{"$f":"IF($L112=\"\",\"\",IF(AND($L112>=Sheet1!$F$21,'Pupil List'!$L112<Sheet1!$G$21),Sheet1!$A$21,\"\"))","v":""},{"$f":"IF($L112=\"\",\"\",IF(AND($L112>=Sheet1!$F$22,'Pupil List'!$L112<Sheet1!$G$22),Sheet1!$A$22,\"\"))","v":""},{"$f":"IF($L112=\"\",\"\",IF(AND($L112>=Sheet1!$F$23,'Pupil List'!$L112<Sheet1!$G$23),Sheet1!$A$23,\"\"))","v":""},{"$f":"IF($L112=\"\",\"\",IF(AND($L112>=Sheet1!$F$24,'Pupil List'!$L112<Sheet1!$G$24),Sheet1!$A$24,\"\"))","v":""},{"$f":"IF($L112=\"\",\"\",IF(AND($L112>=Sheet1!$F$25,'Pupil List'!$L112<Sheet1!$G$25),Sheet1!$A$25,\"\"))","v":""},{"$error":"#N/A"},{"$f":"IFERROR(VLOOKUP(BK112,Sheet1!$A$2:$E$25,3,FALSE),\"\")","v":""},{"$f":"IFERROR(VLOOKUP(BK112,Sheet1!$A$2:$E$25,4,FALSE),\"\")","v":""},{"$f":"IFERROR(VLOOKUP(BK112,Sheet1!$A$2:$E$25,5,FALSE),\"\")","v":""},{"$f":"IFERROR(VLOOKUP(N112,Sheet1!$A$29:$B$38,2,FALSE),\"\")","v":""}]
["","","",null,null,null,null,null,"","","",null,"",null,"","","","","","","","","","","","","","","","","","","","","","","","",{"$f":"IF($L113=\"\",\"\",IF(AND($L113>=Sheet1!$F$2,'Pupil List'!$L113<Sheet1!$G$2),Sheet1!$A$2,\"\"))","v":""},{"$f":"IF($L113=\"\",\"\",IF(AND($L113>=Sheet1!$F$3,'Pupil List'!$L113<Sheet1!$G$3),Sheet1!$A$3,\"\"))","v":""},{"$f":"IF($L113=\"\",\"\",IF(AND($L113>=Sheet1!$F$4,'Pupil List'!$L113<Sheet1!$G$4),Sheet1!$A$4,\"\"))","v":""},{"$f":"IF($L113=\"\",\"\",IF(AND($L113>=Sheet1!$F$5,'Pupil List'!$L113<Sheet1!$G$5),Sheet1!$A$5,\"\"))","v":""},{"$f":"IF($L113=\"\",\"\",IF(AND($L113>=Sheet1!$F$6,'Pupil List'!$L113<Sheet1!$G$6),Sheet1!$A$6,\"\"))","v":""},{"$f":"IF($L113=\"\",\"\",IF(AND($L113>=Sheet1!$F$7,'Pupil List'!$L113<Sheet1!$G$7),Sheet1!$A$7,\"\"))","v":""},{"$f":"IF($L113=\"\",\"\",IF(AND($L113>=Sheet1!$F$8,'Pupil List'!$L113<Sheet1!$G$8),Sheet1!$A$8,\"\"))","v":""},{"$f":"IF($L113=\"\",\"\",IF(AND($L113>=Sheet1!$F$9,'Pupil List'!$L113<Sheet1!$G$9),Sheet1!$A$9,\"\"))","v":""},{"$f":"IF($L113=\"\",\"\",IF(AND($L113>=Sheet1!$F$10,'Pupil List'!$L113<Sheet1!$G$10),Sheet1!$A$10,\"\"))","v":""},{"$f":"IF($L113=\"\",\"\",IF(AND($L113>=Sheet1!$F$11,'Pupil List'!$L113<Sheet1!$G$11),Sheet1!$A$11,\"\"))","v":""},{"$f":"IF($L113=\"\",\"\",IF(AND($L113>=Sheet1!$F$12,'Pupil List'!$L113<Sheet1!$G$12),Sheet1!$A$12,\"\"))","v":""},{"$f":"IF($L113=\"\",\"\",IF(AND($L113>=Sheet1!$F$13,'Pupil List'!$L113<Sheet1!$G$13),Sheet1!$A$13,\"\"))","v":""},{"$f":"IF($L113=\"\",\"\",IF(AND($L113>=Sheet1!$F$14,'Pupil List'!$L113<Sheet1!$G$14),Sheet1!$A$14,\"\"))","v":""},{"$f":"IF($L113=\"\",\"\",IF(AND($L113>=Sheet1!$F$15,'Pupil List'!$L113<Sheet1!$G$15),Sheet1!$A$15,\"\"))","v":""},{"$f":"IF($L113=\"\",\"\",IF(AND($L113>=Sheet1!$F$16,'Pupil List'!$L113<Sheet1!$G$16),Sheet1!$A$16,\"\"))","v":""},{"$f":"IF($L113=\"\",\"\",IF(AND($L113>=Sheet1!$F$17,'Pupil List'!$L113<Sheet1!$G$17),Sheet1!$A$17,\"\"))","v":""},{"$f":"IF($L113=\"\",\"\",IF(AND($L113>=Sheet1!$F$18,'Pupil List'!$L113<Sheet1!$G$18),Sheet1!$A$18,\"\"))","v":""},{"$f":"IF($L113=\"\",\"\",IF(AND($L113>=Sheet1!$F$19,'Pupil List'!$L113<Sheet1!$G$19),Sheet1!$A$19,\"\"))","v":""},{"$f":"IF($L113=\"\",\"\",IF(AND($L113>=Sheet1!$F$20,'Pupil List'!$L113<Sheet1!$G$20),Sheet1!$A$20,\"\"))","v":""},{"$f":"IF($L113=\"\",\"\",IF(AND($L113>=Sheet1!$F$21,'Pupil List'!$L113<Sheet1!$G$21),Sheet1!$A$21,\"\"))","v":""},{"$f":"IF($L113=\"\",\"\",IF(AND($L113>=Sheet1!$F$22,'Pupil List'!$L113<Sheet1!$G$22),Sheet1!$A$22,\"\"))","v":""},{"$f":"IF($L113=\"\",\"\",IF(AND($L113>=Sheet1!$F$23,'Pupil List'!$L113<Sheet1!$G$23),Sheet1!$A$23,\"\"))","v":""},{"$f":"IF($L113=\"\",\"\",IF(AND($L113>=Sheet1!$F$24,'Pupil List'!$L113<Sheet1!$G$24),Sheet1!$A$24,\"\"))","v":""},{"$f":"IF($L113=\"\",\"\",IF(AND($L113>=Sheet1!$F$25,'Pupil List'!$L113<Sheet1!$G$25),Sheet1!$A$25,\"\"))","v":""},{"$error":"#N/A"},{"$f":"IFERROR(VLOOKUP(BK113,Sheet1!$A$2:$E$25,3,FALSE),\"\")","v":""},{"$f":"IFERROR(VLOOKUP(BK113,Sheet1!$A$2:$E$25,4,FALSE),\"\")","v":""},{"$f":"IFERROR(VLOOKUP(BK113,Sheet1!$A$2:$E$25,5,FALSE),\"\")","v":""},{"$f":"IFERROR(VLOOKUP(N113,Sheet1!$A$29:$B$38,2,FALSE),\"\")","v":""}]
["","","",null,null,null,null,null,"","","",null,"",null,"","","","","","","","","","","","","","","","","","","","","","","","",{"$f":"IF($L114=\"\",\"\",IF(AND($L114>=Sheet1!$F$2,'Pupil List'!$L114<Sheet1!$G$2),Sheet1!$A$2,\"\"))","v":""},{"$f":"IF($L114=\"\",\"\",IF(AND($L114>=Sheet1!$F$3,'Pupil List'!$L114<Sheet1!$G$3),Sheet1!$A$3,\"\"))","v":""},{"$f":"IF($L114=\"\",\"\",IF(AND($L114>=Sheet1!$F$4,'Pupil List'!$L114<Sheet1!$G$4),Sheet1!$A$4,\"\"))","v":""},{"$f":"IF($L114=\"\",\"\",IF(AND($L114>=Sheet1!$F$5,'Pupil List'!$L114<Sheet1!$G$5),Sheet1!$A$5,\"\"))","v":""},{"$f":"IF($L114=\"\",\"\",IF(AND($L114>=Sheet1!$F$6,'Pupil List'!$L114<Sheet1!$G$6),Sheet1!$A$6,\"\"))","v":""},{"$f":"IF($L114=\"\",\"\",IF(AND($L114>=Sheet1!$F$7,'Pupil List'!$L114<Sheet1!$G$7),Sheet1!$A$7,\"\"))","v":""},{"$f":"IF($L114=\"\",\"\",IF(AND($L114>=Sheet1!$F$8,'Pupil List'!$L114<Sheet1!$G$8),Sheet1!$A$8,\"\"))","v":""},{"$f":"IF($L114=\"\",\"\",IF(AND($L114>=Sheet1!$F$9,'Pupil List'!$L114<Sheet1!$G$9),Sheet1!$A$9,\"\"))","v":""},{"$f":"IF($L114=\"\",\"\",IF(AND($L114>=Sheet1!$F$10,'Pupil List'!$L114<Sheet1!$G$10),Sheet1!$A$10,\"\"))","v":""},{"$f":"IF($L114=\"\",\"\",IF(AND($L114>=Sheet1!$F$11,'Pupil List'!$L114<Sheet1!$G$11),Sheet1!$A$11,\"\"))","v":""},{"$f":"IF($L114=\"\",\"\",IF(AND($L114>=Sheet1!$F$12,'Pupil List'!$L114<Sheet1!$G$12),Sheet1!$A$12,\"\"))","v":""},{"$f":"IF($L114=\"\",\"\",IF(AND($L114>=Sheet1!$F$13,'Pupil List'!$L114<Sheet1!$G$13),Sheet1!$A$13,\"\"))","v":""},{"$f":"IF($L114=\"\",\"\",IF(AND($L114>=Sheet1!$F$14,'Pupil List'!$L114<Sheet1!$G$14),Sheet1!$A$14,\"\"))","v":""},{"$f":"IF($L114=\"\",\"\",IF(AND($L114>=Sheet1!$F$15,'Pupil List'!$L114<Sheet1!$G$15),Sheet1!$A$15,\"\"))","v":""},{"$f":"IF($L114=\"\",\"\",IF(AND($L114>=Sheet1!$F$16,'Pupil List'!$L114<Sheet1!$G$16),Sheet1!$A$16,\"\"))","v":""},{"$f":"IF($L114=\"\",\"\",IF(AND($L114>=Sheet1!$F$17,'Pupil List'!$L114<Sheet1!$G$17),Sheet1!$A$17,\"\"))","v":""},{"$f":"IF($L114=\"\",\"\",IF(AND($L114>=Sheet1!$F$18,'Pupil List'!$L114<Sheet1!$G$18),Sheet1!$A$18,\"\"))","v":""},{"$f":"IF($L114=\"\",\"\",IF(AND($L114>=Sheet1!$F$19,'Pupil List'!$L114<Sheet1!$G$19),Sheet1!$A$19,\"\"))","v":""},{"$f":"IF($L114=\"\",\"\",IF(AND($L114>=Sheet1!$F$20,'Pupil List'!$L114<Sheet1!$G$20),Sheet1!$A$20,\"\"))","v":""},{"$f":"IF($L114=\"\",\"\",IF(AND($L114>=Sheet1!$F$21,'Pupil List'!$L114<Sheet1!$G$21),Sheet1!$A$21,\"\"))","v":""},{"$f":"IF($L114=\"\",\"\",IF(AND($L114>=Sheet1!$F$22,'Pupil List'!$L114<Sheet1!$G$22),Sheet1!$A$22,\"\"))","v":""},{"$f":"IF($L114=\"\",\"\",IF(AND($L114>=Sheet1!$F$23,'Pupil List'!$L114<Sheet1!$G$23),Sheet1!$A$23,\"\"))","v":""},{"$f":"IF($L114=\"\",\"\",IF(AND($L114>=Sheet1!$F$24,'Pupil List'!$L114<Sheet1!$G$24),Sheet1!$A$24,\"\"))","v":""},{"$f":"IF($L114=\"\",\"\",IF(AND($L114>=Sheet1!$F$25,'Pupil List'!$L114<Sheet1!$G$25),Sheet1!$A$25,\"\"))","v":""},{"$error":"#N/A"},{"$f":"IFERROR(VLOOKUP(BK114,Sheet1!$A$2:$E$25,3,FALSE),\"\")","v":""},{"$f":"IFERROR(VLOOKUP(BK114,Sheet1!$A$2:$E$25,4,FALSE),\"\")","v":""},{"$f":"IFERROR(VLOOKUP(BK114,Sheet1!$A$2:$E$25,5,FALSE),\"\")","v":""},{"$f":"IFERROR(VLOOKUP(N114,Sheet1!$A$29:$B$38,2,FALSE),\"\")","v":""}]
["","","",null,null,null,null,null,"","","",null,"",null,"","","","","","","","","","","","","","","","","","","","","","","","",{"$f":"IF($L115=\"\",\"\",IF(AND($L115>=Sheet1!$F$2,'Pupil List'!$L115<Sheet1!$G$2),Sheet1!$A$2,\"\"))","v":""},{"$f":"IF($L115=\"\",\"\",IF(AND($L115>=Sheet1!$F$3,'Pupil List'!$L115<Sheet1!$G$3),Sheet1!$A$3,\"\"))","v":""},{"$f":"IF($L115=\"\",\"\",IF(AND($L115>=Sheet1!$F$4,'Pupil List'!$L115<Sheet1!$G$4),Sheet1!$A$4,\"\"))","v":""},{"$f":"IF($L115=\"\",\"\",IF(AND($L115>=Sheet1!$F$5,'Pupil List'!$L115<Sheet1!$G$5),Sheet1!$A$5,\"\"))","v":""},{"$f":"IF($L115=\"\",\"\",IF(AND($L115>=Sheet1!$F$6,'Pupil List'!$L115<Sheet1!$G$6),Sheet1!$A$6,\"\"))","v":""},{"$f":"IF($L115=\"\",\"\",IF(AND($L115>=Sheet1!$F$7,'Pupil List'!$L115<Sheet1!$G$7),Sheet1!$A$7,\"\"))","v":""},{"$f":"IF($L115=\"\",\"\",IF(AND($L115>=Sheet1!$F$8,'Pupil List'!$L115<Sheet1!$G$8),Sheet1!$A$8,\"\"))","v":""},{"$f":"IF($L115=\"\",\"\",IF(AND($L115>=Sheet1!$F$9,'Pupil List'!$L115<Sheet1!$G$9),Sheet1!$A$9,\"\"))","v":""},{"$f":"IF($L115=\"\",\"\",IF(AND($L115>=Sheet1!$F$10,'Pupil List'!$L115<Sheet1!$G$10),Sheet1!$A$10,\"\"))","v":""},{"$f":"IF($L115=\"\",\"\",IF(AND($L115>=Sheet1!$F$11,'Pupil List'!$L115<Sheet1!$G$11),Sheet1!$A$11,\"\"))","v":""},{"$f":"IF($L115=\"\",\"\",IF(AND($L115>=Sheet1!$F$12,'Pupil List'!$L115<Sheet1!$G$12),Sheet1!$A$12,\"\"))","v":""},{"$f":"IF($L115=\"\",\"\",IF(AND($L115>=Sheet1!$F$13,'Pupil List'!$L115<Sheet1!$G$13),Sheet1!$A$13,\"\"))","v":""},{"$f":"IF($L115=\"\",\"\",IF(AND($L115>=Sheet1!$F$14,'Pupil List'!$L115<Sheet1!$G$14),Sheet1!$A$14,\"\"))","v":""},{"$f":"IF($L115=\"\",\"\",IF(AND($L115>=Sheet1!$F$15,'Pupil List'!$L115<Sheet1!$G$15),Sheet1!$A$15,\"\"))","v":""},{"$f":"IF($L115=\"\",\"\",IF(AND($L115>=Sheet1!$F$16,'Pupil List'!$L115<Sheet1!$G$16),Sheet1!$A$16,\"\"))","v":""},{"$f":"IF($L115=\"\",\"\",IF(AND($L115>=Sheet1!$F$17,'Pupil List'!$L115<Sheet1!$G$17),Sheet1!$A$17,\"\"))","v":""},{"$f":"IF($L115=\"\",\"\",IF(AND($L115>=Sheet1!$F$18,'Pupil List'!$L115<Sheet1!$G$18),Sheet1!$A$18,\"\"))","v":""},{"$f":"IF($L115=\"\",\"\",IF(AND($L115>=Sheet1!$F$19,'Pupil List'!$L115<Sheet1!$G$19),Sheet1!$A$19,\"\"))","v":""},{"$f":"IF($L115=\"\",\"\",IF(AND($L115>=Sheet1!$F$20,'Pupil List'!$L115<Sheet1!$G$20),Sheet1!$A$20,\"\"))","v":""},{"$f":"IF($L115=\"\",\"\",IF(AND($L115>=Sheet1!$F$21,'Pupil List'!$L115<Sheet1!$G$21),Sheet1!$A$21,\"\"))","v":""},{"$f":"IF($L115=\"\",\"\",IF(AND($L115>=Sheet1!$F$22,'Pupil List'!$L115<Sheet1!$G$22),Sheet1!$A$22,\"\"))","v":""},{"$f":"IF($L115=\"\",\"\",IF(AND($L115>=Sheet1!$F$23,'Pupil List'!$L115<Sheet1!$G$23),Sheet1!$A$23,\"\"))","v":""},{"$f":"IF($L115=\"\",\"\",IF(AND($L115>=Sheet1!$F$24,'Pupil List'!$L115<Sheet1!$G$24),Sheet1!$A$24,\"\"))","v":""},{"$f":"IF($L115=\"\",\"\",IF(AND($L115>=Sheet1!$F$25,'Pupil List'!$L115<Sheet1!$G$25),Sheet1!$A$25,\"\"))","v":""},{"$error":"#N/A"},{"$f":"IFERROR(VLOOKUP(BK115,Sheet1!$A$2:$E$25,3,FALSE),\"\")","v":""},{"$f":"IFERROR(VLOOKUP(BK115,Sheet1!$A$2:$E$25,4,FALSE),\"\")","v":""},{"$f":"IFERROR(VLOOKUP(BK115,Sheet1!$A$2:$E$25,5,FALSE),\"\")","v":""},{"$f":"IFERROR(VLOOKUP(N115,Sheet1!$A$29:$B$38,2,FALSE),\"\")","v":""}]
["","","",null,null,null,null,null,"","","",null,"",null,"","","","","","","","","","","","","","","","","","","","","","","","",{"$f":"IF($L116=\"\",\"\",IF(AND($L116>=Sheet1!$F$2,'Pupil List'!$L116<Sheet1!$G$2),Sheet1!$A$2,\"\"))","v":""},{"$f":"IF($L116=\"\",\"\",IF(AND($L116>=Sheet1!$F$3,'Pupil List'!$L116<Sheet1!$G$3),Sheet1!$A$3,\"\"))","v":""},{"$f":"IF($L116=\"\",\"\",IF(AND($L116>=Sheet1!$F$4,'Pupil List'!$L116<Sheet1!$G$4),Sheet1!$A$4,\"\"))","v":""},{"$f":"IF($L116=\"\",\"\",IF(AND($L116>=Sheet1!$F$5,'Pupil List'!$L116<Sheet1!$G$5),Sheet1!$A$5,\"\"))","v":""},{"$f":"IF($L116=\"\",\"\",IF(AND($L116>=Sheet1!$F$6,'Pupil List'!$L116<Sheet1!$G$6),Sheet1!$A$6,\"\"))","v":""},{"$f":"IF($L116=\"\",\"\",IF(AND($L116>=Sheet1!$F$7,'Pupil List'!$L116<Sheet1!$G$7),Sheet1!$A$7,\"\"))","v":""},{"$f":"IF($L116=\"\",\"\",IF(AND($L116>=Sheet1!$F$8,'Pupil List'!$L116<Sheet1!$G$8),Sheet1!$A$8,\"\"))","v":""},{"$f":"IF($L116=\"\",\"\",IF(AND($L116>=Sheet1!$F$9,'Pupil List'!$L116<Sheet1!$G$9),Sheet1!$A$9,\"\"))","v":""},{"$f":"IF($L116=\"\",\"\",IF(AND($L116>=Sheet1!$F$10,'Pupil List'!$L116<Sheet1!$G$10),Sheet1!$A$10,\"\"))","v":""},{"$f":"IF($L116=\"\",\"\",IF(AND($L116>=Sheet1!$F$11,'Pupil List'!$L116<Sheet1!$G$11),Sheet1!$A$11,\"\"))","v":""},{"$f":"IF($L116=\"\",\"\",IF(AND($L116>=Sheet1!$F$12,'Pupil List'!$L116<Sheet1!$G$12),Sheet1!$A$12,\"\"))","v":""},{"$f":"IF($L116=\"\",\"\",IF(AND($L116>=Sheet1!$F$13,'Pupil List'!$L116<Sheet1!$G$13),Sheet1!$A$13,\"\"))","v":""},{"$f":"IF($L116=\"\",\"\",IF(AND($L116>=Sheet1!$F$14,'Pupil List'!$L116<Sheet1!$G$14),Sheet1!$A$14,\"\"))","v":""},{"$f":"IF($L116=\"\",\"\",IF(AND($L116>=Sheet1!$F$15,'Pupil List'!$L116<Sheet1!$G$15),Sheet1!$A$15,\"\"))","v":""},{"$f":"IF($L116=\"\",\"\",IF(AND($L116>=Sheet1!$F$16,'Pupil List'!$L116<Sheet1!$G$16),Sheet1!$A$16,\"\"))","v":""},{"$f":"IF($L116=\"\",\"\",IF(AND($L116>=Sheet1!$F$17,'Pupil List'!$L116<Sheet1!$G$17),Sheet1!$A$17,\"\"))","v":""},{"$f":"IF($L116=\"\",\"\",IF(AND($L116>=Sheet1!$F$18,'Pupil List'!$L116<Sheet1!$G$18),Sheet1!$A$18,\"\"))","v":""},{"$f":"IF($L116=\"\",\"\",IF(AND($L116>=Sheet1!$F$19,'Pupil List'!$L116<Sheet1!$G$19),Sheet1!$A$19,\"\"))","v":""},{"$f":"IF($L116=\"\",\"\",IF(AND($L116>=Sheet1!$F$20,'Pupil List'!$L116<Sheet1!$G$20),Sheet1!$A$20,\"\"))","v":""},{"$f":"IF($L116=\"\",\"\",IF(AND($L116>=Sheet1!$F$21,'Pupil List'!$L116<Sheet1!$G$21),Sheet1!$A$21,\"\"))","v":""},{"$f":"IF($L116=\"\",\"\",IF(AND($L116>=Sheet1!$F$22,'Pupil List'!$L116<Sheet1!$G$22),Sheet1!$A$22,\"\"))","v":""},{"$f":"IF($L116=\"\",\"\",IF(AND($L116>=Sheet1!$F$23,'Pupil List'!$L116<Sheet1!$G$23),Sheet1!$A$23,\"\"))","v":""},{"$f":"IF($L116=\"\",\"\",IF(AND($L116>=Sheet1!$F$24,'Pupil List'!$L116<Sheet1!$G$24),Sheet1!$A$24,\"\"))","v":""},{"$f":"IF($L116=\"\",\"\",IF(AND($L116>=Sheet1!$F$25,'Pupil List'!$L116<Sheet1!$G$25),Sheet1!$A$25,\"\"))","v":""},{"$error":"#N/A"},{"$f":"IFERROR(VLOOKUP(BK116,Sheet1!$A$2:$E$25,3,FALSE),\"\")","v":""},{"$f":"IFERROR(VLOOKUP(BK116,Sheet1!$A$2:$E$25,4,FALSE),\"\")","v":""},{"$f":"IFERROR(VLOOKUP(BK116,Sheet1!$A$2:$E$25,5,FALSE),\"\")","v":""},{"$f":"IFERROR(VLOOKUP(N116,Sheet1!$A$29:$B$38,2,FALSE),\"\")","v":""}]
["","","",null,null,null,null,null,"","","",null,"",null,"","","","","","","","","","","","","","","","","","","","","","","","",{"$f":"IF($L117=\"\",\"\",IF(AND($L117>=Sheet1!$F$2,'Pupil List'!$L117<Sheet1!$G$2),Sheet1!$A$2,\"\"))","v":""},{"$f":"IF($L117=\"\",\"\",IF(AND($L117>=Sheet1!$F$3,'Pupil List'!$L117<Sheet1!$G$3),Sheet1!$A$3,\"\"))","v":""},{"$f":"IF($L117=\"\",\"\",IF(AND($L117>=Sheet1!$F$4,'Pupil List'!$L117<Sheet1!$G$4),Sheet1!$A$4,\"\"))","v":""},{"$f":"IF($L117=\"\",\"\",IF(AND($L117>=Sheet1!$F$5,'Pupil List'!$L117<Sheet1!$G$5),Sheet1!$A$5,\"\"))","v":""},{"$f":"IF($L117=\"\",\"\",IF(AND($L117>=Sheet1!$F$6,'Pupil List'!$L117<Sheet1!$G$6),Sheet1!$A$6,\"\"))","v":""},{"$f":"IF($L117=\"\",\"\",IF(AND($L117>=Sheet1!$F$7,'Pupil List'!$L117<Sheet1!$G$7),Sheet1!$A$7,\"\"))","v":""},{"$f":"IF($L117=\"\",\"\",IF(AND($L117>=Sheet1!$F$8,'Pupil List'!$L117<Sheet1!$G$8),Sheet1!$A$8,\"\"))","v":""},{"$f":"IF($L117=\"\",\"\",IF(AND($L117>=Sheet1!$F$9,'Pupil List'!$L117<Sheet1!$G$9),Sheet1!$A$9,\"\"))","v":""},{"$f":"IF($L117=\"\",\"\",IF(AND($L117>=Sheet1!$F$10,'Pupil List'!$L117<Sheet1!$G$10),Sheet1!$A$10,\"\"))","v":""},{"$f":"IF($L117=\"\",\"\",IF(AND($L117>=Sheet1!$F$11,'Pupil List'!$L117<Sheet1!$G$11),Sheet1!$A$11,\"\"))","v":""},{"$f":"IF($L117=\"\",\"\",IF(AND($L117>=Sheet1!$F$12,'Pupil List'!$L117<Sheet1!$G$12),Sheet1!$A$12,\"\"))","v":""},{"$f":"IF($L117=\"\",\"\",IF(AND($L117>=Sheet1!$F$13,'Pupil List'!$L117<Sheet1!$G$13),Sheet1!$A$13,\"\"))","v":""},{"$f":"IF($L117=\"\",\"\",IF(AND($L117>=Sheet1!$F$14,'Pupil List'!$L117<Sheet1!$G$14),Sheet1!$A$14,\"\"))","v":""},{"$f":"IF($L117=\"\",\"\",IF(AND($L117>=Sheet1!$F$15,'Pupil List'!$L117<Sheet1!$G$15),Sheet1!$A$15,\"\"))","v":""},{"$f":"IF($L117=\"\",\"\",IF(AND($L117>=Sheet1!$F$16,'Pupil List'!$L117<Sheet1!$G$16),Sheet1!$A$16,\"\"))","v":""},{"$f":"IF($L117=\"\",\"\",IF(AND($L117>=Sheet1!$F$17,'Pupil List'!$L117<Sheet1!$G$17),Sheet1!$A$17,\"\"))","v":""},{"$f":"IF($L117=\"\",\"\",IF(AND($L117>=Sheet1!$F$18,'Pupil List'!$L117<Sheet1!$G$18),Sheet1!$A$18,\"\"))","v":""},{"$f":"IF($L117=\"\",\"\",IF(AND($L117>=Sheet1!$F$19,'Pupil List'!$L117<Sheet1!$G$19),Sheet1!$A$19,\"\"))","v":""},{"$f":"IF($L117=\"\",\"\",IF(AND($L117>=Sheet1!$F$20,'Pupil List'!$L117<Sheet1!$G$20),Sheet1!$A$20,\"\"))","v":""},{"$f":"IF($L117=\"\",\"\",IF(AND($L117>=Sheet1!$F$21,'Pupil List'!$L117<Sheet1!$G$21),Sheet1!$A$21,\"\"))","v":""},{"$f":"IF($L117=\"\",\"\",IF(AND($L117>=Sheet1!$F$22,'Pupil List'!$L117<Sheet1!$G$22),Sheet1!$A$22,\"\"))","v":""},{"$f":"IF($L117=\"\",\"\",IF(AND($L117>=Sheet1!$F$23,'Pupil List'!$L117<Sheet1!$G$23),Sheet1!$A$23,\"\"))","v":""},{"$f":"IF($L117=\"\",\"\",IF(AND($L117>=Sheet1!$F$24,'Pupil List'!$L117<Sheet1!$G$24),Sheet1!$A$24,\"\"))","v":""},{"$f":"IF($L117=\"\",\"\",IF(AND($L117>=Sheet1!$F$25,'Pupil List'!$L117<Sheet1!$G$25),Sheet1!$A$25,\"\"))","v":""},{"$error":"#N/A"},{"$f":"IFERROR(VLOOKUP(BK117,Sheet1!$A$2:$E$25,3,FALSE),\"\")","v":""},{"$f":"IFERROR(VLOOKUP(BK117,Sheet1!$A$2:$E$25,4,FALSE),\"\")","v":""},{"$f":"IFERROR(VLOOKUP(BK117,Sheet1!$A$2:$E$25,5,FALSE),\"\")","v":""},{"$f":"IFERROR(VLOOKUP(N117,Sheet1!$A$29:$B$38,2,FALSE),\"\")","v":""}]
["","","",null,null,null,null,null,"","","",null,"",null,"","","","","","","","","","","","","","","","","","","","","","","","",{"$f":"IF($L118=\"\",\"\",IF(AND($L118>=Sheet1!$F$2,'Pupil List'!$L118<Sheet1!$G$2),Sheet1!$A$2,\"\"))","v":""},{"$f":"IF($L118=\"\",\"\",IF(AND($L118>=Sheet1!$F$3,'Pupil List'!$L118<Sheet1!$G$3),Sheet1!$A$3,\"\"))","v":""},{"$f":"IF($L118=\"\",\"\",IF(AND($L118>=Sheet1!$F$4,'Pupil List'!$L118<Sheet1!$G$4),Sheet1!$A$4,\"\"))","v":""},{"$f":"IF($L118=\"\",\"\",IF(AND($L118>=Sheet1!$F$5,'Pupil List'!$L118<Sheet1!$G$5),Sheet1!$A$5,\"\"))","v":""},{"$f":"IF($L118=\"\",\"\",IF(AND($L118>=Sheet1!$F$6,'Pupil List'!$L118<Sheet1!$G$6),Sheet1!$A$6,\"\"))","v":""},{"$f":"IF($L118=\"\",\"\",IF(AND($L118>=Sheet1!$F$7,'Pupil List'!$L118<Sheet1!$G$7),Sheet1!$A$7,\"\"))","v":""},{"$f":"IF($L118=\"\",\"\",IF(AND($L118>=Sheet1!$F$8,'Pupil List'!$L118<Sheet1!$G$8),Sheet1!$A$8,\"\"))","v":""},{"$f":"IF($L118=\"\",\"\",IF(AND($L118>=Sheet1!$F$9,'Pupil List'!$L118<Sheet1!$G$9),Sheet1!$A$9,\"\"))","v":""},{"$f":"IF($L118=\"\",\"\",IF(AND($L118>=Sheet1!$F$10,'Pupil List'!$L118<Sheet1!$G$10),Sheet1!$A$10,\"\"))","v":""},{"$f":"IF($L118=\"\",\"\",IF(AND($L118>=Sheet1!$F$11,'Pupil List'!$L118<Sheet1!$G$11),Sheet1!$A$11,\"\"))","v":""},{"$f":"IF($L118=\"\",\"\",IF(AND($L118>=Sheet1!$F$12,'Pupil List'!$L118<Sheet1!$G$12),Sheet1!$A$12,\"\"))","v":""},{"$f":"IF($L118=\"\",\"\",IF(AND($L118>=Sheet1!$F$13,'Pupil List'!$L118<Sheet1!$G$13),Sheet1!$A$13,\"\"))","v":""},{"$f":"IF($L118=\"\",\"\",IF(AND($L118>=Sheet1!$F$14,'Pupil List'!$L118<Sheet1!$G$14),Sheet1!$A$14,\"\"))","v":""},{"$f":"IF($L118=\"\",\"\",IF(AND($L118>=Sheet1!$F$15,'Pupil List'!$L118<Sheet1!$G$15),Sheet1!$A$15,\"\"))","v":""},{"$f":"IF($L118=\"\",\"\",IF(AND($L118>=Sheet1!$F$16,'Pupil List'!$L118<Sheet1!$G$16),Sheet1!$A$16,\"\"))","v":""},{"$f":"IF($L118=\"\",\"\",IF(AND($L118>=Sheet1!$F$17,'Pupil List'!$L118<Sheet1!$G$17),Sheet1!$A$17,\"\"))","v":""},{"$f":"IF($L118=\"\",\"\",IF(AND($L118>=Sheet1!$F$18,'Pupil List'!$L118<Sheet1!$G$18),Sheet1!$A$18,\"\"))","v":""},{"$f":"IF($L118=\"\",\"\",IF(AND($L118>=Sheet1!$F$19,'Pupil List'!$L118<Sheet1!$G$19),Sheet1!$A$19,\"\"))","v":""},{"$f":"IF($L118=\"\",\"\",IF(AND($L118>=Sheet1!$F$20,'Pupil List'!$L118<Sheet1!$G$20),Sheet1!$A$20,\"\"))","v":""},{"$f":"IF($L118=\"\",\"\",IF(AND($L118>=Sheet1!$F$21,'Pupil List'!$L118<Sheet1!$G$21),Sheet1!$A$21,\"\"))","v":""},{"$f":"IF($L118=\"\",\"\",IF(AND($L118>=Sheet1!$F$22,'Pupil List'!$L118<Sheet1!$G$22),Sheet1!$A$22,\"\"))","v":""},{"$f":"IF($L118=\"\",\"\",IF(AND($L118>=Sheet1!$F$23,'Pupil List'!$L118<Sheet1!$G$23),Sheet1!$A$23,\"\"))","v":""},{"$f":"IF($L118=\"\",\"\",IF(AND($L118>=Sheet1!$F$24,'Pupil List'!$L118<Sheet1!$G$24),Sheet1!$A$24,\"\"))","v":""},{"$f":"IF($L118=\"\",\"\",IF(AND($L118>=Sheet1!$F$25,'Pupil List'!$L118<Sheet1!$G$25),Sheet1!$A$25,\"\"))","v":""},{"$error":"#N/A"},{"$f":"IFERROR(VLOOKUP(BK118,Sheet1!$A$2:$E$25,3,FALSE),\"\")","v":""},{"$f":"IFERROR(VLOOKUP(BK118,Sheet1!$A$2:$E$25,4,FALSE),\"\")","v":""},{"$f":"IFERROR(VLOOKUP(BK118,Sheet1!$A$2:$E$25,5,FALSE),\"\")","v":""},{"$f":"IFERROR(VLOOKUP(N118,Sheet1!$A$29:$B$38,2,FALSE),\"\")","v":""}]
["","","",null,null,null,null,null,"","","",null,"",null,"","","","","","","","","","","","","","","","","","","","","","","","",{"$f":"IF($L119=\"\",\"\",IF(AND($L119>=Sheet1!$F$2,'Pupil List'!$L119<Sheet1!$G$2),Sheet1!$A$2,\"\"))","v":""},{"$f":"IF($L119=\"\",\"\",IF(AND($L119>=Sheet1!$F$3,'Pupil List'!$L119<Sheet1!$G$3),Sheet1!$A$3,\"\"))","v":""},{"$f":"IF($L119=\"\",\"\",IF(AND($L119>=Sheet1!$F$4,'Pupil List'!$L119<Sheet1!$G$4),Sheet1!$A$4,\"\"))","v":""},{"$f":"IF($L119=\"\",\"\",IF(AND($L119>=Sheet1!$F$5,'Pupil List'!$L119<Sheet1!$G$5),Sheet1!$A$5,\"\"))","v":""},{"$f":"IF($L119=\"\",\"\",IF(AND($L119>=Sheet1!$F$6,'Pupil List'!$L119<Sheet1!$G$6),Sheet1!$A$6,\"\"))","v":""},{"$f":"IF($L119=\"\",\"\",IF(AND($L119>=Sheet1!$F$7,'Pupil List'!$L119<Sheet1!$G$7),Sheet1!$A$7,\"\"))","v":""},{"$f":"IF($L119=\"\",\"\",IF(AND($L119>=Sheet1!$F$8,'Pupil List'!$L119<Sheet1!$G$8),Sheet1!$A$8,\"\"))","v":""},{"$f":"IF($L119=\"\",\"\",IF(AND($L119>=Sheet1!$F$9,'Pupil List'!$L119<Sheet1!$G$9),Sheet1!$A$9,\"\"))","v":""},{"$f":"IF($L119=\"\",\"\",IF(AND($L119>=Sheet1!$F$10,'Pupil List'!$L119<Sheet1!$G$10),Sheet1!$A$10,\"\"))","v":""},{"$f":"IF($L119=\"\",\"\",IF(AND($L119>=Sheet1!$F$11,'Pupil List'!$L119<Sheet1!$G$11),Sheet1!$A$11,\"\"))","v":""},{"$f":"IF($L119=\"\",\"\",IF(AND($L119>=Sheet1!$F$12,'Pupil List'!$L119<Sheet1!$G$12),Sheet1!$A$12,\"\"))","v":""},{"$f":"IF($L119=\"\",\"\",IF(AND($L119>=Sheet1!$F$13,'Pupil List'!$L119<Sheet1!$G$13),Sheet1!$A$13,\"\"))","v":""},{"$f":"IF($L119=\"\",\"\",IF(AND($L119>=Sheet1!$F$14,'Pupil List'!$L119<Sheet1!$G$14),Sheet1!$A$14,\"\"))","v":""},{"$f":"IF($L119=\"\",\"\",IF(AND($L119>=Sheet1!$F$15,'Pupil List'!$L119<Sheet1!$G$15),Sheet1!$A$15,\"\"))","v":""},{"$f":"IF($L119=\"\",\"\",IF(AND($L119>=Sheet1!$F$16,'Pupil List'!$L119<Sheet1!$G$16),Sheet1!$A$16,\"\"))","v":""},{"$f":"IF($L119=\"\",\"\",IF(AND($L119>=Sheet1!$F$17,'Pupil List'!$L119<Sheet1!$G$17),Sheet1!$A$17,\"\"))","v":""},{"$f":"IF($L119=\"\",\"\",IF(AND($L119>=Sheet1!$F$18,'Pupil List'!$L119<Sheet1!$G$18),Sheet1!$A$18,\"\"))","v":""},{"$f":"IF($L119=\"\",\"\",IF(AND($L119>=Sheet1!$F$19,'Pupil List'!$L119<Sheet1!$G$19),Sheet1!$A$19,\"\"))","v":""},{"$f":"IF($L119=\"\",\"\",IF(AND($L119>=Sheet1!$F$20,'Pupil List'!$L119<Sheet1!$G$20),Sheet1!$A$20,\"\"))","v":""},{"$f":"IF($L119=\"\",\"\",IF(AND($L119>=Sheet1!$F$21,'Pupil List'!$L119<Sheet1!$G$21),Sheet1!$A$21,\"\"))","v":""},{"$f":"IF($L119=\"\",\"\",IF(AND($L119>=Sheet1!$F$22,'Pupil List'!$L119<Sheet1!$G$22),Sheet1!$A$22,\"\"))","v":""},{"$f":"IF($L119=\"\",\"\",IF(AND($L119>=Sheet1!$F$23,'Pupil List'!$L119<Sheet1!$G$23),Sheet1!$A$23,\"\"))","v":""},{"$f":"IF($L119=\"\",\"\",IF(AND($L119>=Sheet1!$F$24,'Pupil List'!$L119<Sheet1!$G$24),Sheet1!$A$24,\"\"))","v":""},{"$f":"IF($L119=\"\",\"\",IF(AND($L119>=Sheet1!$F$25,'Pupil List'!$L119<Sheet1!$G$25),Sheet1!$A$25,\"\"))","v":""},{"$error":"#N/A"},{"$f":"IFERROR(VLOOKUP(BK119,Sheet1!$A$2:$E$25,3,FALSE),\"\")","v":""},{"$f":"IFERROR(VLOOKUP(BK119,Sheet1!$A$2:$E$25,4,FALSE),\"\")","v":""},{"$f":"IFERROR(VLOOKUP(BK119,Sheet1!$A$2:$E$25,5,FALSE),\"\")","v":""},{"$f":"IFERROR(VLOOKUP(N119,Sheet1!$A$29:$B$38,2,FALSE),\"\")","v":""}]
["","","",null,null,null,null,null,"","","",null,"",null,"","","","","","","","","","","","","","","","","","","","","","","","",{"$f":"IF($L120=\"\",\"\",IF(AND($L120>=Sheet1!$F$2,'Pupil List'!$L120<Sheet1!$G$2),Sheet1!$A$2,\"\"))","v":""},{"$f":"IF($L120=\"\",\"\",IF(AND($L120>=Sheet1!$F$3,'Pupil List'!$L120<Sheet1!$G$3),Sheet1!$A$3,\"\"))","v":""},{"$f":"IF($L120=\"\",\"\",IF(AND($L120>=Sheet1!$F$4,'Pupil List'!$L120<Sheet1!$G$4),Sheet1!$A$4,\"\"))","v":""},{"$f":"IF($L120=\"\",\"\",IF(AND($L120>=Sheet1!$F$5,'Pupil List'!$L120<Sheet1!$G$5),Sheet1!$A$5,\"\"))","v":""},{"$f":"IF($L120=\"\",\"\",IF(AND($L120>=Sheet1!$F$6,'Pupil List'!$L120<Sheet1!$G$6),Sheet1!$A$6,\"\"))","v":""},{"$f":"IF($L120=\"\",\"\",IF(AND($L120>=Sheet1!$F$7,'Pupil List'!$L120<Sheet1!$G$7),Sheet1!$A$7,\"\"))","v":""},{"$f":"IF($L120=\"\",\"\",IF(AND($L120>=Sheet1!$F$8,'Pupil List'!$L120<Sheet1!$G$8),Sheet1!$A$8,\"\"))","v":""},{"$f":"IF($L120=\"\",\"\",IF(AND($L120>=Sheet1!$F$9,'Pupil List'!$L120<Sheet1!$G$9),Sheet1!$A$9,\"\"))","v":""},{"$f":"IF($L120=\"\",\"\",IF(AND($L120>=Sheet1!$F$10,'Pupil List'!$L120<Sheet1!$G$10),Sheet1!$A$10,\"\"))","v":""},{"$f":"IF($L120=\"\",\"\",IF(AND($L120>=Sheet1!$F$11,'Pupil List'!$L120<Sheet1!$G$11),Sheet1!$A$11,\"\"))","v":""},{"$f":"IF($L120=\"\",\"\",IF(AND($L120>=Sheet1!$F$12,'Pupil List'!$L120<Sheet1!$G$12),Sheet1!$A$12,\"\"))","v":""},{"$f":"IF($L120=\"\",\"\",IF(AND($L120>=Sheet1!$F$13,'Pupil List'!$L120<Sheet1!$G$13),Sheet1!$A$13,\"\"))","v":""},{"$f":"IF($L120=\"\",\"\",IF(AND($L120>=Sheet1!$F$14,'Pupil List'!$L120<Sheet1!$G$14),Sheet1!$A$14,\"\"))","v":""},{"$f":"IF($L120=\"\",\"\",IF(AND($L120>=Sheet1!$F$15,'Pupil List'!$L120<Sheet1!$G$15),Sheet1!$A$15,\"\"))","v":""},{"$f":"IF($L120=\"\",\"\",IF(AND($L120>=Sheet1!$F$16,'Pupil List'!$L120<Sheet1!$G$16),Sheet1!$A$16,\"\"))","v":""},{"$f":"IF($L120=\"\",\"\",IF(AND($L120>=Sheet1!$F$17,'Pupil List'!$L120<Sheet1!$G$17),Sheet1!$A$17,\"\"))","v":""},{"$f":"IF($L120=\"\",\"\",IF(AND($L120>=Sheet1!$F$18,'Pupil List'!$L120<Sheet1!$G$18),Sheet1!$A$18,\"\"))","v":""},{"$f":"IF($L120=\"\",\"\",IF(AND($L120>=Sheet1!$F$19,'Pupil List'!$L120<Sheet1!$G$19),Sheet1!$A$19,\"\"))","v":""},{"$f":"IF($L120=\"\",\"\",IF(AND($L120>=Sheet1!$F$20,'Pupil List'!$L120<Sheet1!$G$20),Sheet1!$A$20,\"\"))","v":""},{"$f":"IF($L120=\"\",\"\",IF(AND($L120>=Sheet1!$F$21,'Pupil List'!$L120<Sheet1!$G$21),Sheet1!$A$21,\"\"))","v":""},{"$f":"IF($L120=\"\",\"\",IF(AND($L120>=Sheet1!$F$22,'Pupil List'!$L120<Sheet1!$G$22),Sheet1!$A$22,\"\"))","v":""},{"$f":"IF($L120=\"\",\"\",IF(AND($L120>=Sheet1!$F$23,'Pupil List'!$L120<Sheet1!$G$23),Sheet1!$A$23,\"\"))","v":""},{"$f":"IF($L120=\"\",\"\",IF(AND($L120>=Sheet1!$F$24,'Pupil List'!$L120<Sheet1!$G$24),Sheet1!$A$24,\"\"))","v":""},{"$f":"IF($L120=\"\",\"\",IF(AND($L120>=Sheet1!$F$25,'Pupil List'!$L120<Sheet1!$G$25),Sheet1!$A$25,\"\"))","v":""},{"$error":"#N/A"},{"$f":"IFERROR(VLOOKUP(BK120,Sheet1!$A$2:$E$25,3,FALSE),\"\")","v":""},{"$f":"IFERROR(VLOOKUP(BK120,Sheet1!$A$2:$E$25,4,FALSE),\"\")","v":""},{"$f":"IFERROR(VLOOKUP(BK120,Sheet1!$A$2:$E$25,5,FALSE),\"\")","v":""},{"$f":"IFERROR(VLOOKUP(N120,Sheet1!$A$29:$B$38,2,FALSE),\"\")","v":""}]
["","","",null,null,null,null,null,"","","",null,"",null,"","","","","","","","","","","","","","","","","","","","","","","","",{"$f":"IF($L121=\"\",\"\",IF(AND($L121>=Sheet1!$F$2,'Pupil List'!$L121<Sheet1!$G$2),Sheet1!$A$2,\"\"))","v":""},{"$f":"IF($L121=\"\",\"\",IF(AND($L121>=Sheet1!$F$3,'Pupil List'!$L121<Sheet1!$G$3),Sheet1!$A$3,\"\"))","v":""},{"$f":"IF($L121=\"\",\"\",IF(AND($L121>=Sheet1!$F$4,'Pupil List'!$L121<Sheet1!$G$4),Sheet1!$A$4,\"\"))","v":""},{"$f":"IF($L121=\"\",\"\",IF(AND($L121>=Sheet1!$F$5,'Pupil List'!$L121<Sheet1!$G$5),Sheet1!$A$5,\"\"))","v":""},{"$f":"IF($L121=\"\",\"\",IF(AND($L121>=Sheet1!$F$6,'Pupil List'!$L121<Sheet1!$G$6),Sheet1!$A$6,\"\"))","v":""},{"$f":"IF($L121=\"\",\"\",IF(AND($L121>=Sheet1!$F$7,'Pupil List'!$L121<Sheet1!$G$7),Sheet1!$A$7,\"\"))","v":""},{"$f":"IF($L121=\"\",\"\",IF(AND($L121>=Sheet1!$F$8,'Pupil List'!$L121<Sheet1!$G$8),Sheet1!$A$8,\"\"))","v":""},{"$f":"IF($L121=\"\",\"\",IF(AND($L121>=Sheet1!$F$9,'Pupil List'!$L121<Sheet1!$G$9),Sheet1!$A$9,\"\"))","v":""},{"$f":"IF($L121=\"\",\"\",IF(AND($L121>=Sheet1!$F$10,'Pupil List'!$L121<Sheet1!$G$10),Sheet1!$A$10,\"\"))","v":""},{"$f":"IF($L121=\"\",\"\",IF(AND($L121>=Sheet1!$F$11,'Pupil List'!$L121<Sheet1!$G$11),Sheet1!$A$11,\"\"))","v":""},{"$f":"IF($L121=\"\",\"\",IF(AND($L121>=Sheet1!$F$12,'Pupil List'!$L121<Sheet1!$G$12),Sheet1!$A$12,\"\"))","v":""},{"$f":"IF($L121=\"\",\"\",IF(AND($L121>=Sheet1!$F$13,'Pupil List'!$L121<Sheet1!$G$13),Sheet1!$A$13,\"\"))","v":""},{"$f":"IF($L121=\"\",\"\",IF(AND($L121>=Sheet1!$F$14,'Pupil List'!$L121<Sheet1!$G$14),Sheet1!$A$14,\"\"))","v":""},{"$f":"IF($L121=\"\",\"\",IF(AND($L121>=Sheet1!$F$15,'Pupil List'!$L121<Sheet1!$G$15),Sheet1!$A$15,\"\"))","v":""},{"$f":"IF($L121=\"\",\"\",IF(AND($L121>=Sheet1!$F$16,'Pupil List'!$L121<Sheet1!$G$16),Sheet1!$A$16,\"\"))","v":""},{"$f":"IF($L121=\"\",\"\",IF(AND($L121>=Sheet1!$F$17,'Pupil List'!$L121<Sheet1!$G$17),Sheet1!$A$17,\"\"))","v":""},{"$f":"IF($L121=\"\",\"\",IF(AND($L121>=Sheet1!$F$18,'Pupil List'!$L121<Sheet1!$G$18),Sheet1!$A$18,\"\"))","v":""},{"$f":"IF($L121=\"\",\"\",IF(AND($L121>=Sheet1!$F$19,'Pupil List'!$L121<Sheet1!$G$19),Sheet1!$A$19,\"\"))","v":""},{"$f":"IF($L121=\"\",\"\",IF(AND($L121>=Sheet1!$F$20,'Pupil List'!$L121<Sheet1!$G$20),Sheet1!$A$20,\"\"))","v":""},{"$f":"IF($L121=\"\",\"\",IF(AND($L121>=Sheet1!$F$21,'Pupil List'!$L121<Sheet1!$G$21),Sheet1!$A$21,\"\"))","v":""},{"$f":"IF($L121=\"\",\"\",IF(AND($L121>=Sheet1!$F$22,'Pupil List'!$L121<Sheet1!$G$22),Sheet1!$A$22,\"\"))","v":""},{"$f":"IF($L121=\"\",\"\",IF(AND($L121>=Sheet1!$F$23,'Pupil List'!$L121<Sheet1!$G$23),Sheet1!$A$23,\"\"))","v":""},{"$f":"IF($L121=\"\",\"\",IF(AND($L121>=Sheet1!$F$24,'Pupil List'!$L121<Sheet1!$G$24),Sheet1!$A$24,\"\"))","v":""},{"$f":"IF($L121=\"\",\"\",IF(AND($L121>=Sheet1!$F$25,'Pupil List'!$L121<Sheet1!$G$25),Sheet1!$A$25,\"\"))","v":""},{"$error":"#N/A"},{"$f":"IFERROR(VLOOKUP(BK121,Sheet1!$A$2:$E$25,3,FALSE),\"\")","v":""},{"$f":"IFERROR(VLOOKUP(BK121,Sheet1!$A$2:$E$25,4,FALSE),\"\")","v":""},{"$f":"IFERROR(VLOOKUP(BK121,Sheet1!$A$2:$E$25,5,FALSE),\"\")","v":""},{"$f":"IFERROR(VLOOKUP(N121,Sheet1!$A$29:$B$38,2,FALSE),\"\")","v":""}]
["","","",null,null,null,null,null,"","","",null,"",null,"","","","","","","","","","","","","","","","","","","","","","","","",{"$f":"IF($L122=\"\",\"\",IF(AND($L122>=Sheet1!$F$2,'Pupil List'!$L122<Sheet1!$G$2),Sheet1!$A$2,\"\"))","v":""},{"$f":"IF($L122=\"\",\"\",IF(AND($L122>=Sheet1!$F$3,'Pupil List'!$L122<Sheet1!$G$3),Sheet1!$A$3,\"\"))","v":""},{"$f":"IF($L122=\"\",\"\",IF(AND($L122>=Sheet1!$F$4,'Pupil List'!$L122<Sheet1!$G$4),Sheet1!$A$4,\"\"))","v":""},{"$f":"IF($L122=\"\",\"\",IF(AND($L122>=Sheet1!$F$5,'Pupil List'!$L122<Sheet1!$G$5),Sheet1!$A$5,\"\"))","v":""},{"$f":"IF($L122=\"\",\"\",IF(AND($L122>=Sheet1!$F$6,'Pupil List'!$L122<Sheet1!$G$6),Sheet1!$A$6,\"\"))","v":""},{"$f":"IF($L122=\"\",\"\",IF(AND($L122>=Sheet1!$F$7,'Pupil List'!$L122<Sheet1!$G$7),Sheet1!$A$7,\"\"))","v":""},{"$f":"IF($L122=\"\",\"\",IF(AND($L122>=Sheet1!$F$8,'Pupil List'!$L122<Sheet1!$G$8),Sheet1!$A$8,\"\"))","v":""},{"$f":"IF($L122=\"\",\"\",IF(AND($L122>=Sheet1!$F$9,'Pupil List'!$L122<Sheet1!$G$9),Sheet1!$A$9,\"\"))","v":""},{"$f":"IF($L122=\"\",\"\",IF(AND($L122>=Sheet1!$F$10,'Pupil List'!$L122<Sheet1!$G$10),Sheet1!$A$10,\"\"))","v":""},{"$f":"IF($L122=\"\",\"\",IF(AND($L122>=Sheet1!$F$11,'Pupil List'!$L122<Sheet1!$G$11),Sheet1!$A$11,\"\"))","v":""},{"$f":"IF($L122=\"\",\"\",IF(AND($L122>=Sheet1!$F$12,'Pupil List'!$L122<Sheet1!$G$12),Sheet1!$A$12,\"\"))","v":""},{"$f":"IF($L122=\"\",\"\",IF(AND($L122>=Sheet1!$F$13,'Pupil List'!$L122<Sheet1!$G$13),Sheet1!$A$13,\"\"))","v":""},{"$f":"IF($L122=\"\",\"\",IF(AND($L122>=Sheet1!$F$14,'Pupil List'!$L122<Sheet1!$G$14),Sheet1!$A$14,\"\"))","v":""},{"$f":"IF($L122=\"\",\"\",IF(AND($L122>=Sheet1!$F$15,'Pupil List'!$L122<Sheet1!$G$15),Sheet1!$A$15,\"\"))","v":""},{"$f":"IF($L122=\"\",\"\",IF(AND($L122>=Sheet1!$F$16,'Pupil List'!$L122<Sheet1!$G$16),Sheet1!$A$16,\"\"))","v":""},{"$f":"IF($L122=\"\",\"\",IF(AND($L122>=Sheet1!$F$17,'Pupil List'!$L122<Sheet1!$G$17),Sheet1!$A$17,\"\"))","v":""},{"$f":"IF($L122=\"\",\"\",IF(AND($L122>=Sheet1!$F$18,'Pupil List'!$L122<Sheet1!$G$18),Sheet1!$A$18,\"\"))","v":""},{"$f":"IF($L122=\"\",\"\",IF(AND($L122>=Sheet1!$F$19,'Pupil List'!$L122<Sheet1!$G$19),Sheet1!$A$19,\"\"))","v":""},{"$f":"IF($L122=\"\",\"\",IF(AND($L122>=Sheet1!$F$20,'Pupil List'!$L122<Sheet1!$G$20),Sheet1!$A$20,\"\"))","v":""},{"$f":"IF($L122=\"\",\"\",IF(AND($L122>=Sheet1!$F$21,'Pupil List'!$L122<Sheet1!$G$21),Sheet1!$A$21,\"\"))","v":""},{"$f":"IF($L122=\"\",\"\",IF(AND($L122>=Sheet1!$F$22,'Pupil List'!$L122<Sheet1!$G$22),Sheet1!$A$22,\"\"))","v":""},{"$f":"IF($L122=\"\",\"\",IF(AND($L122>=Sheet1!$F$23,'Pupil List'!$L122<Sheet1!$G$23),Sheet1!$A$23,\"\"))","v":""},{"$f":"IF($L122=\"\",\"\",IF(AND($L122>=Sheet1!$F$24,'Pupil List'!$L122<Sheet1!$G$24),Sheet1!$A$24,\"\"))","v":""},{"$f":"IF($L122=\"\",\"\",IF(AND($L122>=Sheet1!$F$25,'Pupil List'!$L122<Sheet1!$G$25),Sheet1!$A$25,\"\"))","v":""},{"$error":"#N/A"},{"$f":"IFERROR(VLOOKUP(BK122,Sheet1!$A$2:$E$25,3,FALSE),\"\")","v":""},{"$f":"IFERROR(VLOOKUP(BK122,Sheet1!$A$2:$E$25,4,FALSE),\"\")","v":""},{"$f":"IFERROR(VLOOKUP(BK122,Sheet1!$A$2:$E$25,5,FALSE),\"\")","v":""},{"$f":"IFERROR(VLOOKUP(N122,Sheet1!$A$29:$B$38,2,FALSE),\"\")","v":""}]
["","","",null,null,null,null,null,"","","",null,"",null,"","","","","","","","","","","","","","","","","","","","","","","","",{"$f":"IF($L123=\"\",\"\",IF(AND($L123>=Sheet1!$F$2,'Pupil List'!$L123<Sheet1!$G$2),Sheet1!$A$2,\"\"))","v":""},{"$f":"IF($L123=\"\",\"\",IF(AND($L123>=Sheet1!$F$3,'Pupil List'!$L123<Sheet1!$G$3),Sheet1!$A$3,\"\"))","v":""},{"$f":"IF($L123=\"\",\"\",IF(AND($L123>=Sheet1!$F$4,'Pupil List'!$L123<Sheet1!$G$4),Sheet1!$A$4,\"\"))","v":""},{"$f":"IF($L123=\"\",\"\",IF(AND($L123>=Sheet1!$F$5,'Pupil List'!$L123<Sheet1!$G$5),Sheet1!$A$5,\"\"))","v":""},{"$f":"IF($L123=\"\",\"\",IF(AND($L123>=Sheet1!$F$6,'Pupil List'!$L123<Sheet1!$G$6),Sheet1!$A$6,\"\"))","v":""},{"$f":"IF($L123=\"\",\"\",IF(AND($L123>=Sheet1!$F$7,'Pupil List'!$L123<Sheet1!$G$7),Sheet1!$A$7,\"\"))","v":""},{"$f":"IF($L123=\"\",\"\",IF(AND($L123>=Sheet1!$F$8,'Pupil List'!$L123<Sheet1!$G$8),Sheet1!$A$8,\"\"))","v":""},{"$f":"IF($L123=\"\",\"\",IF(AND($L123>=Sheet1!$F$9,'Pupil List'!$L123<Sheet1!$G$9),Sheet1!$A$9,\"\"))","v":""},{"$f":"IF($L123=\"\",\"\",IF(AND($L123>=Sheet1!$F$10,'Pupil List'!$L123<Sheet1!$G$10),Sheet1!$A$10,\"\"))","v":""},{"$f":"IF($L123=\"\",\"\",IF(AND($L123>=Sheet1!$F$11,'Pupil List'!$L123<Sheet1!$G$11),Sheet1!$A$11,\"\"))","v":""},{"$f":"IF($L123=\"\",\"\",IF(AND($L123>=Sheet1!$F$12,'Pupil List'!$L123<Sheet1!$G$12),Sheet1!$A$12,\"\"))","v":""},{"$f":"IF($L123=\"\",\"\",IF(AND($L123>=Sheet1!$F$13,'Pupil List'!$L123<Sheet1!$G$13),Sheet1!$A$13,\"\"))","v":""},{"$f":"IF($L123=\"\",\"\",IF(AND($L123>=Sheet1!$F$14,'Pupil List'!$L123<Sheet1!$G$14),Sheet1!$A$14,\"\"))","v":""},{"$f":"IF($L123=\"\",\"\",IF(AND($L123>=Sheet1!$F$15,'Pupil List'!$L123<Sheet1!$G$15),Sheet1!$A$15,\"\"))","v":""},{"$f":"IF($L123=\"\",\"\",IF(AND($L123>=Sheet1!$F$16,'Pupil List'!$L123<Sheet1!$G$16),Sheet1!$A$16,\"\"))","v":""},{"$f":"IF($L123=\"\",\"\",IF(AND($L123>=Sheet1!$F$17,'Pupil List'!$L123<Sheet1!$G$17),Sheet1!$A$17,\"\"))","v":""},{"$f":"IF($L123=\"\",\"\",IF(AND($L123>=Sheet1!$F$18,'Pupil List'!$L123<Sheet1!$G$18),Sheet1!$A$18,\"\"))","v":""},{"$f":"IF($L123=\"\",\"\",IF(AND($L123>=Sheet1!$F$19,'Pupil List'!$L123<Sheet1!$G$19),Sheet1!$A$19,\"\"))","v":""},{"$f":"IF($L123=\"\",\"\",IF(AND($L123>=Sheet1!$F$20,'Pupil List'!$L123<Sheet1!$G$20),Sheet1!$A$20,\"\"))","v":""},{"$f":"IF($L123=\"\",\"\",IF(AND($L123>=Sheet1!$F$21,'Pupil List'!$L123<Sheet1!$G$21),Sheet1!$A$21,\"\"))","v":""},{"$f":"IF($L123=\"\",\"\",IF(AND($L123>=Sheet1!$F$22,'Pupil List'!$L123<Sheet1!$G$22),Sheet1!$A$22,\"\"))","v":""},{"$f":"IF($L123=\"\",\"\",IF(AND($L123>=Sheet1!$F$23,'Pupil List'!$L123<Sheet1!$G$23),Sheet1!$A$23,\"\"))","v":""},{"$f":"IF($L123=\"\",\"\",IF(AND($L123>=Sheet1!$F$24,'Pupil List'!$L123<Sheet1!$G$24),Sheet1!$A$24,\"\"))","v":""},{"$f":"IF($L123=\"\",\"\",IF(AND($L123>=Sheet1!$F$25,'Pupil List'!$L123<Sheet1!$G$25),Sheet1!$A$25,\"\"))","v":""},{"$error":"#N/A"},{"$f":"IFERROR(VLOOKUP(BK123,Sheet1!$A$2:$E$25,3,FALSE),\"\")","v":""},{"$f":"IFERROR(VLOOKUP(BK123,Sheet1!$A$2:$E$25,4,FALSE),\"\")","v":""},{"$f":"IFERROR(VLOOKUP(BK123,Sheet1!$A$2:$E$25,5,FALSE),\"\")","v":""},{"$f":"IFERROR(VLOOKUP(N123,Sheet1!$A$29:$B$38,2,FALSE),\"\")","v":""}]
["","","",null,null,null,null,null,"","","",null,"",null,"","","","","","","","","","","","","","","","","","","","","","","","",{"$f":"IF($L124=\"\",\"\",IF(AND($L124>=Sheet1!$F$2,'Pupil List'!$L124<Sheet1!$G$2),Sheet1!$A$2,\"\"))","v":""},{"$f":"IF($L124=\"\",\"\",IF(AND($L124>=Sheet1!$F$3,'Pupil List'!$L124<Sheet1!$G$3),Sheet1!$A$3,\"\"))","v":""},{"$f":"IF($L124=\"\",\"\",IF(AND($L124>=Sheet1!$F$4,'Pupil List'!$L124<Sheet1!$G$4),Sheet1!$A$4,\"\"))","v":""},{"$f":"IF($L124=\"\",\"\",IF(AND($L124>=Sheet1!$F$5,'Pupil List'!$L124<Sheet1!$G$5),Sheet1!$A$5,\"\"))","v":""},{"$f":"IF($L124=\"\",\"\",IF(AND($L124>=Sheet1!$F$6,'Pupil List'!$L124<Sheet1!$G$6),Sheet1!$A$6,\"\"))","v":""},{"$f":"IF($L124=\"\",\"\",IF(AND($L124>=Sheet1!$F$7,'Pupil List'!$L124<Sheet1!$G$7),Sheet1!$A$7,\"\"))","v":""},{"$f":"IF($L124=\"\",\"\",IF(AND($L124>=Sheet1!$F$8,'Pupil List'!$L124<Sheet1!$G$8),Sheet1!$A$8,\"\"))","v":""},{"$f":"IF($L124=\"\",\"\",IF(AND($L124>=Sheet1!$F$9,'Pupil List'!$L124<Sheet1!$G$9),Sheet1!$A$9,\"\"))","v":""},{"$f":"IF($L124=\"\",\"\",IF(AND($L124>=Sheet1!$F$10,'Pupil List'!$L124<Sheet1!$G$10),Sheet1!$A$10,\"\"))","v":""},{"$f":"IF($L124=\"\",\"\",IF(AND($L124>=Sheet1!$F$11,'Pupil List'!$L124<Sheet1!$G$11),Sheet1!$A$11,\"\"))","v":""},{"$f":"IF($L124=\"\",\"\",IF(AND($L124>=Sheet1!$F$12,'Pupil List'!$L124<Sheet1!$G$12),Sheet1!$A$12,\"\"))","v":""},{"$f":"IF($L124=\"\",\"\",IF(AND($L124>=Sheet1!$F$13,'Pupil List'!$L124<Sheet1!$G$13),Sheet1!$A$13,\"\"))","v":""},{"$f":"IF($L124=\"\",\"\",IF(AND($L124>=Sheet1!$F$14,'Pupil List'!$L124<Sheet1!$G$14),Sheet1!$A$14,\"\"))","v":""},{"$f":"IF($L124=\"\",\"\",IF(AND($L124>=Sheet1!$F$15,'Pupil List'!$L124<Sheet1!$G$15),Sheet1!$A$15,\"\"))","v":""},{"$f":"IF($L124=\"\",\"\",IF(AND($L124>=Sheet1!$F$16,'Pupil List'!$L124<Sheet1!$G$16),Sheet1!$A$16,\"\"))","v":""},{"$f":"IF($L124=\"\",\"\",IF(AND($L124>=Sheet1!$F$17,'Pupil List'!$L124<Sheet1!$G$17),Sheet1!$A$17,\"\"))","v":""},{"$f":"IF($L124=\"\",\"\",IF(AND($L124>=Sheet1!$F$18,'Pupil List'!$L124<Sheet1!$G$18),Sheet1!$A$18,\"\"))","v":""},{"$f":"IF($L124=\"\",\"\",IF(AND($L124>=Sheet1!$F$19,'Pupil List'!$L124<Sheet1!$G$19),Sheet1!$A$19,\"\"))","v":""},{"$f":"IF($L124=\"\",\"\",IF(AND($L124>=Sheet1!$F$20,'Pupil List'!$L124<Sheet1!$G$20),Sheet1!$A$20,\"\"))","v":""},{"$f":"IF($L124=\"\",\"\",IF(AND($L124>=Sheet1!$F$21,'Pupil List'!$L124<Sheet1!$G$21),Sheet1!$A$21,\"\"))","v":""},{"$f":"IF($L124=\"\",\"\",IF(AND($L124>=Sheet1!$F$22,'Pupil List'!$L124<Sheet1!$G$22),Sheet1!$A$22,\"\"))","v":""},{"$f":"IF($L124=\"\",\"\",IF(AND($L124>=Sheet1!$F$23,'Pupil List'!$L124<Sheet1!$G$23),Sheet1!$A$23,\"\"))","v":""},{"$f":"IF($L124=\"\",\"\",IF(AND($L124>=Sheet1!$F$24,'Pupil List'!$L124<Sheet1!$G$24),Sheet1!$A$24,\"\"))","v":""},{"$f":"IF($L124=\"\",\"\",IF(AND($L124>=Sheet1!$F$25,'Pupil List'!$L124<Sheet1!$G$25),Sheet1!$A$25,\"\"))","v":""},{"$error":"#N/A"},{"$f":"IFERROR(VLOOKUP(BK124,Sheet1!$A$2:$E$25,3,FALSE),\"\")","v":""},{"$f":"IFERROR(VLOOKUP(BK124,Sheet1!$A$2:$E$25,4,FALSE),\"\")","v":""},{"$f":"IFERROR(VLOOKUP(BK124,Sheet1!$A$2:$E$25,5,FALSE),\"\")","v":""},{"$f":"IFERROR(VLOOKUP(N124,Sheet1!$A$29:$B$38,2,FALSE),\"\")","v":""}]
["","","",null,null,null,null,null,"","","",null,"",null,"","","","","","","","","","","","","","","","","","","","","","","","",{"$f":"IF($L125=\"\",\"\",IF(AND($L125>=Sheet1!$F$2,'Pupil List'!$L125<Sheet1!$G$2),Sheet1!$A$2,\"\"))","v":""},{"$f":"IF($L125=\"\",\"\",IF(AND($L125>=Sheet1!$F$3,'Pupil List'!$L125<Sheet1!$G$3),Sheet1!$A$3,\"\"))","v":""},{"$f":"IF($L125=\"\",\"\",IF(AND($L125>=Sheet1!$F$4,'Pupil List'!$L125<Sheet1!$G$4),Sheet1!$A$4,\"\"))","v":""},{"$f":"IF($L125=\"\",\"\",IF(AND($L125>=Sheet1!$F$5,'Pupil List'!$L125<Sheet1!$G$5),Sheet1!$A$5,\"\"))","v":""},{"$f":"IF($L125=\"\",\"\",IF(AND($L125>=Sheet1!$F$6,'Pupil List'!$L125<Sheet1!$G$6),Sheet1!$A$6,\"\"))","v":""},{"$f":"IF($L125=\"\",\"\",IF(AND($L125>=Sheet1!$F$7,'Pupil List'!$L125<Sheet1!$G$7),Sheet1!$A$7,\"\"))","v":""},{"$f":"IF($L125=\"\",\"\",IF(AND($L125>=Sheet1!$F$8,'Pupil List'!$L125<Sheet1!$G$8),Sheet1!$A$8,\"\"))","v":""},{"$f":"IF($L125=\"\",\"\",IF(AND($L125>=Sheet1!$F$9,'Pupil List'!$L125<Sheet1!$G$9),Sheet1!$A$9,\"\"))","v":""},{"$f":"IF($L125=\"\",\"\",IF(AND($L125>=Sheet1!$F$10,'Pupil List'!$L125<Sheet1!$G$10),Sheet1!$A$10,\"\"))","v":""},{"$f":"IF($L125=\"\",\"\",IF(AND($L125>=Sheet1!$F$11,'Pupil List'!$L125<Sheet1!$G$11),Sheet1!$A$11,\"\"))","v":""},{"$f":"IF($L125=\"\",\"\",IF(AND($L125>=Sheet1!$F$12,'Pupil List'!$L125<Sheet1!$G$12),Sheet1!$A$12,\"\"))","v":""},{"$f":"IF($L125=\"\",\"\",IF(AND($L125>=Sheet1!$F$13,'Pupil List'!$L125<Sheet1!$G$13),Sheet1!$A$13,\"\"))","v":""},{"$f":"IF($L125=\"\",\"\",IF(AND($L125>=Sheet1!$F$14,'Pupil List'!$L125<Sheet1!$G$14),Sheet1!$A$14,\"\"))","v":""},{"$f":"IF($L125=\"\",\"\",IF(AND($L125>=Sheet1!$F$15,'Pupil List'!$L125<Sheet1!$G$15),Sheet1!$A$15,\"\"))","v":""},{"$f":"IF($L125=\"\",\"\",IF(AND($L125>=Sheet1!$F$16,'Pupil List'!$L125<Sheet1!$G$16),Sheet1!$A$16,\"\"))","v":""},{"$f":"IF($L125=\"\",\"\",IF(AND($L125>=Sheet1!$F$17,'Pupil List'!$L125<Sheet1!$G$17),Sheet1!$A$17,\"\"))","v":""},{"$f":"IF($L125=\"\",\"\",IF(AND($L125>=Sheet1!$F$18,'Pupil List'!$L125<Sheet1!$G$18),Sheet1!$A$18,\"\"))","v":""},{"$f":"IF($L125=\"\",\"\",IF(AND($L125>=Sheet1!$F$19,'Pupil List'!$L125<Sheet1!$G$19),Sheet1!$A$19,\"\"))","v":""},{"$f":"IF($L125=\"\",\"\",IF(AND($L125>=Sheet1!$F$20,'Pupil List'!$L125<Sheet1!$G$20),Sheet1!$A$20,\"\"))","v":""},{"$f":"IF($L125=\"\",\"\",IF(AND($L125>=Sheet1!$F$21,'Pupil List'!$L125<Sheet1!$G$21),Sheet1!$A$21,\"\"))","v":""},{"$f":"IF($L125=\"\",\"\",IF(AND($L125>=Sheet1!$F$22,'Pupil List'!$L125<Sheet1!$G$22),Sheet1!$A$22,\"\"))","v":""},{"$f":"IF($L125=\"\",\"\",IF(AND($L125>=Sheet1!$F$23,'Pupil List'!$L125<Sheet1!$G$23),Sheet1!$A$23,\"\"))","v":""},{"$f":"IF($L125=\"\",\"\",IF(AND($L125>=Sheet1!$F$24,'Pupil List'!$L125<Sheet1!$G$24),Sheet1!$A$24,\"\"))","v":""},{"$f":"IF($L125=\"\",\"\",IF(AND($L125>=Sheet1!$F$25,'Pupil List'!$L125<Sheet1!$G$25),Sheet1!$A$25,\"\"))","v":""},{"$error":"#N/A"},{"$f":"IFERROR(VLOOKUP(BK125,Sheet1!$A$2:$E$25,3,FALSE),\"\")","v":""},{"$f":"IFERROR(VLOOKUP(BK125,Sheet1!$A$2:$E$25,4,FALSE),\"\")","v":""},{"$f":"IFERROR(VLOOKUP(BK125,Sheet1!$A$2:$E$25,5,FALSE),\"\")","v":""},{"$f":"IFERROR(VLOOKUP(N125,Sheet1!$A$29:$B$38,2,FALSE),\"\")","v":""}]
["","","",null,null,null,null,null,"","","",null,"",null,"","","","","","","","","","","","","","","","","","","","","","","","",{"$f":"IF($L126=\"\",\"\",IF(AND($L126>=Sheet1!$F$2,'Pupil List'!$L126<Sheet1!$G$2),Sheet1!$A$2,\"\"))","v":""},{"$f":"IF($L126=\"\",\"\",IF(AND($L126>=Sheet1!$F$3,'Pupil List'!$L126<Sheet1!$G$3),Sheet1!$A$3,\"\"))","v":""},{"$f":"IF($L126=\"\",\"\",IF(AND($L126>=Sheet1!$F$4,'Pupil List'!$L126<Sheet1!$G$4),Sheet1!$A$4,\"\"))","v":""},{"$f":"IF($L126=\"\",\"\",IF(AND($L126>=Sheet1!$F$5,'Pupil List'!$L126<Sheet1!$G$5),Sheet1!$A$5,\"\"))","v":""},{"$f":"IF($L126=\"\",\"\",IF(AND($L126>=Sheet1!$F$6,'Pupil List'!$L126<Sheet1!$G$6),Sheet1!$A$6,\"\"))","v":""},{"$f":"IF($L126=\"\",\"\",IF(AND($L126>=Sheet1!$F$7,'Pupil List'!$L126<Sheet1!$G$7),Sheet1!$A$7,\"\"))","v":""},{"$f":"IF($L126=\"\",\"\",IF(AND($L126>=Sheet1!$F$8,'Pupil List'!$L126<Sheet1!$G$8),Sheet1!$A$8,\"\"))","v":""},{"$f":"IF($L126=\"\",\"\",IF(AND($L126>=Sheet1!$F$9,'Pupil List'!$L126<Sheet1!$G$9),Sheet1!$A$9,\"\"))","v":""},{"$f":"IF($L126=\"\",\"\",IF(AND($L126>=Sheet1!$F$10,'Pupil List'!$L126<Sheet1!$G$10),Sheet1!$A$10,\"\"))","v":""},{"$f":"IF($L126=\"\",\"\",IF(AND($L126>=Sheet1!$F$11,'Pupil List'!$L126<Sheet1!$G$11),Sheet1!$A$11,\"\"))","v":""},{"$f":"IF($L126=\"\",\"\",IF(AND($L126>=Sheet1!$F$12,'Pupil List'!$L126<Sheet1!$G$12),Sheet1!$A$12,\"\"))","v":""},{"$f":"IF($L126=\"\",\"\",IF(AND($L126>=Sheet1!$F$13,'Pupil List'!$L126<Sheet1!$G$13),Sheet1!$A$13,\"\"))","v":""},{"$f":"IF($L126=\"\",\"\",IF(AND($L126>=Sheet1!$F$14,'Pupil List'!$L126<Sheet1!$G$14),Sheet1!$A$14,\"\"))","v":""},{"$f":"IF($L126=\"\",\"\",IF(AND($L126>=Sheet1!$F$15,'Pupil List'!$L126<Sheet1!$G$15),Sheet1!$A$15,\"\"))","v":""},{"$f":"IF($L126=\"\",\"\",IF(AND($L126>=Sheet1!$F$16,'Pupil List'!$L126<Sheet1!$G$16),Sheet1!$A$16,\"\"))","v":""},{"$f":"IF($L126=\"\",\"\",IF(AND($L126>=Sheet1!$F$17,'Pupil List'!$L126<Sheet1!$G$17),Sheet1!$A$17,\"\"))","v":""},{"$f":"IF($L126=\"\",\"\",IF(AND($L126>=Sheet1!$F$18,'Pupil List'!$L126<Sheet1!$G$18),Sheet1!$A$18,\"\"))","v":""},{"$f":"IF($L126=\"\",\"\",IF(AND($L126>=Sheet1!$F$19,'Pupil List'!$L126<Sheet1!$G$19),Sheet1!$A$19,\"\"))","v":""},{"$f":"IF($L126=\"\",\"\",IF(AND($L126>=Sheet1!$F$20,'Pupil List'!$L126<Sheet1!$G$20),Sheet1!$A$20,\"\"))","v":""},{"$f":"IF($L126=\"\",\"\",IF(AND($L126>=Sheet1!$F$21,'Pupil List'!$L126<Sheet1!$G$21),Sheet1!$A$21,\"\"))","v":""},{"$f":"IF($L126=\"\",\"\",IF(AND($L126>=Sheet1!$F$22,'Pupil List'!$L126<Sheet1!$G$22),Sheet1!$A$22,\"\"))","v":""},{"$f":"IF($L126=\"\",\"\",IF(AND($L126>=Sheet1!$F$23,'Pupil List'!$L126<Sheet1!$G$23),Sheet1!$A$23,\"\"))","v":""},{"$f":"IF($L126=\"\",\"\",IF(AND($L126>=Sheet1!$F$24,'Pupil List'!$L126<Sheet1!$G$24),Sheet1!$A$24,\"\"))","v":""},{"$f":"IF($L126=\"\",\"\",IF(AND($L126>=Sheet1!$F$25,'Pupil List'!$L126<Sheet1!$G$25),Sheet1!$A$25,\"\"))","v":""},{"$error":"#N/A"},{"$f":"IFERROR(VLOOKUP(BK126,Sheet1!$A$2:$E$25,3,FALSE),\"\")","v":""},{"$f":"IFERROR(VLOOKUP(BK126,Sheet1!$A$2:$E$25,4,FALSE),\"\")","v":""},{"$f":"IFERROR(VLOOKUP(BK126,Sheet1!$A$2:$E$25,5,FALSE),\"\")","v":""},{"$f":"IFERROR(VLOOKUP(N126,Sheet1!$A$29:$B$38,2,FALSE),\"\")","v":""}]
["","","",null,null,null,null,null,"","","",null,"",null,"","","","","","","","","","","","","","","","","","","","","","","","",{"$f":"IF($L127=\"\",\"\",IF(AND($L127>=Sheet1!$F$2,'Pupil List'!$L127<Sheet1!$G$2),Sheet1!$A$2,\"\"))","v":""},{"$f":"IF($L127=\"\",\"\",IF(AND($L127>=Sheet1!$F$3,'Pupil List'!$L127<Sheet1!$G$3),Sheet1!$A$3,\"\"))","v":""},{"$f":"IF($L127=\"\",\"\",IF(AND($L127>=Sheet1!$F$4,'Pupil List'!$L127<Sheet1!$G$4),Sheet1!$A$4,\"\"))","v":""},{"$f":"IF($L127=\"\",\"\",IF(AND($L127>=Sheet1!$F$5,'Pupil List'!$L127<Sheet1!$G$5),Sheet1!$A$5,\"\"))","v":""},{"$f":"IF($L127=\"\",\"\",IF(AND($L127>=Sheet1!$F$6,'Pupil List'!$L127<Sheet1!$G$6),Sheet1!$A$6,\"\"))","v":""},{"$f":"IF($L127=\"\",\"\",IF(AND($L127>=Sheet1!$F$7,'Pupil List'!$L127<Sheet1!$G$7),Sheet1!$A$7,\"\"))","v":""},{"$f":"IF($L127=\"\",\"\",IF(AND($L127>=Sheet1!$F$8,'Pupil List'!$L127<Sheet1!$G$8),Sheet1!$A$8,\"\"))","v":""},{"$f":"IF($L127=\"\",\"\",IF(AND($L127>=Sheet1!$F$9,'Pupil List'!$L127<Sheet1!$G$9),Sheet1!$A$9,\"\"))","v":""},{"$f":"IF($L127=\"\",\"\",IF(AND($L127>=Sheet1!$F$10,'Pupil List'!$L127<Sheet1!$G$10),Sheet1!$A$10,\"\"))","v":""},{"$f":"IF($L127=\"\",\"\",IF(AND($L127>=Sheet1!$F$11,'Pupil List'!$L127<Sheet1!$G$11),Sheet1!$A$11,\"\"))","v":""},{"$f":"IF($L127=\"\",\"\",IF(AND($L127>=Sheet1!$F$12,'Pupil List'!$L127<Sheet1!$G$12),Sheet1!$A$12,\"\"))","v":""},{"$f":"IF($L127=\"\",\"\",IF(AND($L127>=Sheet1!$F$13,'Pupil List'!$L127<Sheet1!$G$13),Sheet1!$A$13,\"\"))","v":""},{"$f":"IF($L127=\"\",\"\",IF(AND($L127>=Sheet1!$F$14,'Pupil List'!$L127<Sheet1!$G$14),Sheet1!$A$14,\"\"))","v":""},{"$f":"IF($L127=\"\",\"\",IF(AND($L127>=Sheet1!$F$15,'Pupil List'!$L127<Sheet1!$G$15),Sheet1!$A$15,\"\"))","v":""},{"$f":"IF($L127=\"\",\"\",IF(AND($L127>=Sheet1!$F$16,'Pupil List'!$L127<Sheet1!$G$16),Sheet1!$A$16,\"\"))","v":""},{"$f":"IF($L127=\"\",\"\",IF(AND($L127>=Sheet1!$F$17,'Pupil List'!$L127<Sheet1!$G$17),Sheet1!$A$17,\"\"))","v":""},{"$f":"IF($L127=\"\",\"\",IF(AND($L127>=Sheet1!$F$18,'Pupil List'!$L127<Sheet1!$G$18),Sheet1!$A$18,\"\"))","v":""},{"$f":"IF($L127=\"\",\"\",IF(AND($L127>=Sheet1!$F$19,'Pupil List'!$L127<Sheet1!$G$19),Sheet1!$A$19,\"\"))","v":""},{"$f":"IF($L127=\"\",\"\",IF(AND($L127>=Sheet1!$F$20,'Pupil List'!$L127<Sheet1!$G$20),Sheet1!$A$20,\"\"))","v":""},{"$f":"IF($L127=\"\",\"\",IF(AND($L127>=Sheet1!$F$21,'Pupil List'!$L127<Sheet1!$G$21),Sheet1!$A$21,\"\"))","v":""},{"$f":"IF($L127=\"\",\"\",IF(AND($L127>=Sheet1!$F$22,'Pupil List'!$L127<Sheet1!$G$22),Sheet1!$A$22,\"\"))","v":""},{"$f":"IF($L127=\"\",\"\",IF(AND($L127>=Sheet1!$F$23,'Pupil List'!$L127<Sheet1!$G$23),Sheet1!$A$23,\"\"))","v":""},{"$f":"IF($L127=\"\",\"\",IF(AND($L127>=Sheet1!$F$24,'Pupil List'!$L127<Sheet1!$G$24),Sheet1!$A$24,\"\"))","v":""},{"$f":"IF($L127=\"\",\"\",IF(AND($L127>=Sheet1!$F$25,'Pupil List'!$L127<Sheet1!$G$25),Sheet1!$A$25,\"\"))","v":""},{"$error":"#N/A"},{"$f":"IFERROR(VLOOKUP(BK127,Sheet1!$A$2:$E$25,3,FALSE),\"\")","v":""},{"$f":"IFERROR(VLOOKUP(BK127,Sheet1!$A$2:$E$25,4,FALSE),\"\")","v":""},{"$f":"IFERROR(VLOOKUP(BK127,Sheet1!$A$2:$E$25,5,FALSE),\"\")","v":""},{"$f":"IFERROR(VLOOKUP(N127,Sheet1!$A$29:$B$38,2,FALSE),\"\")","v":""}]
["","","",null,null,null,null,null,"","","",null,"",null,"","","","","","","","","","","","","","","","","","","","","","","","",{"$f":"IF($L128=\"\",\"\",IF(AND($L128>=Sheet1!$F$2,'Pupil List'!$L128<Sheet1!$G$2),Sheet1!$A$2,\"\"))","v":""},{"$f":"IF($L128=\"\",\"\",IF(AND($L128>=Sheet1!$F$3,'Pupil List'!$L128<Sheet1!$G$3),Sheet1!$A$3,\"\"))","v":""},{"$f":"IF($L128=\"\",\"\",IF(AND($L128>=Sheet1!$F$4,'Pupil List'!$L128<Sheet1!$G$4),Sheet1!$A$4,\"\"))","v":""},{"$f":"IF($L128=\"\",\"\",IF(AND($L128>=Sheet1!$F$5,'Pupil List'!$L128<Sheet1!$G$5),Sheet1!$A$5,\"\"))","v":""},{"$f":"IF($L128=\"\",\"\",IF(AND($L128>=Sheet1!$F$6,'Pupil List'!$L128<Sheet1!$G$6),Sheet1!$A$6,\"\"))","v":""},{"$f":"IF($L128=\"\",\"\",IF(AND($L128>=Sheet1!$F$7,'Pupil List'!$L128<Sheet1!$G$7),Sheet1!$A$7,\"\"))","v":""},{"$f":"IF($L128=\"\",\"\",IF(AND($L128>=Sheet1!$F$8,'Pupil List'!$L128<Sheet1!$G$8),Sheet1!$A$8,\"\"))","v":""},{"$f":"IF($L128=\"\",\"\",IF(AND($L128>=Sheet1!$F$9,'Pupil List'!$L128<Sheet1!$G$9),Sheet1!$A$9,\"\"))","v":""},{"$f":"IF($L128=\"\",\"\",IF(AND($L128>=Sheet1!$F$10,'Pupil List'!$L128<Sheet1!$G$10),Sheet1!$A$10,\"\"))","v":""},{"$f":"IF($L128=\"\",\"\",IF(AND($L128>=Sheet1!$F$11,'Pupil List'!$L128<Sheet1!$G$11),Sheet1!$A$11,\"\"))","v":""},{"$f":"IF($L128=\"\",\"\",IF(AND($L128>=Sheet1!$F$12,'Pupil List'!$L128<Sheet1!$G$12),Sheet1!$A$12,\"\"))","v":""},{"$f":"IF($L128=\"\",\"\",IF(AND($L128>=Sheet1!$F$13,'Pupil List'!$L128<Sheet1!$G$13),Sheet1!$A$13,\"\"))","v":""},{"$f":"IF($L128=\"\",\"\",IF(AND($L128>=Sheet1!$F$14,'Pupil List'!$L128<Sheet1!$G$14),Sheet1!$A$14,\"\"))","v":""},{"$f":"IF($L128=\"\",\"\",IF(AND($L128>=Sheet1!$F$15,'Pupil List'!$L128<Sheet1!$G$15),Sheet1!$A$15,\"\"))","v":""},{"$f":"IF($L128=\"\",\"\",IF(AND($L128>=Sheet1!$F$16,'Pupil List'!$L128<Sheet1!$G$16),Sheet1!$A$16,\"\"))","v":""},{"$f":"IF($L128=\"\",\"\",IF(AND($L128>=Sheet1!$F$17,'Pupil List'!$L128<Sheet1!$G$17),Sheet1!$A$17,\"\"))","v":""},{"$f":"IF($L128=\"\",\"\",IF(AND($L128>=Sheet1!$F$18,'Pupil List'!$L128<Sheet1!$G$18),Sheet1!$A$18,\"\"))","v":""},{"$f":"IF($L128=\"\",\"\",IF(AND($L128>=Sheet1!$F$19,'Pupil List'!$L128<Sheet1!$G$19),Sheet1!$A$19,\"\"))","v":""},{"$f":"IF($L128=\"\",\"\",IF(AND($L128>=Sheet1!$F$20,'Pupil List'!$L128<Sheet1!$G$20),Sheet1!$A$20,\"\"))","v":""},{"$f":"IF($L128=\"\",\"\",IF(AND($L128>=Sheet1!$F$21,'Pupil List'!$L128<Sheet1!$G$21),Sheet1!$A$21,\"\"))","v":""},{"$f":"IF($L128=\"\",\"\",IF(AND($L128>=Sheet1!$F$22,'Pupil List'!$L128<Sheet1!$G$22),Sheet1!$A$22,\"\"))","v":""},{"$f":"IF($L128=\"\",\"\",IF(AND($L128>=Sheet1!$F$23,'Pupil List'!$L128<Sheet1!$G$23),Sheet1!$A$23,\"\"))","v":""},{"$f":"IF($L128=\"\",\"\",IF(AND($L128>=Sheet1!$F$24,'Pupil List'!$L128<Sheet1!$G$24),Sheet1!$A$24,\"\"))","v":""},{"$f":"IF($L128=\"\",\"\",IF(AND($L128>=Sheet1!$F$25,'Pupil List'!$L128<Sheet1!$G$25),Sheet1!$A$25,\"\"))","v":""},{"$error":"#N/A"},{"$f":"IFERROR(VLOOKUP(BK128,Sheet1!$A$2:$E$25,3,FALSE),\"\")","v":""},{"$f":"IFERROR(VLOOKUP(BK128,Sheet1!$A$2:$E$25,4,FALSE),\"\")","v":""},{"$f":"IFERROR(VLOOKUP(BK128,Sheet1!$A$2:$E$25,5,FALSE),\"\")","v":""},{"$f":"IFERROR(VLOOKUP(N128,Sheet1!$A$29:$B$38,2,FALSE),\"\")","v":""}]
["","","",null,null,null,null,null,"","","",null,"",null,"","","","","","","","","","","","","","","","","","","","","","","","",{"$f":"IF($L129=\"\",\"\",IF(AND($L129>=Sheet1!$F$2,'Pupil List'!$L129<Sheet1!$G$2),Sheet1!$A$2,\"\"))","v":""},{"$f":"IF($L129=\"\",\"\",IF(AND($L129>=Sheet1!$F$3,'Pupil List'!$L129<Sheet1!$G$3),Sheet1!$A$3,\"\"))","v":""},{"$f":"IF($L129=\"\",\"\",IF(AND($L129>=Sheet1!$F$4,'Pupil List'!$L129<Sheet1!$G$4),Sheet1!$A$4,\"\"))","v":""},{"$f":"IF($L129=\"\",\"\",IF(AND($L129>=Sheet1!$F$5,'Pupil List'!$L129<Sheet1!$G$5),Sheet1!$A$5,\"\"))","v":""},{"$f":"IF($L129=\"\",\"\",IF(AND($L129>=Sheet1!$F$6,'Pupil List'!$L129<Sheet1!$G$6),Sheet1!$A$6,\"\"))","v":""},{"$f":"IF($L129=\"\",\"\",IF(AND($L129>=Sheet1!$F$7,'Pupil List'!$L129<Sheet1!$G$7),Sheet1!$A$7,\"\"))","v":""},{"$f":"IF($L129=\"\",\"\",IF(AND($L129>=Sheet1!$F$8,'Pupil List'!$L129<Sheet1!$G$8),Sheet1!$A$8,\"\"))","v":""},{"$f":"IF($L129=\"\",\"\",IF(AND($L129>=Sheet1!$F$9,'Pupil List'!$L129<Sheet1!$G$9),Sheet1!$A$9,\"\"))","v":""},{"$f":"IF($L129=\"\",\"\",IF(AND($L129>=Sheet1!$F$10,'Pupil List'!$L129<Sheet1!$G$10),Sheet1!$A$10,\"\"))","v":""},{"$f":"IF($L129=\"\",\"\",IF(AND($L129>=Sheet1!$F$11,'Pupil List'!$L129<Sheet1!$G$11),Sheet1!$A$11,\"\"))","v":""},{"$f":"IF($L129=\"\",\"\",IF(AND($L129>=Sheet1!$F$12,'Pupil List'!$L129<Sheet1!$G$12),Sheet1!$A$12,\"\"))","v":""},{"$f":"IF($L129=\"\",\"\",IF(AND($L129>=Sheet1!$F$13,'Pupil List'!$L129<Sheet1!$G$13),Sheet1!$A$13,\"\"))","v":""},{"$f":"IF($L129=\"\",\"\",IF(AND($L129>=Sheet1!$F$14,'Pupil List'!$L129<Sheet1!$G$14),Sheet1!$A$14,\"\"))","v":""},{"$f":"IF($L129=\"\",\"\",IF(AND($L129>=Sheet1!$F$15,'Pupil List'!$L129<Sheet1!$G$15),Sheet1!$A$15,\"\"))","v":""},{"$f":"IF($L129=\"\",\"\",IF(AND($L129>=Sheet1!$F$16,'Pupil List'!$L129<Sheet1!$G$16),Sheet1!$A$16,\"\"))","v":""},{"$f":"IF($L129=\"\",\"\",IF(AND($L129>=Sheet1!$F$17,'Pupil List'!$L129<Sheet1!$G$17),Sheet1!$A$17,\"\"))","v":""},{"$f":"IF($L129=\"\",\"\",IF(AND($L129>=Sheet1!$F$18,'Pupil List'!$L129<Sheet1!$G$18),Sheet1!$A$18,\"\"))","v":""},{"$f":"IF($L129=\"\",\"\",IF(AND($L129>=Sheet1!$F$19,'Pupil List'!$L129<Sheet1!$G$19),Sheet1!$A$19,\"\"))","v":""},{"$f":"IF($L129=\"\",\"\",IF(AND($L129>=Sheet1!$F$20,'Pupil List'!$L129<Sheet1!$G$20),Sheet1!$A$20,\"\"))","v":""},{"$f":"IF($L129=\"\",\"\",IF(AND($L129>=Sheet1!$F$21,'Pupil List'!$L129<Sheet1!$G$21),Sheet1!$A$21,\"\"))","v":""},{"$f":"IF($L129=\"\",\"\",IF(AND($L129>=Sheet1!$F$22,'Pupil List'!$L129<Sheet1!$G$22),Sheet1!$A$22,\"\"))","v":""},{"$f":"IF($L129=\"\",\"\",IF(AND($L129>=Sheet1!$F$23,'Pupil List'!$L129<Sheet1!$G$23),Sheet1!$A$23,\"\"))","v":""},{"$f":"IF($L129=\"\",\"\",IF(AND($L129>=Sheet1!$F$24,'Pupil List'!$L129<Sheet1!$G$24),Sheet1!$A$24,\"\"))","v":""},{"$f":"IF($L129=\"\",\"\",IF(AND($L129>=Sheet1!$F$25,'Pupil List'!$L129<Sheet1!$G$25),Sheet1!$A$25,\"\"))","v":""},{"$error":"#N/A"},{"$f":"IFERROR(VLOOKUP(BK129,Sheet1!$A$2:$E$25,3,FALSE),\"\")","v":""},{"$f":"IFERROR(VLOOKUP(BK129,Sheet1!$A$2:$E$25,4,FALSE),\"\")","v":""},{"$f":"IFERROR(VLOOKUP(BK129,Sheet1!$A$2:$E$25,5,FALSE),\"\")","v":""},{"$f":"IFERROR(VLOOKUP(N129,Sheet1!$A$29:$B$38,2,FALSE),\"\")","v":""}]
["","","",null,null,null,null,null,"","","",null,"",null,"","","","","","","","","","","","","","","","","","","","","","","","",{"$f":"IF($L130=\"\",\"\",IF(AND($L130>=Sheet1!$F$2,'Pupil List'!$L130<Sheet1!$G$2),Sheet1!$A$2,\"\"))","v":""},{"$f":"IF($L130=\"\",\"\",IF(AND($L130>=Sheet1!$F$3,'Pupil List'!$L130<Sheet1!$G$3),Sheet1!$A$3,\"\"))","v":""},{"$f":"IF($L130=\"\",\"\",IF(AND($L130>=Sheet1!$F$4,'Pupil List'!$L130<Sheet1!$G$4),Sheet1!$A$4,\"\"))","v":""},{"$f":"IF($L130=\"\",\"\",IF(AND($L130>=Sheet1!$F$5,'Pupil List'!$L130<Sheet1!$G$5),Sheet1!$A$5,\"\"))","v":""},{"$f":"IF($L130=\"\",\"\",IF(AND($L130>=Sheet1!$F$6,'Pupil List'!$L130<Sheet1!$G$6),Sheet1!$A$6,\"\"))","v":""},{"$f":"IF($L130=\"\",\"\",IF(AND($L130>=Sheet1!$F$7,'Pupil List'!$L130<Sheet1!$G$7),Sheet1!$A$7,\"\"))","v":""},{"$f":"IF($L130=\"\",\"\",IF(AND($L130>=Sheet1!$F$8,'Pupil List'!$L130<Sheet1!$G$8),Sheet1!$A$8,\"\"))","v":""},{"$f":"IF($L130=\"\",\"\",IF(AND($L130>=Sheet1!$F$9,'Pupil List'!$L130<Sheet1!$G$9),Sheet1!$A$9,\"\"))","v":""},{"$f":"IF($L130=\"\",\"\",IF(AND($L130>=Sheet1!$F$10,'Pupil List'!$L130<Sheet1!$G$10),Sheet1!$A$10,\"\"))","v":""},{"$f":"IF($L130=\"\",\"\",IF(AND($L130>=Sheet1!$F$11,'Pupil List'!$L130<Sheet1!$G$11),Sheet1!$A$11,\"\"))","v":""},{"$f":"IF($L130=\"\",\"\",IF(AND($L130>=Sheet1!$F$12,'Pupil List'!$L130<Sheet1!$G$12),Sheet1!$A$12,\"\"))","v":""},{"$f":"IF($L130=\"\",\"\",IF(AND($L130>=Sheet1!$F$13,'Pupil List'!$L130<Sheet1!$G$13),Sheet1!$A$13,\"\"))","v":""},{"$f":"IF($L130=\"\",\"\",IF(AND($L130>=Sheet1!$F$14,'Pupil List'!$L130<Sheet1!$G$14),Sheet1!$A$14,\"\"))","v":""},{"$f":"IF($L130=\"\",\"\",IF(AND($L130>=Sheet1!$F$15,'Pupil List'!$L130<Sheet1!$G$15),Sheet1!$A$15,\"\"))","v":""},{"$f":"IF($L130=\"\",\"\",IF(AND($L130>=Sheet1!$F$16,'Pupil List'!$L130<Sheet1!$G$16),Sheet1!$A$16,\"\"))","v":""},{"$f":"IF($L130=\"\",\"\",IF(AND($L130>=Sheet1!$F$17,'Pupil List'!$L130<Sheet1!$G$17),Sheet1!$A$17,\"\"))","v":""},{"$f":"IF($L130=\"\",\"\",IF(AND($L130>=Sheet1!$F$18,'Pupil List'!$L130<Sheet1!$G$18),Sheet1!$A$18,\"\"))","v":""},{"$f":"IF($L130=\"\",\"\",IF(AND($L130>=Sheet1!$F$19,'Pupil List'!$L130<Sheet1!$G$19),Sheet1!$A$19,\"\"))","v":""},{"$f":"IF($L130=\"\",\"\",IF(AND($L130>=Sheet1!$F$20,'Pupil List'!$L130<Sheet1!$G$20),Sheet1!$A$20,\"\"))","v":""},{"$f":"IF($L130=\"\",\"\",IF(AND($L130>=Sheet1!$F$21,'Pupil List'!$L130<Sheet1!$G$21),Sheet1!$A$21,\"\"))","v":""},{"$f":"IF($L130=\"\",\"\",IF(AND($L130>=Sheet1!$F$22,'Pupil List'!$L130<Sheet1!$G$22),Sheet1!$A$22,\"\"))","v":""},{"$f":"IF($L130=\"\",\"\",IF(AND($L130>=Sheet1!$F$23,'Pupil List'!$L130<Sheet1!$G$23),Sheet1!$A$23,\"\"))","v":""},{"$f":"IF($L130=\"\",\"\",IF(AND($L130>=Sheet1!$F$24,'Pupil List'!$L130<Sheet1!$G$24),Sheet1!$A$24,\"\"))","v":""},{"$f":"IF($L130=\"\",\"\",IF(AND($L130>=Sheet1!$F$25,'Pupil List'!$L130<Sheet1!$G$25),Sheet1!$A$25,\"\"))","v":""},{"$error":"#N/A"},{"$f":"IFERROR(VLOOKUP(BK130,Sheet1!$A$2:$E$25,3,FALSE),\"\")","v":""},{"$f":"IFERROR(VLOOKUP(BK130,Sheet1!$A$2:$E$25,4,FALSE),\"\")","v":""},{"$f":"IFERROR(VLOOKUP(BK130,Sheet1!$A$2:$E$25,5,FALSE),\"\")","v":""},{"$f":"IFERROR(VLOOKUP(N130,Sheet1!$A$29:$B$38,2,FALSE),\"\")","v":""}]
["","","",null,null,null,null,null,"","","",null,"",null,"","","","","","","","","","","","","","","","","","","","","","","","",{"$f":"IF($L131=\"\",\"\",IF(AND($L131>=Sheet1!$F$2,'Pupil List'!$L131<Sheet1!$G$2),Sheet1!$A$2,\"\"))","v":""},{"$f":"IF($L131=\"\",\"\",IF(AND($L131>=Sheet1!$F$3,'Pupil List'!$L131<Sheet1!$G$3),Sheet1!$A$3,\"\"))","v":""},{"$f":"IF($L131=\"\",\"\",IF(AND($L131>=Sheet1!$F$4,'Pupil List'!$L131<Sheet1!$G$4),Sheet1!$A$4,\"\"))","v":""},{"$f":"IF($L131=\"\",\"\",IF(AND($L131>=Sheet1!$F$5,'Pupil List'!$L131<Sheet1!$G$5),Sheet1!$A$5,\"\"))","v":""},{"$f":"IF($L131=\"\",\"\",IF(AND($L131>=Sheet1!$F$6,'Pupil List'!$L131<Sheet1!$G$6),Sheet1!$A$6,\"\"))","v":""},{"$f":"IF($L131=\"\",\"\",IF(AND($L131>=Sheet1!$F$7,'Pupil List'!$L131<Sheet1!$G$7),Sheet1!$A$7,\"\"))","v":""},{"$f":"IF($L131=\"\",\"\",IF(AND($L131>=Sheet1!$F$8,'Pupil List'!$L131<Sheet1!$G$8),Sheet1!$A$8,\"\"))","v":""},{"$f":"IF($L131=\"\",\"\",IF(AND($L131>=Sheet1!$F$9,'Pupil List'!$L131<Sheet1!$G$9),Sheet1!$A$9,\"\"))","v":""},{"$f":"IF($L131=\"\",\"\",IF(AND($L131>=Sheet1!$F$10,'Pupil List'!$L131<Sheet1!$G$10),Sheet1!$A$10,\"\"))","v":""},{"$f":"IF($L131=\"\",\"\",IF(AND($L131>=Sheet1!$F$11,'Pupil List'!$L131<Sheet1!$G$11),Sheet1!$A$11,\"\"))","v":""},{"$f":"IF($L131=\"\",\"\",IF(AND($L131>=Sheet1!$F$12,'Pupil List'!$L131<Sheet1!$G$12),Sheet1!$A$12,\"\"))","v":""},{"$f":"IF($L131=\"\",\"\",IF(AND($L131>=Sheet1!$F$13,'Pupil List'!$L131<Sheet1!$G$13),Sheet1!$A$13,\"\"))","v":""},{"$f":"IF($L131=\"\",\"\",IF(AND($L131>=Sheet1!$F$14,'Pupil List'!$L131<Sheet1!$G$14),Sheet1!$A$14,\"\"))","v":""},{"$f":"IF($L131=\"\",\"\",IF(AND($L131>=Sheet1!$F$15,'Pupil List'!$L131<Sheet1!$G$15),Sheet1!$A$15,\"\"))","v":""},{"$f":"IF($L131=\"\",\"\",IF(AND($L131>=Sheet1!$F$16,'Pupil List'!$L131<Sheet1!$G$16),Sheet1!$A$16,\"\"))","v":""},{"$f":"IF($L131=\"\",\"\",IF(AND($L131>=Sheet1!$F$17,'Pupil List'!$L131<Sheet1!$G$17),Sheet1!$A$17,\"\"))","v":""},{"$f":"IF($L131=\"\",\"\",IF(AND($L131>=Sheet1!$F$18,'Pupil List'!$L131<Sheet1!$G$18),Sheet1!$A$18,\"\"))","v":""},{"$f":"IF($L131=\"\",\"\",IF(AND($L131>=Sheet1!$F$19,'Pupil List'!$L131<Sheet1!$G$19),Sheet1!$A$19,\"\"))","v":""},{"$f":"IF($L131=\"\",\"\",IF(AND($L131>=Sheet1!$F$20,'Pupil List'!$L131<Sheet1!$G$20),Sheet1!$A$20,\"\"))","v":""},{"$f":"IF($L131=\"\",\"\",IF(AND($L131>=Sheet1!$F$21,'Pupil List'!$L131<Sheet1!$G$21),Sheet1!$A$21,\"\"))","v":""},{"$f":"IF($L131=\"\",\"\",IF(AND($L131>=Sheet1!$F$22,'Pupil List'!$L131<Sheet1!$G$22),Sheet1!$A$22,\"\"))","v":""},{"$f":"IF($L131=\"\",\"\",IF(AND($L131>=Sheet1!$F$23,'Pupil List'!$L131<Sheet1!$G$23),Sheet1!$A$23,\"\"))","v":""},{"$f":"IF($L131=\"\",\"\",IF(AND($L131>=Sheet1!$F$24,'Pupil List'!$L131<Sheet1!$G$24),Sheet1!$A$24,\"\"))","v":""},{"$f":"IF($L131=\"\",\"\",IF(AND($L131>=Sheet1!$F$25,'Pupil List'!$L131<Sheet1!$G$25),Sheet1!$A$25,\"\"))","v":""},{"$error":"#N/A"},{"$f":"IFERROR(VLOOKUP(BK131,Sheet1!$A$2:$E$25,3,FALSE),\"\")","v":""},{"$f":"IFERROR(VLOOKUP(BK131,Sheet1!$A$2:$E$25,4,FALSE),\"\")","v":""},{"$f":"IFERROR(VLOOKUP(BK131,Sheet1!$A$2:$E$25,5,FALSE),\"\")","v":""},{"$f":"IFERROR(VLOOKUP(N131,Sheet1!$A$29:$B$38,2,FALSE),\"\")","v":""}]
["","","",null,null,null,null,null,"","","",null,"",null,"",{"$f":"IFERROR((M132-BL132),\"\")","v":""},"","",{"$f":"IF(A132=\"\",\"\",IF(C132=\"No\",\"\",IF((AND(M132>=100,M132<110)),1,0)))","v":""},{"$f":"IF(A132=\"\",\"\",IF(C132=\"No\",\"\",IF((AND(M132>=100,M132<130)),1,0)))","v":""},{"$f":"IF(A132=\"\",\"\",IF(C132=\"No\",\"\",IF((AND(M132>=110,M132<130)),1,0)))","v":""},{"$f":"IF(A132=\"\",\"\",IF(C132=\"No\",\"\",IF((AND(O132>=100,O132<110)),1,0)))","v":""},{"$f":"IF(A132=\"\",\"\",IF(C132=\"No\",\"\",IF((AND(O132>=100,O132<130)),1,0)))","v":""},{"$f":"IF(A132=\"\",\"\",IF(C132=\"No\",\"\",IF((AND(O132>=110,O132<130)),1,0)))","v":""},{"$f":"IF(A132=\"\",\"\",IF(C132=\"No\",\"\",IF(N132=\"EXS\",1,0)))","v":""},{"$f":"IF(A132=\"\",\"\",IF(C132=\"No\",\"\",IF((OR(N132=\"GDS\",N132=\"EXS\")),1,0)))","v":""},{"$f":"IF(A132=\"\",\"\",IF(C132=\"No\",\"\",IF(N132=\"GDS\",1,0)))","v":""},{"$f":"IF(A132=\"\",\"\",IF(C132=\"No\",\"\",SUM(S132+V132+Y132)))","v":""},{"$f":"IF(A132=\"\",\"\",IF(C132=\"No\",\"\",IF(AB132=3,1,0)))","v":""},{"$f":"IF(A132=\"\",\"\",IF(C132=\"No\",\"\",SUM(T132+W132+Z132)))","v":""},{"$f":"IF(A132=\"\",\"\",IF(C132=\"No\",\"\",IF(AD132=3,1,0)))","v":""},{"$f":"IF(A132=\"\",\"\",IF(C132=\"No\",\"\",SUM(U132+X132+AA132)))","v":""},{"$f":"IF(A132=\"\",\"\",IF(C132=\"No\",\"\",IF(AF132=3,1,0)))","v":""},{"$f":"IF(P132=\"\",\"\",\"Y\")","v":""},{"$f":"IF(Q132=\"\",\"\",\"Y\")","v":""},{"$f":"IF(R132=\"\",\"\",\"Y\")","v":""},{"$f":"IF(M132=\"\",\"\",\"Y\")","v":""},{"$f":"IF(O132=\"\",\"\",\"Y\")","v":""},{"$f":"IF($L132=\"\",\"\",IF(AND($L132>=Sheet1!$F$2,'Pupil List'!$L132<Sheet1!$G$2),Sheet1!$A$2,\"\"))","v":""},{"$f":"IF($L132=\"\",\"\",IF(AND($L132>=Sheet1!$F$3,'Pupil List'!$L132<Sheet1!$G$3),Sheet1!$A$3,\"\"))","v":""},{"$f":"IF($L132=\"\",\"\",IF(AND($L132>=Sheet1!$F$4,'Pupil List'!$L132<Sheet1!$G$4),Sheet1!$A$4,\"\"))","v":""},{"$f":"IF($L132=\"\",\"\",IF(AND($L132>=Sheet1!$F$5,'Pupil List'!$L132<Sheet1!$G$5),Sheet1!$A$5,\"\"))","v":""},{"$f":"IF($L132=\"\",\"\",IF(AND($L132>=Sheet1!$F$6,'Pupil List'!$L132<Sheet1!$G$6),Sheet1!$A$6,\"\"))","v":""},{"$f":"IF($L132=\"\",\"\",IF(AND($L132>=Sheet1!$F$7,'Pupil List'!$L132<Sheet1!$G$7),Sheet1!$A$7,\"\"))","v":""},{"$f":"IF($L132=\"\",\"\",IF(AND($L132>=Sheet1!$F$8,'Pupil List'!$L132<Sheet1!$G$8),Sheet1!$A$8,\"\"))","v":""},{"$f":"IF($L132=\"\",\"\",IF(AND($L132>=Sheet1!$F$9,'Pupil List'!$L132<Sheet1!$G$9),Sheet1!$A$9,\"\"))","v":""},{"$f":"IF($L132=\"\",\"\",IF(AND($L132>=Sheet1!$F$10,'Pupil List'!$L132<Sheet1!$G$10),Sheet1!$A$10,\"\"))","v":""},{"$f":"IF($L132=\"\",\"\",IF(AND($L132>=Sheet1!$F$11,'Pupil List'!$L132<Sheet1!$G$11),Sheet1!$A$11,\"\"))","v":""},{"$f":"IF($L132=\"\",\"\",IF(AND($L132>=Sheet1!$F$12,'Pupil List'!$L132<Sheet1!$G$12),Sheet1!$A$12,\"\"))","v":""},{"$f":"IF($L132=\"\",\"\",IF(AND($L132>=Sheet1!$F$13,'Pupil List'!$L132<Sheet1!$G$13),Sheet1!$A$13,\"\"))","v":""},{"$f":"IF($L132=\"\",\"\",IF(AND($L132>=Sheet1!$F$14,'Pupil List'!$L132<Sheet1!$G$14),Sheet1!$A$14,\"\"))","v":""},{"$f":"IF($L132=\"\",\"\",IF(AND($L132>=Sheet1!$F$15,'Pupil List'!$L132<Sheet1!$G$15),Sheet1!$A$15,\"\"))","v":""},{"$f":"IF($L132=\"\",\"\",IF(AND($L132>=Sheet1!$F$16,'Pupil List'!$L132<Sheet1!$G$16),Sheet1!$A$16,\"\"))","v":""},{"$f":"IF($L132=\"\",\"\",IF(AND($L132>=Sheet1!$F$17,'Pupil List'!$L132<Sheet1!$G$17),Sheet1!$A$17,\"\"))","v":""},{"$f":"IF($L132=\"\",\"\",IF(AND($L132>=Sheet1!$F$18,'Pupil List'!$L132<Sheet1!$G$18),Sheet1!$A$18,\"\"))","v":""},{"$f":"IF($L132=\"\",\"\",IF(AND($L132>=Sheet1!$F$19,'Pupil List'!$L132<Sheet1!$G$19),Sheet1!$A$19,\"\"))","v":""},{"$f":"IF($L132=\"\",\"\",IF(AND($L132>=Sheet1!$F$20,'Pupil List'!$L132<Sheet1!$G$20),Sheet1!$A$20,\"\"))","v":""},{"$f":"IF($L132=\"\",\"\",IF(AND($L132>=Sheet1!$F$21,'Pupil List'!$L132<Sheet1!$G$21),Sheet1!$A$21,\"\"))","v":""},{"$f":"IF($L132=\"\",\"\",IF(AND($L132>=Sheet1!$F$22,'Pupil List'!$L132<Sheet1!$G$22),Sheet1!$A$22,\"\"))","v":""},{"$f":"IF($L132=\"\",\"\",IF(AND($L132>=Sheet1!$F$23,'Pupil List'!$L132<Sheet1!$G$23),Sheet1!$A$23,\"\"))","v":""},{"$f":"IF($L132=\"\",\"\",IF(AND($L132>=Sheet1!$F$24,'Pupil List'!$L132<Sheet1!$G$24),Sheet1!$A$24,\"\"))","v":""},{"$f":"IF($L132=\"\",\"\",IF(AND($L132>=Sheet1!$F$25,'Pupil List'!$L132<Sheet1!$G$25),Sheet1!$A$25,\"\"))","v":""},{"$error":"#N/A"},{"$f":"IFERROR(VLOOKUP(BK132,Sheet1!$A$2:$E$25,3,FALSE),\"\")","v":""},{"$f":"IFERROR(VLOOKUP(BK132,Sheet1!$A$2:$E$25,4,FALSE),\"\")","v":""},{"$f":"IFERROR(VLOOKUP(BK132,Sheet1!$A$2:$E$25,5,FALSE),\"\")","v":""},{"$f":"IFERROR(VLOOKUP(N132,Sheet1!$A$29:$B$38,2,FALSE),\"\")","v":""}]
["","",{"$f":"IF(A133=\"\",\"\",\"Yes\")","v":""},null,null,null,null,null,"","","",null,"",null,"","",{"$f":"IFERROR((BO133-BM133),\"\")","v":""},{"$f":"IFERROR((O133-BN133),\"\")","v":""},"","","","","","","","","","","","","","","","","","","","",{"$f":"IF($L133=\"\",\"\",IF(AND($L133>=Sheet1!$F$2,'Pupil List'!$L133<Sheet1!$G$2),Sheet1!$A$2,\"\"))","v":""},{"$f":"IF($L133=\"\",\"\",IF(AND($L133>=Sheet1!$F$3,'Pupil List'!$L133<Sheet1!$G$3),Sheet1!$A$3,\"\"))","v":""},{"$f":"IF($L133=\"\",\"\",IF(AND($L133>=Sheet1!$F$4,'Pupil List'!$L133<Sheet1!$G$4),Sheet1!$A$4,\"\"))","v":""},{"$f":"IF($L133=\"\",\"\",IF(AND($L133>=Sheet1!$F$5,'Pupil List'!$L133<Sheet1!$G$5),Sheet1!$A$5,\"\"))","v":""},{"$f":"IF($L133=\"\",\"\",IF(AND($L133>=Sheet1!$F$6,'Pupil List'!$L133<Sheet1!$G$6),Sheet1!$A$6,\"\"))","v":""},{"$f":"IF($L133=\"\",\"\",IF(AND($L133>=Sheet1!$F$7,'Pupil List'!$L133<Sheet1!$G$7),Sheet1!$A$7,\"\"))","v":""},{"$f":"IF($L133=\"\",\"\",IF(AND($L133>=Sheet1!$F$8,'Pupil List'!$L133<Sheet1!$G$8),Sheet1!$A$8,\"\"))","v":""},{"$f":"IF($L133=\"\",\"\",IF(AND($L133>=Sheet1!$F$9,'Pupil List'!$L133<Sheet1!$G$9),Sheet1!$A$9,\"\"))","v":""},{"$f":"IF($L133=\"\",\"\",IF(AND($L133>=Sheet1!$F$10,'Pupil List'!$L133<Sheet1!$G$10),Sheet1!$A$10,\"\"))","v":""},{"$f":"IF($L133=\"\",\"\",IF(AND($L133>=Sheet1!$F$11,'Pupil List'!$L133<Sheet1!$G$11),Sheet1!$A$11,\"\"))","v":""},{"$f":"IF($L133=\"\",\"\",IF(AND($L133>=Sheet1!$F$12,'Pupil List'!$L133<Sheet1!$G$12),Sheet1!$A$12,\"\"))","v":""},{"$f":"IF($L133=\"\",\"\",IF(AND($L133>=Sheet1!$F$13,'Pupil List'!$L133<Sheet1!$G$13),Sheet1!$A$13,\"\"))","v":""},{"$f":"IF($L133=\"\",\"\",IF(AND($L133>=Sheet1!$F$14,'Pupil List'!$L133<Sheet1!$G$14),Sheet1!$A$14,\"\"))","v":""},{"$f":"IF($L133=\"\",\"\",IF(AND($L133>=Sheet1!$F$15,'Pupil List'!$L133<Sheet1!$G$15),Sheet1!$A$15,\"\"))","v":""},{"$f":"IF($L133=\"\",\"\",IF(AND($L133>=Sheet1!$F$16,'Pupil List'!$L133<Sheet1!$G$16),Sheet1!$A$16,\"\"))","v":""},{"$f":"IF($L133=\"\",\"\",IF(AND($L133>=Sheet1!$F$17,'Pupil List'!$L133<Sheet1!$G$17),Sheet1!$A$17,\"\"))","v":""},{"$f":"IF($L133=\"\",\"\",IF(AND($L133>=Sheet1!$F$18,'Pupil List'!$L133<Sheet1!$G$18),Sheet1!$A$18,\"\"))","v":""},{"$f":"IF($L133=\"\",\"\",IF(AND($L133>=Sheet1!$F$19,'Pupil List'!$L133<Sheet1!$G$19),Sheet1!$A$19,\"\"))","v":""},{"$f":"IF($L133=\"\",\"\",IF(AND($L133>=Sheet1!$F$20,'Pupil List'!$L133<Sheet1!$G$20),Sheet1!$A$20,\"\"))","v":""},{"$f":"IF($L133=\"\",\"\",IF(AND($L133>=Sheet1!$F$21,'Pupil List'!$L133<Sheet1!$G$21),Sheet1!$A$21,\"\"))","v":""},{"$f":"IF($L133=\"\",\"\",IF(AND($L133>=Sheet1!$F$22,'Pupil List'!$L133<Sheet1!$G$22),Sheet1!$A$22,\"\"))","v":""},{"$f":"IF($L133=\"\",\"\",IF(AND($L133>=Sheet1!$F$23,'Pupil List'!$L133<Sheet1!$G$23),Sheet1!$A$23,\"\"))","v":""},{"$f":"IF($L133=\"\",\"\",IF(AND($L133>=Sheet1!$F$24,'Pupil List'!$L133<Sheet1!$G$24),Sheet1!$A$24,\"\"))","v":""},{"$f":"IF($L133=\"\",\"\",IF(AND($L133>=Sheet1!$F$25,'Pupil List'!$L133<Sheet1!$G$25),Sheet1!$A$25,\"\"))","v":""},{"$f":"INDEX(AM133:BJ133,MATCH(TRUE,INDEX((AM133:BJ133<>\"\"),0),0))","v":{"$error":"#N/A"}},{"$f":"IFERROR(VLOOKUP(BK133,Sheet1!$A$2:$E$25,3,FALSE),\"\")","v":""},{"$f":"IFERROR(VLOOKUP(BK133,Sheet1!$A$2:$E$25,4,FALSE),\"\")","v":""},{"$f":"IFERROR(VLOOKUP(BK133,Sheet1!$A$2:$E$25,5,FALSE),\"\")","v":""},{"$f":"IFERROR(VLOOKUP(N133,Sheet1!$A$29:$B$38,2,FALSE),\"\")","v":""}]
["","","",null,null,null,null,null,{"$f":"IF(A134=\"\",\"\",\"Yes\")","v":""},{"$f":"IF(A134=\"\",\"\",\"Yes\")","v":""},{"$f":"IF(A134=\"\",\"\",\"Yes\")","v":""},null,"",null,"","","","","","","","","","","","","","","","","","","","","","","","",{"$f":"IF($L134=\"\",\"\",IF(AND($L134>=Sheet1!$F$2,'Pupil List'!$L134<Sheet1!$G$2),Sheet1!$A$2,\"\"))","v":""},{"$f":"IF($L134=\"\",\"\",IF(AND($L134>=Sheet1!$F$3,'Pupil List'!$L134<Sheet1!$G$3),Sheet1!$A$3,\"\"))","v":""},{"$f":"IF($L134=\"\",\"\",IF(AND($L134>=Sheet1!$F$4,'Pupil List'!$L134<Sheet1!$G$4),Sheet1!$A$4,\"\"))","v":""},{"$f":"IF($L134=\"\",\"\",IF(AND($L134>=Sheet1!$F$5,'Pupil List'!$L134<Sheet1!$G$5),Sheet1!$A$5,\"\"))","v":""},{"$f":"IF($L134=\"\",\"\",IF(AND($L134>=Sheet1!$F$6,'Pupil List'!$L134<Sheet1!$G$6),Sheet1!$A$6,\"\"))","v":""},{"$f":"IF($L134=\"\",\"\",IF(AND($L134>=Sheet1!$F$7,'Pupil List'!$L134<Sheet1!$G$7),Sheet1!$A$7,\"\"))","v":""},{"$f":"IF($L134=\"\",\"\",IF(AND($L134>=Sheet1!$F$8,'Pupil List'!$L134<Sheet1!$G$8),Sheet1!$A$8,\"\"))","v":""},{"$f":"IF($L134=\"\",\"\",IF(AND($L134>=Sheet1!$F$9,'Pupil List'!$L134<Sheet1!$G$9),Sheet1!$A$9,\"\"))","v":""},{"$f":"IF($L134=\"\",\"\",IF(AND($L134>=Sheet1!$F$10,'Pupil List'!$L134<Sheet1!$G$10),Sheet1!$A$10,\"\"))","v":""},{"$f":"IF($L134=\"\",\"\",IF(AND($L134>=Sheet1!$F$11,'Pupil List'!$L134<Sheet1!$G$11),Sheet1!$A$11,\"\"))","v":""},{"$f":"IF($L134=\"\",\"\",IF(AND($L134>=Sheet1!$F$12,'Pupil List'!$L134<Sheet1!$G$12),Sheet1!$A$12,\"\"))","v":""},{"$f":"IF($L134=\"\",\"\",IF(AND($L134>=Sheet1!$F$13,'Pupil List'!$L134<Sheet1!$G$13),Sheet1!$A$13,\"\"))","v":""},{"$f":"IF($L134=\"\",\"\",IF(AND($L134>=Sheet1!$F$14,'Pupil List'!$L134<Sheet1!$G$14),Sheet1!$A$14,\"\"))","v":""},{"$f":"IF($L134=\"\",\"\",IF(AND($L134>=Sheet1!$F$15,'Pupil List'!$L134<Sheet1!$G$15),Sheet1!$A$15,\"\"))","v":""},{"$f":"IF($L134=\"\",\"\",IF(AND($L134>=Sheet1!$F$16,'Pupil List'!$L134<Sheet1!$G$16),Sheet1!$A$16,\"\"))","v":""},{"$f":"IF($L134=\"\",\"\",IF(AND($L134>=Sheet1!$F$17,'Pupil List'!$L134<Sheet1!$G$17),Sheet1!$A$17,\"\"))","v":""},{"$f":"IF($L134=\"\",\"\",IF(AND($L134>=Sheet1!$F$18,'Pupil List'!$L134<Sheet1!$G$18),Sheet1!$A$18,\"\"))","v":""},{"$f":"IF($L134=\"\",\"\",IF(AND($L134>=Sheet1!$F$19,'Pupil List'!$L134<Sheet1!$G$19),Sheet1!$A$19,\"\"))","v":""},{"$f":"IF($L134=\"\",\"\",IF(AND($L134>=Sheet1!$F$20,'Pupil List'!$L134<Sheet1!$G$20),Sheet1!$A$20,\"\"))","v":""},{"$f":"IF($L134=\"\",\"\",IF(AND($L134>=Sheet1!$F$21,'Pupil List'!$L134<Sheet1!$G$21),Sheet1!$A$21,\"\"))","v":""},{"$f":"IF($L134=\"\",\"\",IF(AND($L134>=Sheet1!$F$22,'Pupil List'!$L134<Sheet1!$G$22),Sheet1!$A$22,\"\"))","v":""},{"$f":"IF($L134=\"\",\"\",IF(AND($L134>=Sheet1!$F$23,'Pupil List'!$L134<Sheet1!$G$23),Sheet1!$A$23,\"\"))","v":""},{"$f":"IF($L134=\"\",\"\",IF(AND($L134>=Sheet1!$F$24,'Pupil List'!$L134<Sheet1!$G$24),Sheet1!$A$24,\"\"))","v":""},{"$f":"IF($L134=\"\",\"\",IF(AND($L134>=Sheet1!$F$25,'Pupil List'!$L134<Sheet1!$G$25),Sheet1!$A$25,\"\"))","v":""},{"$error":"#N/A"},{"$f":"IFERROR(VLOOKUP(BK134,Sheet1!$A$2:$E$25,3,FALSE),\"\")","v":""},{"$f":"IFERROR(VLOOKUP(BK134,Sheet1!$A$2:$E$25,4,FALSE),\"\")","v":""},{"$f":"IFERROR(VLOOKUP(BK134,Sheet1!$A$2:$E$25,5,FALSE),\"\")","v":""},{"$f":"IFERROR(VLOOKUP(N134,Sheet1!$A$29:$B$38,2,FALSE),\"\")","v":""}]
["","","",null,null,null,null,null,"","","",null,"",null,"","","","","","","","","","","","","","","","","","","","","","","","",{"$f":"IF($L135=\"\",\"\",IF(AND($L135>=Sheet1!$F$2,'Pupil List'!$L135<Sheet1!$G$2),Sheet1!$A$2,\"\"))","v":""},{"$f":"IF($L135=\"\",\"\",IF(AND($L135>=Sheet1!$F$3,'Pupil List'!$L135<Sheet1!$G$3),Sheet1!$A$3,\"\"))","v":""},{"$f":"IF($L135=\"\",\"\",IF(AND($L135>=Sheet1!$F$4,'Pupil List'!$L135<Sheet1!$G$4),Sheet1!$A$4,\"\"))","v":""},{"$f":"IF($L135=\"\",\"\",IF(AND($L135>=Sheet1!$F$5,'Pupil List'!$L135<Sheet1!$G$5),Sheet1!$A$5,\"\"))","v":""},{"$f":"IF($L135=\"\",\"\",IF(AND($L135>=Sheet1!$F$6,'Pupil List'!$L135<Sheet1!$G$6),Sheet1!$A$6,\"\"))","v":""},{"$f":"IF($L135=\"\",\"\",IF(AND($L135>=Sheet1!$F$7,'Pupil List'!$L135<Sheet1!$G$7),Sheet1!$A$7,\"\"))","v":""},{"$f":"IF($L135=\"\",\"\",IF(AND($L135>=Sheet1!$F$8,'Pupil List'!$L135<Sheet1!$G$8),Sheet1!$A$8,\"\"))","v":""},{"$f":"IF($L135=\"\",\"\",IF(AND($L135>=Sheet1!$F$9,'Pupil List'!$L135<Sheet1!$G$9),Sheet1!$A$9,\"\"))","v":""},{"$f":"IF($L135=\"\",\"\",IF(AND($L135>=Sheet1!$F$10,'Pupil List'!$L135<Sheet1!$G$10),Sheet1!$A$10,\"\"))","v":""},{"$f":"IF($L135=\"\",\"\",IF(AND($L135>=Sheet1!$F$11,'Pupil List'!$L135<Sheet1!$G$11),Sheet1!$A$11,\"\"))","v":""},{"$f":"IF($L135=\"\",\"\",IF(AND($L135>=Sheet1!$F$12,'Pupil List'!$L135<Sheet1!$G$12),Sheet1!$A$12,\"\"))","v":""},{"$f":"IF($L135=\"\",\"\",IF(AND($L135>=Sheet1!$F$13,'Pupil List'!$L135<Sheet1!$G$13),Sheet1!$A$13,\"\"))","v":""},{"$f":"IF($L135=\"\",\"\",IF(AND($L135>=Sheet1!$F$14,'Pupil List'!$L135<Sheet1!$G$14),Sheet1!$A$14,\"\"))","v":""},{"$f":"IF($L135=\"\",\"\",IF(AND($L135>=Sheet1!$F$15,'Pupil List'!$L135<Sheet1!$G$15),Sheet1!$A$15,\"\"))","v":""},{"$f":"IF($L135=\"\",\"\",IF(AND($L135>=Sheet1!$F$16,'Pupil List'!$L135<Sheet1!$G$16),Sheet1!$A$16,\"\"))","v":""},{"$f":"IF($L135=\"\",\"\",IF(AND($L135>=Sheet1!$F$17,'Pupil List'!$L135<Sheet1!$G$17),Sheet1!$A$17,\"\"))","v":""},{"$f":"IF($L135=\"\",\"\",IF(AND($L135>=Sheet1!$F$18,'Pupil List'!$L135<Sheet1!$G$18),Sheet1!$A$18,\"\"))","v":""},{"$f":"IF($L135=\"\",\"\",IF(AND($L135>=Sheet1!$F$19,'Pupil List'!$L135<Sheet1!$G$19),Sheet1!$A$19,\"\"))","v":""},{"$f":"IF($L135=\"\",\"\",IF(AND($L135>=Sheet1!$F$20,'Pupil List'!$L135<Sheet1!$G$20),Sheet1!$A$20,\"\"))","v":""},{"$f":"IF($L135=\"\",\"\",IF(AND($L135>=Sheet1!$F$21,'Pupil List'!$L135<Sheet1!$G$21),Sheet1!$A$21,\"\"))","v":""},{"$f":"IF($L135=\"\",\"\",IF(AND($L135>=Sheet1!$F$22,'Pupil List'!$L135<Sheet1!$G$22),Sheet1!$A$22,\"\"))","v":""},{"$f":"IF($L135=\"\",\"\",IF(AND($L135>=Sheet1!$F$23,'Pupil List'!$L135<Sheet1!$G$23),Sheet1!$A$23,\"\"))","v":""},{"$f":"IF($L135=\"\",\"\",IF(AND($L135>=Sheet1!$F$24,'Pupil List'!$L135<Sheet1!$G$24),Sheet1!$A$24,\"\"))","v":""},{"$f":"IF($L135=\"\",\"\",IF(AND($L135>=Sheet1!$F$25,'Pupil List'!$L135<Sheet1!$G$25),Sheet1!$A$25,\"\"))","v":""},{"$error":"#N/A"},{"$f":"IFERROR(VLOOKUP(BK135,Sheet1!$A$2:$E$25,3,FALSE),\"\")","v":""},{"$f":"IFERROR(VLOOKUP(BK135,Sheet1!$A$2:$E$25,4,FALSE),\"\")","v":""},{"$f":"IFERROR(VLOOKUP(BK135,Sheet1!$A$2:$E$25,5,FALSE),\"\")","v":""},{"$f":"IFERROR(VLOOKUP(N135,Sheet1!$A$29:$B$38,2,FALSE),\"\")","v":""}]
["","","",null,null,null,null,null,"","","",null,"",null,"","","","","","","","","","","","","","","","","","","","","","","","",{"$f":"IF($L136=\"\",\"\",IF(AND($L136>=Sheet1!$F$2,'Pupil List'!$L136<Sheet1!$G$2),Sheet1!$A$2,\"\"))","v":""},{"$f":"IF($L136=\"\",\"\",IF(AND($L136>=Sheet1!$F$3,'Pupil List'!$L136<Sheet1!$G$3),Sheet1!$A$3,\"\"))","v":""},{"$f":"IF($L136=\"\",\"\",IF(AND($L136>=Sheet1!$F$4,'Pupil List'!$L136<Sheet1!$G$4),Sheet1!$A$4,\"\"))","v":""},{"$f":"IF($L136=\"\",\"\",IF(AND($L136>=Sheet1!$F$5,'Pupil List'!$L136<Sheet1!$G$5),Sheet1!$A$5,\"\"))","v":""},{"$f":"IF($L136=\"\",\"\",IF(AND($L136>=Sheet1!$F$6,'Pupil List'!$L136<Sheet1!$G$6),Sheet1!$A$6,\"\"))","v":""},{"$f":"IF($L136=\"\",\"\",IF(AND($L136>=Sheet1!$F$7,'Pupil List'!$L136<Sheet1!$G$7),Sheet1!$A$7,\"\"))","v":""},{"$f":"IF($L136=\"\",\"\",IF(AND($L136>=Sheet1!$F$8,'Pupil List'!$L136<Sheet1!$G$8),Sheet1!$A$8,\"\"))","v":""},{"$f":"IF($L136=\"\",\"\",IF(AND($L136>=Sheet1!$F$9,'Pupil List'!$L136<Sheet1!$G$9),Sheet1!$A$9,\"\"))","v":""},{"$f":"IF($L136=\"\",\"\",IF(AND($L136>=Sheet1!$F$10,'Pupil List'!$L136<Sheet1!$G$10),Sheet1!$A$10,\"\"))","v":""},{"$f":"IF($L136=\"\",\"\",IF(AND($L136>=Sheet1!$F$11,'Pupil List'!$L136<Sheet1!$G$11),Sheet1!$A$11,\"\"))","v":""},{"$f":"IF($L136=\"\",\"\",IF(AND($L136>=Sheet1!$F$12,'Pupil List'!$L136<Sheet1!$G$12),Sheet1!$A$12,\"\"))","v":""},{"$f":"IF($L136=\"\",\"\",IF(AND($L136>=Sheet1!$F$13,'Pupil List'!$L136<Sheet1!$G$13),Sheet1!$A$13,\"\"))","v":""},{"$f":"IF($L136=\"\",\"\",IF(AND($L136>=Sheet1!$F$14,'Pupil List'!$L136<Sheet1!$G$14),Sheet1!$A$14,\"\"))","v":""},{"$f":"IF($L136=\"\",\"\",IF(AND($L136>=Sheet1!$F$15,'Pupil List'!$L136<Sheet1!$G$15),Sheet1!$A$15,\"\"))","v":""},{"$f":"IF($L136=\"\",\"\",IF(AND($L136>=Sheet1!$F$16,'Pupil List'!$L136<Sheet1!$G$16),Sheet1!$A$16,\"\"))","v":""},{"$f":"IF($L136=\"\",\"\",IF(AND($L136>=Sheet1!$F$17,'Pupil List'!$L136<Sheet1!$G$17),Sheet1!$A$17,\"\"))","v":""},{"$f":"IF($L136=\"\",\"\",IF(AND($L136>=Sheet1!$F$18,'Pupil List'!$L136<Sheet1!$G$18),Sheet1!$A$18,\"\"))","v":""},{"$f":"IF($L136=\"\",\"\",IF(AND($L136>=Sheet1!$F$19,'Pupil List'!$L136<Sheet1!$G$19),Sheet1!$A$19,\"\"))","v":""},{"$f":"IF($L136=\"\",\"\",IF(AND($L136>=Sheet1!$F$20,'Pupil List'!$L136<Sheet1!$G$20),Sheet1!$A$20,\"\"))","v":""},{"$f":"IF($L136=\"\",\"\",IF(AND($L136>=Sheet1!$F$21,'Pupil List'!$L136<Sheet1!$G$21),Sheet1!$A$21,\"\"))","v":""},{"$f":"IF($L136=\"\",\"\",IF(AND($L136>=Sheet1!$F$22,'Pupil List'!$L136<Sheet1!$G$22),Sheet1!$A$22,\"\"))","v":""},{"$f":"IF($L136=\"\",\"\",IF(AND($L136>=Sheet1!$F$23,'Pupil List'!$L136<Sheet1!$G$23),Sheet1!$A$23,\"\"))","v":""},{"$f":"IF($L136=\"\",\"\",IF(AND($L136>=Sheet1!$F$24,'Pupil List'!$L136<Sheet1!$G$24),Sheet1!$A$24,\"\"))","v":""},{"$f":"IF($L136=\"\",\"\",IF(AND($L136>=Sheet1!$F$25,'Pupil List'!$L136<Sheet1!$G$25),Sheet1!$A$25,\"\"))","v":""},{"$error":"#N/A"},{"$f":"IFERROR(VLOOKUP(BK136,Sheet1!$A$2:$E$25,3,FALSE),\"\")","v":""},{"$f":"IFERROR(VLOOKUP(BK136,Sheet1!$A$2:$E$25,4,FALSE),\"\")","v":""},{"$f":"IFERROR(VLOOKUP(BK136,Sheet1!$A$2:$E$25,5,FALSE),\"\")","v":""},{"$f":"IFERROR(VLOOKUP(N136,Sheet1!$A$29:$B$38,2,FALSE),\"\")","v":""}]
["","","",null,null,null,null,null,"","","",null,"",null,"","","","","","","","","","","","","","","","","","","","","","","","",{"$f":"IF($L137=\"\",\"\",IF(AND($L137>=Sheet1!$F$2,'Pupil List'!$L137<Sheet1!$G$2),Sheet1!$A$2,\"\"))","v":""},{"$f":"IF($L137=\"\",\"\",IF(AND($L137>=Sheet1!$F$3,'Pupil List'!$L137<Sheet1!$G$3),Sheet1!$A$3,\"\"))","v":""},{"$f":"IF($L137=\"\",\"\",IF(AND($L137>=Sheet1!$F$4,'Pupil List'!$L137<Sheet1!$G$4),Sheet1!$A$4,\"\"))","v":""},{"$f":"IF($L137=\"\",\"\",IF(AND($L137>=Sheet1!$F$5,'Pupil List'!$L137<Sheet1!$G$5),Sheet1!$A$5,\"\"))","v":""},{"$f":"IF($L137=\"\",\"\",IF(AND($L137>=Sheet1!$F$6,'Pupil List'!$L137<Sheet1!$G$6),Sheet1!$A$6,\"\"))","v":""},{"$f":"IF($L137=\"\",\"\",IF(AND($L137>=Sheet1!$F$7,'Pupil List'!$L137<Sheet1!$G$7),Sheet1!$A$7,\"\"))","v":""},{"$f":"IF($L137=\"\",\"\",IF(AND($L137>=Sheet1!$F$8,'Pupil List'!$L137<Sheet1!$G$8),Sheet1!$A$8,\"\"))","v":""},{"$f":"IF($L137=\"\",\"\",IF(AND($L137>=Sheet1!$F$9,'Pupil List'!$L137<Sheet1!$G$9),Sheet1!$A$9,\"\"))","v":""},{"$f":"IF($L137=\"\",\"\",IF(AND($L137>=Sheet1!$F$10,'Pupil List'!$L137<Sheet1!$G$10),Sheet1!$A$10,\"\"))","v":""},{"$f":"IF($L137=\"\",\"\",IF(AND($L137>=Sheet1!$F$11,'Pupil List'!$L137<Sheet1!$G$11),Sheet1!$A$11,\"\"))","v":""},{"$f":"IF($L137=\"\",\"\",IF(AND($L137>=Sheet1!$F$12,'Pupil List'!$L137<Sheet1!$G$12),Sheet1!$A$12,\"\"))","v":""},{"$f":"IF($L137=\"\",\"\",IF(AND($L137>=Sheet1!$F$13,'Pupil List'!$L137<Sheet1!$G$13),Sheet1!$A$13,\"\"))","v":""},{"$f":"IF($L137=\"\",\"\",IF(AND($L137>=Sheet1!$F$14,'Pupil List'!$L137<Sheet1!$G$14),Sheet1!$A$14,\"\"))","v":""},{"$f":"IF($L137=\"\",\"\",IF(AND($L137>=Sheet1!$F$15,'Pupil List'!$L137<Sheet1!$G$15),Sheet1!$A$15,\"\"))","v":""},{"$f":"IF($L137=\"\",\"\",IF(AND($L137>=Sheet1!$F$16,'Pupil List'!$L137<Sheet1!$G$16),Sheet1!$A$16,\"\"))","v":""},{"$f":"IF($L137=\"\",\"\",IF(AND($L137>=Sheet1!$F$17,'Pupil List'!$L137<Sheet1!$G$17),Sheet1!$A$17,\"\"))","v":""},{"$f":"IF($L137=\"\",\"\",IF(AND($L137>=Sheet1!$F$18,'Pupil List'!$L137<Sheet1!$G$18),Sheet1!$A$18,\"\"))","v":""},{"$f":"IF($L137=\"\",\"\",IF(AND($L137>=Sheet1!$F$19,'Pupil List'!$L137<Sheet1!$G$19),Sheet1!$A$19,\"\"))","v":""},{"$f":"IF($L137=\"\",\"\",IF(AND($L137>=Sheet1!$F$20,'Pupil List'!$L137<Sheet1!$G$20),Sheet1!$A$20,\"\"))","v":""},{"$f":"IF($L137=\"\",\"\",IF(AND($L137>=Sheet1!$F$21,'Pupil List'!$L137<Sheet1!$G$21),Sheet1!$A$21,\"\"))","v":""},{"$f":"IF($L137=\"\",\"\",IF(AND($L137>=Sheet1!$F$22,'Pupil List'!$L137<Sheet1!$G$22),Sheet1!$A$22,\"\"))","v":""},{"$f":"IF($L137=\"\",\"\",IF(AND($L137>=Sheet1!$F$23,'Pupil List'!$L137<Sheet1!$G$23),Sheet1!$A$23,\"\"))","v":""},{"$f":"IF($L137=\"\",\"\",IF(AND($L137>=Sheet1!$F$24,'Pupil List'!$L137<Sheet1!$G$24),Sheet1!$A$24,\"\"))","v":""},{"$f":"IF($L137=\"\",\"\",IF(AND($L137>=Sheet1!$F$25,'Pupil List'!$L137<Sheet1!$G$25),Sheet1!$A$25,\"\"))","v":""},{"$error":"#N/A"},{"$f":"IFERROR(VLOOKUP(BK137,Sheet1!$A$2:$E$25,3,FALSE),\"\")","v":""},{"$f":"IFERROR(VLOOKUP(BK137,Sheet1!$A$2:$E$25,4,FALSE),\"\")","v":""},{"$f":"IFERROR(VLOOKUP(BK137,Sheet1!$A$2:$E$25,5,FALSE),\"\")","v":""},{"$f":"IFERROR(VLOOKUP(N137,Sheet1!$A$29:$B$38,2,FALSE),\"\")","v":""}]
["","","",null,null,null,null,null,"","","",null,"",null,"","","","","","","","","","","","","","","","","","","","","","","","",{"$f":"IF($L138=\"\",\"\",IF(AND($L138>=Sheet1!$F$2,'Pupil List'!$L138<Sheet1!$G$2),Sheet1!$A$2,\"\"))","v":""},{"$f":"IF($L138=\"\",\"\",IF(AND($L138>=Sheet1!$F$3,'Pupil List'!$L138<Sheet1!$G$3),Sheet1!$A$3,\"\"))","v":""},{"$f":"IF($L138=\"\",\"\",IF(AND($L138>=Sheet1!$F$4,'Pupil List'!$L138<Sheet1!$G$4),Sheet1!$A$4,\"\"))","v":""},{"$f":"IF($L138=\"\",\"\",IF(AND($L138>=Sheet1!$F$5,'Pupil List'!$L138<Sheet1!$G$5),Sheet1!$A$5,\"\"))","v":""},{"$f":"IF($L138=\"\",\"\",IF(AND($L138>=Sheet1!$F$6,'Pupil List'!$L138<Sheet1!$G$6),Sheet1!$A$6,\"\"))","v":""},{"$f":"IF($L138=\"\",\"\",IF(AND($L138>=Sheet1!$F$7,'Pupil List'!$L138<Sheet1!$G$7),Sheet1!$A$7,\"\"))","v":""},{"$f":"IF($L138=\"\",\"\",IF(AND($L138>=Sheet1!$F$8,'Pupil List'!$L138<Sheet1!$G$8),Sheet1!$A$8,\"\"))","v":""},{"$f":"IF($L138=\"\",\"\",IF(AND($L138>=Sheet1!$F$9,'Pupil List'!$L138<Sheet1!$G$9),Sheet1!$A$9,\"\"))","v":""},{"$f":"IF($L138=\"\",\"\",IF(AND($L138>=Sheet1!$F$10,'Pupil List'!$L138<Sheet1!$G$10),Sheet1!$A$10,\"\"))","v":""},{"$f":"IF($L138=\"\",\"\",IF(AND($L138>=Sheet1!$F$11,'Pupil List'!$L138<Sheet1!$G$11),Sheet1!$A$11,\"\"))","v":""},{"$f":"IF($L138=\"\",\"\",IF(AND($L138>=Sheet1!$F$12,'Pupil List'!$L138<Sheet1!$G$12),Sheet1!$A$12,\"\"))","v":""},{"$f":"IF($L138=\"\",\"\",IF(AND($L138>=Sheet1!$F$13,'Pupil List'!$L138<Sheet1!$G$13),Sheet1!$A$13,\"\"))","v":""},{"$f":"IF($L138=\"\",\"\",IF(AND($L138>=Sheet1!$F$14,'Pupil List'!$L138<Sheet1!$G$14),Sheet1!$A$14,\"\"))","v":""},{"$f":"IF($L138=\"\",\"\",IF(AND($L138>=Sheet1!$F$15,'Pupil List'!$L138<Sheet1!$G$15),Sheet1!$A$15,\"\"))","v":""},{"$f":"IF($L138=\"\",\"\",IF(AND($L138>=Sheet1!$F$16,'Pupil List'!$L138<Sheet1!$G$16),Sheet1!$A$16,\"\"))","v":""},{"$f":"IF($L138=\"\",\"\",IF(AND($L138>=Sheet1!$F$17,'Pupil List'!$L138<Sheet1!$G$17),Sheet1!$A$17,\"\"))","v":""},{"$f":"IF($L138=\"\",\"\",IF(AND($L138>=Sheet1!$F$18,'Pupil List'!$L138<Sheet1!$G$18),Sheet1!$A$18,\"\"))","v":""},{"$f":"IF($L138=\"\",\"\",IF(AND($L138>=Sheet1!$F$19,'Pupil List'!$L138<Sheet1!$G$19),Sheet1!$A$19,\"\"))","v":""},{"$f":"IF($L138=\"\",\"\",IF(AND($L138>=Sheet1!$F$20,'Pupil List'!$L138<Sheet1!$G$20),Sheet1!$A$20,\"\"))","v":""},{"$f":"IF($L138=\"\",\"\",IF(AND($L138>=Sheet1!$F$21,'Pupil List'!$L138<Sheet1!$G$21),Sheet1!$A$21,\"\"))","v":""},{"$f":"IF($L138=\"\",\"\",IF(AND($L138>=Sheet1!$F$22,'Pupil List'!$L138<Sheet1!$G$22),Sheet1!$A$22,\"\"))","v":""},{"$f":"IF($L138=\"\",\"\",IF(AND($L138>=Sheet1!$F$23,'Pupil List'!$L138<Sheet1!$G$23),Sheet1!$A$23,\"\"))","v":""},{"$f":"IF($L138=\"\",\"\",IF(AND($L138>=Sheet1!$F$24,'Pupil List'!$L138<Sheet1!$G$24),Sheet1!$A$24,\"\"))","v":""},{"$f":"IF($L138=\"\",\"\",IF(AND($L138>=Sheet1!$F$25,'Pupil List'!$L138<Sheet1!$G$25),Sheet1!$A$25,\"\"))","v":""},{"$error":"#N/A"},{"$f":"IFERROR(VLOOKUP(BK138,Sheet1!$A$2:$E$25,3,FALSE),\"\")","v":""},{"$f":"IFERROR(VLOOKUP(BK138,Sheet1!$A$2:$E$25,4,FALSE),\"\")","v":""},{"$f":"IFERROR(VLOOKUP(BK138,Sheet1!$A$2:$E$25,5,FALSE),\"\")","v":""},{"$f":"IFERROR(VLOOKUP(N138,Sheet1!$A$29:$B$38,2,FALSE),\"\")","v":""}]
["","","",null,null,null,null,null,"","","",null,"",null,"","","","","","","","","","","","","","","","","","","","","","","","",{"$f":"IF($L139=\"\",\"\",IF(AND($L139>=Sheet1!$F$2,'Pupil List'!$L139<Sheet1!$G$2),Sheet1!$A$2,\"\"))","v":""},{"$f":"IF($L139=\"\",\"\",IF(AND($L139>=Sheet1!$F$3,'Pupil List'!$L139<Sheet1!$G$3),Sheet1!$A$3,\"\"))","v":""},{"$f":"IF($L139=\"\",\"\",IF(AND($L139>=Sheet1!$F$4,'Pupil List'!$L139<Sheet1!$G$4),Sheet1!$A$4,\"\"))","v":""},{"$f":"IF($L139=\"\",\"\",IF(AND($L139>=Sheet1!$F$5,'Pupil List'!$L139<Sheet1!$G$5),Sheet1!$A$5,\"\"))","v":""},{"$f":"IF($L139=\"\",\"\",IF(AND($L139>=Sheet1!$F$6,'Pupil List'!$L139<Sheet1!$G$6),Sheet1!$A$6,\"\"))","v":""},{"$f":"IF($L139=\"\",\"\",IF(AND($L139>=Sheet1!$F$7,'Pupil List'!$L139<Sheet1!$G$7),Sheet1!$A$7,\"\"))","v":""},{"$f":"IF($L139=\"\",\"\",IF(AND($L139>=Sheet1!$F$8,'Pupil List'!$L139<Sheet1!$G$8),Sheet1!$A$8,\"\"))","v":""},{"$f":"IF($L139=\"\",\"\",IF(AND($L139>=Sheet1!$F$9,'Pupil List'!$L139<Sheet1!$G$9),Sheet1!$A$9,\"\"))","v":""},{"$f":"IF($L139=\"\",\"\",IF(AND($L139>=Sheet1!$F$10,'Pupil List'!$L139<Sheet1!$G$10),Sheet1!$A$10,\"\"))","v":""},{"$f":"IF($L139=\"\",\"\",IF(AND($L139>=Sheet1!$F$11,'Pupil List'!$L139<Sheet1!$G$11),Sheet1!$A$11,\"\"))","v":""},{"$f":"IF($L139=\"\",\"\",IF(AND($L139>=Sheet1!$F$12,'Pupil List'!$L139<Sheet1!$G$12),Sheet1!$A$12,\"\"))","v":""},{"$f":"IF($L139=\"\",\"\",IF(AND($L139>=Sheet1!$F$13,'Pupil List'!$L139<Sheet1!$G$13),Sheet1!$A$13,\"\"))","v":""},{"$f":"IF($L139=\"\",\"\",IF(AND($L139>=Sheet1!$F$14,'Pupil List'!$L139<Sheet1!$G$14),Sheet1!$A$14,\"\"))","v":""},{"$f":"IF($L139=\"\",\"\",IF(AND($L139>=Sheet1!$F$15,'Pupil List'!$L139<Sheet1!$G$15),Sheet1!$A$15,\"\"))","v":""},{"$f":"IF($L139=\"\",\"\",IF(AND($L139>=Sheet1!$F$16,'Pupil List'!$L139<Sheet1!$G$16),Sheet1!$A$16,\"\"))","v":""},{"$f":"IF($L139=\"\",\"\",IF(AND($L139>=Sheet1!$F$17,'Pupil List'!$L139<Sheet1!$G$17),Sheet1!$A$17,\"\"))","v":""},{"$f":"IF($L139=\"\",\"\",IF(AND($L139>=Sheet1!$F$18,'Pupil List'!$L139<Sheet1!$G$18),Sheet1!$A$18,\"\"))","v":""},{"$f":"IF($L139=\"\",\"\",IF(AND($L139>=Sheet1!$F$19,'Pupil List'!$L139<Sheet1!$G$19),Sheet1!$A$19,\"\"))","v":""},{"$f":"IF($L139=\"\",\"\",IF(AND($L139>=Sheet1!$F$20,'Pupil List'!$L139<Sheet1!$G$20),Sheet1!$A$20,\"\"))","v":""},{"$f":"IF($L139=\"\",\"\",IF(AND($L139>=Sheet1!$F$21,'Pupil List'!$L139<Sheet1!$G$21),Sheet1!$A$21,\"\"))","v":""},{"$f":"IF($L139=\"\",\"\",IF(AND($L139>=Sheet1!$F$22,'Pupil List'!$L139<Sheet1!$G$22),Sheet1!$A$22,\"\"))","v":""},{"$f":"IF($L139=\"\",\"\",IF(AND($L139>=Sheet1!$F$23,'Pupil List'!$L139<Sheet1!$G$23),Sheet1!$A$23,\"\"))","v":""},{"$f":"IF($L139=\"\",\"\",IF(AND($L139>=Sheet1!$F$24,'Pupil List'!$L139<Sheet1!$G$24),Sheet1!$A$24,\"\"))","v":""},{"$f":"IF($L139=\"\",\"\",IF(AND($L139>=Sheet1!$F$25,'Pupil List'!$L139<Sheet1!$G$25),Sheet1!$A$25,\"\"))","v":""},{"$error":"#N/A"},{"$f":"IFERROR(VLOOKUP(BK139,Sheet1!$A$2:$E$25,3,FALSE),\"\")","v":""},{"$f":"IFERROR(VLOOKUP(BK139,Sheet1!$A$2:$E$25,4,FALSE),\"\")","v":""},{"$f":"IFERROR(VLOOKUP(BK139,Sheet1!$A$2:$E$25,5,FALSE),\"\")","v":""},{"$f":"IFERROR(VLOOKUP(N139,Sheet1!$A$29:$B$38,2,FALSE),\"\")","v":""}]
["","","",null,null,null,null,null,"","","",null,"",null,"","","","","","","","","","","","","","","","","","","","","","","","",{"$f":"IF($L140=\"\",\"\",IF(AND($L140>=Sheet1!$F$2,'Pupil List'!$L140<Sheet1!$G$2),Sheet1!$A$2,\"\"))","v":""},{"$f":"IF($L140=\"\",\"\",IF(AND($L140>=Sheet1!$F$3,'Pupil List'!$L140<Sheet1!$G$3),Sheet1!$A$3,\"\"))","v":""},{"$f":"IF($L140=\"\",\"\",IF(AND($L140>=Sheet1!$F$4,'Pupil List'!$L140<Sheet1!$G$4),Sheet1!$A$4,\"\"))","v":""},{"$f":"IF($L140=\"\",\"\",IF(AND($L140>=Sheet1!$F$5,'Pupil List'!$L140<Sheet1!$G$5),Sheet1!$A$5,\"\"))","v":""},{"$f":"IF($L140=\"\",\"\",IF(AND($L140>=Sheet1!$F$6,'Pupil List'!$L140<Sheet1!$G$6),Sheet1!$A$6,\"\"))","v":""},{"$f":"IF($L140=\"\",\"\",IF(AND($L140>=Sheet1!$F$7,'Pupil List'!$L140<Sheet1!$G$7),Sheet1!$A$7,\"\"))","v":""},{"$f":"IF($L140=\"\",\"\",IF(AND($L140>=Sheet1!$F$8,'Pupil List'!$L140<Sheet1!$G$8),Sheet1!$A$8,\"\"))","v":""},{"$f":"IF($L140=\"\",\"\",IF(AND($L140>=Sheet1!$F$9,'Pupil List'!$L140<Sheet1!$G$9),Sheet1!$A$9,\"\"))","v":""},{"$f":"IF($L140=\"\",\"\",IF(AND($L140>=Sheet1!$F$10,'Pupil List'!$L140<Sheet1!$G$10),Sheet1!$A$10,\"\"))","v":""},{"$f":"IF($L140=\"\",\"\",IF(AND($L140>=Sheet1!$F$11,'Pupil List'!$L140<Sheet1!$G$11),Sheet1!$A$11,\"\"))","v":""},{"$f":"IF($L140=\"\",\"\",IF(AND($L140>=Sheet1!$F$12,'Pupil List'!$L140<Sheet1!$G$12),Sheet1!$A$12,\"\"))","v":""},{"$f":"IF($L140=\"\",\"\",IF(AND($L140>=Sheet1!$F$13,'Pupil List'!$L140<Sheet1!$G$13),Sheet1!$A$13,\"\"))","v":""},{"$f":"IF($L140=\"\",\"\",IF(AND($L140>=Sheet1!$F$14,'Pupil List'!$L140<Sheet1!$G$14),Sheet1!$A$14,\"\"))","v":""},{"$f":"IF($L140=\"\",\"\",IF(AND($L140>=Sheet1!$F$15,'Pupil List'!$L140<Sheet1!$G$15),Sheet1!$A$15,\"\"))","v":""},{"$f":"IF($L140=\"\",\"\",IF(AND($L140>=Sheet1!$F$16,'Pupil List'!$L140<Sheet1!$G$16),Sheet1!$A$16,\"\"))","v":""},{"$f":"IF($L140=\"\",\"\",IF(AND($L140>=Sheet1!$F$17,'Pupil List'!$L140<Sheet1!$G$17),Sheet1!$A$17,\"\"))","v":""},{"$f":"IF($L140=\"\",\"\",IF(AND($L140>=Sheet1!$F$18,'Pupil List'!$L140<Sheet1!$G$18),Sheet1!$A$18,\"\"))","v":""},{"$f":"IF($L140=\"\",\"\",IF(AND($L140>=Sheet1!$F$19,'Pupil List'!$L140<Sheet1!$G$19),Sheet1!$A$19,\"\"))","v":""},{"$f":"IF($L140=\"\",\"\",IF(AND($L140>=Sheet1!$F$20,'Pupil List'!$L140<Sheet1!$G$20),Sheet1!$A$20,\"\"))","v":""},{"$f":"IF($L140=\"\",\"\",IF(AND($L140>=Sheet1!$F$21,'Pupil List'!$L140<Sheet1!$G$21),Sheet1!$A$21,\"\"))","v":""},{"$f":"IF($L140=\"\",\"\",IF(AND($L140>=Sheet1!$F$22,'Pupil List'!$L140<Sheet1!$G$22),Sheet1!$A$22,\"\"))","v":""},{"$f":"IF($L140=\"\",\"\",IF(AND($L140>=Sheet1!$F$23,'Pupil List'!$L140<Sheet1!$G$23),Sheet1!$A$23,\"\"))","v":""},{"$f":"IF($L140=\"\",\"\",IF(AND($L140>=Sheet1!$F$24,'Pupil List'!$L140<Sheet1!$G$24),Sheet1!$A$24,\"\"))","v":""},{"$f":"IF($L140=\"\",\"\",IF(AND($L140>=Sheet1!$F$25,'Pupil List'!$L140<Sheet1!$G$25),Sheet1!$A$25,\"\"))","v":""},{"$error":"#N/A"},{"$f":"IFERROR(VLOOKUP(BK140,Sheet1!$A$2:$E$25,3,FALSE),\"\")","v":""},{"$f":"IFERROR(VLOOKUP(BK140,Sheet1!$A$2:$E$25,4,FALSE),\"\")","v":""},{"$f":"IFERROR(VLOOKUP(BK140,Sheet1!$A$2:$E$25,5,FALSE),\"\")","v":""},{"$f":"IFERROR(VLOOKUP(N140,Sheet1!$A$29:$B$38,2,FALSE),\"\")","v":""}]
["","","",null,null,null,null,null,"","","",null,"",null,"","","","","","","","","","","","","","","","","","","","","","","","",{"$f":"IF($L141=\"\",\"\",IF(AND($L141>=Sheet1!$F$2,'Pupil List'!$L141<Sheet1!$G$2),Sheet1!$A$2,\"\"))","v":""},{"$f":"IF($L141=\"\",\"\",IF(AND($L141>=Sheet1!$F$3,'Pupil List'!$L141<Sheet1!$G$3),Sheet1!$A$3,\"\"))","v":""},{"$f":"IF($L141=\"\",\"\",IF(AND($L141>=Sheet1!$F$4,'Pupil List'!$L141<Sheet1!$G$4),Sheet1!$A$4,\"\"))","v":""},{"$f":"IF($L141=\"\",\"\",IF(AND($L141>=Sheet1!$F$5,'Pupil List'!$L141<Sheet1!$G$5),Sheet1!$A$5,\"\"))","v":""},{"$f":"IF($L141=\"\",\"\",IF(AND($L141>=Sheet1!$F$6,'Pupil List'!$L141<Sheet1!$G$6),Sheet1!$A$6,\"\"))","v":""},{"$f":"IF($L141=\"\",\"\",IF(AND($L141>=Sheet1!$F$7,'Pupil List'!$L141<Sheet1!$G$7),Sheet1!$A$7,\"\"))","v":""},{"$f":"IF($L141=\"\",\"\",IF(AND($L141>=Sheet1!$F$8,'Pupil List'!$L141<Sheet1!$G$8),Sheet1!$A$8,\"\"))","v":""},{"$f":"IF($L141=\"\",\"\",IF(AND($L141>=Sheet1!$F$9,'Pupil List'!$L141<Sheet1!$G$9),Sheet1!$A$9,\"\"))","v":""},{"$f":"IF($L141=\"\",\"\",IF(AND($L141>=Sheet1!$F$10,'Pupil List'!$L141<Sheet1!$G$10),Sheet1!$A$10,\"\"))","v":""},{"$f":"IF($L141=\"\",\"\",IF(AND($L141>=Sheet1!$F$11,'Pupil List'!$L141<Sheet1!$G$11),Sheet1!$A$11,\"\"))","v":""},{"$f":"IF($L141=\"\",\"\",IF(AND($L141>=Sheet1!$F$12,'Pupil List'!$L141<Sheet1!$G$12),Sheet1!$A$12,\"\"))","v":""},{"$f":"IF($L141=\"\",\"\",IF(AND($L141>=Sheet1!$F$13,'Pupil List'!$L141<Sheet1!$G$13),Sheet1!$A$13,\"\"))","v":""},{"$f":"IF($L141=\"\",\"\",IF(AND($L141>=Sheet1!$F$14,'Pupil List'!$L141<Sheet1!$G$14),Sheet1!$A$14,\"\"))","v":""},{"$f":"IF($L141=\"\",\"\",IF(AND($L141>=Sheet1!$F$15,'Pupil List'!$L141<Sheet1!$G$15),Sheet1!$A$15,\"\"))","v":""},{"$f":"IF($L141=\"\",\"\",IF(AND($L141>=Sheet1!$F$16,'Pupil List'!$L141<Sheet1!$G$16),Sheet1!$A$16,\"\"))","v":""},{"$f":"IF($L141=\"\",\"\",IF(AND($L141>=Sheet1!$F$17,'Pupil List'!$L141<Sheet1!$G$17),Sheet1!$A$17,\"\"))","v":""},{"$f":"IF($L141=\"\",\"\",IF(AND($L141>=Sheet1!$F$18,'Pupil List'!$L141<Sheet1!$G$18),Sheet1!$A$18,\"\"))","v":""},{"$f":"IF($L141=\"\",\"\",IF(AND($L141>=Sheet1!$F$19,'Pupil List'!$L141<Sheet1!$G$19),Sheet1!$A$19,\"\"))","v":""},{"$f":"IF($L141=\"\",\"\",IF(AND($L141>=Sheet1!$F$20,'Pupil List'!$L141<Sheet1!$G$20),Sheet1!$A$20,\"\"))","v":""},{"$f":"IF($L141=\"\",\"\",IF(AND($L141>=Sheet1!$F$21,'Pupil List'!$L141<Sheet1!$G$21),Sheet1!$A$21,\"\"))","v":""},{"$f":"IF($L141=\"\",\"\",IF(AND($L141>=Sheet1!$F$22,'Pupil List'!$L141<Sheet1!$G$22),Sheet1!$A$22,\"\"))","v":""},{"$f":"IF($L141=\"\",\"\",IF(AND($L141>=Sheet1!$F$23,'Pupil List'!$L141<Sheet1!$G$23),Sheet1!$A$23,\"\"))","v":""},{"$f":"IF($L141=\"\",\"\",IF(AND($L141>=Sheet1!$F$24,'Pupil List'!$L141<Sheet1!$G$24),Sheet1!$A$24,\"\"))","v":""},{"$f":"IF($L141=\"\",\"\",IF(AND($L141>=Sheet1!$F$25,'Pupil List'!$L141<Sheet1!$G$25),Sheet1!$A$25,\"\"))","v":""},{"$error":"#N/A"},{"$f":"IFERROR(VLOOKUP(BK141,Sheet1!$A$2:$E$25,3,FALSE),\"\")","v":""},{"$f":"IFERROR(VLOOKUP(BK141,Sheet1!$A$2:$E$25,4,FALSE),\"\")","v":""},{"$f":"IFERROR(VLOOKUP(BK141,Sheet1!$A$2:$E$25,5,FALSE),\"\")","v":""},{"$f":"IFERROR(VLOOKUP(N141,Sheet1!$A$29:$B$38,2,FALSE),\"\")","v":""}]
["","","",null,null,null,null,null,"","","",null,"",null,"","","","","","","","","","","","","","","","","","","","","","","","",{"$f":"IF($L142=\"\",\"\",IF(AND($L142>=Sheet1!$F$2,'Pupil List'!$L142<Sheet1!$G$2),Sheet1!$A$2,\"\"))","v":""},{"$f":"IF($L142=\"\",\"\",IF(AND($L142>=Sheet1!$F$3,'Pupil List'!$L142<Sheet1!$G$3),Sheet1!$A$3,\"\"))","v":""},{"$f":"IF($L142=\"\",\"\",IF(AND($L142>=Sheet1!$F$4,'Pupil List'!$L142<Sheet1!$G$4),Sheet1!$A$4,\"\"))","v":""},{"$f":"IF($L142=\"\",\"\",IF(AND($L142>=Sheet1!$F$5,'Pupil List'!$L142<Sheet1!$G$5),Sheet1!$A$5,\"\"))","v":""},{"$f":"IF($L142=\"\",\"\",IF(AND($L142>=Sheet1!$F$6,'Pupil List'!$L142<Sheet1!$G$6),Sheet1!$A$6,\"\"))","v":""},{"$f":"IF($L142=\"\",\"\",IF(AND($L142>=Sheet1!$F$7,'Pupil List'!$L142<Sheet1!$G$7),Sheet1!$A$7,\"\"))","v":""},{"$f":"IF($L142=\"\",\"\",IF(AND($L142>=Sheet1!$F$8,'Pupil List'!$L142<Sheet1!$G$8),Sheet1!$A$8,\"\"))","v":""},{"$f":"IF($L142=\"\",\"\",IF(AND($L142>=Sheet1!$F$9,'Pupil List'!$L142<Sheet1!$G$9),Sheet1!$A$9,\"\"))","v":""},{"$f":"IF($L142=\"\",\"\",IF(AND($L142>=Sheet1!$F$10,'Pupil List'!$L142<Sheet1!$G$10),Sheet1!$A$10,\"\"))","v":""},{"$f":"IF($L142=\"\",\"\",IF(AND($L142>=Sheet1!$F$11,'Pupil List'!$L142<Sheet1!$G$11),Sheet1!$A$11,\"\"))","v":""},{"$f":"IF($L142=\"\",\"\",IF(AND($L142>=Sheet1!$F$12,'Pupil List'!$L142<Sheet1!$G$12),Sheet1!$A$12,\"\"))","v":""},{"$f":"IF($L142=\"\",\"\",IF(AND($L142>=Sheet1!$F$13,'Pupil List'!$L142<Sheet1!$G$13),Sheet1!$A$13,\"\"))","v":""},{"$f":"IF($L142=\"\",\"\",IF(AND($L142>=Sheet1!$F$14,'Pupil List'!$L142<Sheet1!$G$14),Sheet1!$A$14,\"\"))","v":""},{"$f":"IF($L142=\"\",\"\",IF(AND($L142>=Sheet1!$F$15,'Pupil List'!$L142<Sheet1!$G$15),Sheet1!$A$15,\"\"))","v":""},{"$f":"IF($L142=\"\",\"\",IF(AND($L142>=Sheet1!$F$16,'Pupil List'!$L142<Sheet1!$G$16),Sheet1!$A$16,\"\"))","v":""},{"$f":"IF($L142=\"\",\"\",IF(AND($L142>=Sheet1!$F$17,'Pupil List'!$L142<Sheet1!$G$17),Sheet1!$A$17,\"\"))","v":""},{"$f":"IF($L142=\"\",\"\",IF(AND($L142>=Sheet1!$F$18,'Pupil List'!$L142<Sheet1!$G$18),Sheet1!$A$18,\"\"))","v":""},{"$f":"IF($L142=\"\",\"\",IF(AND($L142>=Sheet1!$F$19,'Pupil List'!$L142<Sheet1!$G$19),Sheet1!$A$19,\"\"))","v":""},{"$f":"IF($L142=\"\",\"\",IF(AND($L142>=Sheet1!$F$20,'Pupil List'!$L142<Sheet1!$G$20),Sheet1!$A$20,\"\"))","v":""},{"$f":"IF($L142=\"\",\"\",IF(AND($L142>=Sheet1!$F$21,'Pupil List'!$L142<Sheet1!$G$21),Sheet1!$A$21,\"\"))","v":""},{"$f":"IF($L142=\"\",\"\",IF(AND($L142>=Sheet1!$F$22,'Pupil List'!$L142<Sheet1!$G$22),Sheet1!$A$22,\"\"))","v":""},{"$f":"IF($L142=\"\",\"\",IF(AND($L142>=Sheet1!$F$23,'Pupil List'!$L142<Sheet1!$G$23),Sheet1!$A$23,\"\"))","v":""},{"$f":"IF($L142=\"\",\"\",IF(AND($L142>=Sheet1!$F$24,'Pupil List'!$L142<Sheet1!$G$24),Sheet1!$A$24,\"\"))","v":""},{"$f":"IF($L142=\"\",\"\",IF(AND($L142>=Sheet1!$F$25,'Pupil List'!$L142<Sheet1!$G$25),Sheet1!$A$25,\"\"))","v":""},{"$error":"#N/A"},{"$f":"IFERROR(VLOOKUP(BK142,Sheet1!$A$2:$E$25,3,FALSE),\"\")","v":""},{"$f":"IFERROR(VLOOKUP(BK142,Sheet1!$A$2:$E$25,4,FALSE),\"\")","v":""},{"$f":"IFERROR(VLOOKUP(BK142,Sheet1!$A$2:$E$25,5,FALSE),\"\")","v":""},{"$f":"IFERROR(VLOOKUP(N142,Sheet1!$A$29:$B$38,2,FALSE),\"\")","v":""}]
["","","",null,null,null,null,null,"","","",null,"",null,"","","","","","","","","","","","","","","","","","","","","","","","",{"$f":"IF($L143=\"\",\"\",IF(AND($L143>=Sheet1!$F$2,'Pupil List'!$L143<Sheet1!$G$2),Sheet1!$A$2,\"\"))","v":""},{"$f":"IF($L143=\"\",\"\",IF(AND($L143>=Sheet1!$F$3,'Pupil List'!$L143<Sheet1!$G$3),Sheet1!$A$3,\"\"))","v":""},{"$f":"IF($L143=\"\",\"\",IF(AND($L143>=Sheet1!$F$4,'Pupil List'!$L143<Sheet1!$G$4),Sheet1!$A$4,\"\"))","v":""},{"$f":"IF($L143=\"\",\"\",IF(AND($L143>=Sheet1!$F$5,'Pupil List'!$L143<Sheet1!$G$5),Sheet1!$A$5,\"\"))","v":""},{"$f":"IF($L143=\"\",\"\",IF(AND($L143>=Sheet1!$F$6,'Pupil List'!$L143<Sheet1!$G$6),Sheet1!$A$6,\"\"))","v":""},{"$f":"IF($L143=\"\",\"\",IF(AND($L143>=Sheet1!$F$7,'Pupil List'!$L143<Sheet1!$G$7),Sheet1!$A$7,\"\"))","v":""},{"$f":"IF($L143=\"\",\"\",IF(AND($L143>=Sheet1!$F$8,'Pupil List'!$L143<Sheet1!$G$8),Sheet1!$A$8,\"\"))","v":""},{"$f":"IF($L143=\"\",\"\",IF(AND($L143>=Sheet1!$F$9,'Pupil List'!$L143<Sheet1!$G$9),Sheet1!$A$9,\"\"))","v":""},{"$f":"IF($L143=\"\",\"\",IF(AND($L143>=Sheet1!$F$10,'Pupil List'!$L143<Sheet1!$G$10),Sheet1!$A$10,\"\"))","v":""},{"$f":"IF($L143=\"\",\"\",IF(AND($L143>=Sheet1!$F$11,'Pupil List'!$L143<Sheet1!$G$11),Sheet1!$A$11,\"\"))","v":""},{"$f":"IF($L143=\"\",\"\",IF(AND($L143>=Sheet1!$F$12,'Pupil List'!$L143<Sheet1!$G$12),Sheet1!$A$12,\"\"))","v":""},{"$f":"IF($L143=\"\",\"\",IF(AND($L143>=Sheet1!$F$13,'Pupil List'!$L143<Sheet1!$G$13),Sheet1!$A$13,\"\"))","v":""},{"$f":"IF($L143=\"\",\"\",IF(AND($L143>=Sheet1!$F$14,'Pupil List'!$L143<Sheet1!$G$14),Sheet1!$A$14,\"\"))","v":""},{"$f":"IF($L143=\"\",\"\",IF(AND($L143>=Sheet1!$F$15,'Pupil List'!$L143<Sheet1!$G$15),Sheet1!$A$15,\"\"))","v":""},{"$f":"IF($L143=\"\",\"\",IF(AND($L143>=Sheet1!$F$16,'Pupil List'!$L143<Sheet1!$G$16),Sheet1!$A$16,\"\"))","v":""},{"$f":"IF($L143=\"\",\"\",IF(AND($L143>=Sheet1!$F$17,'Pupil List'!$L143<Sheet1!$G$17),Sheet1!$A$17,\"\"))","v":""},{"$f":"IF($L143=\"\",\"\",IF(AND($L143>=Sheet1!$F$18,'Pupil List'!$L143<Sheet1!$G$18),Sheet1!$A$18,\"\"))","v":""},{"$f":"IF($L143=\"\",\"\",IF(AND($L143>=Sheet1!$F$19,'Pupil List'!$L143<Sheet1!$G$19),Sheet1!$A$19,\"\"))","v":""},{"$f":"IF($L143=\"\",\"\",IF(AND($L143>=Sheet1!$F$20,'Pupil List'!$L143<Sheet1!$G$20),Sheet1!$A$20,\"\"))","v":""},{"$f":"IF($L143=\"\",\"\",IF(AND($L143>=Sheet1!$F$21,'Pupil List'!$L143<Sheet1!$G$21),Sheet1!$A$21,\"\"))","v":""},{"$f":"IF($L143=\"\",\"\",IF(AND($L143>=Sheet1!$F$22,'Pupil List'!$L143<Sheet1!$G$22),Sheet1!$A$22,\"\"))","v":""},{"$f":"IF($L143=\"\",\"\",IF(AND($L143>=Sheet1!$F$23,'Pupil List'!$L143<Sheet1!$G$23),Sheet1!$A$23,\"\"))","v":""},{"$f":"IF($L143=\"\",\"\",IF(AND($L143>=Sheet1!$F$24,'Pupil List'!$L143<Sheet1!$G$24),Sheet1!$A$24,\"\"))","v":""},{"$f":"IF($L143=\"\",\"\",IF(AND($L143>=Sheet1!$F$25,'Pupil List'!$L143<Sheet1!$G$25),Sheet1!$A$25,\"\"))","v":""},{"$error":"#N/A"},{"$f":"IFERROR(VLOOKUP(BK143,Sheet1!$A$2:$E$25,3,FALSE),\"\")","v":""},{"$f":"IFERROR(VLOOKUP(BK143,Sheet1!$A$2:$E$25,4,FALSE),\"\")","v":""},{"$f":"IFERROR(VLOOKUP(BK143,Sheet1!$A$2:$E$25,5,FALSE),\"\")","v":""},{"$f":"IFERROR(VLOOKUP(N143,Sheet1!$A$29:$B$38,2,FALSE),\"\")","v":""}]
["","","",null,null,null,null,null,"","","",null,"",null,"","","","","","","","","","","","","","","","","","","","","","","","",{"$f":"IF($L144=\"\",\"\",IF(AND($L144>=Sheet1!$F$2,'Pupil List'!$L144<Sheet1!$G$2),Sheet1!$A$2,\"\"))","v":""},{"$f":"IF($L144=\"\",\"\",IF(AND($L144>=Sheet1!$F$3,'Pupil List'!$L144<Sheet1!$G$3),Sheet1!$A$3,\"\"))","v":""},{"$f":"IF($L144=\"\",\"\",IF(AND($L144>=Sheet1!$F$4,'Pupil List'!$L144<Sheet1!$G$4),Sheet1!$A$4,\"\"))","v":""},{"$f":"IF($L144=\"\",\"\",IF(AND($L144>=Sheet1!$F$5,'Pupil List'!$L144<Sheet1!$G$5),Sheet1!$A$5,\"\"))","v":""},{"$f":"IF($L144=\"\",\"\",IF(AND($L144>=Sheet1!$F$6,'Pupil List'!$L144<Sheet1!$G$6),Sheet1!$A$6,\"\"))","v":""},{"$f":"IF($L144=\"\",\"\",IF(AND($L144>=Sheet1!$F$7,'Pupil List'!$L144<Sheet1!$G$7),Sheet1!$A$7,\"\"))","v":""},{"$f":"IF($L144=\"\",\"\",IF(AND($L144>=Sheet1!$F$8,'Pupil List'!$L144<Sheet1!$G$8),Sheet1!$A$8,\"\"))","v":""},{"$f":"IF($L144=\"\",\"\",IF(AND($L144>=Sheet1!$F$9,'Pupil List'!$L144<Sheet1!$G$9),Sheet1!$A$9,\"\"))","v":""},{"$f":"IF($L144=\"\",\"\",IF(AND($L144>=Sheet1!$F$10,'Pupil List'!$L144<Sheet1!$G$10),Sheet1!$A$10,\"\"))","v":""},{"$f":"IF($L144=\"\",\"\",IF(AND($L144>=Sheet1!$F$11,'Pupil List'!$L144<Sheet1!$G$11),Sheet1!$A$11,\"\"))","v":""},{"$f":"IF($L144=\"\",\"\",IF(AND($L144>=Sheet1!$F$12,'Pupil List'!$L144<Sheet1!$G$12),Sheet1!$A$12,\"\"))","v":""},{"$f":"IF($L144=\"\",\"\",IF(AND($L144>=Sheet1!$F$13,'Pupil List'!$L144<Sheet1!$G$13),Sheet1!$A$13,\"\"))","v":""},{"$f":"IF($L144=\"\",\"\",IF(AND($L144>=Sheet1!$F$14,'Pupil List'!$L144<Sheet1!$G$14),Sheet1!$A$14,\"\"))","v":""},{"$f":"IF($L144=\"\",\"\",IF(AND($L144>=Sheet1!$F$15,'Pupil List'!$L144<Sheet1!$G$15),Sheet1!$A$15,\"\"))","v":""},{"$f":"IF($L144=\"\",\"\",IF(AND($L144>=Sheet1!$F$16,'Pupil List'!$L144<Sheet1!$G$16),Sheet1!$A$16,\"\"))","v":""},{"$f":"IF($L144=\"\",\"\",IF(AND($L144>=Sheet1!$F$17,'Pupil List'!$L144<Sheet1!$G$17),Sheet1!$A$17,\"\"))","v":""},{"$f":"IF($L144=\"\",\"\",IF(AND($L144>=Sheet1!$F$18,'Pupil List'!$L144<Sheet1!$G$18),Sheet1!$A$18,\"\"))","v":""},{"$f":"IF($L144=\"\",\"\",IF(AND($L144>=Sheet1!$F$19,'Pupil List'!$L144<Sheet1!$G$19),Sheet1!$A$19,\"\"))","v":""},{"$f":"IF($L144=\"\",\"\",IF(AND($L144>=Sheet1!$F$20,'Pupil List'!$L144<Sheet1!$G$20),Sheet1!$A$20,\"\"))","v":""},{"$f":"IF($L144=\"\",\"\",IF(AND($L144>=Sheet1!$F$21,'Pupil List'!$L144<Sheet1!$G$21),Sheet1!$A$21,\"\"))","v":""},{"$f":"IF($L144=\"\",\"\",IF(AND($L144>=Sheet1!$F$22,'Pupil List'!$L144<Sheet1!$G$22),Sheet1!$A$22,\"\"))","v":""},{"$f":"IF($L144=\"\",\"\",IF(AND($L144>=Sheet1!$F$23,'Pupil List'!$L144<Sheet1!$G$23),Sheet1!$A$23,\"\"))","v":""},{"$f":"IF($L144=\"\",\"\",IF(AND($L144>=Sheet1!$F$24,'Pupil List'!$L144<Sheet1!$G$24),Sheet1!$A$24,\"\"))","v":""},{"$f":"IF($L144=\"\",\"\",IF(AND($L144>=Sheet1!$F$25,'Pupil List'!$L144<Sheet1!$G$25),Sheet1!$A$25,\"\"))","v":""},{"$error":"#N/A"},{"$f":"IFERROR(VLOOKUP(BK144,Sheet1!$A$2:$E$25,3,FALSE),\"\")","v":""},{"$f":"IFERROR(VLOOKUP(BK144,Sheet1!$A$2:$E$25,4,FALSE),\"\")","v":""},{"$f":"IFERROR(VLOOKUP(BK144,Sheet1!$A$2:$E$25,5,FALSE),\"\")","v":""},{"$f":"IFERROR(VLOOKUP(N144,Sheet1!$A$29:$B$38,2,FALSE),\"\")","v":""}]
["","","",null,null,null,null,null,"","","",null,"",null,"","","","","","","","","","","","","","","","","","","","","","","","",{"$f":"IF($L145=\"\",\"\",IF(AND($L145>=Sheet1!$F$2,'Pupil List'!$L145<Sheet1!$G$2),Sheet1!$A$2,\"\"))","v":""},{"$f":"IF($L145=\"\",\"\",IF(AND($L145>=Sheet1!$F$3,'Pupil List'!$L145<Sheet1!$G$3),Sheet1!$A$3,\"\"))","v":""},{"$f":"IF($L145=\"\",\"\",IF(AND($L145>=Sheet1!$F$4,'Pupil List'!$L145<Sheet1!$G$4),Sheet1!$A$4,\"\"))","v":""},{"$f":"IF($L145=\"\",\"\",IF(AND($L145>=Sheet1!$F$5,'Pupil List'!$L145<Sheet1!$G$5),Sheet1!$A$5,\"\"))","v":""},{"$f":"IF($L145=\"\",\"\",IF(AND($L145>=Sheet1!$F$6,'Pupil List'!$L145<Sheet1!$G$6),Sheet1!$A$6,\"\"))","v":""},{"$f":"IF($L145=\"\",\"\",IF(AND($L145>=Sheet1!$F$7,'Pupil List'!$L145<Sheet1!$G$7),Sheet1!$A$7,\"\"))","v":""},{"$f":"IF($L145=\"\",\"\",IF(AND($L145>=Sheet1!$F$8,'Pupil List'!$L145<Sheet1!$G$8),Sheet1!$A$8,\"\"))","v":""},{"$f":"IF($L145=\"\",\"\",IF(AND($L145>=Sheet1!$F$9,'Pupil List'!$L145<Sheet1!$G$9),Sheet1!$A$9,\"\"))","v":""},{"$f":"IF($L145=\"\",\"\",IF(AND($L145>=Sheet1!$F$10,'Pupil List'!$L145<Sheet1!$G$10),Sheet1!$A$10,\"\"))","v":""},{"$f":"IF($L145=\"\",\"\",IF(AND($L145>=Sheet1!$F$11,'Pupil List'!$L145<Sheet1!$G$11),Sheet1!$A$11,\"\"))","v":""},{"$f":"IF($L145=\"\",\"\",IF(AND($L145>=Sheet1!$F$12,'Pupil List'!$L145<Sheet1!$G$12),Sheet1!$A$12,\"\"))","v":""},{"$f":"IF($L145=\"\",\"\",IF(AND($L145>=Sheet1!$F$13,'Pupil List'!$L145<Sheet1!$G$13),Sheet1!$A$13,\"\"))","v":""},{"$f":"IF($L145=\"\",\"\",IF(AND($L145>=Sheet1!$F$14,'Pupil List'!$L145<Sheet1!$G$14),Sheet1!$A$14,\"\"))","v":""},{"$f":"IF($L145=\"\",\"\",IF(AND($L145>=Sheet1!$F$15,'Pupil List'!$L145<Sheet1!$G$15),Sheet1!$A$15,\"\"))","v":""},{"$f":"IF($L145=\"\",\"\",IF(AND($L145>=Sheet1!$F$16,'Pupil List'!$L145<Sheet1!$G$16),Sheet1!$A$16,\"\"))","v":""},{"$f":"IF($L145=\"\",\"\",IF(AND($L145>=Sheet1!$F$17,'Pupil List'!$L145<Sheet1!$G$17),Sheet1!$A$17,\"\"))","v":""},{"$f":"IF($L145=\"\",\"\",IF(AND($L145>=Sheet1!$F$18,'Pupil List'!$L145<Sheet1!$G$18),Sheet1!$A$18,\"\"))","v":""},{"$f":"IF($L145=\"\",\"\",IF(AND($L145>=Sheet1!$F$19,'Pupil List'!$L145<Sheet1!$G$19),Sheet1!$A$19,\"\"))","v":""},{"$f":"IF($L145=\"\",\"\",IF(AND($L145>=Sheet1!$F$20,'Pupil List'!$L145<Sheet1!$G$20),Sheet1!$A$20,\"\"))","v":""},{"$f":"IF($L145=\"\",\"\",IF(AND($L145>=Sheet1!$F$21,'Pupil List'!$L145<Sheet1!$G$21),Sheet1!$A$21,\"\"))","v":""},{"$f":"IF($L145=\"\",\"\",IF(AND($L145>=Sheet1!$F$22,'Pupil List'!$L145<Sheet1!$G$22),Sheet1!$A$22,\"\"))","v":""},{"$f":"IF($L145=\"\",\"\",IF(AND($L145>=Sheet1!$F$23,'Pupil List'!$L145<Sheet1!$G$23),Sheet1!$A$23,\"\"))","v":""},{"$f":"IF($L145=\"\",\"\",IF(AND($L145>=Sheet1!$F$24,'Pupil List'!$L145<Sheet1!$G$24),Sheet1!$A$24,\"\"))","v":""},{"$f":"IF($L145=\"\",\"\",IF(AND($L145>=Sheet1!$F$25,'Pupil List'!$L145<Sheet1!$G$25),Sheet1!$A$25,\"\"))","v":""},{"$error":"#N/A"},{"$f":"IFERROR(VLOOKUP(BK145,Sheet1!$A$2:$E$25,3,FALSE),\"\")","v":""},{"$f":"IFERROR(VLOOKUP(BK145,Sheet1!$A$2:$E$25,4,FALSE),\"\")","v":""},{"$f":"IFERROR(VLOOKUP(BK145,Sheet1!$A$2:$E$25,5,FALSE),\"\")","v":""},{"$f":"IFERROR(VLOOKUP(N145,Sheet1!$A$29:$B$38,2,FALSE),\"\")","v":""}]
["","","",null,null,null,null,null,"","","",null,"",null,"","","","","","","","","","","","","","","","","","","","","","","","",{"$f":"IF($L146=\"\",\"\",IF(AND($L146>=Sheet1!$F$2,'Pupil List'!$L146<Sheet1!$G$2),Sheet1!$A$2,\"\"))","v":""},{"$f":"IF($L146=\"\",\"\",IF(AND($L146>=Sheet1!$F$3,'Pupil List'!$L146<Sheet1!$G$3),Sheet1!$A$3,\"\"))","v":""},{"$f":"IF($L146=\"\",\"\",IF(AND($L146>=Sheet1!$F$4,'Pupil List'!$L146<Sheet1!$G$4),Sheet1!$A$4,\"\"))","v":""},{"$f":"IF($L146=\"\",\"\",IF(AND($L146>=Sheet1!$F$5,'Pupil List'!$L146<Sheet1!$G$5),Sheet1!$A$5,\"\"))","v":""},{"$f":"IF($L146=\"\",\"\",IF(AND($L146>=Sheet1!$F$6,'Pupil List'!$L146<Sheet1!$G$6),Sheet1!$A$6,\"\"))","v":""},{"$f":"IF($L146=\"\",\"\",IF(AND($L146>=Sheet1!$F$7,'Pupil List'!$L146<Sheet1!$G$7),Sheet1!$A$7,\"\"))","v":""},{"$f":"IF($L146=\"\",\"\",IF(AND($L146>=Sheet1!$F$8,'Pupil List'!$L146<Sheet1!$G$8),Sheet1!$A$8,\"\"))","v":""},{"$f":"IF($L146=\"\",\"\",IF(AND($L146>=Sheet1!$F$9,'Pupil List'!$L146<Sheet1!$G$9),Sheet1!$A$9,\"\"))","v":""},{"$f":"IF($L146=\"\",\"\",IF(AND($L146>=Sheet1!$F$10,'Pupil List'!$L146<Sheet1!$G$10),Sheet1!$A$10,\"\"))","v":""},{"$f":"IF($L146=\"\",\"\",IF(AND($L146>=Sheet1!$F$11,'Pupil List'!$L146<Sheet1!$G$11),Sheet1!$A$11,\"\"))","v":""},{"$f":"IF($L146=\"\",\"\",IF(AND($L146>=Sheet1!$F$12,'Pupil List'!$L146<Sheet1!$G$12),Sheet1!$A$12,\"\"))","v":""},{"$f":"IF($L146=\"\",\"\",IF(AND($L146>=Sheet1!$F$13,'Pupil List'!$L146<Sheet1!$G$13),Sheet1!$A$13,\"\"))","v":""},{"$f":"IF($L146=\"\",\"\",IF(AND($L146>=Sheet1!$F$14,'Pupil List'!$L146<Sheet1!$G$14),Sheet1!$A$14,\"\"))","v":""},{"$f":"IF($L146=\"\",\"\",IF(AND($L146>=Sheet1!$F$15,'Pupil List'!$L146<Sheet1!$G$15),Sheet1!$A$15,\"\"))","v":""},{"$f":"IF($L146=\"\",\"\",IF(AND($L146>=Sheet1!$F$16,'Pupil List'!$L146<Sheet1!$G$16),Sheet1!$A$16,\"\"))","v":""},{"$f":"IF($L146=\"\",\"\",IF(AND($L146>=Sheet1!$F$17,'Pupil List'!$L146<Sheet1!$G$17),Sheet1!$A$17,\"\"))","v":""},{"$f":"IF($L146=\"\",\"\",IF(AND($L146>=Sheet1!$F$18,'Pupil List'!$L146<Sheet1!$G$18),Sheet1!$A$18,\"\"))","v":""},{"$f":"IF($L146=\"\",\"\",IF(AND($L146>=Sheet1!$F$19,'Pupil List'!$L146<Sheet1!$G$19),Sheet1!$A$19,\"\"))","v":""},{"$f":"IF($L146=\"\",\"\",IF(AND($L146>=Sheet1!$F$20,'Pupil List'!$L146<Sheet1!$G$20),Sheet1!$A$20,\"\"))","v":""},{"$f":"IF($L146=\"\",\"\",IF(AND($L146>=Sheet1!$F$21,'Pupil List'!$L146<Sheet1!$G$21),Sheet1!$A$21,\"\"))","v":""},{"$f":"IF($L146=\"\",\"\",IF(AND($L146>=Sheet1!$F$22,'Pupil List'!$L146<Sheet1!$G$22),Sheet1!$A$22,\"\"))","v":""},{"$f":"IF($L146=\"\",\"\",IF(AND($L146>=Sheet1!$F$23,'Pupil List'!$L146<Sheet1!$G$23),Sheet1!$A$23,\"\"))","v":""},{"$f":"IF($L146=\"\",\"\",IF(AND($L146>=Sheet1!$F$24,'Pupil List'!$L146<Sheet1!$G$24),Sheet1!$A$24,\"\"))","v":""},{"$f":"IF($L146=\"\",\"\",IF(AND($L146>=Sheet1!$F$25,'Pupil List'!$L146<Sheet1!$G$25),Sheet1!$A$25,\"\"))","v":""},{"$error":"#N/A"},{"$f":"IFERROR(VLOOKUP(BK146,Sheet1!$A$2:$E$25,3,FALSE),\"\")","v":""},{"$f":"IFERROR(VLOOKUP(BK146,Sheet1!$A$2:$E$25,4,FALSE),\"\")","v":""},{"$f":"IFERROR(VLOOKUP(BK146,Sheet1!$A$2:$E$25,5,FALSE),\"\")","v":""},{"$f":"IFERROR(VLOOKUP(N146,Sheet1!$A$29:$B$38,2,FALSE),\"\")","v":""}]
["","","",null,null,null,null,null,"","","",null,"",null,"","","","","","","","","","","","","","","","","","","","","","","","",{"$f":"IF($L147=\"\",\"\",IF(AND($L147>=Sheet1!$F$2,'Pupil List'!$L147<Sheet1!$G$2),Sheet1!$A$2,\"\"))","v":""},{"$f":"IF($L147=\"\",\"\",IF(AND($L147>=Sheet1!$F$3,'Pupil List'!$L147<Sheet1!$G$3),Sheet1!$A$3,\"\"))","v":""},{"$f":"IF($L147=\"\",\"\",IF(AND($L147>=Sheet1!$F$4,'Pupil List'!$L147<Sheet1!$G$4),Sheet1!$A$4,\"\"))","v":""},{"$f":"IF($L147=\"\",\"\",IF(AND($L147>=Sheet1!$F$5,'Pupil List'!$L147<Sheet1!$G$5),Sheet1!$A$5,\"\"))","v":""},{"$f":"IF($L147=\"\",\"\",IF(AND($L147>=Sheet1!$F$6,'Pupil List'!$L147<Sheet1!$G$6),Sheet1!$A$6,\"\"))","v":""},{"$f":"IF($L147=\"\",\"\",IF(AND($L147>=Sheet1!$F$7,'Pupil List'!$L147<Sheet1!$G$7),Sheet1!$A$7,\"\"))","v":""},{"$f":"IF($L147=\"\",\"\",IF(AND($L147>=Sheet1!$F$8,'Pupil List'!$L147<Sheet1!$G$8),Sheet1!$A$8,\"\"))","v":""},{"$f":"IF($L147=\"\",\"\",IF(AND($L147>=Sheet1!$F$9,'Pupil List'!$L147<Sheet1!$G$9),Sheet1!$A$9,\"\"))","v":""},{"$f":"IF($L147=\"\",\"\",IF(AND($L147>=Sheet1!$F$10,'Pupil List'!$L147<Sheet1!$G$10),Sheet1!$A$10,\"\"))","v":""},{"$f":"IF($L147=\"\",\"\",IF(AND($L147>=Sheet1!$F$11,'Pupil List'!$L147<Sheet1!$G$11),Sheet1!$A$11,\"\"))","v":""},{"$f":"IF($L147=\"\",\"\",IF(AND($L147>=Sheet1!$F$12,'Pupil List'!$L147<Sheet1!$G$12),Sheet1!$A$12,\"\"))","v":""},{"$f":"IF($L147=\"\",\"\",IF(AND($L147>=Sheet1!$F$13,'Pupil List'!$L147<Sheet1!$G$13),Sheet1!$A$13,\"\"))","v":""},{"$f":"IF($L147=\"\",\"\",IF(AND($L147>=Sheet1!$F$14,'Pupil List'!$L147<Sheet1!$G$14),Sheet1!$A$14,\"\"))","v":""},{"$f":"IF($L147=\"\",\"\",IF(AND($L147>=Sheet1!$F$15,'Pupil List'!$L147<Sheet1!$G$15),Sheet1!$A$15,\"\"))","v":""},{"$f":"IF($L147=\"\",\"\",IF(AND($L147>=Sheet1!$F$16,'Pupil List'!$L147<Sheet1!$G$16),Sheet1!$A$16,\"\"))","v":""},{"$f":"IF($L147=\"\",\"\",IF(AND($L147>=Sheet1!$F$17,'Pupil List'!$L147<Sheet1!$G$17),Sheet1!$A$17,\"\"))","v":""},{"$f":"IF($L147=\"\",\"\",IF(AND($L147>=Sheet1!$F$18,'Pupil List'!$L147<Sheet1!$G$18),Sheet1!$A$18,\"\"))","v":""},{"$f":"IF($L147=\"\",\"\",IF(AND($L147>=Sheet1!$F$19,'Pupil List'!$L147<Sheet1!$G$19),Sheet1!$A$19,\"\"))","v":""},{"$f":"IF($L147=\"\",\"\",IF(AND($L147>=Sheet1!$F$20,'Pupil List'!$L147<Sheet1!$G$20),Sheet1!$A$20,\"\"))","v":""},{"$f":"IF($L147=\"\",\"\",IF(AND($L147>=Sheet1!$F$21,'Pupil List'!$L147<Sheet1!$G$21),Sheet1!$A$21,\"\"))","v":""},{"$f":"IF($L147=\"\",\"\",IF(AND($L147>=Sheet1!$F$22,'Pupil List'!$L147<Sheet1!$G$22),Sheet1!$A$22,\"\"))","v":""},{"$f":"IF($L147=\"\",\"\",IF(AND($L147>=Sheet1!$F$23,'Pupil List'!$L147<Sheet1!$G$23),Sheet1!$A$23,\"\"))","v":""},{"$f":"IF($L147=\"\",\"\",IF(AND($L147>=Sheet1!$F$24,'Pupil List'!$L147<Sheet1!$G$24),Sheet1!$A$24,\"\"))","v":""},{"$f":"IF($L147=\"\",\"\",IF(AND($L147>=Sheet1!$F$25,'Pupil List'!$L147<Sheet1!$G$25),Sheet1!$A$25,\"\"))","v":""},{"$error":"#N/A"},{"$f":"IFERROR(VLOOKUP(BK147,Sheet1!$A$2:$E$25,3,FALSE),\"\")","v":""},{"$f":"IFERROR(VLOOKUP(BK147,Sheet1!$A$2:$E$25,4,FALSE),\"\")","v":""},{"$f":"IFERROR(VLOOKUP(BK147,Sheet1!$A$2:$E$25,5,FALSE),\"\")","v":""},{"$f":"IFERROR(VLOOKUP(N147,Sheet1!$A$29:$B$38,2,FALSE),\"\")","v":""}]
["","","",null,null,null,null,null,"","","",null,"",null,"","","","","","","","","","","","","","","","","","","","","","","","",{"$f":"IF($L148=\"\",\"\",IF(AND($L148>=Sheet1!$F$2,'Pupil List'!$L148<Sheet1!$G$2),Sheet1!$A$2,\"\"))","v":""},{"$f":"IF($L148=\"\",\"\",IF(AND($L148>=Sheet1!$F$3,'Pupil List'!$L148<Sheet1!$G$3),Sheet1!$A$3,\"\"))","v":""},{"$f":"IF($L148=\"\",\"\",IF(AND($L148>=Sheet1!$F$4,'Pupil List'!$L148<Sheet1!$G$4),Sheet1!$A$4,\"\"))","v":""},{"$f":"IF($L148=\"\",\"\",IF(AND($L148>=Sheet1!$F$5,'Pupil List'!$L148<Sheet1!$G$5),Sheet1!$A$5,\"\"))","v":""},{"$f":"IF($L148=\"\",\"\",IF(AND($L148>=Sheet1!$F$6,'Pupil List'!$L148<Sheet1!$G$6),Sheet1!$A$6,\"\"))","v":""},{"$f":"IF($L148=\"\",\"\",IF(AND($L148>=Sheet1!$F$7,'Pupil List'!$L148<Sheet1!$G$7),Sheet1!$A$7,\"\"))","v":""},{"$f":"IF($L148=\"\",\"\",IF(AND($L148>=Sheet1!$F$8,'Pupil List'!$L148<Sheet1!$G$8),Sheet1!$A$8,\"\"))","v":""},{"$f":"IF($L148=\"\",\"\",IF(AND($L148>=Sheet1!$F$9,'Pupil List'!$L148<Sheet1!$G$9),Sheet1!$A$9,\"\"))","v":""},{"$f":"IF($L148=\"\",\"\",IF(AND($L148>=Sheet1!$F$10,'Pupil List'!$L148<Sheet1!$G$10),Sheet1!$A$10,\"\"))","v":""},{"$f":"IF($L148=\"\",\"\",IF(AND($L148>=Sheet1!$F$11,'Pupil List'!$L148<Sheet1!$G$11),Sheet1!$A$11,\"\"))","v":""},{"$f":"IF($L148=\"\",\"\",IF(AND($L148>=Sheet1!$F$12,'Pupil List'!$L148<Sheet1!$G$12),Sheet1!$A$12,\"\"))","v":""},{"$f":"IF($L148=\"\",\"\",IF(AND($L148>=Sheet1!$F$13,'Pupil List'!$L148<Sheet1!$G$13),Sheet1!$A$13,\"\"))","v":""},{"$f":"IF($L148=\"\",\"\",IF(AND($L148>=Sheet1!$F$14,'Pupil List'!$L148<Sheet1!$G$14),Sheet1!$A$14,\"\"))","v":""},{"$f":"IF($L148=\"\",\"\",IF(AND($L148>=Sheet1!$F$15,'Pupil List'!$L148<Sheet1!$G$15),Sheet1!$A$15,\"\"))","v":""},{"$f":"IF($L148=\"\",\"\",IF(AND($L148>=Sheet1!$F$16,'Pupil List'!$L148<Sheet1!$G$16),Sheet1!$A$16,\"\"))","v":""},{"$f":"IF($L148=\"\",\"\",IF(AND($L148>=Sheet1!$F$17,'Pupil List'!$L148<Sheet1!$G$17),Sheet1!$A$17,\"\"))","v":""},{"$f":"IF($L148=\"\",\"\",IF(AND($L148>=Sheet1!$F$18,'Pupil List'!$L148<Sheet1!$G$18),Sheet1!$A$18,\"\"))","v":""},{"$f":"IF($L148=\"\",\"\",IF(AND($L148>=Sheet1!$F$19,'Pupil List'!$L148<Sheet1!$G$19),Sheet1!$A$19,\"\"))","v":""},{"$f":"IF($L148=\"\",\"\",IF(AND($L148>=Sheet1!$F$20,'Pupil List'!$L148<Sheet1!$G$20),Sheet1!$A$20,\"\"))","v":""},{"$f":"IF($L148=\"\",\"\",IF(AND($L148>=Sheet1!$F$21,'Pupil List'!$L148<Sheet1!$G$21),Sheet1!$A$21,\"\"))","v":""},{"$f":"IF($L148=\"\",\"\",IF(AND($L148>=Sheet1!$F$22,'Pupil List'!$L148<Sheet1!$G$22),Sheet1!$A$22,\"\"))","v":""},{"$f":"IF($L148=\"\",\"\",IF(AND($L148>=Sheet1!$F$23,'Pupil List'!$L148<Sheet1!$G$23),Sheet1!$A$23,\"\"))","v":""},{"$f":"IF($L148=\"\",\"\",IF(AND($L148>=Sheet1!$F$24,'Pupil List'!$L148<Sheet1!$G$24),Sheet1!$A$24,\"\"))","v":""},{"$f":"IF($L148=\"\",\"\",IF(AND($L148>=Sheet1!$F$25,'Pupil List'!$L148<Sheet1!$G$25),Sheet1!$A$25,\"\"))","v":""},{"$error":"#N/A"},{"$f":"IFERROR(VLOOKUP(BK148,Sheet1!$A$2:$E$25,3,FALSE),\"\")","v":""},{"$f":"IFERROR(VLOOKUP(BK148,Sheet1!$A$2:$E$25,4,FALSE),\"\")","v":""},{"$f":"IFERROR(VLOOKUP(BK148,Sheet1!$A$2:$E$25,5,FALSE),\"\")","v":""},{"$f":"IFERROR(VLOOKUP(N148,Sheet1!$A$29:$B$38,2,FALSE),\"\")","v":""}]
["","","",null,null,null,null,null,"","","",null,"",null,"","","","","","","","","","","","","","","","","","","","","","","","",{"$f":"IF($L149=\"\",\"\",IF(AND($L149>=Sheet1!$F$2,'Pupil List'!$L149<Sheet1!$G$2),Sheet1!$A$2,\"\"))","v":""},{"$f":"IF($L149=\"\",\"\",IF(AND($L149>=Sheet1!$F$3,'Pupil List'!$L149<Sheet1!$G$3),Sheet1!$A$3,\"\"))","v":""},{"$f":"IF($L149=\"\",\"\",IF(AND($L149>=Sheet1!$F$4,'Pupil List'!$L149<Sheet1!$G$4),Sheet1!$A$4,\"\"))","v":""},{"$f":"IF($L149=\"\",\"\",IF(AND($L149>=Sheet1!$F$5,'Pupil List'!$L149<Sheet1!$G$5),Sheet1!$A$5,\"\"))","v":""},{"$f":"IF($L149=\"\",\"\",IF(AND($L149>=Sheet1!$F$6,'Pupil List'!$L149<Sheet1!$G$6),Sheet1!$A$6,\"\"))","v":""},{"$f":"IF($L149=\"\",\"\",IF(AND($L149>=Sheet1!$F$7,'Pupil List'!$L149<Sheet1!$G$7),Sheet1!$A$7,\"\"))","v":""},{"$f":"IF($L149=\"\",\"\",IF(AND($L149>=Sheet1!$F$8,'Pupil List'!$L149<Sheet1!$G$8),Sheet1!$A$8,\"\"))","v":""},{"$f":"IF($L149=\"\",\"\",IF(AND($L149>=Sheet1!$F$9,'Pupil List'!$L149<Sheet1!$G$9),Sheet1!$A$9,\"\"))","v":""},{"$f":"IF($L149=\"\",\"\",IF(AND($L149>=Sheet1!$F$10,'Pupil List'!$L149<Sheet1!$G$10),Sheet1!$A$10,\"\"))","v":""},{"$f":"IF($L149=\"\",\"\",IF(AND($L149>=Sheet1!$F$11,'Pupil List'!$L149<Sheet1!$G$11),Sheet1!$A$11,\"\"))","v":""},{"$f":"IF($L149=\"\",\"\",IF(AND($L149>=Sheet1!$F$12,'Pupil List'!$L149<Sheet1!$G$12),Sheet1!$A$12,\"\"))","v":""},{"$f":"IF($L149=\"\",\"\",IF(AND($L149>=Sheet1!$F$13,'Pupil List'!$L149<Sheet1!$G$13),Sheet1!$A$13,\"\"))","v":""},{"$f":"IF($L149=\"\",\"\",IF(AND($L149>=Sheet1!$F$14,'Pupil List'!$L149<Sheet1!$G$14),Sheet1!$A$14,\"\"))","v":""},{"$f":"IF($L149=\"\",\"\",IF(AND($L149>=Sheet1!$F$15,'Pupil List'!$L149<Sheet1!$G$15),Sheet1!$A$15,\"\"))","v":""},{"$f":"IF($L149=\"\",\"\",IF(AND($L149>=Sheet1!$F$16,'Pupil List'!$L149<Sheet1!$G$16),Sheet1!$A$16,\"\"))","v":""},{"$f":"IF($L149=\"\",\"\",IF(AND($L149>=Sheet1!$F$17,'Pupil List'!$L149<Sheet1!$G$17),Sheet1!$A$17,\"\"))","v":""},{"$f":"IF($L149=\"\",\"\",IF(AND($L149>=Sheet1!$F$18,'Pupil List'!$L149<Sheet1!$G$18),Sheet1!$A$18,\"\"))","v":""},{"$f":"IF($L149=\"\",\"\",IF(AND($L149>=Sheet1!$F$19,'Pupil List'!$L149<Sheet1!$G$19),Sheet1!$A$19,\"\"))","v":""},{"$f":"IF($L149=\"\",\"\",IF(AND($L149>=Sheet1!$F$20,'Pupil List'!$L149<Sheet1!$G$20),Sheet1!$A$20,\"\"))","v":""},{"$f":"IF($L149=\"\",\"\",IF(AND($L149>=Sheet1!$F$21,'Pupil List'!$L149<Sheet1!$G$21),Sheet1!$A$21,\"\"))","v":""},{"$f":"IF($L149=\"\",\"\",IF(AND($L149>=Sheet1!$F$22,'Pupil List'!$L149<Sheet1!$G$22),Sheet1!$A$22,\"\"))","v":""},{"$f":"IF($L149=\"\",\"\",IF(AND($L149>=Sheet1!$F$23,'Pupil List'!$L149<Sheet1!$G$23),Sheet1!$A$23,\"\"))","v":""},{"$f":"IF($L149=\"\",\"\",IF(AND($L149>=Sheet1!$F$24,'Pupil List'!$L149<Sheet1!$G$24),Sheet1!$A$24,\"\"))","v":""},{"$f":"IF($L149=\"\",\"\",IF(AND($L149>=Sheet1!$F$25,'Pupil List'!$L149<Sheet1!$G$25),Sheet1!$A$25,\"\"))","v":""},{"$error":"#N/A"},{"$f":"IFERROR(VLOOKUP(BK149,Sheet1!$A$2:$E$25,3,FALSE),\"\")","v":""},{"$f":"IFERROR(VLOOKUP(BK149,Sheet1!$A$2:$E$25,4,FALSE),\"\")","v":""},{"$f":"IFERROR(VLOOKUP(BK149,Sheet1!$A$2:$E$25,5,FALSE),\"\")","v":""},{"$f":"IFERROR(VLOOKUP(N149,Sheet1!$A$29:$B$38,2,FALSE),\"\")","v":""}]
["","","",null,null,null,null,null,"","","",null,"",null,"","","","","","","","","","","","","","","","","","","","","","","","",{"$f":"IF($L150=\"\",\"\",IF(AND($L150>=Sheet1!$F$2,'Pupil List'!$L150<Sheet1!$G$2),Sheet1!$A$2,\"\"))","v":""},{"$f":"IF($L150=\"\",\"\",IF(AND($L150>=Sheet1!$F$3,'Pupil List'!$L150<Sheet1!$G$3),Sheet1!$A$3,\"\"))","v":""},{"$f":"IF($L150=\"\",\"\",IF(AND($L150>=Sheet1!$F$4,'Pupil List'!$L150<Sheet1!$G$4),Sheet1!$A$4,\"\"))","v":""},{"$f":"IF($L150=\"\",\"\",IF(AND($L150>=Sheet1!$F$5,'Pupil List'!$L150<Sheet1!$G$5),Sheet1!$A$5,\"\"))","v":""},{"$f":"IF($L150=\"\",\"\",IF(AND($L150>=Sheet1!$F$6,'Pupil List'!$L150<Sheet1!$G$6),Sheet1!$A$6,\"\"))","v":""},{"$f":"IF($L150=\"\",\"\",IF(AND($L150>=Sheet1!$F$7,'Pupil List'!$L150<Sheet1!$G$7),Sheet1!$A$7,\"\"))","v":""},{"$f":"IF($L150=\"\",\"\",IF(AND($L150>=Sheet1!$F$8,'Pupil List'!$L150<Sheet1!$G$8),Sheet1!$A$8,\"\"))","v":""},{"$f":"IF($L150=\"\",\"\",IF(AND($L150>=Sheet1!$F$9,'Pupil List'!$L150<Sheet1!$G$9),Sheet1!$A$9,\"\"))","v":""},{"$f":"IF($L150=\"\",\"\",IF(AND($L150>=Sheet1!$F$10,'Pupil List'!$L150<Sheet1!$G$10),Sheet1!$A$10,\"\"))","v":""},{"$f":"IF($L150=\"\",\"\",IF(AND($L150>=Sheet1!$F$11,'Pupil List'!$L150<Sheet1!$G$11),Sheet1!$A$11,\"\"))","v":""},{"$f":"IF($L150=\"\",\"\",IF(AND($L150>=Sheet1!$F$12,'Pupil List'!$L150<Sheet1!$G$12),Sheet1!$A$12,\"\"))","v":""},{"$f":"IF($L150=\"\",\"\",IF(AND($L150>=Sheet1!$F$13,'Pupil List'!$L150<Sheet1!$G$13),Sheet1!$A$13,\"\"))","v":""},{"$f":"IF($L150=\"\",\"\",IF(AND($L150>=Sheet1!$F$14,'Pupil List'!$L150<Sheet1!$G$14),Sheet1!$A$14,\"\"))","v":""},{"$f":"IF($L150=\"\",\"\",IF(AND($L150>=Sheet1!$F$15,'Pupil List'!$L150<Sheet1!$G$15),Sheet1!$A$15,\"\"))","v":""},{"$f":"IF($L150=\"\",\"\",IF(AND($L150>=Sheet1!$F$16,'Pupil List'!$L150<Sheet1!$G$16),Sheet1!$A$16,\"\"))","v":""},{"$f":"IF($L150=\"\",\"\",IF(AND($L150>=Sheet1!$F$17,'Pupil List'!$L150<Sheet1!$G$17),Sheet1!$A$17,\"\"))","v":""},{"$f":"IF($L150=\"\",\"\",IF(AND($L150>=Sheet1!$F$18,'Pupil List'!$L150<Sheet1!$G$18),Sheet1!$A$18,\"\"))","v":""},{"$f":"IF($L150=\"\",\"\",IF(AND($L150>=Sheet1!$F$19,'Pupil List'!$L150<Sheet1!$G$19),Sheet1!$A$19,\"\"))","v":""},{"$f":"IF($L150=\"\",\"\",IF(AND($L150>=Sheet1!$F$20,'Pupil List'!$L150<Sheet1!$G$20),Sheet1!$A$20,\"\"))","v":""},{"$f":"IF($L150=\"\",\"\",IF(AND($L150>=Sheet1!$F$21,'Pupil List'!$L150<Sheet1!$G$21),Sheet1!$A$21,\"\"))","v":""},{"$f":"IF($L150=\"\",\"\",IF(AND($L150>=Sheet1!$F$22,'Pupil List'!$L150<Sheet1!$G$22),Sheet1!$A$22,\"\"))","v":""},{"$f":"IF($L150=\"\",\"\",IF(AND($L150>=Sheet1!$F$23,'Pupil List'!$L150<Sheet1!$G$23),Sheet1!$A$23,\"\"))","v":""},{"$f":"IF($L150=\"\",\"\",IF(AND($L150>=Sheet1!$F$24,'Pupil List'!$L150<Sheet1!$G$24),Sheet1!$A$24,\"\"))","v":""},{"$f":"IF($L150=\"\",\"\",IF(AND($L150>=Sheet1!$F$25,'Pupil List'!$L150<Sheet1!$G$25),Sheet1!$A$25,\"\"))","v":""},{"$error":"#N/A"},{"$f":"IFERROR(VLOOKUP(BK150,Sheet1!$A$2:$E$25,3,FALSE),\"\")","v":""},{"$f":"IFERROR(VLOOKUP(BK150,Sheet1!$A$2:$E$25,4,FALSE),\"\")","v":""},{"$f":"IFERROR(VLOOKUP(BK150,Sheet1!$A$2:$E$25,5,FALSE),\"\")","v":""},{"$f":"IFERROR(VLOOKUP(N150,Sheet1!$A$29:$B$38,2,FALSE),\"\")","v":""}]
["","","",null,null,null,null,null,"","","",null,"",null,"","","","","","","","","","","","","","","","","","","","","","","","",{"$f":"IF($L151=\"\",\"\",IF(AND($L151>=Sheet1!$F$2,'Pupil List'!$L151<Sheet1!$G$2),Sheet1!$A$2,\"\"))","v":""},{"$f":"IF($L151=\"\",\"\",IF(AND($L151>=Sheet1!$F$3,'Pupil List'!$L151<Sheet1!$G$3),Sheet1!$A$3,\"\"))","v":""},{"$f":"IF($L151=\"\",\"\",IF(AND($L151>=Sheet1!$F$4,'Pupil List'!$L151<Sheet1!$G$4),Sheet1!$A$4,\"\"))","v":""},{"$f":"IF($L151=\"\",\"\",IF(AND($L151>=Sheet1!$F$5,'Pupil List'!$L151<Sheet1!$G$5),Sheet1!$A$5,\"\"))","v":""},{"$f":"IF($L151=\"\",\"\",IF(AND($L151>=Sheet1!$F$6,'Pupil List'!$L151<Sheet1!$G$6),Sheet1!$A$6,\"\"))","v":""},{"$f":"IF($L151=\"\",\"\",IF(AND($L151>=Sheet1!$F$7,'Pupil List'!$L151<Sheet1!$G$7),Sheet1!$A$7,\"\"))","v":""},{"$f":"IF($L151=\"\",\"\",IF(AND($L151>=Sheet1!$F$8,'Pupil List'!$L151<Sheet1!$G$8),Sheet1!$A$8,\"\"))","v":""},{"$f":"IF($L151=\"\",\"\",IF(AND($L151>=Sheet1!$F$9,'Pupil List'!$L151<Sheet1!$G$9),Sheet1!$A$9,\"\"))","v":""},{"$f":"IF($L151=\"\",\"\",IF(AND($L151>=Sheet1!$F$10,'Pupil List'!$L151<Sheet1!$G$10),Sheet1!$A$10,\"\"))","v":""},{"$f":"IF($L151=\"\",\"\",IF(AND($L151>=Sheet1!$F$11,'Pupil List'!$L151<Sheet1!$G$11),Sheet1!$A$11,\"\"))","v":""},{"$f":"IF($L151=\"\",\"\",IF(AND($L151>=Sheet1!$F$12,'Pupil List'!$L151<Sheet1!$G$12),Sheet1!$A$12,\"\"))","v":""},{"$f":"IF($L151=\"\",\"\",IF(AND($L151>=Sheet1!$F$13,'Pupil List'!$L151<Sheet1!$G$13),Sheet1!$A$13,\"\"))","v":""},{"$f":"IF($L151=\"\",\"\",IF(AND($L151>=Sheet1!$F$14,'Pupil List'!$L151<Sheet1!$G$14),Sheet1!$A$14,\"\"))","v":""},{"$f":"IF($L151=\"\",\"\",IF(AND($L151>=Sheet1!$F$15,'Pupil List'!$L151<Sheet1!$G$15),Sheet1!$A$15,\"\"))","v":""},{"$f":"IF($L151=\"\",\"\",IF(AND($L151>=Sheet1!$F$16,'Pupil List'!$L151<Sheet1!$G$16),Sheet1!$A$16,\"\"))","v":""},{"$f":"IF($L151=\"\",\"\",IF(AND($L151>=Sheet1!$F$17,'Pupil List'!$L151<Sheet1!$G$17),Sheet1!$A$17,\"\"))","v":""},{"$f":"IF($L151=\"\",\"\",IF(AND($L151>=Sheet1!$F$18,'Pupil List'!$L151<Sheet1!$G$18),Sheet1!$A$18,\"\"))","v":""},{"$f":"IF($L151=\"\",\"\",IF(AND($L151>=Sheet1!$F$19,'Pupil List'!$L151<Sheet1!$G$19),Sheet1!$A$19,\"\"))","v":""},{"$f":"IF($L151=\"\",\"\",IF(AND($L151>=Sheet1!$F$20,'Pupil List'!$L151<Sheet1!$G$20),Sheet1!$A$20,\"\"))","v":""},{"$f":"IF($L151=\"\",\"\",IF(AND($L151>=Sheet1!$F$21,'Pupil List'!$L151<Sheet1!$G$21),Sheet1!$A$21,\"\"))","v":""},{"$f":"IF($L151=\"\",\"\",IF(AND($L151>=Sheet1!$F$22,'Pupil List'!$L151<Sheet1!$G$22),Sheet1!$A$22,\"\"))","v":""},{"$f":"IF($L151=\"\",\"\",IF(AND($L151>=Sheet1!$F$23,'Pupil List'!$L151<Sheet1!$G$23),Sheet1!$A$23,\"\"))","v":""},{"$f":"IF($L151=\"\",\"\",IF(AND($L151>=Sheet1!$F$24,'Pupil List'!$L151<Sheet1!$G$24),Sheet1!$A$24,\"\"))","v":""},{"$f":"IF($L151=\"\",\"\",IF(AND($L151>=Sheet1!$F$25,'Pupil List'!$L151<Sheet1!$G$25),Sheet1!$A$25,\"\"))","v":""},{"$error":"#N/A"},{"$f":"IFERROR(VLOOKUP(BK151,Sheet1!$A$2:$E$25,3,FALSE),\"\")","v":""},{"$f":"IFERROR(VLOOKUP(BK151,Sheet1!$A$2:$E$25,4,FALSE),\"\")","v":""},{"$f":"IFERROR(VLOOKUP(BK151,Sheet1!$A$2:$E$25,5,FALSE),\"\")","v":""},{"$f":"IFERROR(VLOOKUP(N151,Sheet1!$A$29:$B$38,2,FALSE),\"\")","v":""}]
["","","",null,null,null,null,null,"","","",null,"",null,"","","","","","","","","","","","","","","","","","","","","","","","",{"$f":"IF($L152=\"\",\"\",IF(AND($L152>=Sheet1!$F$2,'Pupil List'!$L152<Sheet1!$G$2),Sheet1!$A$2,\"\"))","v":""},{"$f":"IF($L152=\"\",\"\",IF(AND($L152>=Sheet1!$F$3,'Pupil List'!$L152<Sheet1!$G$3),Sheet1!$A$3,\"\"))","v":""},{"$f":"IF($L152=\"\",\"\",IF(AND($L152>=Sheet1!$F$4,'Pupil List'!$L152<Sheet1!$G$4),Sheet1!$A$4,\"\"))","v":""},{"$f":"IF($L152=\"\",\"\",IF(AND($L152>=Sheet1!$F$5,'Pupil List'!$L152<Sheet1!$G$5),Sheet1!$A$5,\"\"))","v":""},{"$f":"IF($L152=\"\",\"\",IF(AND($L152>=Sheet1!$F$6,'Pupil List'!$L152<Sheet1!$G$6),Sheet1!$A$6,\"\"))","v":""},{"$f":"IF($L152=\"\",\"\",IF(AND($L152>=Sheet1!$F$7,'Pupil List'!$L152<Sheet1!$G$7),Sheet1!$A$7,\"\"))","v":""},{"$f":"IF($L152=\"\",\"\",IF(AND($L152>=Sheet1!$F$8,'Pupil List'!$L152<Sheet1!$G$8),Sheet1!$A$8,\"\"))","v":""},{"$f":"IF($L152=\"\",\"\",IF(AND($L152>=Sheet1!$F$9,'Pupil List'!$L152<Sheet1!$G$9),Sheet1!$A$9,\"\"))","v":""},{"$f":"IF($L152=\"\",\"\",IF(AND($L152>=Sheet1!$F$10,'Pupil List'!$L152<Sheet1!$G$10),Sheet1!$A$10,\"\"))","v":""},{"$f":"IF($L152=\"\",\"\",IF(AND($L152>=Sheet1!$F$11,'Pupil List'!$L152<Sheet1!$G$11),Sheet1!$A$11,\"\"))","v":""},{"$f":"IF($L152=\"\",\"\",IF(AND($L152>=Sheet1!$F$12,'Pupil List'!$L152<Sheet1!$G$12),Sheet1!$A$12,\"\"))","v":""},{"$f":"IF($L152=\"\",\"\",IF(AND($L152>=Sheet1!$F$13,'Pupil List'!$L152<Sheet1!$G$13),Sheet1!$A$13,\"\"))","v":""},{"$f":"IF($L152=\"\",\"\",IF(AND($L152>=Sheet1!$F$14,'Pupil List'!$L152<Sheet1!$G$14),Sheet1!$A$14,\"\"))","v":""},{"$f":"IF($L152=\"\",\"\",IF(AND($L152>=Sheet1!$F$15,'Pupil List'!$L152<Sheet1!$G$15),Sheet1!$A$15,\"\"))","v":""},{"$f":"IF($L152=\"\",\"\",IF(AND($L152>=Sheet1!$F$16,'Pupil List'!$L152<Sheet1!$G$16),Sheet1!$A$16,\"\"))","v":""},{"$f":"IF($L152=\"\",\"\",IF(AND($L152>=Sheet1!$F$17,'Pupil List'!$L152<Sheet1!$G$17),Sheet1!$A$17,\"\"))","v":""},{"$f":"IF($L152=\"\",\"\",IF(AND($L152>=Sheet1!$F$18,'Pupil List'!$L152<Sheet1!$G$18),Sheet1!$A$18,\"\"))","v":""},{"$f":"IF($L152=\"\",\"\",IF(AND($L152>=Sheet1!$F$19,'Pupil List'!$L152<Sheet1!$G$19),Sheet1!$A$19,\"\"))","v":""},{"$f":"IF($L152=\"\",\"\",IF(AND($L152>=Sheet1!$F$20,'Pupil List'!$L152<Sheet1!$G$20),Sheet1!$A$20,\"\"))","v":""},{"$f":"IF($L152=\"\",\"\",IF(AND($L152>=Sheet1!$F$21,'Pupil List'!$L152<Sheet1!$G$21),Sheet1!$A$21,\"\"))","v":""},{"$f":"IF($L152=\"\",\"\",IF(AND($L152>=Sheet1!$F$22,'Pupil List'!$L152<Sheet1!$G$22),Sheet1!$A$22,\"\"))","v":""},{"$f":"IF($L152=\"\",\"\",IF(AND($L152>=Sheet1!$F$23,'Pupil List'!$L152<Sheet1!$G$23),Sheet1!$A$23,\"\"))","v":""},{"$f":"IF($L152=\"\",\"\",IF(AND($L152>=Sheet1!$F$24,'Pupil List'!$L152<Sheet1!$G$24),Sheet1!$A$24,\"\"))","v":""},{"$f":"IF($L152=\"\",\"\",IF(AND($L152>=Sheet1!$F$25,'Pupil List'!$L152<Sheet1!$G$25),Sheet1!$A$25,\"\"))","v":""},{"$error":"#N/A"},{"$f":"IFERROR(VLOOKUP(BK152,Sheet1!$A$2:$E$25,3,FALSE),\"\")","v":""},{"$f":"IFERROR(VLOOKUP(BK152,Sheet1!$A$2:$E$25,4,FALSE),\"\")","v":""},{"$f":"IFERROR(VLOOKUP(BK152,Sheet1!$A$2:$E$25,5,FALSE),\"\")","v":""},{"$f":"IFERROR(VLOOKUP(N152,Sheet1!$A$29:$B$38,2,FALSE),\"\")","v":""}]
["","","",null,null,null,null,null,"","","",null,"",null,"","","","","","","","","","","","","","","","","","","","","","","","",{"$f":"IF($L153=\"\",\"\",IF(AND($L153>=Sheet1!$F$2,'Pupil List'!$L153<Sheet1!$G$2),Sheet1!$A$2,\"\"))","v":""},{"$f":"IF($L153=\"\",\"\",IF(AND($L153>=Sheet1!$F$3,'Pupil List'!$L153<Sheet1!$G$3),Sheet1!$A$3,\"\"))","v":""},{"$f":"IF($L153=\"\",\"\",IF(AND($L153>=Sheet1!$F$4,'Pupil List'!$L153<Sheet1!$G$4),Sheet1!$A$4,\"\"))","v":""},{"$f":"IF($L153=\"\",\"\",IF(AND($L153>=Sheet1!$F$5,'Pupil List'!$L153<Sheet1!$G$5),Sheet1!$A$5,\"\"))","v":""},{"$f":"IF($L153=\"\",\"\",IF(AND($L153>=Sheet1!$F$6,'Pupil List'!$L153<Sheet1!$G$6),Sheet1!$A$6,\"\"))","v":""},{"$f":"IF($L153=\"\",\"\",IF(AND($L153>=Sheet1!$F$7,'Pupil List'!$L153<Sheet1!$G$7),Sheet1!$A$7,\"\"))","v":""},{"$f":"IF($L153=\"\",\"\",IF(AND($L153>=Sheet1!$F$8,'Pupil List'!$L153<Sheet1!$G$8),Sheet1!$A$8,\"\"))","v":""},{"$f":"IF($L153=\"\",\"\",IF(AND($L153>=Sheet1!$F$9,'Pupil List'!$L153<Sheet1!$G$9),Sheet1!$A$9,\"\"))","v":""},{"$f":"IF($L153=\"\",\"\",IF(AND($L153>=Sheet1!$F$10,'Pupil List'!$L153<Sheet1!$G$10),Sheet1!$A$10,\"\"))","v":""},{"$f":"IF($L153=\"\",\"\",IF(AND($L153>=Sheet1!$F$11,'Pupil List'!$L153<Sheet1!$G$11),Sheet1!$A$11,\"\"))","v":""},{"$f":"IF($L153=\"\",\"\",IF(AND($L153>=Sheet1!$F$12,'Pupil List'!$L153<Sheet1!$G$12),Sheet1!$A$12,\"\"))","v":""},{"$f":"IF($L153=\"\",\"\",IF(AND($L153>=Sheet1!$F$13,'Pupil List'!$L153<Sheet1!$G$13),Sheet1!$A$13,\"\"))","v":""},{"$f":"IF($L153=\"\",\"\",IF(AND($L153>=Sheet1!$F$14,'Pupil List'!$L153<Sheet1!$G$14),Sheet1!$A$14,\"\"))","v":""},{"$f":"IF($L153=\"\",\"\",IF(AND($L153>=Sheet1!$F$15,'Pupil List'!$L153<Sheet1!$G$15),Sheet1!$A$15,\"\"))","v":""},{"$f":"IF($L153=\"\",\"\",IF(AND($L153>=Sheet1!$F$16,'Pupil List'!$L153<Sheet1!$G$16),Sheet1!$A$16,\"\"))","v":""},{"$f":"IF($L153=\"\",\"\",IF(AND($L153>=Sheet1!$F$17,'Pupil List'!$L153<Sheet1!$G$17),Sheet1!$A$17,\"\"))","v":""},{"$f":"IF($L153=\"\",\"\",IF(AND($L153>=Sheet1!$F$18,'Pupil List'!$L153<Sheet1!$G$18),Sheet1!$A$18,\"\"))","v":""},{"$f":"IF($L153=\"\",\"\",IF(AND($L153>=Sheet1!$F$19,'Pupil List'!$L153<Sheet1!$G$19),Sheet1!$A$19,\"\"))","v":""},{"$f":"IF($L153=\"\",\"\",IF(AND($L153>=Sheet1!$F$20,'Pupil List'!$L153<Sheet1!$G$20),Sheet1!$A$20,\"\"))","v":""},{"$f":"IF($L153=\"\",\"\",IF(AND($L153>=Sheet1!$F$21,'Pupil List'!$L153<Sheet1!$G$21),Sheet1!$A$21,\"\"))","v":""},{"$f":"IF($L153=\"\",\"\",IF(AND($L153>=Sheet1!$F$22,'Pupil List'!$L153<Sheet1!$G$22),Sheet1!$A$22,\"\"))","v":""},{"$f":"IF($L153=\"\",\"\",IF(AND($L153>=Sheet1!$F$23,'Pupil List'!$L153<Sheet1!$G$23),Sheet1!$A$23,\"\"))","v":""},{"$f":"IF($L153=\"\",\"\",IF(AND($L153>=Sheet1!$F$24,'Pupil List'!$L153<Sheet1!$G$24),Sheet1!$A$24,\"\"))","v":""},{"$f":"IF($L153=\"\",\"\",IF(AND($L153>=Sheet1!$F$25,'Pupil List'!$L153<Sheet1!$G$25),Sheet1!$A$25,\"\"))","v":""},{"$error":"#N/A"},{"$f":"IFERROR(VLOOKUP(BK153,Sheet1!$A$2:$E$25,3,FALSE),\"\")","v":""},{"$f":"IFERROR(VLOOKUP(BK153,Sheet1!$A$2:$E$25,4,FALSE),\"\")","v":""},{"$f":"IFERROR(VLOOKUP(BK153,Sheet1!$A$2:$E$25,5,FALSE),\"\")","v":""},{"$f":"IFERROR(VLOOKUP(N153,Sheet1!$A$29:$B$38,2,FALSE),\"\")","v":""}]
["","","",null,null,null,null,null,"","","",null,"",null,"","","","","","","","","","","","","","","","","","","","","","","","",{"$f":"IF($L154=\"\",\"\",IF(AND($L154>=Sheet1!$F$2,'Pupil List'!$L154<Sheet1!$G$2),Sheet1!$A$2,\"\"))","v":""},{"$f":"IF($L154=\"\",\"\",IF(AND($L154>=Sheet1!$F$3,'Pupil List'!$L154<Sheet1!$G$3),Sheet1!$A$3,\"\"))","v":""},{"$f":"IF($L154=\"\",\"\",IF(AND($L154>=Sheet1!$F$4,'Pupil List'!$L154<Sheet1!$G$4),Sheet1!$A$4,\"\"))","v":""},{"$f":"IF($L154=\"\",\"\",IF(AND($L154>=Sheet1!$F$5,'Pupil List'!$L154<Sheet1!$G$5),Sheet1!$A$5,\"\"))","v":""},{"$f":"IF($L154=\"\",\"\",IF(AND($L154>=Sheet1!$F$6,'Pupil List'!$L154<Sheet1!$G$6),Sheet1!$A$6,\"\"))","v":""},{"$f":"IF($L154=\"\",\"\",IF(AND($L154>=Sheet1!$F$7,'Pupil List'!$L154<Sheet1!$G$7),Sheet1!$A$7,\"\"))","v":""},{"$f":"IF($L154=\"\",\"\",IF(AND($L154>=Sheet1!$F$8,'Pupil List'!$L154<Sheet1!$G$8),Sheet1!$A$8,\"\"))","v":""},{"$f":"IF($L154=\"\",\"\",IF(AND($L154>=Sheet1!$F$9,'Pupil List'!$L154<Sheet1!$G$9),Sheet1!$A$9,\"\"))","v":""},{"$f":"IF($L154=\"\",\"\",IF(AND($L154>=Sheet1!$F$10,'Pupil List'!$L154<Sheet1!$G$10),Sheet1!$A$10,\"\"))","v":""},{"$f":"IF($L154=\"\",\"\",IF(AND($L154>=Sheet1!$F$11,'Pupil List'!$L154<Sheet1!$G$11),Sheet1!$A$11,\"\"))","v":""},{"$f":"IF($L154=\"\",\"\",IF(AND($L154>=Sheet1!$F$12,'Pupil List'!$L154<Sheet1!$G$12),Sheet1!$A$12,\"\"))","v":""},{"$f":"IF($L154=\"\",\"\",IF(AND($L154>=Sheet1!$F$13,'Pupil List'!$L154<Sheet1!$G$13),Sheet1!$A$13,\"\"))","v":""},{"$f":"IF($L154=\"\",\"\",IF(AND($L154>=Sheet1!$F$14,'Pupil List'!$L154<Sheet1!$G$14),Sheet1!$A$14,\"\"))","v":""},{"$f":"IF($L154=\"\",\"\",IF(AND($L154>=Sheet1!$F$15,'Pupil List'!$L154<Sheet1!$G$15),Sheet1!$A$15,\"\"))","v":""},{"$f":"IF($L154=\"\",\"\",IF(AND($L154>=Sheet1!$F$16,'Pupil List'!$L154<Sheet1!$G$16),Sheet1!$A$16,\"\"))","v":""},{"$f":"IF($L154=\"\",\"\",IF(AND($L154>=Sheet1!$F$17,'Pupil List'!$L154<Sheet1!$G$17),Sheet1!$A$17,\"\"))","v":""},{"$f":"IF($L154=\"\",\"\",IF(AND($L154>=Sheet1!$F$18,'Pupil List'!$L154<Sheet1!$G$18),Sheet1!$A$18,\"\"))","v":""},{"$f":"IF($L154=\"\",\"\",IF(AND($L154>=Sheet1!$F$19,'Pupil List'!$L154<Sheet1!$G$19),Sheet1!$A$19,\"\"))","v":""},{"$f":"IF($L154=\"\",\"\",IF(AND($L154>=Sheet1!$F$20,'Pupil List'!$L154<Sheet1!$G$20),Sheet1!$A$20,\"\"))","v":""},{"$f":"IF($L154=\"\",\"\",IF(AND($L154>=Sheet1!$F$21,'Pupil List'!$L154<Sheet1!$G$21),Sheet1!$A$21,\"\"))","v":""},{"$f":"IF($L154=\"\",\"\",IF(AND($L154>=Sheet1!$F$22,'Pupil List'!$L154<Sheet1!$G$22),Sheet1!$A$22,\"\"))","v":""},{"$f":"IF($L154=\"\",\"\",IF(AND($L154>=Sheet1!$F$23,'Pupil List'!$L154<Sheet1!$G$23),Sheet1!$A$23,\"\"))","v":""},{"$f":"IF($L154=\"\",\"\",IF(AND($L154>=Sheet1!$F$24,'Pupil List'!$L154<Sheet1!$G$24),Sheet1!$A$24,\"\"))","v":""},{"$f":"IF($L154=\"\",\"\",IF(AND($L154>=Sheet1!$F$25,'Pupil List'!$L154<Sheet1!$G$25),Sheet1!$A$25,\"\"))","v":""},{"$error":"#N/A"},{"$f":"IFERROR(VLOOKUP(BK154,Sheet1!$A$2:$E$25,3,FALSE),\"\")","v":""},{"$f":"IFERROR(VLOOKUP(BK154,Sheet1!$A$2:$E$25,4,FALSE),\"\")","v":""},{"$f":"IFERROR(VLOOKUP(BK154,Sheet1!$A$2:$E$25,5,FALSE),\"\")","v":""},{"$f":"IFERROR(VLOOKUP(N154,Sheet1!$A$29:$B$38,2,FALSE),\"\")","v":""}]
["","","",null,null,null,null,null,"","","",null,"",null,"","","","","","","","","","","","","","","","","","","","","","","","",{"$f":"IF($L155=\"\",\"\",IF(AND($L155>=Sheet1!$F$2,'Pupil List'!$L155<Sheet1!$G$2),Sheet1!$A$2,\"\"))","v":""},{"$f":"IF($L155=\"\",\"\",IF(AND($L155>=Sheet1!$F$3,'Pupil List'!$L155<Sheet1!$G$3),Sheet1!$A$3,\"\"))","v":""},{"$f":"IF($L155=\"\",\"\",IF(AND($L155>=Sheet1!$F$4,'Pupil List'!$L155<Sheet1!$G$4),Sheet1!$A$4,\"\"))","v":""},{"$f":"IF($L155=\"\",\"\",IF(AND($L155>=Sheet1!$F$5,'Pupil List'!$L155<Sheet1!$G$5),Sheet1!$A$5,\"\"))","v":""},{"$f":"IF($L155=\"\",\"\",IF(AND($L155>=Sheet1!$F$6,'Pupil List'!$L155<Sheet1!$G$6),Sheet1!$A$6,\"\"))","v":""},{"$f":"IF($L155=\"\",\"\",IF(AND($L155>=Sheet1!$F$7,'Pupil List'!$L155<Sheet1!$G$7),Sheet1!$A$7,\"\"))","v":""},{"$f":"IF($L155=\"\",\"\",IF(AND($L155>=Sheet1!$F$8,'Pupil List'!$L155<Sheet1!$G$8),Sheet1!$A$8,\"\"))","v":""},{"$f":"IF($L155=\"\",\"\",IF(AND($L155>=Sheet1!$F$9,'Pupil List'!$L155<Sheet1!$G$9),Sheet1!$A$9,\"\"))","v":""},{"$f":"IF($L155=\"\",\"\",IF(AND($L155>=Sheet1!$F$10,'Pupil List'!$L155<Sheet1!$G$10),Sheet1!$A$10,\"\"))","v":""},{"$f":"IF($L155=\"\",\"\",IF(AND($L155>=Sheet1!$F$11,'Pupil List'!$L155<Sheet1!$G$11),Sheet1!$A$11,\"\"))","v":""},{"$f":"IF($L155=\"\",\"\",IF(AND($L155>=Sheet1!$F$12,'Pupil List'!$L155<Sheet1!$G$12),Sheet1!$A$12,\"\"))","v":""},{"$f":"IF($L155=\"\",\"\",IF(AND($L155>=Sheet1!$F$13,'Pupil List'!$L155<Sheet1!$G$13),Sheet1!$A$13,\"\"))","v":""},{"$f":"IF($L155=\"\",\"\",IF(AND($L155>=Sheet1!$F$14,'Pupil List'!$L155<Sheet1!$G$14),Sheet1!$A$14,\"\"))","v":""},{"$f":"IF($L155=\"\",\"\",IF(AND($L155>=Sheet1!$F$15,'Pupil List'!$L155<Sheet1!$G$15),Sheet1!$A$15,\"\"))","v":""},{"$f":"IF($L155=\"\",\"\",IF(AND($L155>=Sheet1!$F$16,'Pupil List'!$L155<Sheet1!$G$16),Sheet1!$A$16,\"\"))","v":""},{"$f":"IF($L155=\"\",\"\",IF(AND($L155>=Sheet1!$F$17,'Pupil List'!$L155<Sheet1!$G$17),Sheet1!$A$17,\"\"))","v":""},{"$f":"IF($L155=\"\",\"\",IF(AND($L155>=Sheet1!$F$18,'Pupil List'!$L155<Sheet1!$G$18),Sheet1!$A$18,\"\"))","v":""},{"$f":"IF($L155=\"\",\"\",IF(AND($L155>=Sheet1!$F$19,'Pupil List'!$L155<Sheet1!$G$19),Sheet1!$A$19,\"\"))","v":""},{"$f":"IF($L155=\"\",\"\",IF(AND($L155>=Sheet1!$F$20,'Pupil List'!$L155<Sheet1!$G$20),Sheet1!$A$20,\"\"))","v":""},{"$f":"IF($L155=\"\",\"\",IF(AND($L155>=Sheet1!$F$21,'Pupil List'!$L155<Sheet1!$G$21),Sheet1!$A$21,\"\"))","v":""},{"$f":"IF($L155=\"\",\"\",IF(AND($L155>=Sheet1!$F$22,'Pupil List'!$L155<Sheet1!$G$22),Sheet1!$A$22,\"\"))","v":""},{"$f":"IF($L155=\"\",\"\",IF(AND($L155>=Sheet1!$F$23,'Pupil List'!$L155<Sheet1!$G$23),Sheet1!$A$23,\"\"))","v":""},{"$f":"IF($L155=\"\",\"\",IF(AND($L155>=Sheet1!$F$24,'Pupil List'!$L155<Sheet1!$G$24),Sheet1!$A$24,\"\"))","v":""},{"$f":"IF($L155=\"\",\"\",IF(AND($L155>=Sheet1!$F$25,'Pupil List'!$L155<Sheet1!$G$25),Sheet1!$A$25,\"\"))","v":""},{"$error":"#N/A"},{"$f":"IFERROR(VLOOKUP(BK155,Sheet1!$A$2:$E$25,3,FALSE),\"\")","v":""},{"$f":"IFERROR(VLOOKUP(BK155,Sheet1!$A$2:$E$25,4,FALSE),\"\")","v":""},{"$f":"IFERROR(VLOOKUP(BK155,Sheet1!$A$2:$E$25,5,FALSE),\"\")","v":""},{"$f":"IFERROR(VLOOKUP(N155,Sheet1!$A$29:$B$38,2,FALSE),\"\")","v":""}]
["","","",null,null,null,null,null,"","","",null,"",null,"","","","","","","","","","","","","","","","","","","","","","","","",{"$f":"IF($L156=\"\",\"\",IF(AND($L156>=Sheet1!$F$2,'Pupil List'!$L156<Sheet1!$G$2),Sheet1!$A$2,\"\"))","v":""},{"$f":"IF($L156=\"\",\"\",IF(AND($L156>=Sheet1!$F$3,'Pupil List'!$L156<Sheet1!$G$3),Sheet1!$A$3,\"\"))","v":""},{"$f":"IF($L156=\"\",\"\",IF(AND($L156>=Sheet1!$F$4,'Pupil List'!$L156<Sheet1!$G$4),Sheet1!$A$4,\"\"))","v":""},{"$f":"IF($L156=\"\",\"\",IF(AND($L156>=Sheet1!$F$5,'Pupil List'!$L156<Sheet1!$G$5),Sheet1!$A$5,\"\"))","v":""},{"$f":"IF($L156=\"\",\"\",IF(AND($L156>=Sheet1!$F$6,'Pupil List'!$L156<Sheet1!$G$6),Sheet1!$A$6,\"\"))","v":""},{"$f":"IF($L156=\"\",\"\",IF(AND($L156>=Sheet1!$F$7,'Pupil List'!$L156<Sheet1!$G$7),Sheet1!$A$7,\"\"))","v":""},{"$f":"IF($L156=\"\",\"\",IF(AND($L156>=Sheet1!$F$8,'Pupil List'!$L156<Sheet1!$G$8),Sheet1!$A$8,\"\"))","v":""},{"$f":"IF($L156=\"\",\"\",IF(AND($L156>=Sheet1!$F$9,'Pupil List'!$L156<Sheet1!$G$9),Sheet1!$A$9,\"\"))","v":""},{"$f":"IF($L156=\"\",\"\",IF(AND($L156>=Sheet1!$F$10,'Pupil List'!$L156<Sheet1!$G$10),Sheet1!$A$10,\"\"))","v":""},{"$f":"IF($L156=\"\",\"\",IF(AND($L156>=Sheet1!$F$11,'Pupil List'!$L156<Sheet1!$G$11),Sheet1!$A$11,\"\"))","v":""},{"$f":"IF($L156=\"\",\"\",IF(AND($L156>=Sheet1!$F$12,'Pupil List'!$L156<Sheet1!$G$12),Sheet1!$A$12,\"\"))","v":""},{"$f":"IF($L156=\"\",\"\",IF(AND($L156>=Sheet1!$F$13,'Pupil List'!$L156<Sheet1!$G$13),Sheet1!$A$13,\"\"))","v":""},{"$f":"IF($L156=\"\",\"\",IF(AND($L156>=Sheet1!$F$14,'Pupil List'!$L156<Sheet1!$G$14),Sheet1!$A$14,\"\"))","v":""},{"$f":"IF($L156=\"\",\"\",IF(AND($L156>=Sheet1!$F$15,'Pupil List'!$L156<Sheet1!$G$15),Sheet1!$A$15,\"\"))","v":""},{"$f":"IF($L156=\"\",\"\",IF(AND($L156>=Sheet1!$F$16,'Pupil List'!$L156<Sheet1!$G$16),Sheet1!$A$16,\"\"))","v":""},{"$f":"IF($L156=\"\",\"\",IF(AND($L156>=Sheet1!$F$17,'Pupil List'!$L156<Sheet1!$G$17),Sheet1!$A$17,\"\"))","v":""},{"$f":"IF($L156=\"\",\"\",IF(AND($L156>=Sheet1!$F$18,'Pupil List'!$L156<Sheet1!$G$18),Sheet1!$A$18,\"\"))","v":""},{"$f":"IF($L156=\"\",\"\",IF(AND($L156>=Sheet1!$F$19,'Pupil List'!$L156<Sheet1!$G$19),Sheet1!$A$19,\"\"))","v":""},{"$f":"IF($L156=\"\",\"\",IF(AND($L156>=Sheet1!$F$20,'Pupil List'!$L156<Sheet1!$G$20),Sheet1!$A$20,\"\"))","v":""},{"$f":"IF($L156=\"\",\"\",IF(AND($L156>=Sheet1!$F$21,'Pupil List'!$L156<Sheet1!$G$21),Sheet1!$A$21,\"\"))","v":""},{"$f":"IF($L156=\"\",\"\",IF(AND($L156>=Sheet1!$F$22,'Pupil List'!$L156<Sheet1!$G$22),Sheet1!$A$22,\"\"))","v":""},{"$f":"IF($L156=\"\",\"\",IF(AND($L156>=Sheet1!$F$23,'Pupil List'!$L156<Sheet1!$G$23),Sheet1!$A$23,\"\"))","v":""},{"$f":"IF($L156=\"\",\"\",IF(AND($L156>=Sheet1!$F$24,'Pupil List'!$L156<Sheet1!$G$24),Sheet1!$A$24,\"\"))","v":""},{"$f":"IF($L156=\"\",\"\",IF(AND($L156>=Sheet1!$F$25,'Pupil List'!$L156<Sheet1!$G$25),Sheet1!$A$25,\"\"))","v":""},{"$error":"#N/A"},{"$f":"IFERROR(VLOOKUP(BK156,Sheet1!$A$2:$E$25,3,FALSE),\"\")","v":""},{"$f":"IFERROR(VLOOKUP(BK156,Sheet1!$A$2:$E$25,4,FALSE),\"\")","v":""},{"$f":"IFERROR(VLOOKUP(BK156,Sheet1!$A$2:$E$25,5,FALSE),\"\")","v":""},{"$f":"IFERROR(VLOOKUP(N156,Sheet1!$A$29:$B$38,2,FALSE),\"\")","v":""}]
["","","",null,null,null,null,null,"","","",null,"",null,"","","","","","","","","","","","","","","","","","","","","","","","",{"$f":"IF($L157=\"\",\"\",IF(AND($L157>=Sheet1!$F$2,'Pupil List'!$L157<Sheet1!$G$2),Sheet1!$A$2,\"\"))","v":""},{"$f":"IF($L157=\"\",\"\",IF(AND($L157>=Sheet1!$F$3,'Pupil List'!$L157<Sheet1!$G$3),Sheet1!$A$3,\"\"))","v":""},{"$f":"IF($L157=\"\",\"\",IF(AND($L157>=Sheet1!$F$4,'Pupil List'!$L157<Sheet1!$G$4),Sheet1!$A$4,\"\"))","v":""},{"$f":"IF($L157=\"\",\"\",IF(AND($L157>=Sheet1!$F$5,'Pupil List'!$L157<Sheet1!$G$5),Sheet1!$A$5,\"\"))","v":""},{"$f":"IF($L157=\"\",\"\",IF(AND($L157>=Sheet1!$F$6,'Pupil List'!$L157<Sheet1!$G$6),Sheet1!$A$6,\"\"))","v":""},{"$f":"IF($L157=\"\",\"\",IF(AND($L157>=Sheet1!$F$7,'Pupil List'!$L157<Sheet1!$G$7),Sheet1!$A$7,\"\"))","v":""},{"$f":"IF($L157=\"\",\"\",IF(AND($L157>=Sheet1!$F$8,'Pupil List'!$L157<Sheet1!$G$8),Sheet1!$A$8,\"\"))","v":""},{"$f":"IF($L157=\"\",\"\",IF(AND($L157>=Sheet1!$F$9,'Pupil List'!$L157<Sheet1!$G$9),Sheet1!$A$9,\"\"))","v":""},{"$f":"IF($L157=\"\",\"\",IF(AND($L157>=Sheet1!$F$10,'Pupil List'!$L157<Sheet1!$G$10),Sheet1!$A$10,\"\"))","v":""},{"$f":"IF($L157=\"\",\"\",IF(AND($L157>=Sheet1!$F$11,'Pupil List'!$L157<Sheet1!$G$11),Sheet1!$A$11,\"\"))","v":""},{"$f":"IF($L157=\"\",\"\",IF(AND($L157>=Sheet1!$F$12,'Pupil List'!$L157<Sheet1!$G$12),Sheet1!$A$12,\"\"))","v":""},{"$f":"IF($L157=\"\",\"\",IF(AND($L157>=Sheet1!$F$13,'Pupil List'!$L157<Sheet1!$G$13),Sheet1!$A$13,\"\"))","v":""},{"$f":"IF($L157=\"\",\"\",IF(AND($L157>=Sheet1!$F$14,'Pupil List'!$L157<Sheet1!$G$14),Sheet1!$A$14,\"\"))","v":""},{"$f":"IF($L157=\"\",\"\",IF(AND($L157>=Sheet1!$F$15,'Pupil List'!$L157<Sheet1!$G$15),Sheet1!$A$15,\"\"))","v":""},{"$f":"IF($L157=\"\",\"\",IF(AND($L157>=Sheet1!$F$16,'Pupil List'!$L157<Sheet1!$G$16),Sheet1!$A$16,\"\"))","v":""},{"$f":"IF($L157=\"\",\"\",IF(AND($L157>=Sheet1!$F$17,'Pupil List'!$L157<Sheet1!$G$17),Sheet1!$A$17,\"\"))","v":""},{"$f":"IF($L157=\"\",\"\",IF(AND($L157>=Sheet1!$F$18,'Pupil List'!$L157<Sheet1!$G$18),Sheet1!$A$18,\"\"))","v":""},{"$f":"IF($L157=\"\",\"\",IF(AND($L157>=Sheet1!$F$19,'Pupil List'!$L157<Sheet1!$G$19),Sheet1!$A$19,\"\"))","v":""},{"$f":"IF($L157=\"\",\"\",IF(AND($L157>=Sheet1!$F$20,'Pupil List'!$L157<Sheet1!$G$20),Sheet1!$A$20,\"\"))","v":""},{"$f":"IF($L157=\"\",\"\",IF(AND($L157>=Sheet1!$F$21,'Pupil List'!$L157<Sheet1!$G$21),Sheet1!$A$21,\"\"))","v":""},{"$f":"IF($L157=\"\",\"\",IF(AND($L157>=Sheet1!$F$22,'Pupil List'!$L157<Sheet1!$G$22),Sheet1!$A$22,\"\"))","v":""},{"$f":"IF($L157=\"\",\"\",IF(AND($L157>=Sheet1!$F$23,'Pupil List'!$L157<Sheet1!$G$23),Sheet1!$A$23,\"\"))","v":""},{"$f":"IF($L157=\"\",\"\",IF(AND($L157>=Sheet1!$F$24,'Pupil List'!$L157<Sheet1!$G$24),Sheet1!$A$24,\"\"))","v":""},{"$f":"IF($L157=\"\",\"\",IF(AND($L157>=Sheet1!$F$25,'Pupil List'!$L157<Sheet1!$G$25),Sheet1!$A$25,\"\"))","v":""},{"$error":"#N/A"},{"$f":"IFERROR(VLOOKUP(BK157,Sheet1!$A$2:$E$25,3,FALSE),\"\")","v":""},{"$f":"IFERROR(VLOOKUP(BK157,Sheet1!$A$2:$E$25,4,FALSE),\"\")","v":""},{"$f":"IFERROR(VLOOKUP(BK157,Sheet1!$A$2:$E$25,5,FALSE),\"\")","v":""},{"$f":"IFERROR(VLOOKUP(N157,Sheet1!$A$29:$B$38,2,FALSE),\"\")","v":""}]
["","","",null,null,null,null,null,"","","",null,"",null,"","","","","","","","","","","","","","","","","","","","","","","","",{"$f":"IF($L158=\"\",\"\",IF(AND($L158>=Sheet1!$F$2,'Pupil List'!$L158<Sheet1!$G$2),Sheet1!$A$2,\"\"))","v":""},{"$f":"IF($L158=\"\",\"\",IF(AND($L158>=Sheet1!$F$3,'Pupil List'!$L158<Sheet1!$G$3),Sheet1!$A$3,\"\"))","v":""},{"$f":"IF($L158=\"\",\"\",IF(AND($L158>=Sheet1!$F$4,'Pupil List'!$L158<Sheet1!$G$4),Sheet1!$A$4,\"\"))","v":""},{"$f":"IF($L158=\"\",\"\",IF(AND($L158>=Sheet1!$F$5,'Pupil List'!$L158<Sheet1!$G$5),Sheet1!$A$5,\"\"))","v":""},{"$f":"IF($L158=\"\",\"\",IF(AND($L158>=Sheet1!$F$6,'Pupil List'!$L158<Sheet1!$G$6),Sheet1!$A$6,\"\"))","v":""},{"$f":"IF($L158=\"\",\"\",IF(AND($L158>=Sheet1!$F$7,'Pupil List'!$L158<Sheet1!$G$7),Sheet1!$A$7,\"\"))","v":""},{"$f":"IF($L158=\"\",\"\",IF(AND($L158>=Sheet1!$F$8,'Pupil List'!$L158<Sheet1!$G$8),Sheet1!$A$8,\"\"))","v":""},{"$f":"IF($L158=\"\",\"\",IF(AND($L158>=Sheet1!$F$9,'Pupil List'!$L158<Sheet1!$G$9),Sheet1!$A$9,\"\"))","v":""},{"$f":"IF($L158=\"\",\"\",IF(AND($L158>=Sheet1!$F$10,'Pupil List'!$L158<Sheet1!$G$10),Sheet1!$A$10,\"\"))","v":""},{"$f":"IF($L158=\"\",\"\",IF(AND($L158>=Sheet1!$F$11,'Pupil List'!$L158<Sheet1!$G$11),Sheet1!$A$11,\"\"))","v":""},{"$f":"IF($L158=\"\",\"\",IF(AND($L158>=Sheet1!$F$12,'Pupil List'!$L158<Sheet1!$G$12),Sheet1!$A$12,\"\"))","v":""},{"$f":"IF($L158=\"\",\"\",IF(AND($L158>=Sheet1!$F$13,'Pupil List'!$L158<Sheet1!$G$13),Sheet1!$A$13,\"\"))","v":""},{"$f":"IF($L158=\"\",\"\",IF(AND($L158>=Sheet1!$F$14,'Pupil List'!$L158<Sheet1!$G$14),Sheet1!$A$14,\"\"))","v":""},{"$f":"IF($L158=\"\",\"\",IF(AND($L158>=Sheet1!$F$15,'Pupil List'!$L158<Sheet1!$G$15),Sheet1!$A$15,\"\"))","v":""},{"$f":"IF($L158=\"\",\"\",IF(AND($L158>=Sheet1!$F$16,'Pupil List'!$L158<Sheet1!$G$16),Sheet1!$A$16,\"\"))","v":""},{"$f":"IF($L158=\"\",\"\",IF(AND($L158>=Sheet1!$F$17,'Pupil List'!$L158<Sheet1!$G$17),Sheet1!$A$17,\"\"))","v":""},{"$f":"IF($L158=\"\",\"\",IF(AND($L158>=Sheet1!$F$18,'Pupil List'!$L158<Sheet1!$G$18),Sheet1!$A$18,\"\"))","v":""},{"$f":"IF($L158=\"\",\"\",IF(AND($L158>=Sheet1!$F$19,'Pupil List'!$L158<Sheet1!$G$19),Sheet1!$A$19,\"\"))","v":""},{"$f":"IF($L158=\"\",\"\",IF(AND($L158>=Sheet1!$F$20,'Pupil List'!$L158<Sheet1!$G$20),Sheet1!$A$20,\"\"))","v":""},{"$f":"IF($L158=\"\",\"\",IF(AND($L158>=Sheet1!$F$21,'Pupil List'!$L158<Sheet1!$G$21),Sheet1!$A$21,\"\"))","v":""},{"$f":"IF($L158=\"\",\"\",IF(AND($L158>=Sheet1!$F$22,'Pupil List'!$L158<Sheet1!$G$22),Sheet1!$A$22,\"\"))","v":""},{"$f":"IF($L158=\"\",\"\",IF(AND($L158>=Sheet1!$F$23,'Pupil List'!$L158<Sheet1!$G$23),Sheet1!$A$23,\"\"))","v":""},{"$f":"IF($L158=\"\",\"\",IF(AND($L158>=Sheet1!$F$24,'Pupil List'!$L158<Sheet1!$G$24),Sheet1!$A$24,\"\"))","v":""},{"$f":"IF($L158=\"\",\"\",IF(AND($L158>=Sheet1!$F$25,'Pupil List'!$L158<Sheet1!$G$25),Sheet1!$A$25,\"\"))","v":""},{"$error":"#N/A"},{"$f":"IFERROR(VLOOKUP(BK158,Sheet1!$A$2:$E$25,3,FALSE),\"\")","v":""},{"$f":"IFERROR(VLOOKUP(BK158,Sheet1!$A$2:$E$25,4,FALSE),\"\")","v":""},{"$f":"IFERROR(VLOOKUP(BK158,Sheet1!$A$2:$E$25,5,FALSE),\"\")","v":""},{"$f":"IFERROR(VLOOKUP(N158,Sheet1!$A$29:$B$38,2,FALSE),\"\")","v":""}]
["","","",null,null,null,null,null,"","","",null,"",null,"","","","","","","","","","","","","","","","","","","","","","","","",{"$f":"IF($L159=\"\",\"\",IF(AND($L159>=Sheet1!$F$2,'Pupil List'!$L159<Sheet1!$G$2),Sheet1!$A$2,\"\"))","v":""},{"$f":"IF($L159=\"\",\"\",IF(AND($L159>=Sheet1!$F$3,'Pupil List'!$L159<Sheet1!$G$3),Sheet1!$A$3,\"\"))","v":""},{"$f":"IF($L159=\"\",\"\",IF(AND($L159>=Sheet1!$F$4,'Pupil List'!$L159<Sheet1!$G$4),Sheet1!$A$4,\"\"))","v":""},{"$f":"IF($L159=\"\",\"\",IF(AND($L159>=Sheet1!$F$5,'Pupil List'!$L159<Sheet1!$G$5),Sheet1!$A$5,\"\"))","v":""},{"$f":"IF($L159=\"\",\"\",IF(AND($L159>=Sheet1!$F$6,'Pupil List'!$L159<Sheet1!$G$6),Sheet1!$A$6,\"\"))","v":""},{"$f":"IF($L159=\"\",\"\",IF(AND($L159>=Sheet1!$F$7,'Pupil List'!$L159<Sheet1!$G$7),Sheet1!$A$7,\"\"))","v":""},{"$f":"IF($L159=\"\",\"\",IF(AND($L159>=Sheet1!$F$8,'Pupil List'!$L159<Sheet1!$G$8),Sheet1!$A$8,\"\"))","v":""},{"$f":"IF($L159=\"\",\"\",IF(AND($L159>=Sheet1!$F$9,'Pupil List'!$L159<Sheet1!$G$9),Sheet1!$A$9,\"\"))","v":""},{"$f":"IF($L159=\"\",\"\",IF(AND($L159>=Sheet1!$F$10,'Pupil List'!$L159<Sheet1!$G$10),Sheet1!$A$10,\"\"))","v":""},{"$f":"IF($L159=\"\",\"\",IF(AND($L159>=Sheet1!$F$11,'Pupil List'!$L159<Sheet1!$G$11),Sheet1!$A$11,\"\"))","v":""},{"$f":"IF($L159=\"\",\"\",IF(AND($L159>=Sheet1!$F$12,'Pupil List'!$L159<Sheet1!$G$12),Sheet1!$A$12,\"\"))","v":""},{"$f":"IF($L159=\"\",\"\",IF(AND($L159>=Sheet1!$F$13,'Pupil List'!$L159<Sheet1!$G$13),Sheet1!$A$13,\"\"))","v":""},{"$f":"IF($L159=\"\",\"\",IF(AND($L159>=Sheet1!$F$14,'Pupil List'!$L159<Sheet1!$G$14),Sheet1!$A$14,\"\"))","v":""},{"$f":"IF($L159=\"\",\"\",IF(AND($L159>=Sheet1!$F$15,'Pupil List'!$L159<Sheet1!$G$15),Sheet1!$A$15,\"\"))","v":""},{"$f":"IF($L159=\"\",\"\",IF(AND($L159>=Sheet1!$F$16,'Pupil List'!$L159<Sheet1!$G$16),Sheet1!$A$16,\"\"))","v":""},{"$f":"IF($L159=\"\",\"\",IF(AND($L159>=Sheet1!$F$17,'Pupil List'!$L159<Sheet1!$G$17),Sheet1!$A$17,\"\"))","v":""},{"$f":"IF($L159=\"\",\"\",IF(AND($L159>=Sheet1!$F$18,'Pupil List'!$L159<Sheet1!$G$18),Sheet1!$A$18,\"\"))","v":""},{"$f":"IF($L159=\"\",\"\",IF(AND($L159>=Sheet1!$F$19,'Pupil List'!$L159<Sheet1!$G$19),Sheet1!$A$19,\"\"))","v":""},{"$f":"IF($L159=\"\",\"\",IF(AND($L159>=Sheet1!$F$20,'Pupil List'!$L159<Sheet1!$G$20),Sheet1!$A$20,\"\"))","v":""},{"$f":"IF($L159=\"\",\"\",IF(AND($L159>=Sheet1!$F$21,'Pupil List'!$L159<Sheet1!$G$21),Sheet1!$A$21,\"\"))","v":""},{"$f":"IF($L159=\"\",\"\",IF(AND($L159>=Sheet1!$F$22,'Pupil List'!$L159<Sheet1!$G$22),Sheet1!$A$22,\"\"))","v":""},{"$f":"IF($L159=\"\",\"\",IF(AND($L159>=Sheet1!$F$23,'Pupil List'!$L159<Sheet1!$G$23),Sheet1!$A$23,\"\"))","v":""},{"$f":"IF($L159=\"\",\"\",IF(AND($L159>=Sheet1!$F$24,'Pupil List'!$L159<Sheet1!$G$24),Sheet1!$A$24,\"\"))","v":""},{"$f":"IF($L159=\"\",\"\",IF(AND($L159>=Sheet1!$F$25,'Pupil List'!$L159<Sheet1!$G$25),Sheet1!$A$25,\"\"))","v":""},{"$error":"#N/A"},{"$f":"IFERROR(VLOOKUP(BK159,Sheet1!$A$2:$E$25,3,FALSE),\"\")","v":""},{"$f":"IFERROR(VLOOKUP(BK159,Sheet1!$A$2:$E$25,4,FALSE),\"\")","v":""},{"$f":"IFERROR(VLOOKUP(BK159,Sheet1!$A$2:$E$25,5,FALSE),\"\")","v":""},{"$f":"IFERROR(VLOOKUP(N159,Sheet1!$A$29:$B$38,2,FALSE),\"\")","v":""}]
["","","",null,null,null,null,null,"","","",null,"",null,"","","","","","","","","","","","","","","","","","","","","","","","",{"$f":"IF($L160=\"\",\"\",IF(AND($L160>=Sheet1!$F$2,'Pupil List'!$L160<Sheet1!$G$2),Sheet1!$A$2,\"\"))","v":""},{"$f":"IF($L160=\"\",\"\",IF(AND($L160>=Sheet1!$F$3,'Pupil List'!$L160<Sheet1!$G$3),Sheet1!$A$3,\"\"))","v":""},{"$f":"IF($L160=\"\",\"\",IF(AND($L160>=Sheet1!$F$4,'Pupil List'!$L160<Sheet1!$G$4),Sheet1!$A$4,\"\"))","v":""},{"$f":"IF($L160=\"\",\"\",IF(AND($L160>=Sheet1!$F$5,'Pupil List'!$L160<Sheet1!$G$5),Sheet1!$A$5,\"\"))","v":""},{"$f":"IF($L160=\"\",\"\",IF(AND($L160>=Sheet1!$F$6,'Pupil List'!$L160<Sheet1!$G$6),Sheet1!$A$6,\"\"))","v":""},{"$f":"IF($L160=\"\",\"\",IF(AND($L160>=Sheet1!$F$7,'Pupil List'!$L160<Sheet1!$G$7),Sheet1!$A$7,\"\"))","v":""},{"$f":"IF($L160=\"\",\"\",IF(AND($L160>=Sheet1!$F$8,'Pupil List'!$L160<Sheet1!$G$8),Sheet1!$A$8,\"\"))","v":""},{"$f":"IF($L160=\"\",\"\",IF(AND($L160>=Sheet1!$F$9,'Pupil List'!$L160<Sheet1!$G$9),Sheet1!$A$9,\"\"))","v":""},{"$f":"IF($L160=\"\",\"\",IF(AND($L160>=Sheet1!$F$10,'Pupil List'!$L160<Sheet1!$G$10),Sheet1!$A$10,\"\"))","v":""},{"$f":"IF($L160=\"\",\"\",IF(AND($L160>=Sheet1!$F$11,'Pupil List'!$L160<Sheet1!$G$11),Sheet1!$A$11,\"\"))","v":""},{"$f":"IF($L160=\"\",\"\",IF(AND($L160>=Sheet1!$F$12,'Pupil List'!$L160<Sheet1!$G$12),Sheet1!$A$12,\"\"))","v":""},{"$f":"IF($L160=\"\",\"\",IF(AND($L160>=Sheet1!$F$13,'Pupil List'!$L160<Sheet1!$G$13),Sheet1!$A$13,\"\"))","v":""},{"$f":"IF($L160=\"\",\"\",IF(AND($L160>=Sheet1!$F$14,'Pupil List'!$L160<Sheet1!$G$14),Sheet1!$A$14,\"\"))","v":""},{"$f":"IF($L160=\"\",\"\",IF(AND($L160>=Sheet1!$F$15,'Pupil List'!$L160<Sheet1!$G$15),Sheet1!$A$15,\"\"))","v":""},{"$f":"IF($L160=\"\",\"\",IF(AND($L160>=Sheet1!$F$16,'Pupil List'!$L160<Sheet1!$G$16),Sheet1!$A$16,\"\"))","v":""},{"$f":"IF($L160=\"\",\"\",IF(AND($L160>=Sheet1!$F$17,'Pupil List'!$L160<Sheet1!$G$17),Sheet1!$A$17,\"\"))","v":""},{"$f":"IF($L160=\"\",\"\",IF(AND($L160>=Sheet1!$F$18,'Pupil List'!$L160<Sheet1!$G$18),Sheet1!$A$18,\"\"))","v":""},{"$f":"IF($L160=\"\",\"\",IF(AND($L160>=Sheet1!$F$19,'Pupil List'!$L160<Sheet1!$G$19),Sheet1!$A$19,\"\"))","v":""},{"$f":"IF($L160=\"\",\"\",IF(AND($L160>=Sheet1!$F$20,'Pupil List'!$L160<Sheet1!$G$20),Sheet1!$A$20,\"\"))","v":""},{"$f":"IF($L160=\"\",\"\",IF(AND($L160>=Sheet1!$F$21,'Pupil List'!$L160<Sheet1!$G$21),Sheet1!$A$21,\"\"))","v":""},{"$f":"IF($L160=\"\",\"\",IF(AND($L160>=Sheet1!$F$22,'Pupil List'!$L160<Sheet1!$G$22),Sheet1!$A$22,\"\"))","v":""},{"$f":"IF($L160=\"\",\"\",IF(AND($L160>=Sheet1!$F$23,'Pupil List'!$L160<Sheet1!$G$23),Sheet1!$A$23,\"\"))","v":""},{"$f":"IF($L160=\"\",\"\",IF(AND($L160>=Sheet1!$F$24,'Pupil List'!$L160<Sheet1!$G$24),Sheet1!$A$24,\"\"))","v":""},{"$f":"IF($L160=\"\",\"\",IF(AND($L160>=Sheet1!$F$25,'Pupil List'!$L160<Sheet1!$G$25),Sheet1!$A$25,\"\"))","v":""},{"$error":"#N/A"},{"$f":"IFERROR(VLOOKUP(BK160,Sheet1!$A$2:$E$25,3,FALSE),\"\")","v":""},{"$f":"IFERROR(VLOOKUP(BK160,Sheet1!$A$2:$E$25,4,FALSE),\"\")","v":""},{"$f":"IFERROR(VLOOKUP(BK160,Sheet1!$A$2:$E$25,5,FALSE),\"\")","v":""},{"$f":"IFERROR(VLOOKUP(N160,Sheet1!$A$29:$B$38,2,FALSE),\"\")","v":""}]
["","","",null,null,null,null,null,"","","",null,"",null,"","","","","","","","","","","","","","","","","","","","","","","","",{"$f":"IF($L161=\"\",\"\",IF(AND($L161>=Sheet1!$F$2,'Pupil List'!$L161<Sheet1!$G$2),Sheet1!$A$2,\"\"))","v":""},{"$f":"IF($L161=\"\",\"\",IF(AND($L161>=Sheet1!$F$3,'Pupil List'!$L161<Sheet1!$G$3),Sheet1!$A$3,\"\"))","v":""},{"$f":"IF($L161=\"\",\"\",IF(AND($L161>=Sheet1!$F$4,'Pupil List'!$L161<Sheet1!$G$4),Sheet1!$A$4,\"\"))","v":""},{"$f":"IF($L161=\"\",\"\",IF(AND($L161>=Sheet1!$F$5,'Pupil List'!$L161<Sheet1!$G$5),Sheet1!$A$5,\"\"))","v":""},{"$f":"IF($L161=\"\",\"\",IF(AND($L161>=Sheet1!$F$6,'Pupil List'!$L161<Sheet1!$G$6),Sheet1!$A$6,\"\"))","v":""},{"$f":"IF($L161=\"\",\"\",IF(AND($L161>=Sheet1!$F$7,'Pupil List'!$L161<Sheet1!$G$7),Sheet1!$A$7,\"\"))","v":""},{"$f":"IF($L161=\"\",\"\",IF(AND($L161>=Sheet1!$F$8,'Pupil List'!$L161<Sheet1!$G$8),Sheet1!$A$8,\"\"))","v":""},{"$f":"IF($L161=\"\",\"\",IF(AND($L161>=Sheet1!$F$9,'Pupil List'!$L161<Sheet1!$G$9),Sheet1!$A$9,\"\"))","v":""},{"$f":"IF($L161=\"\",\"\",IF(AND($L161>=Sheet1!$F$10,'Pupil List'!$L161<Sheet1!$G$10),Sheet1!$A$10,\"\"))","v":""},{"$f":"IF($L161=\"\",\"\",IF(AND($L161>=Sheet1!$F$11,'Pupil List'!$L161<Sheet1!$G$11),Sheet1!$A$11,\"\"))","v":""},{"$f":"IF($L161=\"\",\"\",IF(AND($L161>=Sheet1!$F$12,'Pupil List'!$L161<Sheet1!$G$12),Sheet1!$A$12,\"\"))","v":""},{"$f":"IF($L161=\"\",\"\",IF(AND($L161>=Sheet1!$F$13,'Pupil List'!$L161<Sheet1!$G$13),Sheet1!$A$13,\"\"))","v":""},{"$f":"IF($L161=\"\",\"\",IF(AND($L161>=Sheet1!$F$14,'Pupil List'!$L161<Sheet1!$G$14),Sheet1!$A$14,\"\"))","v":""},{"$f":"IF($L161=\"\",\"\",IF(AND($L161>=Sheet1!$F$15,'Pupil List'!$L161<Sheet1!$G$15),Sheet1!$A$15,\"\"))","v":""},{"$f":"IF($L161=\"\",\"\",IF(AND($L161>=Sheet1!$F$16,'Pupil List'!$L161<Sheet1!$G$16),Sheet1!$A$16,\"\"))","v":""},{"$f":"IF($L161=\"\",\"\",IF(AND($L161>=Sheet1!$F$17,'Pupil List'!$L161<Sheet1!$G$17),Sheet1!$A$17,\"\"))","v":""},{"$f":"IF($L161=\"\",\"\",IF(AND($L161>=Sheet1!$F$18,'Pupil List'!$L161<Sheet1!$G$18),Sheet1!$A$18,\"\"))","v":""},{"$f":"IF($L161=\"\",\"\",IF(AND($L161>=Sheet1!$F$19,'Pupil List'!$L161<Sheet1!$G$19),Sheet1!$A$19,\"\"))","v":""},{"$f":"IF($L161=\"\",\"\",IF(AND($L161>=Sheet1!$F$20,'Pupil List'!$L161<Sheet1!$G$20),Sheet1!$A$20,\"\"))","v":""},{"$f":"IF($L161=\"\",\"\",IF(AND($L161>=Sheet1!$F$21,'Pupil List'!$L161<Sheet1!$G$21),Sheet1!$A$21,\"\"))","v":""},{"$f":"IF($L161=\"\",\"\",IF(AND($L161>=Sheet1!$F$22,'Pupil List'!$L161<Sheet1!$G$22),Sheet1!$A$22,\"\"))","v":""},{"$f":"IF($L161=\"\",\"\",IF(AND($L161>=Sheet1!$F$23,'Pupil List'!$L161<Sheet1!$G$23),Sheet1!$A$23,\"\"))","v":""},{"$f":"IF($L161=\"\",\"\",IF(AND($L161>=Sheet1!$F$24,'Pupil List'!$L161<Sheet1!$G$24),Sheet1!$A$24,\"\"))","v":""},{"$f":"IF($L161=\"\",\"\",IF(AND($L161>=Sheet1!$F$25,'Pupil List'!$L161<Sheet1!$G$25),Sheet1!$A$25,\"\"))","v":""},{"$error":"#N/A"},{"$f":"IFERROR(VLOOKUP(BK161,Sheet1!$A$2:$E$25,3,FALSE),\"\")","v":""},{"$f":"IFERROR(VLOOKUP(BK161,Sheet1!$A$2:$E$25,4,FALSE),\"\")","v":""},{"$f":"IFERROR(VLOOKUP(BK161,Sheet1!$A$2:$E$25,5,FALSE),\"\")","v":""},{"$f":"IFERROR(VLOOKUP(N161,Sheet1!$A$29:$B$38,2,FALSE),\"\")","v":""}]
["","","",null,null,null,null,null,"","","",null,"",null,"","","","","","","","","","","","","","","","","","","","","","","","",{"$f":"IF($L162=\"\",\"\",IF(AND($L162>=Sheet1!$F$2,'Pupil List'!$L162<Sheet1!$G$2),Sheet1!$A$2,\"\"))","v":""},{"$f":"IF($L162=\"\",\"\",IF(AND($L162>=Sheet1!$F$3,'Pupil List'!$L162<Sheet1!$G$3),Sheet1!$A$3,\"\"))","v":""},{"$f":"IF($L162=\"\",\"\",IF(AND($L162>=Sheet1!$F$4,'Pupil List'!$L162<Sheet1!$G$4),Sheet1!$A$4,\"\"))","v":""},{"$f":"IF($L162=\"\",\"\",IF(AND($L162>=Sheet1!$F$5,'Pupil List'!$L162<Sheet1!$G$5),Sheet1!$A$5,\"\"))","v":""},{"$f":"IF($L162=\"\",\"\",IF(AND($L162>=Sheet1!$F$6,'Pupil List'!$L162<Sheet1!$G$6),Sheet1!$A$6,\"\"))","v":""},{"$f":"IF($L162=\"\",\"\",IF(AND($L162>=Sheet1!$F$7,'Pupil List'!$L162<Sheet1!$G$7),Sheet1!$A$7,\"\"))","v":""},{"$f":"IF($L162=\"\",\"\",IF(AND($L162>=Sheet1!$F$8,'Pupil List'!$L162<Sheet1!$G$8),Sheet1!$A$8,\"\"))","v":""},{"$f":"IF($L162=\"\",\"\",IF(AND($L162>=Sheet1!$F$9,'Pupil List'!$L162<Sheet1!$G$9),Sheet1!$A$9,\"\"))","v":""},{"$f":"IF($L162=\"\",\"\",IF(AND($L162>=Sheet1!$F$10,'Pupil List'!$L162<Sheet1!$G$10),Sheet1!$A$10,\"\"))","v":""},{"$f":"IF($L162=\"\",\"\",IF(AND($L162>=Sheet1!$F$11,'Pupil List'!$L162<Sheet1!$G$11),Sheet1!$A$11,\"\"))","v":""},{"$f":"IF($L162=\"\",\"\",IF(AND($L162>=Sheet1!$F$12,'Pupil List'!$L162<Sheet1!$G$12),Sheet1!$A$12,\"\"))","v":""},{"$f":"IF($L162=\"\",\"\",IF(AND($L162>=Sheet1!$F$13,'Pupil List'!$L162<Sheet1!$G$13),Sheet1!$A$13,\"\"))","v":""},{"$f":"IF($L162=\"\",\"\",IF(AND($L162>=Sheet1!$F$14,'Pupil List'!$L162<Sheet1!$G$14),Sheet1!$A$14,\"\"))","v":""},{"$f":"IF($L162=\"\",\"\",IF(AND($L162>=Sheet1!$F$15,'Pupil List'!$L162<Sheet1!$G$15),Sheet1!$A$15,\"\"))","v":""},{"$f":"IF($L162=\"\",\"\",IF(AND($L162>=Sheet1!$F$16,'Pupil List'!$L162<Sheet1!$G$16),Sheet1!$A$16,\"\"))","v":""},{"$f":"IF($L162=\"\",\"\",IF(AND($L162>=Sheet1!$F$17,'Pupil List'!$L162<Sheet1!$G$17),Sheet1!$A$17,\"\"))","v":""},{"$f":"IF($L162=\"\",\"\",IF(AND($L162>=Sheet1!$F$18,'Pupil List'!$L162<Sheet1!$G$18),Sheet1!$A$18,\"\"))","v":""},{"$f":"IF($L162=\"\",\"\",IF(AND($L162>=Sheet1!$F$19,'Pupil List'!$L162<Sheet1!$G$19),Sheet1!$A$19,\"\"))","v":""},{"$f":"IF($L162=\"\",\"\",IF(AND($L162>=Sheet1!$F$20,'Pupil List'!$L162<Sheet1!$G$20),Sheet1!$A$20,\"\"))","v":""},{"$f":"IF($L162=\"\",\"\",IF(AND($L162>=Sheet1!$F$21,'Pupil List'!$L162<Sheet1!$G$21),Sheet1!$A$21,\"\"))","v":""},{"$f":"IF($L162=\"\",\"\",IF(AND($L162>=Sheet1!$F$22,'Pupil List'!$L162<Sheet1!$G$22),Sheet1!$A$22,\"\"))","v":""},{"$f":"IF($L162=\"\",\"\",IF(AND($L162>=Sheet1!$F$23,'Pupil List'!$L162<Sheet1!$G$23),Sheet1!$A$23,\"\"))","v":""},{"$f":"IF($L162=\"\",\"\",IF(AND($L162>=Sheet1!$F$24,'Pupil List'!$L162<Sheet1!$G$24),Sheet1!$A$24,\"\"))","v":""},{"$f":"IF($L162=\"\",\"\",IF(AND($L162>=Sheet1!$F$25,'Pupil List'!$L162<Sheet1!$G$25),Sheet1!$A$25,\"\"))","v":""},{"$error":"#N/A"},{"$f":"IFERROR(VLOOKUP(BK162,Sheet1!$A$2:$E$25,3,FALSE),\"\")","v":""},{"$f":"IFERROR(VLOOKUP(BK162,Sheet1!$A$2:$E$25,4,FALSE),\"\")","v":""},{"$f":"IFERROR(VLOOKUP(BK162,Sheet1!$A$2:$E$25,5,FALSE),\"\")","v":""},{"$f":"IFERROR(VLOOKUP(N162,Sheet1!$A$29:$B$38,2,FALSE),\"\")","v":""}]
["","","",null,null,null,null,null,"","","",null,"",null,"","","","","","","","","","","","","","","","","","","","","","","","",{"$f":"IF($L163=\"\",\"\",IF(AND($L163>=Sheet1!$F$2,'Pupil List'!$L163<Sheet1!$G$2),Sheet1!$A$2,\"\"))","v":""},{"$f":"IF($L163=\"\",\"\",IF(AND($L163>=Sheet1!$F$3,'Pupil List'!$L163<Sheet1!$G$3),Sheet1!$A$3,\"\"))","v":""},{"$f":"IF($L163=\"\",\"\",IF(AND($L163>=Sheet1!$F$4,'Pupil List'!$L163<Sheet1!$G$4),Sheet1!$A$4,\"\"))","v":""},{"$f":"IF($L163=\"\",\"\",IF(AND($L163>=Sheet1!$F$5,'Pupil List'!$L163<Sheet1!$G$5),Sheet1!$A$5,\"\"))","v":""},{"$f":"IF($L163=\"\",\"\",IF(AND($L163>=Sheet1!$F$6,'Pupil List'!$L163<Sheet1!$G$6),Sheet1!$A$6,\"\"))","v":""},{"$f":"IF($L163=\"\",\"\",IF(AND($L163>=Sheet1!$F$7,'Pupil List'!$L163<Sheet1!$G$7),Sheet1!$A$7,\"\"))","v":""},{"$f":"IF($L163=\"\",\"\",IF(AND($L163>=Sheet1!$F$8,'Pupil List'!$L163<Sheet1!$G$8),Sheet1!$A$8,\"\"))","v":""},{"$f":"IF($L163=\"\",\"\",IF(AND($L163>=Sheet1!$F$9,'Pupil List'!$L163<Sheet1!$G$9),Sheet1!$A$9,\"\"))","v":""},{"$f":"IF($L163=\"\",\"\",IF(AND($L163>=Sheet1!$F$10,'Pupil List'!$L163<Sheet1!$G$10),Sheet1!$A$10,\"\"))","v":""},{"$f":"IF($L163=\"\",\"\",IF(AND($L163>=Sheet1!$F$11,'Pupil List'!$L163<Sheet1!$G$11),Sheet1!$A$11,\"\"))","v":""},{"$f":"IF($L163=\"\",\"\",IF(AND($L163>=Sheet1!$F$12,'Pupil List'!$L163<Sheet1!$G$12),Sheet1!$A$12,\"\"))","v":""},{"$f":"IF($L163=\"\",\"\",IF(AND($L163>=Sheet1!$F$13,'Pupil List'!$L163<Sheet1!$G$13),Sheet1!$A$13,\"\"))","v":""},{"$f":"IF($L163=\"\",\"\",IF(AND($L163>=Sheet1!$F$14,'Pupil List'!$L163<Sheet1!$G$14),Sheet1!$A$14,\"\"))","v":""},{"$f":"IF($L163=\"\",\"\",IF(AND($L163>=Sheet1!$F$15,'Pupil List'!$L163<Sheet1!$G$15),Sheet1!$A$15,\"\"))","v":""},{"$f":"IF($L163=\"\",\"\",IF(AND($L163>=Sheet1!$F$16,'Pupil List'!$L163<Sheet1!$G$16),Sheet1!$A$16,\"\"))","v":""},{"$f":"IF($L163=\"\",\"\",IF(AND($L163>=Sheet1!$F$17,'Pupil List'!$L163<Sheet1!$G$17),Sheet1!$A$17,\"\"))","v":""},{"$f":"IF($L163=\"\",\"\",IF(AND($L163>=Sheet1!$F$18,'Pupil List'!$L163<Sheet1!$G$18),Sheet1!$A$18,\"\"))","v":""},{"$f":"IF($L163=\"\",\"\",IF(AND($L163>=Sheet1!$F$19,'Pupil List'!$L163<Sheet1!$G$19),Sheet1!$A$19,\"\"))","v":""},{"$f":"IF($L163=\"\",\"\",IF(AND($L163>=Sheet1!$F$20,'Pupil List'!$L163<Sheet1!$G$20),Sheet1!$A$20,\"\"))","v":""},{"$f":"IF($L163=\"\",\"\",IF(AND($L163>=Sheet1!$F$21,'Pupil List'!$L163<Sheet1!$G$21),Sheet1!$A$21,\"\"))","v":""},{"$f":"IF($L163=\"\",\"\",IF(AND($L163>=Sheet1!$F$22,'Pupil List'!$L163<Sheet1!$G$22),Sheet1!$A$22,\"\"))","v":""},{"$f":"IF($L163=\"\",\"\",IF(AND($L163>=Sheet1!$F$23,'Pupil List'!$L163<Sheet1!$G$23),Sheet1!$A$23,\"\"))","v":""},{"$f":"IF($L163=\"\",\"\",IF(AND($L163>=Sheet1!$F$24,'Pupil List'!$L163<Sheet1!$G$24),Sheet1!$A$24,\"\"))","v":""},{"$f":"IF($L163=\"\",\"\",IF(AND($L163>=Sheet1!$F$25,'Pupil List'!$L163<Sheet1!$G$25),Sheet1!$A$25,\"\"))","v":""},{"$error":"#N/A"},{"$f":"IFERROR(VLOOKUP(BK163,Sheet1!$A$2:$E$25,3,FALSE),\"\")","v":""},{"$f":"IFERROR(VLOOKUP(BK163,Sheet1!$A$2:$E$25,4,FALSE),\"\")","v":""},{"$f":"IFERROR(VLOOKUP(BK163,Sheet1!$A$2:$E$25,5,FALSE),\"\")","v":""},{"$f":"IFERROR(VLOOKUP(N163,Sheet1!$A$29:$B$38,2,FALSE),\"\")","v":""}]
["","","",null,null,null,null,null,"","","",null,"",null,"","","","","","","","","","","","","","","","","","","","","","","","",{"$f":"IF($L164=\"\",\"\",IF(AND($L164>=Sheet1!$F$2,'Pupil List'!$L164<Sheet1!$G$2),Sheet1!$A$2,\"\"))","v":""},{"$f":"IF($L164=\"\",\"\",IF(AND($L164>=Sheet1!$F$3,'Pupil List'!$L164<Sheet1!$G$3),Sheet1!$A$3,\"\"))","v":""},{"$f":"IF($L164=\"\",\"\",IF(AND($L164>=Sheet1!$F$4,'Pupil List'!$L164<Sheet1!$G$4),Sheet1!$A$4,\"\"))","v":""},{"$f":"IF($L164=\"\",\"\",IF(AND($L164>=Sheet1!$F$5,'Pupil List'!$L164<Sheet1!$G$5),Sheet1!$A$5,\"\"))","v":""},{"$f":"IF($L164=\"\",\"\",IF(AND($L164>=Sheet1!$F$6,'Pupil List'!$L164<Sheet1!$G$6),Sheet1!$A$6,\"\"))","v":""},{"$f":"IF($L164=\"\",\"\",IF(AND($L164>=Sheet1!$F$7,'Pupil List'!$L164<Sheet1!$G$7),Sheet1!$A$7,\"\"))","v":""},{"$f":"IF($L164=\"\",\"\",IF(AND($L164>=Sheet1!$F$8,'Pupil List'!$L164<Sheet1!$G$8),Sheet1!$A$8,\"\"))","v":""},{"$f":"IF($L164=\"\",\"\",IF(AND($L164>=Sheet1!$F$9,'Pupil List'!$L164<Sheet1!$G$9),Sheet1!$A$9,\"\"))","v":""},{"$f":"IF($L164=\"\",\"\",IF(AND($L164>=Sheet1!$F$10,'Pupil List'!$L164<Sheet1!$G$10),Sheet1!$A$10,\"\"))","v":""},{"$f":"IF($L164=\"\",\"\",IF(AND($L164>=Sheet1!$F$11,'Pupil List'!$L164<Sheet1!$G$11),Sheet1!$A$11,\"\"))","v":""},{"$f":"IF($L164=\"\",\"\",IF(AND($L164>=Sheet1!$F$12,'Pupil List'!$L164<Sheet1!$G$12),Sheet1!$A$12,\"\"))","v":""},{"$f":"IF($L164=\"\",\"\",IF(AND($L164>=Sheet1!$F$13,'Pupil List'!$L164<Sheet1!$G$13),Sheet1!$A$13,\"\"))","v":""},{"$f":"IF($L164=\"\",\"\",IF(AND($L164>=Sheet1!$F$14,'Pupil List'!$L164<Sheet1!$G$14),Sheet1!$A$14,\"\"))","v":""},{"$f":"IF($L164=\"\",\"\",IF(AND($L164>=Sheet1!$F$15,'Pupil List'!$L164<Sheet1!$G$15),Sheet1!$A$15,\"\"))","v":""},{"$f":"IF($L164=\"\",\"\",IF(AND($L164>=Sheet1!$F$16,'Pupil List'!$L164<Sheet1!$G$16),Sheet1!$A$16,\"\"))","v":""},{"$f":"IF($L164=\"\",\"\",IF(AND($L164>=Sheet1!$F$17,'Pupil List'!$L164<Sheet1!$G$17),Sheet1!$A$17,\"\"))","v":""},{"$f":"IF($L164=\"\",\"\",IF(AND($L164>=Sheet1!$F$18,'Pupil List'!$L164<Sheet1!$G$18),Sheet1!$A$18,\"\"))","v":""},{"$f":"IF($L164=\"\",\"\",IF(AND($L164>=Sheet1!$F$19,'Pupil List'!$L164<Sheet1!$G$19),Sheet1!$A$19,\"\"))","v":""},{"$f":"IF($L164=\"\",\"\",IF(AND($L164>=Sheet1!$F$20,'Pupil List'!$L164<Sheet1!$G$20),Sheet1!$A$20,\"\"))","v":""},{"$f":"IF($L164=\"\",\"\",IF(AND($L164>=Sheet1!$F$21,'Pupil List'!$L164<Sheet1!$G$21),Sheet1!$A$21,\"\"))","v":""},{"$f":"IF($L164=\"\",\"\",IF(AND($L164>=Sheet1!$F$22,'Pupil List'!$L164<Sheet1!$G$22),Sheet1!$A$22,\"\"))","v":""},{"$f":"IF($L164=\"\",\"\",IF(AND($L164>=Sheet1!$F$23,'Pupil List'!$L164<Sheet1!$G$23),Sheet1!$A$23,\"\"))","v":""},{"$f":"IF($L164=\"\",\"\",IF(AND($L164>=Sheet1!$F$24,'Pupil List'!$L164<Sheet1!$G$24),Sheet1!$A$24,\"\"))","v":""},{"$f":"IF($L164=\"\",\"\",IF(AND($L164>=Sheet1!$F$25,'Pupil List'!$L164<Sheet1!$G$25),Sheet1!$A$25,\"\"))","v":""},{"$error":"#N/A"},{"$f":"IFERROR(VLOOKUP(BK164,Sheet1!$A$2:$E$25,3,FALSE),\"\")","v":""},{"$f":"IFERROR(VLOOKUP(BK164,Sheet1!$A$2:$E$25,4,FALSE),\"\")","v":""},{"$f":"IFERROR(VLOOKUP(BK164,Sheet1!$A$2:$E$25,5,FALSE),\"\")","v":""},{"$f":"IFERROR(VLOOKUP(N164,Sheet1!$A$29:$B$38,2,FALSE),\"\")","v":""}]
["","","",null,null,null,null,null,"","","",null,"",null,"","","","","","","","","","","","","","","","","","","","","","","","",{"$f":"IF($L165=\"\",\"\",IF(AND($L165>=Sheet1!$F$2,'Pupil List'!$L165<Sheet1!$G$2),Sheet1!$A$2,\"\"))","v":""},{"$f":"IF($L165=\"\",\"\",IF(AND($L165>=Sheet1!$F$3,'Pupil List'!$L165<Sheet1!$G$3),Sheet1!$A$3,\"\"))","v":""},{"$f":"IF($L165=\"\",\"\",IF(AND($L165>=Sheet1!$F$4,'Pupil List'!$L165<Sheet1!$G$4),Sheet1!$A$4,\"\"))","v":""},{"$f":"IF($L165=\"\",\"\",IF(AND($L165>=Sheet1!$F$5,'Pupil List'!$L165<Sheet1!$G$5),Sheet1!$A$5,\"\"))","v":""},{"$f":"IF($L165=\"\",\"\",IF(AND($L165>=Sheet1!$F$6,'Pupil List'!$L165<Sheet1!$G$6),Sheet1!$A$6,\"\"))","v":""},{"$f":"IF($L165=\"\",\"\",IF(AND($L165>=Sheet1!$F$7,'Pupil List'!$L165<Sheet1!$G$7),Sheet1!$A$7,\"\"))","v":""},{"$f":"IF($L165=\"\",\"\",IF(AND($L165>=Sheet1!$F$8,'Pupil List'!$L165<Sheet1!$G$8),Sheet1!$A$8,\"\"))","v":""},{"$f":"IF($L165=\"\",\"\",IF(AND($L165>=Sheet1!$F$9,'Pupil List'!$L165<Sheet1!$G$9),Sheet1!$A$9,\"\"))","v":""},{"$f":"IF($L165=\"\",\"\",IF(AND($L165>=Sheet1!$F$10,'Pupil List'!$L165<Sheet1!$G$10),Sheet1!$A$10,\"\"))","v":""},{"$f":"IF($L165=\"\",\"\",IF(AND($L165>=Sheet1!$F$11,'Pupil List'!$L165<Sheet1!$G$11),Sheet1!$A$11,\"\"))","v":""},{"$f":"IF($L165=\"\",\"\",IF(AND($L165>=Sheet1!$F$12,'Pupil List'!$L165<Sheet1!$G$12),Sheet1!$A$12,\"\"))","v":""},{"$f":"IF($L165=\"\",\"\",IF(AND($L165>=Sheet1!$F$13,'Pupil List'!$L165<Sheet1!$G$13),Sheet1!$A$13,\"\"))","v":""},{"$f":"IF($L165=\"\",\"\",IF(AND($L165>=Sheet1!$F$14,'Pupil List'!$L165<Sheet1!$G$14),Sheet1!$A$14,\"\"))","v":""},{"$f":"IF($L165=\"\",\"\",IF(AND($L165>=Sheet1!$F$15,'Pupil List'!$L165<Sheet1!$G$15),Sheet1!$A$15,\"\"))","v":""},{"$f":"IF($L165=\"\",\"\",IF(AND($L165>=Sheet1!$F$16,'Pupil List'!$L165<Sheet1!$G$16),Sheet1!$A$16,\"\"))","v":""},{"$f":"IF($L165=\"\",\"\",IF(AND($L165>=Sheet1!$F$17,'Pupil List'!$L165<Sheet1!$G$17),Sheet1!$A$17,\"\"))","v":""},{"$f":"IF($L165=\"\",\"\",IF(AND($L165>=Sheet1!$F$18,'Pupil List'!$L165<Sheet1!$G$18),Sheet1!$A$18,\"\"))","v":""},{"$f":"IF($L165=\"\",\"\",IF(AND($L165>=Sheet1!$F$19,'Pupil List'!$L165<Sheet1!$G$19),Sheet1!$A$19,\"\"))","v":""},{"$f":"IF($L165=\"\",\"\",IF(AND($L165>=Sheet1!$F$20,'Pupil List'!$L165<Sheet1!$G$20),Sheet1!$A$20,\"\"))","v":""},{"$f":"IF($L165=\"\",\"\",IF(AND($L165>=Sheet1!$F$21,'Pupil List'!$L165<Sheet1!$G$21),Sheet1!$A$21,\"\"))","v":""},{"$f":"IF($L165=\"\",\"\",IF(AND($L165>=Sheet1!$F$22,'Pupil List'!$L165<Sheet1!$G$22),Sheet1!$A$22,\"\"))","v":""},{"$f":"IF($L165=\"\",\"\",IF(AND($L165>=Sheet1!$F$23,'Pupil List'!$L165<Sheet1!$G$23),Sheet1!$A$23,\"\"))","v":""},{"$f":"IF($L165=\"\",\"\",IF(AND($L165>=Sheet1!$F$24,'Pupil List'!$L165<Sheet1!$G$24),Sheet1!$A$24,\"\"))","v":""},{"$f":"IF($L165=\"\",\"\",IF(AND($L165>=Sheet1!$F$25,'Pupil List'!$L165<Sheet1!$G$25),Sheet1!$A$25,\"\"))","v":""},{"$error":"#N/A"},{"$f":"IFERROR(VLOOKUP(BK165,Sheet1!$A$2:$E$25,3,FALSE),\"\")","v":""},{"$f":"IFERROR(VLOOKUP(BK165,Sheet1!$A$2:$E$25,4,FALSE),\"\")","v":""},{"$f":"IFERROR(VLOOKUP(BK165,Sheet1!$A$2:$E$25,5,FALSE),\"\")","v":""},{"$f":"IFERROR(VLOOKUP(N165,Sheet1!$A$29:$B$38,2,FALSE),\"\")","v":""}]
["","","",null,null,null,null,null,"","","",null,"",null,"","","","","","","","","","","","","","","","","","","","","","","","",{"$f":"IF($L166=\"\",\"\",IF(AND($L166>=Sheet1!$F$2,'Pupil List'!$L166<Sheet1!$G$2),Sheet1!$A$2,\"\"))","v":""},{"$f":"IF($L166=\"\",\"\",IF(AND($L166>=Sheet1!$F$3,'Pupil List'!$L166<Sheet1!$G$3),Sheet1!$A$3,\"\"))","v":""},{"$f":"IF($L166=\"\",\"\",IF(AND($L166>=Sheet1!$F$4,'Pupil List'!$L166<Sheet1!$G$4),Sheet1!$A$4,\"\"))","v":""},{"$f":"IF($L166=\"\",\"\",IF(AND($L166>=Sheet1!$F$5,'Pupil List'!$L166<Sheet1!$G$5),Sheet1!$A$5,\"\"))","v":""},{"$f":"IF($L166=\"\",\"\",IF(AND($L166>=Sheet1!$F$6,'Pupil List'!$L166<Sheet1!$G$6),Sheet1!$A$6,\"\"))","v":""},{"$f":"IF($L166=\"\",\"\",IF(AND($L166>=Sheet1!$F$7,'Pupil List'!$L166<Sheet1!$G$7),Sheet1!$A$7,\"\"))","v":""},{"$f":"IF($L166=\"\",\"\",IF(AND($L166>=Sheet1!$F$8,'Pupil List'!$L166<Sheet1!$G$8),Sheet1!$A$8,\"\"))","v":""},{"$f":"IF($L166=\"\",\"\",IF(AND($L166>=Sheet1!$F$9,'Pupil List'!$L166<Sheet1!$G$9),Sheet1!$A$9,\"\"))","v":""},{"$f":"IF($L166=\"\",\"\",IF(AND($L166>=Sheet1!$F$10,'Pupil List'!$L166<Sheet1!$G$10),Sheet1!$A$10,\"\"))","v":""},{"$f":"IF($L166=\"\",\"\",IF(AND($L166>=Sheet1!$F$11,'Pupil List'!$L166<Sheet1!$G$11),Sheet1!$A$11,\"\"))","v":""},{"$f":"IF($L166=\"\",\"\",IF(AND($L166>=Sheet1!$F$12,'Pupil List'!$L166<Sheet1!$G$12),Sheet1!$A$12,\"\"))","v":""},{"$f":"IF($L166=\"\",\"\",IF(AND($L166>=Sheet1!$F$13,'Pupil List'!$L166<Sheet1!$G$13),Sheet1!$A$13,\"\"))","v":""},{"$f":"IF($L166=\"\",\"\",IF(AND($L166>=Sheet1!$F$14,'Pupil List'!$L166<Sheet1!$G$14),Sheet1!$A$14,\"\"))","v":""},{"$f":"IF($L166=\"\",\"\",IF(AND($L166>=Sheet1!$F$15,'Pupil List'!$L166<Sheet1!$G$15),Sheet1!$A$15,\"\"))","v":""},{"$f":"IF($L166=\"\",\"\",IF(AND($L166>=Sheet1!$F$16,'Pupil List'!$L166<Sheet1!$G$16),Sheet1!$A$16,\"\"))","v":""},{"$f":"IF($L166=\"\",\"\",IF(AND($L166>=Sheet1!$F$17,'Pupil List'!$L166<Sheet1!$G$17),Sheet1!$A$17,\"\"))","v":""},{"$f":"IF($L166=\"\",\"\",IF(AND($L166>=Sheet1!$F$18,'Pupil List'!$L166<Sheet1!$G$18),Sheet1!$A$18,\"\"))","v":""},{"$f":"IF($L166=\"\",\"\",IF(AND($L166>=Sheet1!$F$19,'Pupil List'!$L166<Sheet1!$G$19),Sheet1!$A$19,\"\"))","v":""},{"$f":"IF($L166=\"\",\"\",IF(AND($L166>=Sheet1!$F$20,'Pupil List'!$L166<Sheet1!$G$20),Sheet1!$A$20,\"\"))","v":""},{"$f":"IF($L166=\"\",\"\",IF(AND($L166>=Sheet1!$F$21,'Pupil List'!$L166<Sheet1!$G$21),Sheet1!$A$21,\"\"))","v":""},{"$f":"IF($L166=\"\",\"\",IF(AND($L166>=Sheet1!$F$22,'Pupil List'!$L166<Sheet1!$G$22),Sheet1!$A$22,\"\"))","v":""},{"$f":"IF($L166=\"\",\"\",IF(AND($L166>=Sheet1!$F$23,'Pupil List'!$L166<Sheet1!$G$23),Sheet1!$A$23,\"\"))","v":""},{"$f":"IF($L166=\"\",\"\",IF(AND($L166>=Sheet1!$F$24,'Pupil List'!$L166<Sheet1!$G$24),Sheet1!$A$24,\"\"))","v":""},{"$f":"IF($L166=\"\",\"\",IF(AND($L166>=Sheet1!$F$25,'Pupil List'!$L166<Sheet1!$G$25),Sheet1!$A$25,\"\"))","v":""},{"$error":"#N/A"},{"$f":"IFERROR(VLOOKUP(BK166,Sheet1!$A$2:$E$25,3,FALSE),\"\")","v":""},{"$f":"IFERROR(VLOOKUP(BK166,Sheet1!$A$2:$E$25,4,FALSE),\"\")","v":""},{"$f":"IFERROR(VLOOKUP(BK166,Sheet1!$A$2:$E$25,5,FALSE),\"\")","v":""},{"$f":"IFERROR(VLOOKUP(N166,Sheet1!$A$29:$B$38,2,FALSE),\"\")","v":""}]
["","","",null,null,null,null,null,"","","",null,"",null,"","","","","","","","","","","","","","","","","","","","","","","","",{"$f":"IF($L167=\"\",\"\",IF(AND($L167>=Sheet1!$F$2,'Pupil List'!$L167<Sheet1!$G$2),Sheet1!$A$2,\"\"))","v":""},{"$f":"IF($L167=\"\",\"\",IF(AND($L167>=Sheet1!$F$3,'Pupil List'!$L167<Sheet1!$G$3),Sheet1!$A$3,\"\"))","v":""},{"$f":"IF($L167=\"\",\"\",IF(AND($L167>=Sheet1!$F$4,'Pupil List'!$L167<Sheet1!$G$4),Sheet1!$A$4,\"\"))","v":""},{"$f":"IF($L167=\"\",\"\",IF(AND($L167>=Sheet1!$F$5,'Pupil List'!$L167<Sheet1!$G$5),Sheet1!$A$5,\"\"))","v":""},{"$f":"IF($L167=\"\",\"\",IF(AND($L167>=Sheet1!$F$6,'Pupil List'!$L167<Sheet1!$G$6),Sheet1!$A$6,\"\"))","v":""},{"$f":"IF($L167=\"\",\"\",IF(AND($L167>=Sheet1!$F$7,'Pupil List'!$L167<Sheet1!$G$7),Sheet1!$A$7,\"\"))","v":""},{"$f":"IF($L167=\"\",\"\",IF(AND($L167>=Sheet1!$F$8,'Pupil List'!$L167<Sheet1!$G$8),Sheet1!$A$8,\"\"))","v":""},{"$f":"IF($L167=\"\",\"\",IF(AND($L167>=Sheet1!$F$9,'Pupil List'!$L167<Sheet1!$G$9),Sheet1!$A$9,\"\"))","v":""},{"$f":"IF($L167=\"\",\"\",IF(AND($L167>=Sheet1!$F$10,'Pupil List'!$L167<Sheet1!$G$10),Sheet1!$A$10,\"\"))","v":""},{"$f":"IF($L167=\"\",\"\",IF(AND($L167>=Sheet1!$F$11,'Pupil List'!$L167<Sheet1!$G$11),Sheet1!$A$11,\"\"))","v":""},{"$f":"IF($L167=\"\",\"\",IF(AND($L167>=Sheet1!$F$12,'Pupil List'!$L167<Sheet1!$G$12),Sheet1!$A$12,\"\"))","v":""},{"$f":"IF($L167=\"\",\"\",IF(AND($L167>=Sheet1!$F$13,'Pupil List'!$L167<Sheet1!$G$13),Sheet1!$A$13,\"\"))","v":""},{"$f":"IF($L167=\"\",\"\",IF(AND($L167>=Sheet1!$F$14,'Pupil List'!$L167<Sheet1!$G$14),Sheet1!$A$14,\"\"))","v":""},{"$f":"IF($L167=\"\",\"\",IF(AND($L167>=Sheet1!$F$15,'Pupil List'!$L167<Sheet1!$G$15),Sheet1!$A$15,\"\"))","v":""},{"$f":"IF($L167=\"\",\"\",IF(AND($L167>=Sheet1!$F$16,'Pupil List'!$L167<Sheet1!$G$16),Sheet1!$A$16,\"\"))","v":""},{"$f":"IF($L167=\"\",\"\",IF(AND($L167>=Sheet1!$F$17,'Pupil List'!$L167<Sheet1!$G$17),Sheet1!$A$17,\"\"))","v":""},{"$f":"IF($L167=\"\",\"\",IF(AND($L167>=Sheet1!$F$18,'Pupil List'!$L167<Sheet1!$G$18),Sheet1!$A$18,\"\"))","v":""},{"$f":"IF($L167=\"\",\"\",IF(AND($L167>=Sheet1!$F$19,'Pupil List'!$L167<Sheet1!$G$19),Sheet1!$A$19,\"\"))","v":""},{"$f":"IF($L167=\"\",\"\",IF(AND($L167>=Sheet1!$F$20,'Pupil List'!$L167<Sheet1!$G$20),Sheet1!$A$20,\"\"))","v":""},{"$f":"IF($L167=\"\",\"\",IF(AND($L167>=Sheet1!$F$21,'Pupil List'!$L167<Sheet1!$G$21),Sheet1!$A$21,\"\"))","v":""},{"$f":"IF($L167=\"\",\"\",IF(AND($L167>=Sheet1!$F$22,'Pupil List'!$L167<Sheet1!$G$22),Sheet1!$A$22,\"\"))","v":""},{"$f":"IF($L167=\"\",\"\",IF(AND($L167>=Sheet1!$F$23,'Pupil List'!$L167<Sheet1!$G$23),Sheet1!$A$23,\"\"))","v":""},{"$f":"IF($L167=\"\",\"\",IF(AND($L167>=Sheet1!$F$24,'Pupil List'!$L167<Sheet1!$G$24),Sheet1!$A$24,\"\"))","v":""},{"$f":"IF($L167=\"\",\"\",IF(AND($L167>=Sheet1!$F$25,'Pupil List'!$L167<Sheet1!$G$25),Sheet1!$A$25,\"\"))","v":""},{"$error":"#N/A"},{"$f":"IFERROR(VLOOKUP(BK167,Sheet1!$A$2:$E$25,3,FALSE),\"\")","v":""},{"$f":"IFERROR(VLOOKUP(BK167,Sheet1!$A$2:$E$25,4,FALSE),\"\")","v":""},{"$f":"IFERROR(VLOOKUP(BK167,Sheet1!$A$2:$E$25,5,FALSE),\"\")","v":""},{"$f":"IFERROR(VLOOKUP(N167,Sheet1!$A$29:$B$38,2,FALSE),\"\")","v":""}]
["","","",null,null,null,null,null,"","","",null,"",null,"","","","","","","","","","","","","","","","","","","","","","","","",{"$f":"IF($L168=\"\",\"\",IF(AND($L168>=Sheet1!$F$2,'Pupil List'!$L168<Sheet1!$G$2),Sheet1!$A$2,\"\"))","v":""},{"$f":"IF($L168=\"\",\"\",IF(AND($L168>=Sheet1!$F$3,'Pupil List'!$L168<Sheet1!$G$3),Sheet1!$A$3,\"\"))","v":""},{"$f":"IF($L168=\"\",\"\",IF(AND($L168>=Sheet1!$F$4,'Pupil List'!$L168<Sheet1!$G$4),Sheet1!$A$4,\"\"))","v":""},{"$f":"IF($L168=\"\",\"\",IF(AND($L168>=Sheet1!$F$5,'Pupil List'!$L168<Sheet1!$G$5),Sheet1!$A$5,\"\"))","v":""},{"$f":"IF($L168=\"\",\"\",IF(AND($L168>=Sheet1!$F$6,'Pupil List'!$L168<Sheet1!$G$6),Sheet1!$A$6,\"\"))","v":""},{"$f":"IF($L168=\"\",\"\",IF(AND($L168>=Sheet1!$F$7,'Pupil List'!$L168<Sheet1!$G$7),Sheet1!$A$7,\"\"))","v":""},{"$f":"IF($L168=\"\",\"\",IF(AND($L168>=Sheet1!$F$8,'Pupil List'!$L168<Sheet1!$G$8),Sheet1!$A$8,\"\"))","v":""},{"$f":"IF($L168=\"\",\"\",IF(AND($L168>=Sheet1!$F$9,'Pupil List'!$L168<Sheet1!$G$9),Sheet1!$A$9,\"\"))","v":""},{"$f":"IF($L168=\"\",\"\",IF(AND($L168>=Sheet1!$F$10,'Pupil List'!$L168<Sheet1!$G$10),Sheet1!$A$10,\"\"))","v":""},{"$f":"IF($L168=\"\",\"\",IF(AND($L168>=Sheet1!$F$11,'Pupil List'!$L168<Sheet1!$G$11),Sheet1!$A$11,\"\"))","v":""},{"$f":"IF($L168=\"\",\"\",IF(AND($L168>=Sheet1!$F$12,'Pupil List'!$L168<Sheet1!$G$12),Sheet1!$A$12,\"\"))","v":""},{"$f":"IF($L168=\"\",\"\",IF(AND($L168>=Sheet1!$F$13,'Pupil List'!$L168<Sheet1!$G$13),Sheet1!$A$13,\"\"))","v":""},{"$f":"IF($L168=\"\",\"\",IF(AND($L168>=Sheet1!$F$14,'Pupil List'!$L168<Sheet1!$G$14),Sheet1!$A$14,\"\"))","v":""},{"$f":"IF($L168=\"\",\"\",IF(AND($L168>=Sheet1!$F$15,'Pupil List'!$L168<Sheet1!$G$15),Sheet1!$A$15,\"\"))","v":""},{"$f":"IF($L168=\"\",\"\",IF(AND($L168>=Sheet1!$F$16,'Pupil List'!$L168<Sheet1!$G$16),Sheet1!$A$16,\"\"))","v":""},{"$f":"IF($L168=\"\",\"\",IF(AND($L168>=Sheet1!$F$17,'Pupil List'!$L168<Sheet1!$G$17),Sheet1!$A$17,\"\"))","v":""},{"$f":"IF($L168=\"\",\"\",IF(AND($L168>=Sheet1!$F$18,'Pupil List'!$L168<Sheet1!$G$18),Sheet1!$A$18,\"\"))","v":""},{"$f":"IF($L168=\"\",\"\",IF(AND($L168>=Sheet1!$F$19,'Pupil List'!$L168<Sheet1!$G$19),Sheet1!$A$19,\"\"))","v":""},{"$f":"IF($L168=\"\",\"\",IF(AND($L168>=Sheet1!$F$20,'Pupil List'!$L168<Sheet1!$G$20),Sheet1!$A$20,\"\"))","v":""},{"$f":"IF($L168=\"\",\"\",IF(AND($L168>=Sheet1!$F$21,'Pupil List'!$L168<Sheet1!$G$21),Sheet1!$A$21,\"\"))","v":""},{"$f":"IF($L168=\"\",\"\",IF(AND($L168>=Sheet1!$F$22,'Pupil List'!$L168<Sheet1!$G$22),Sheet1!$A$22,\"\"))","v":""},{"$f":"IF($L168=\"\",\"\",IF(AND($L168>=Sheet1!$F$23,'Pupil List'!$L168<Sheet1!$G$23),Sheet1!$A$23,\"\"))","v":""},{"$f":"IF($L168=\"\",\"\",IF(AND($L168>=Sheet1!$F$24,'Pupil List'!$L168<Sheet1!$G$24),Sheet1!$A$24,\"\"))","v":""},{"$f":"IF($L168=\"\",\"\",IF(AND($L168>=Sheet1!$F$25,'Pupil List'!$L168<Sheet1!$G$25),Sheet1!$A$25,\"\"))","v":""},{"$error":"#N/A"},{"$f":"IFERROR(VLOOKUP(BK168,Sheet1!$A$2:$E$25,3,FALSE),\"\")","v":""},{"$f":"IFERROR(VLOOKUP(BK168,Sheet1!$A$2:$E$25,4,FALSE),\"\")","v":""},{"$f":"IFERROR(VLOOKUP(BK168,Sheet1!$A$2:$E$25,5,FALSE),\"\")","v":""},{"$f":"IFERROR(VLOOKUP(N168,Sheet1!$A$29:$B$38,2,FALSE),\"\")","v":""}]
["","","",null,null,null,null,null,"","","",null,"",null,"","","","","","","","","","","","","","","","","","","","","","","","",{"$f":"IF($L169=\"\",\"\",IF(AND($L169>=Sheet1!$F$2,'Pupil List'!$L169<Sheet1!$G$2),Sheet1!$A$2,\"\"))","v":""},{"$f":"IF($L169=\"\",\"\",IF(AND($L169>=Sheet1!$F$3,'Pupil List'!$L169<Sheet1!$G$3),Sheet1!$A$3,\"\"))","v":""},{"$f":"IF($L169=\"\",\"\",IF(AND($L169>=Sheet1!$F$4,'Pupil List'!$L169<Sheet1!$G$4),Sheet1!$A$4,\"\"))","v":""},{"$f":"IF($L169=\"\",\"\",IF(AND($L169>=Sheet1!$F$5,'Pupil List'!$L169<Sheet1!$G$5),Sheet1!$A$5,\"\"))","v":""},{"$f":"IF($L169=\"\",\"\",IF(AND($L169>=Sheet1!$F$6,'Pupil List'!$L169<Sheet1!$G$6),Sheet1!$A$6,\"\"))","v":""},{"$f":"IF($L169=\"\",\"\",IF(AND($L169>=Sheet1!$F$7,'Pupil List'!$L169<Sheet1!$G$7),Sheet1!$A$7,\"\"))","v":""},{"$f":"IF($L169=\"\",\"\",IF(AND($L169>=Sheet1!$F$8,'Pupil List'!$L169<Sheet1!$G$8),Sheet1!$A$8,\"\"))","v":""},{"$f":"IF($L169=\"\",\"\",IF(AND($L169>=Sheet1!$F$9,'Pupil List'!$L169<Sheet1!$G$9),Sheet1!$A$9,\"\"))","v":""},{"$f":"IF($L169=\"\",\"\",IF(AND($L169>=Sheet1!$F$10,'Pupil List'!$L169<Sheet1!$G$10),Sheet1!$A$10,\"\"))","v":""},{"$f":"IF($L169=\"\",\"\",IF(AND($L169>=Sheet1!$F$11,'Pupil List'!$L169<Sheet1!$G$11),Sheet1!$A$11,\"\"))","v":""},{"$f":"IF($L169=\"\",\"\",IF(AND($L169>=Sheet1!$F$12,'Pupil List'!$L169<Sheet1!$G$12),Sheet1!$A$12,\"\"))","v":""},{"$f":"IF($L169=\"\",\"\",IF(AND($L169>=Sheet1!$F$13,'Pupil List'!$L169<Sheet1!$G$13),Sheet1!$A$13,\"\"))","v":""},{"$f":"IF($L169=\"\",\"\",IF(AND($L169>=Sheet1!$F$14,'Pupil List'!$L169<Sheet1!$G$14),Sheet1!$A$14,\"\"))","v":""},{"$f":"IF($L169=\"\",\"\",IF(AND($L169>=Sheet1!$F$15,'Pupil List'!$L169<Sheet1!$G$15),Sheet1!$A$15,\"\"))","v":""},{"$f":"IF($L169=\"\",\"\",IF(AND($L169>=Sheet1!$F$16,'Pupil List'!$L169<Sheet1!$G$16),Sheet1!$A$16,\"\"))","v":""},{"$f":"IF($L169=\"\",\"\",IF(AND($L169>=Sheet1!$F$17,'Pupil List'!$L169<Sheet1!$G$17),Sheet1!$A$17,\"\"))","v":""},{"$f":"IF($L169=\"\",\"\",IF(AND($L169>=Sheet1!$F$18,'Pupil List'!$L169<Sheet1!$G$18),Sheet1!$A$18,\"\"))","v":""},{"$f":"IF($L169=\"\",\"\",IF(AND($L169>=Sheet1!$F$19,'Pupil List'!$L169<Sheet1!$G$19),Sheet1!$A$19,\"\"))","v":""},{"$f":"IF($L169=\"\",\"\",IF(AND($L169>=Sheet1!$F$20,'Pupil List'!$L169<Sheet1!$G$20),Sheet1!$A$20,\"\"))","v":""},{"$f":"IF($L169=\"\",\"\",IF(AND($L169>=Sheet1!$F$21,'Pupil List'!$L169<Sheet1!$G$21),Sheet1!$A$21,\"\"))","v":""},{"$f":"IF($L169=\"\",\"\",IF(AND($L169>=Sheet1!$F$22,'Pupil List'!$L169<Sheet1!$G$22),Sheet1!$A$22,\"\"))","v":""},{"$f":"IF($L169=\"\",\"\",IF(AND($L169>=Sheet1!$F$23,'Pupil List'!$L169<Sheet1!$G$23),Sheet1!$A$23,\"\"))","v":""},{"$f":"IF($L169=\"\",\"\",IF(AND($L169>=Sheet1!$F$24,'Pupil List'!$L169<Sheet1!$G$24),Sheet1!$A$24,\"\"))","v":""},{"$f":"IF($L169=\"\",\"\",IF(AND($L169>=Sheet1!$F$25,'Pupil List'!$L169<Sheet1!$G$25),Sheet1!$A$25,\"\"))","v":""},{"$error":"#N/A"},{"$f":"IFERROR(VLOOKUP(BK169,Sheet1!$A$2:$E$25,3,FALSE),\"\")","v":""},{"$f":"IFERROR(VLOOKUP(BK169,Sheet1!$A$2:$E$25,4,FALSE),\"\")","v":""},{"$f":"IFERROR(VLOOKUP(BK169,Sheet1!$A$2:$E$25,5,FALSE),\"\")","v":""},{"$f":"IFERROR(VLOOKUP(N169,Sheet1!$A$29:$B$38,2,FALSE),\"\")","v":""}]
["","","",null,null,null,null,null,"","","",null,"",null,"","","","","","","","","","","","","","","","","","","","","","","","",{"$f":"IF($L170=\"\",\"\",IF(AND($L170>=Sheet1!$F$2,'Pupil List'!$L170<Sheet1!$G$2),Sheet1!$A$2,\"\"))","v":""},{"$f":"IF($L170=\"\",\"\",IF(AND($L170>=Sheet1!$F$3,'Pupil List'!$L170<Sheet1!$G$3),Sheet1!$A$3,\"\"))","v":""},{"$f":"IF($L170=\"\",\"\",IF(AND($L170>=Sheet1!$F$4,'Pupil List'!$L170<Sheet1!$G$4),Sheet1!$A$4,\"\"))","v":""},{"$f":"IF($L170=\"\",\"\",IF(AND($L170>=Sheet1!$F$5,'Pupil List'!$L170<Sheet1!$G$5),Sheet1!$A$5,\"\"))","v":""},{"$f":"IF($L170=\"\",\"\",IF(AND($L170>=Sheet1!$F$6,'Pupil List'!$L170<Sheet1!$G$6),Sheet1!$A$6,\"\"))","v":""},{"$f":"IF($L170=\"\",\"\",IF(AND($L170>=Sheet1!$F$7,'Pupil List'!$L170<Sheet1!$G$7),Sheet1!$A$7,\"\"))","v":""},{"$f":"IF($L170=\"\",\"\",IF(AND($L170>=Sheet1!$F$8,'Pupil List'!$L170<Sheet1!$G$8),Sheet1!$A$8,\"\"))","v":""},{"$f":"IF($L170=\"\",\"\",IF(AND($L170>=Sheet1!$F$9,'Pupil List'!$L170<Sheet1!$G$9),Sheet1!$A$9,\"\"))","v":""},{"$f":"IF($L170=\"\",\"\",IF(AND($L170>=Sheet1!$F$10,'Pupil List'!$L170<Sheet1!$G$10),Sheet1!$A$10,\"\"))","v":""},{"$f":"IF($L170=\"\",\"\",IF(AND($L170>=Sheet1!$F$11,'Pupil List'!$L170<Sheet1!$G$11),Sheet1!$A$11,\"\"))","v":""},{"$f":"IF($L170=\"\",\"\",IF(AND($L170>=Sheet1!$F$12,'Pupil List'!$L170<Sheet1!$G$12),Sheet1!$A$12,\"\"))","v":""},{"$f":"IF($L170=\"\",\"\",IF(AND($L170>=Sheet1!$F$13,'Pupil List'!$L170<Sheet1!$G$13),Sheet1!$A$13,\"\"))","v":""},{"$f":"IF($L170=\"\",\"\",IF(AND($L170>=Sheet1!$F$14,'Pupil List'!$L170<Sheet1!$G$14),Sheet1!$A$14,\"\"))","v":""},{"$f":"IF($L170=\"\",\"\",IF(AND($L170>=Sheet1!$F$15,'Pupil List'!$L170<Sheet1!$G$15),Sheet1!$A$15,\"\"))","v":""},{"$f":"IF($L170=\"\",\"\",IF(AND($L170>=Sheet1!$F$16,'Pupil List'!$L170<Sheet1!$G$16),Sheet1!$A$16,\"\"))","v":""},{"$f":"IF($L170=\"\",\"\",IF(AND($L170>=Sheet1!$F$17,'Pupil List'!$L170<Sheet1!$G$17),Sheet1!$A$17,\"\"))","v":""},{"$f":"IF($L170=\"\",\"\",IF(AND($L170>=Sheet1!$F$18,'Pupil List'!$L170<Sheet1!$G$18),Sheet1!$A$18,\"\"))","v":""},{"$f":"IF($L170=\"\",\"\",IF(AND($L170>=Sheet1!$F$19,'Pupil List'!$L170<Sheet1!$G$19),Sheet1!$A$19,\"\"))","v":""},{"$f":"IF($L170=\"\",\"\",IF(AND($L170>=Sheet1!$F$20,'Pupil List'!$L170<Sheet1!$G$20),Sheet1!$A$20,\"\"))","v":""},{"$f":"IF($L170=\"\",\"\",IF(AND($L170>=Sheet1!$F$21,'Pupil List'!$L170<Sheet1!$G$21),Sheet1!$A$21,\"\"))","v":""},{"$f":"IF($L170=\"\",\"\",IF(AND($L170>=Sheet1!$F$22,'Pupil List'!$L170<Sheet1!$G$22),Sheet1!$A$22,\"\"))","v":""},{"$f":"IF($L170=\"\",\"\",IF(AND($L170>=Sheet1!$F$23,'Pupil List'!$L170<Sheet1!$G$23),Sheet1!$A$23,\"\"))","v":""},{"$f":"IF($L170=\"\",\"\",IF(AND($L170>=Sheet1!$F$24,'Pupil List'!$L170<Sheet1!$G$24),Sheet1!$A$24,\"\"))","v":""},{"$f":"IF($L170=\"\",\"\",IF(AND($L170>=Sheet1!$F$25,'Pupil List'!$L170<Sheet1!$G$25),Sheet1!$A$25,\"\"))","v":""},{"$error":"#N/A"},{"$f":"IFERROR(VLOOKUP(BK170,Sheet1!$A$2:$E$25,3,FALSE),\"\")","v":""},{"$f":"IFERROR(VLOOKUP(BK170,Sheet1!$A$2:$E$25,4,FALSE),\"\")","v":""},{"$f":"IFERROR(VLOOKUP(BK170,Sheet1!$A$2:$E$25,5,FALSE),\"\")","v":""},{"$f":"IFERROR(VLOOKUP(N170,Sheet1!$A$29:$B$38,2,FALSE),\"\")","v":""}]
["","","",null,null,null,null,null,"","","",null,"",null,"","","","","","","","","","","","","","","","","","","","","","","","",{"$f":"IF($L171=\"\",\"\",IF(AND($L171>=Sheet1!$F$2,'Pupil List'!$L171<Sheet1!$G$2),Sheet1!$A$2,\"\"))","v":""},{"$f":"IF($L171=\"\",\"\",IF(AND($L171>=Sheet1!$F$3,'Pupil List'!$L171<Sheet1!$G$3),Sheet1!$A$3,\"\"))","v":""},{"$f":"IF($L171=\"\",\"\",IF(AND($L171>=Sheet1!$F$4,'Pupil List'!$L171<Sheet1!$G$4),Sheet1!$A$4,\"\"))","v":""},{"$f":"IF($L171=\"\",\"\",IF(AND($L171>=Sheet1!$F$5,'Pupil List'!$L171<Sheet1!$G$5),Sheet1!$A$5,\"\"))","v":""},{"$f":"IF($L171=\"\",\"\",IF(AND($L171>=Sheet1!$F$6,'Pupil List'!$L171<Sheet1!$G$6),Sheet1!$A$6,\"\"))","v":""},{"$f":"IF($L171=\"\",\"\",IF(AND($L171>=Sheet1!$F$7,'Pupil List'!$L171<Sheet1!$G$7),Sheet1!$A$7,\"\"))","v":""},{"$f":"IF($L171=\"\",\"\",IF(AND($L171>=Sheet1!$F$8,'Pupil List'!$L171<Sheet1!$G$8),Sheet1!$A$8,\"\"))","v":""},{"$f":"IF($L171=\"\",\"\",IF(AND($L171>=Sheet1!$F$9,'Pupil List'!$L171<Sheet1!$G$9),Sheet1!$A$9,\"\"))","v":""},{"$f":"IF($L171=\"\",\"\",IF(AND($L171>=Sheet1!$F$10,'Pupil List'!$L171<Sheet1!$G$10),Sheet1!$A$10,\"\"))","v":""},{"$f":"IF($L171=\"\",\"\",IF(AND($L171>=Sheet1!$F$11,'Pupil List'!$L171<Sheet1!$G$11),Sheet1!$A$11,\"\"))","v":""},{"$f":"IF($L171=\"\",\"\",IF(AND($L171>=Sheet1!$F$12,'Pupil List'!$L171<Sheet1!$G$12),Sheet1!$A$12,\"\"))","v":""},{"$f":"IF($L171=\"\",\"\",IF(AND($L171>=Sheet1!$F$13,'Pupil List'!$L171<Sheet1!$G$13),Sheet1!$A$13,\"\"))","v":""},{"$f":"IF($L171=\"\",\"\",IF(AND($L171>=Sheet1!$F$14,'Pupil List'!$L171<Sheet1!$G$14),Sheet1!$A$14,\"\"))","v":""},{"$f":"IF($L171=\"\",\"\",IF(AND($L171>=Sheet1!$F$15,'Pupil List'!$L171<Sheet1!$G$15),Sheet1!$A$15,\"\"))","v":""},{"$f":"IF($L171=\"\",\"\",IF(AND($L171>=Sheet1!$F$16,'Pupil List'!$L171<Sheet1!$G$16),Sheet1!$A$16,\"\"))","v":""},{"$f":"IF($L171=\"\",\"\",IF(AND($L171>=Sheet1!$F$17,'Pupil List'!$L171<Sheet1!$G$17),Sheet1!$A$17,\"\"))","v":""},{"$f":"IF($L171=\"\",\"\",IF(AND($L171>=Sheet1!$F$18,'Pupil List'!$L171<Sheet1!$G$18),Sheet1!$A$18,\"\"))","v":""},{"$f":"IF($L171=\"\",\"\",IF(AND($L171>=Sheet1!$F$19,'Pupil List'!$L171<Sheet1!$G$19),Sheet1!$A$19,\"\"))","v":""},{"$f":"IF($L171=\"\",\"\",IF(AND($L171>=Sheet1!$F$20,'Pupil List'!$L171<Sheet1!$G$20),Sheet1!$A$20,\"\"))","v":""},{"$f":"IF($L171=\"\",\"\",IF(AND($L171>=Sheet1!$F$21,'Pupil List'!$L171<Sheet1!$G$21),Sheet1!$A$21,\"\"))","v":""},{"$f":"IF($L171=\"\",\"\",IF(AND($L171>=Sheet1!$F$22,'Pupil List'!$L171<Sheet1!$G$22),Sheet1!$A$22,\"\"))","v":""},{"$f":"IF($L171=\"\",\"\",IF(AND($L171>=Sheet1!$F$23,'Pupil List'!$L171<Sheet1!$G$23),Sheet1!$A$23,\"\"))","v":""},{"$f":"IF($L171=\"\",\"\",IF(AND($L171>=Sheet1!$F$24,'Pupil List'!$L171<Sheet1!$G$24),Sheet1!$A$24,\"\"))","v":""},{"$f":"IF($L171=\"\",\"\",IF(AND($L171>=Sheet1!$F$25,'Pupil List'!$L171<Sheet1!$G$25),Sheet1!$A$25,\"\"))","v":""},{"$error":"#N/A"},{"$f":"IFERROR(VLOOKUP(BK171,Sheet1!$A$2:$E$25,3,FALSE),\"\")","v":""},{"$f":"IFERROR(VLOOKUP(BK171,Sheet1!$A$2:$E$25,4,FALSE),\"\")","v":""},{"$f":"IFERROR(VLOOKUP(BK171,Sheet1!$A$2:$E$25,5,FALSE),\"\")","v":""},{"$f":"IFERROR(VLOOKUP(N171,Sheet1!$A$29:$B$38,2,FALSE),\"\")","v":""}]
["","","",null,null,null,null,null,"","","",null,"",null,"","","","","","","","","","","","","","","","","","","","","","","","",{"$f":"IF($L172=\"\",\"\",IF(AND($L172>=Sheet1!$F$2,'Pupil List'!$L172<Sheet1!$G$2),Sheet1!$A$2,\"\"))","v":""},{"$f":"IF($L172=\"\",\"\",IF(AND($L172>=Sheet1!$F$3,'Pupil List'!$L172<Sheet1!$G$3),Sheet1!$A$3,\"\"))","v":""},{"$f":"IF($L172=\"\",\"\",IF(AND($L172>=Sheet1!$F$4,'Pupil List'!$L172<Sheet1!$G$4),Sheet1!$A$4,\"\"))","v":""},{"$f":"IF($L172=\"\",\"\",IF(AND($L172>=Sheet1!$F$5,'Pupil List'!$L172<Sheet1!$G$5),Sheet1!$A$5,\"\"))","v":""},{"$f":"IF($L172=\"\",\"\",IF(AND($L172>=Sheet1!$F$6,'Pupil List'!$L172<Sheet1!$G$6),Sheet1!$A$6,\"\"))","v":""},{"$f":"IF($L172=\"\",\"\",IF(AND($L172>=Sheet1!$F$7,'Pupil List'!$L172<Sheet1!$G$7),Sheet1!$A$7,\"\"))","v":""},{"$f":"IF($L172=\"\",\"\",IF(AND($L172>=Sheet1!$F$8,'Pupil List'!$L172<Sheet1!$G$8),Sheet1!$A$8,\"\"))","v":""},{"$f":"IF($L172=\"\",\"\",IF(AND($L172>=Sheet1!$F$9,'Pupil List'!$L172<Sheet1!$G$9),Sheet1!$A$9,\"\"))","v":""},{"$f":"IF($L172=\"\",\"\",IF(AND($L172>=Sheet1!$F$10,'Pupil List'!$L172<Sheet1!$G$10),Sheet1!$A$10,\"\"))","v":""},{"$f":"IF($L172=\"\",\"\",IF(AND($L172>=Sheet1!$F$11,'Pupil List'!$L172<Sheet1!$G$11),Sheet1!$A$11,\"\"))","v":""},{"$f":"IF($L172=\"\",\"\",IF(AND($L172>=Sheet1!$F$12,'Pupil List'!$L172<Sheet1!$G$12),Sheet1!$A$12,\"\"))","v":""},{"$f":"IF($L172=\"\",\"\",IF(AND($L172>=Sheet1!$F$13,'Pupil List'!$L172<Sheet1!$G$13),Sheet1!$A$13,\"\"))","v":""},{"$f":"IF($L172=\"\",\"\",IF(AND($L172>=Sheet1!$F$14,'Pupil List'!$L172<Sheet1!$G$14),Sheet1!$A$14,\"\"))","v":""},{"$f":"IF($L172=\"\",\"\",IF(AND($L172>=Sheet1!$F$15,'Pupil List'!$L172<Sheet1!$G$15),Sheet1!$A$15,\"\"))","v":""},{"$f":"IF($L172=\"\",\"\",IF(AND($L172>=Sheet1!$F$16,'Pupil List'!$L172<Sheet1!$G$16),Sheet1!$A$16,\"\"))","v":""},{"$f":"IF($L172=\"\",\"\",IF(AND($L172>=Sheet1!$F$17,'Pupil List'!$L172<Sheet1!$G$17),Sheet1!$A$17,\"\"))","v":""},{"$f":"IF($L172=\"\",\"\",IF(AND($L172>=Sheet1!$F$18,'Pupil List'!$L172<Sheet1!$G$18),Sheet1!$A$18,\"\"))","v":""},{"$f":"IF($L172=\"\",\"\",IF(AND($L172>=Sheet1!$F$19,'Pupil List'!$L172<Sheet1!$G$19),Sheet1!$A$19,\"\"))","v":""},{"$f":"IF($L172=\"\",\"\",IF(AND($L172>=Sheet1!$F$20,'Pupil List'!$L172<Sheet1!$G$20),Sheet1!$A$20,\"\"))","v":""},{"$f":"IF($L172=\"\",\"\",IF(AND($L172>=Sheet1!$F$21,'Pupil List'!$L172<Sheet1!$G$21),Sheet1!$A$21,\"\"))","v":""},{"$f":"IF($L172=\"\",\"\",IF(AND($L172>=Sheet1!$F$22,'Pupil List'!$L172<Sheet1!$G$22),Sheet1!$A$22,\"\"))","v":""},{"$f":"IF($L172=\"\",\"\",IF(AND($L172>=Sheet1!$F$23,'Pupil List'!$L172<Sheet1!$G$23),Sheet1!$A$23,\"\"))","v":""},{"$f":"IF($L172=\"\",\"\",IF(AND($L172>=Sheet1!$F$24,'Pupil List'!$L172<Sheet1!$G$24),Sheet1!$A$24,\"\"))","v":""},{"$f":"IF($L172=\"\",\"\",IF(AND($L172>=Sheet1!$F$25,'Pupil List'!$L172<Sheet1!$G$25),Sheet1!$A$25,\"\"))","v":""},{"$error":"#N/A"},{"$f":"IFERROR(VLOOKUP(BK172,Sheet1!$A$2:$E$25,3,FALSE),\"\")","v":""},{"$f":"IFERROR(VLOOKUP(BK172,Sheet1!$A$2:$E$25,4,FALSE),\"\")","v":""},{"$f":"IFERROR(VLOOKUP(BK172,Sheet1!$A$2:$E$25,5,FALSE),\"\")","v":""},{"$f":"IFERROR(VLOOKUP(N172,Sheet1!$A$29:$B$38,2,FALSE),\"\")","v":""}]
["","","",null,null,null,null,null,"","","",null,"",null,"","","","","","","","","","","","","","","","","","","","","","","","",{"$f":"IF($L173=\"\",\"\",IF(AND($L173>=Sheet1!$F$2,'Pupil List'!$L173<Sheet1!$G$2),Sheet1!$A$2,\"\"))","v":""},{"$f":"IF($L173=\"\",\"\",IF(AND($L173>=Sheet1!$F$3,'Pupil List'!$L173<Sheet1!$G$3),Sheet1!$A$3,\"\"))","v":""},{"$f":"IF($L173=\"\",\"\",IF(AND($L173>=Sheet1!$F$4,'Pupil List'!$L173<Sheet1!$G$4),Sheet1!$A$4,\"\"))","v":""},{"$f":"IF($L173=\"\",\"\",IF(AND($L173>=Sheet1!$F$5,'Pupil List'!$L173<Sheet1!$G$5),Sheet1!$A$5,\"\"))","v":""},{"$f":"IF($L173=\"\",\"\",IF(AND($L173>=Sheet1!$F$6,'Pupil List'!$L173<Sheet1!$G$6),Sheet1!$A$6,\"\"))","v":""},{"$f":"IF($L173=\"\",\"\",IF(AND($L173>=Sheet1!$F$7,'Pupil List'!$L173<Sheet1!$G$7),Sheet1!$A$7,\"\"))","v":""},{"$f":"IF($L173=\"\",\"\",IF(AND($L173>=Sheet1!$F$8,'Pupil List'!$L173<Sheet1!$G$8),Sheet1!$A$8,\"\"))","v":""},{"$f":"IF($L173=\"\",\"\",IF(AND($L173>=Sheet1!$F$9,'Pupil List'!$L173<Sheet1!$G$9),Sheet1!$A$9,\"\"))","v":""},{"$f":"IF($L173=\"\",\"\",IF(AND($L173>=Sheet1!$F$10,'Pupil List'!$L173<Sheet1!$G$10),Sheet1!$A$10,\"\"))","v":""},{"$f":"IF($L173=\"\",\"\",IF(AND($L173>=Sheet1!$F$11,'Pupil List'!$L173<Sheet1!$G$11),Sheet1!$A$11,\"\"))","v":""},{"$f":"IF($L173=\"\",\"\",IF(AND($L173>=Sheet1!$F$12,'Pupil List'!$L173<Sheet1!$G$12),Sheet1!$A$12,\"\"))","v":""},{"$f":"IF($L173=\"\",\"\",IF(AND($L173>=Sheet1!$F$13,'Pupil List'!$L173<Sheet1!$G$13),Sheet1!$A$13,\"\"))","v":""},{"$f":"IF($L173=\"\",\"\",IF(AND($L173>=Sheet1!$F$14,'Pupil List'!$L173<Sheet1!$G$14),Sheet1!$A$14,\"\"))","v":""},{"$f":"IF($L173=\"\",\"\",IF(AND($L173>=Sheet1!$F$15,'Pupil List'!$L173<Sheet1!$G$15),Sheet1!$A$15,\"\"))","v":""},{"$f":"IF($L173=\"\",\"\",IF(AND($L173>=Sheet1!$F$16,'Pupil List'!$L173<Sheet1!$G$16),Sheet1!$A$16,\"\"))","v":""},{"$f":"IF($L173=\"\",\"\",IF(AND($L173>=Sheet1!$F$17,'Pupil List'!$L173<Sheet1!$G$17),Sheet1!$A$17,\"\"))","v":""},{"$f":"IF($L173=\"\",\"\",IF(AND($L173>=Sheet1!$F$18,'Pupil List'!$L173<Sheet1!$G$18),Sheet1!$A$18,\"\"))","v":""},{"$f":"IF($L173=\"\",\"\",IF(AND($L173>=Sheet1!$F$19,'Pupil List'!$L173<Sheet1!$G$19),Sheet1!$A$19,\"\"))","v":""},{"$f":"IF($L173=\"\",\"\",IF(AND($L173>=Sheet1!$F$20,'Pupil List'!$L173<Sheet1!$G$20),Sheet1!$A$20,\"\"))","v":""},{"$f":"IF($L173=\"\",\"\",IF(AND($L173>=Sheet1!$F$21,'Pupil List'!$L173<Sheet1!$G$21),Sheet1!$A$21,\"\"))","v":""},{"$f":"IF($L173=\"\",\"\",IF(AND($L173>=Sheet1!$F$22,'Pupil List'!$L173<Sheet1!$G$22),Sheet1!$A$22,\"\"))","v":""},{"$f":"IF($L173=\"\",\"\",IF(AND($L173>=Sheet1!$F$23,'Pupil List'!$L173<Sheet1!$G$23),Sheet1!$A$23,\"\"))","v":""},{"$f":"IF($L173=\"\",\"\",IF(AND($L173>=Sheet1!$F$24,'Pupil List'!$L173<Sheet1!$G$24),Sheet1!$A$24,\"\"))","v":""},{"$f":"IF($L173=\"\",\"\",IF(AND($L173>=Sheet1!$F$25,'Pupil List'!$L173<Sheet1!$G$25),Sheet1!$A$25,\"\"))","v":""},{"$error":"#N/A"},{"$f":"IFERROR(VLOOKUP(BK173,Sheet1!$A$2:$E$25,3,FALSE),\"\")","v":""},{"$f":"IFERROR(VLOOKUP(BK173,Sheet1!$A$2:$E$25,4,FALSE),\"\")","v":""},{"$f":"IFERROR(VLOOKUP(BK173,Sheet1!$A$2:$E$25,5,FALSE),\"\")","v":""},{"$f":"IFERROR(VLOOKUP(N173,Sheet1!$A$29:$B$38,2,FALSE),\"\")","v":""}]
["","","",null,null,null,null,null,"","","",null,"",null,"","","","","","","","","","","","","","","","","","","","","","","","",{"$f":"IF($L174=\"\",\"\",IF(AND($L174>=Sheet1!$F$2,'Pupil List'!$L174<Sheet1!$G$2),Sheet1!$A$2,\"\"))","v":""},{"$f":"IF($L174=\"\",\"\",IF(AND($L174>=Sheet1!$F$3,'Pupil List'!$L174<Sheet1!$G$3),Sheet1!$A$3,\"\"))","v":""},{"$f":"IF($L174=\"\",\"\",IF(AND($L174>=Sheet1!$F$4,'Pupil List'!$L174<Sheet1!$G$4),Sheet1!$A$4,\"\"))","v":""},{"$f":"IF($L174=\"\",\"\",IF(AND($L174>=Sheet1!$F$5,'Pupil List'!$L174<Sheet1!$G$5),Sheet1!$A$5,\"\"))","v":""},{"$f":"IF($L174=\"\",\"\",IF(AND($L174>=Sheet1!$F$6,'Pupil List'!$L174<Sheet1!$G$6),Sheet1!$A$6,\"\"))","v":""},{"$f":"IF($L174=\"\",\"\",IF(AND($L174>=Sheet1!$F$7,'Pupil List'!$L174<Sheet1!$G$7),Sheet1!$A$7,\"\"))","v":""},{"$f":"IF($L174=\"\",\"\",IF(AND($L174>=Sheet1!$F$8,'Pupil List'!$L174<Sheet1!$G$8),Sheet1!$A$8,\"\"))","v":""},{"$f":"IF($L174=\"\",\"\",IF(AND($L174>=Sheet1!$F$9,'Pupil List'!$L174<Sheet1!$G$9),Sheet1!$A$9,\"\"))","v":""},{"$f":"IF($L174=\"\",\"\",IF(AND($L174>=Sheet1!$F$10,'Pupil List'!$L174<Sheet1!$G$10),Sheet1!$A$10,\"\"))","v":""},{"$f":"IF($L174=\"\",\"\",IF(AND($L174>=Sheet1!$F$11,'Pupil List'!$L174<Sheet1!$G$11),Sheet1!$A$11,\"\"))","v":""},{"$f":"IF($L174=\"\",\"\",IF(AND($L174>=Sheet1!$F$12,'Pupil List'!$L174<Sheet1!$G$12),Sheet1!$A$12,\"\"))","v":""},{"$f":"IF($L174=\"\",\"\",IF(AND($L174>=Sheet1!$F$13,'Pupil List'!$L174<Sheet1!$G$13),Sheet1!$A$13,\"\"))","v":""},{"$f":"IF($L174=\"\",\"\",IF(AND($L174>=Sheet1!$F$14,'Pupil List'!$L174<Sheet1!$G$14),Sheet1!$A$14,\"\"))","v":""},{"$f":"IF($L174=\"\",\"\",IF(AND($L174>=Sheet1!$F$15,'Pupil List'!$L174<Sheet1!$G$15),Sheet1!$A$15,\"\"))","v":""},{"$f":"IF($L174=\"\",\"\",IF(AND($L174>=Sheet1!$F$16,'Pupil List'!$L174<Sheet1!$G$16),Sheet1!$A$16,\"\"))","v":""},{"$f":"IF($L174=\"\",\"\",IF(AND($L174>=Sheet1!$F$17,'Pupil List'!$L174<Sheet1!$G$17),Sheet1!$A$17,\"\"))","v":""},{"$f":"IF($L174=\"\",\"\",IF(AND($L174>=Sheet1!$F$18,'Pupil List'!$L174<Sheet1!$G$18),Sheet1!$A$18,\"\"))","v":""},{"$f":"IF($L174=\"\",\"\",IF(AND($L174>=Sheet1!$F$19,'Pupil List'!$L174<Sheet1!$G$19),Sheet1!$A$19,\"\"))","v":""},{"$f":"IF($L174=\"\",\"\",IF(AND($L174>=Sheet1!$F$20,'Pupil List'!$L174<Sheet1!$G$20),Sheet1!$A$20,\"\"))","v":""},{"$f":"IF($L174=\"\",\"\",IF(AND($L174>=Sheet1!$F$21,'Pupil List'!$L174<Sheet1!$G$21),Sheet1!$A$21,\"\"))","v":""},{"$f":"IF($L174=\"\",\"\",IF(AND($L174>=Sheet1!$F$22,'Pupil List'!$L174<Sheet1!$G$22),Sheet1!$A$22,\"\"))","v":""},{"$f":"IF($L174=\"\",\"\",IF(AND($L174>=Sheet1!$F$23,'Pupil List'!$L174<Sheet1!$G$23),Sheet1!$A$23,\"\"))","v":""},{"$f":"IF($L174=\"\",\"\",IF(AND($L174>=Sheet1!$F$24,'Pupil List'!$L174<Sheet1!$G$24),Sheet1!$A$24,\"\"))","v":""},{"$f":"IF($L174=\"\",\"\",IF(AND($L174>=Sheet1!$F$25,'Pupil List'!$L174<Sheet1!$G$25),Sheet1!$A$25,\"\"))","v":""},{"$error":"#N/A"},{"$f":"IFERROR(VLOOKUP(BK174,Sheet1!$A$2:$E$25,3,FALSE),\"\")","v":""},{"$f":"IFERROR(VLOOKUP(BK174,Sheet1!$A$2:$E$25,4,FALSE),\"\")","v":""},{"$f":"IFERROR(VLOOKUP(BK174,Sheet1!$A$2:$E$25,5,FALSE),\"\")","v":""},{"$f":"IFERROR(VLOOKUP(N174,Sheet1!$A$29:$B$38,2,FALSE),\"\")","v":""}]
["","","",null,null,null,null,null,"","","",null,"",null,"","","","","","","","","","","","","","","","","","","","","","","","",{"$f":"IF($L175=\"\",\"\",IF(AND($L175>=Sheet1!$F$2,'Pupil List'!$L175<Sheet1!$G$2),Sheet1!$A$2,\"\"))","v":""},{"$f":"IF($L175=\"\",\"\",IF(AND($L175>=Sheet1!$F$3,'Pupil List'!$L175<Sheet1!$G$3),Sheet1!$A$3,\"\"))","v":""},{"$f":"IF($L175=\"\",\"\",IF(AND($L175>=Sheet1!$F$4,'Pupil List'!$L175<Sheet1!$G$4),Sheet1!$A$4,\"\"))","v":""},{"$f":"IF($L175=\"\",\"\",IF(AND($L175>=Sheet1!$F$5,'Pupil List'!$L175<Sheet1!$G$5),Sheet1!$A$5,\"\"))","v":""},{"$f":"IF($L175=\"\",\"\",IF(AND($L175>=Sheet1!$F$6,'Pupil List'!$L175<Sheet1!$G$6),Sheet1!$A$6,\"\"))","v":""},{"$f":"IF($L175=\"\",\"\",IF(AND($L175>=Sheet1!$F$7,'Pupil List'!$L175<Sheet1!$G$7),Sheet1!$A$7,\"\"))","v":""},{"$f":"IF($L175=\"\",\"\",IF(AND($L175>=Sheet1!$F$8,'Pupil List'!$L175<Sheet1!$G$8),Sheet1!$A$8,\"\"))","v":""},{"$f":"IF($L175=\"\",\"\",IF(AND($L175>=Sheet1!$F$9,'Pupil List'!$L175<Sheet1!$G$9),Sheet1!$A$9,\"\"))","v":""},{"$f":"IF($L175=\"\",\"\",IF(AND($L175>=Sheet1!$F$10,'Pupil List'!$L175<Sheet1!$G$10),Sheet1!$A$10,\"\"))","v":""},{"$f":"IF($L175=\"\",\"\",IF(AND($L175>=Sheet1!$F$11,'Pupil List'!$L175<Sheet1!$G$11),Sheet1!$A$11,\"\"))","v":""},{"$f":"IF($L175=\"\",\"\",IF(AND($L175>=Sheet1!$F$12,'Pupil List'!$L175<Sheet1!$G$12),Sheet1!$A$12,\"\"))","v":""},{"$f":"IF($L175=\"\",\"\",IF(AND($L175>=Sheet1!$F$13,'Pupil List'!$L175<Sheet1!$G$13),Sheet1!$A$13,\"\"))","v":""},{"$f":"IF($L175=\"\",\"\",IF(AND($L175>=Sheet1!$F$14,'Pupil List'!$L175<Sheet1!$G$14),Sheet1!$A$14,\"\"))","v":""},{"$f":"IF($L175=\"\",\"\",IF(AND($L175>=Sheet1!$F$15,'Pupil List'!$L175<Sheet1!$G$15),Sheet1!$A$15,\"\"))","v":""},{"$f":"IF($L175=\"\",\"\",IF(AND($L175>=Sheet1!$F$16,'Pupil List'!$L175<Sheet1!$G$16),Sheet1!$A$16,\"\"))","v":""},{"$f":"IF($L175=\"\",\"\",IF(AND($L175>=Sheet1!$F$17,'Pupil List'!$L175<Sheet1!$G$17),Sheet1!$A$17,\"\"))","v":""},{"$f":"IF($L175=\"\",\"\",IF(AND($L175>=Sheet1!$F$18,'Pupil List'!$L175<Sheet1!$G$18),Sheet1!$A$18,\"\"))","v":""},{"$f":"IF($L175=\"\",\"\",IF(AND($L175>=Sheet1!$F$19,'Pupil List'!$L175<Sheet1!$G$19),Sheet1!$A$19,\"\"))","v":""},{"$f":"IF($L175=\"\",\"\",IF(AND($L175>=Sheet1!$F$20,'Pupil List'!$L175<Sheet1!$G$20),Sheet1!$A$20,\"\"))","v":""},{"$f":"IF($L175=\"\",\"\",IF(AND($L175>=Sheet1!$F$21,'Pupil List'!$L175<Sheet1!$G$21),Sheet1!$A$21,\"\"))","v":""},{"$f":"IF($L175=\"\",\"\",IF(AND($L175>=Sheet1!$F$22,'Pupil List'!$L175<Sheet1!$G$22),Sheet1!$A$22,\"\"))","v":""},{"$f":"IF($L175=\"\",\"\",IF(AND($L175>=Sheet1!$F$23,'Pupil List'!$L175<Sheet1!$G$23),Sheet1!$A$23,\"\"))","v":""},{"$f":"IF($L175=\"\",\"\",IF(AND($L175>=Sheet1!$F$24,'Pupil List'!$L175<Sheet1!$G$24),Sheet1!$A$24,\"\"))","v":""},{"$f":"IF($L175=\"\",\"\",IF(AND($L175>=Sheet1!$F$25,'Pupil List'!$L175<Sheet1!$G$25),Sheet1!$A$25,\"\"))","v":""},{"$error":"#N/A"},{"$f":"IFERROR(VLOOKUP(BK175,Sheet1!$A$2:$E$25,3,FALSE),\"\")","v":""},{"$f":"IFERROR(VLOOKUP(BK175,Sheet1!$A$2:$E$25,4,FALSE),\"\")","v":""},{"$f":"IFERROR(VLOOKUP(BK175,Sheet1!$A$2:$E$25,5,FALSE),\"\")","v":""},{"$f":"IFERROR(VLOOKUP(N175,Sheet1!$A$29:$B$38,2,FALSE),\"\")","v":""}]
["","","",null,null,null,null,null,"","","",null,"",null,"","","","","","","","","","","","","","","","","","","","","","","","",{"$f":"IF($L176=\"\",\"\",IF(AND($L176>=Sheet1!$F$2,'Pupil List'!$L176<Sheet1!$G$2),Sheet1!$A$2,\"\"))","v":""},{"$f":"IF($L176=\"\",\"\",IF(AND($L176>=Sheet1!$F$3,'Pupil List'!$L176<Sheet1!$G$3),Sheet1!$A$3,\"\"))","v":""},{"$f":"IF($L176=\"\",\"\",IF(AND($L176>=Sheet1!$F$4,'Pupil List'!$L176<Sheet1!$G$4),Sheet1!$A$4,\"\"))","v":""},{"$f":"IF($L176=\"\",\"\",IF(AND($L176>=Sheet1!$F$5,'Pupil List'!$L176<Sheet1!$G$5),Sheet1!$A$5,\"\"))","v":""},{"$f":"IF($L176=\"\",\"\",IF(AND($L176>=Sheet1!$F$6,'Pupil List'!$L176<Sheet1!$G$6),Sheet1!$A$6,\"\"))","v":""},{"$f":"IF($L176=\"\",\"\",IF(AND($L176>=Sheet1!$F$7,'Pupil List'!$L176<Sheet1!$G$7),Sheet1!$A$7,\"\"))","v":""},{"$f":"IF($L176=\"\",\"\",IF(AND($L176>=Sheet1!$F$8,'Pupil List'!$L176<Sheet1!$G$8),Sheet1!$A$8,\"\"))","v":""},{"$f":"IF($L176=\"\",\"\",IF(AND($L176>=Sheet1!$F$9,'Pupil List'!$L176<Sheet1!$G$9),Sheet1!$A$9,\"\"))","v":""},{"$f":"IF($L176=\"\",\"\",IF(AND($L176>=Sheet1!$F$10,'Pupil List'!$L176<Sheet1!$G$10),Sheet1!$A$10,\"\"))","v":""},{"$f":"IF($L176=\"\",\"\",IF(AND($L176>=Sheet1!$F$11,'Pupil List'!$L176<Sheet1!$G$11),Sheet1!$A$11,\"\"))","v":""},{"$f":"IF($L176=\"\",\"\",IF(AND($L176>=Sheet1!$F$12,'Pupil List'!$L176<Sheet1!$G$12),Sheet1!$A$12,\"\"))","v":""},{"$f":"IF($L176=\"\",\"\",IF(AND($L176>=Sheet1!$F$13,'Pupil List'!$L176<Sheet1!$G$13),Sheet1!$A$13,\"\"))","v":""},{"$f":"IF($L176=\"\",\"\",IF(AND($L176>=Sheet1!$F$14,'Pupil List'!$L176<Sheet1!$G$14),Sheet1!$A$14,\"\"))","v":""},{"$f":"IF($L176=\"\",\"\",IF(AND($L176>=Sheet1!$F$15,'Pupil List'!$L176<Sheet1!$G$15),Sheet1!$A$15,\"\"))","v":""},{"$f":"IF($L176=\"\",\"\",IF(AND($L176>=Sheet1!$F$16,'Pupil List'!$L176<Sheet1!$G$16),Sheet1!$A$16,\"\"))","v":""},{"$f":"IF($L176=\"\",\"\",IF(AND($L176>=Sheet1!$F$17,'Pupil List'!$L176<Sheet1!$G$17),Sheet1!$A$17,\"\"))","v":""},{"$f":"IF($L176=\"\",\"\",IF(AND($L176>=Sheet1!$F$18,'Pupil List'!$L176<Sheet1!$G$18),Sheet1!$A$18,\"\"))","v":""},{"$f":"IF($L176=\"\",\"\",IF(AND($L176>=Sheet1!$F$19,'Pupil List'!$L176<Sheet1!$G$19),Sheet1!$A$19,\"\"))","v":""},{"$f":"IF($L176=\"\",\"\",IF(AND($L176>=Sheet1!$F$20,'Pupil List'!$L176<Sheet1!$G$20),Sheet1!$A$20,\"\"))","v":""},{"$f":"IF($L176=\"\",\"\",IF(AND($L176>=Sheet1!$F$21,'Pupil List'!$L176<Sheet1!$G$21),Sheet1!$A$21,\"\"))","v":""},{"$f":"IF($L176=\"\",\"\",IF(AND($L176>=Sheet1!$F$22,'Pupil List'!$L176<Sheet1!$G$22),Sheet1!$A$22,\"\"))","v":""},{"$f":"IF($L176=\"\",\"\",IF(AND($L176>=Sheet1!$F$23,'Pupil List'!$L176<Sheet1!$G$23),Sheet1!$A$23,\"\"))","v":""},{"$f":"IF($L176=\"\",\"\",IF(AND($L176>=Sheet1!$F$24,'Pupil List'!$L176<Sheet1!$G$24),Sheet1!$A$24,\"\"))","v":""},{"$f":"IF($L176=\"\",\"\",IF(AND($L176>=Sheet1!$F$25,'Pupil List'!$L176<Sheet1!$G$25),Sheet1!$A$25,\"\"))","v":""},{"$error":"#N/A"},{"$f":"IFERROR(VLOOKUP(BK176,Sheet1!$A$2:$E$25,3,FALSE),\"\")","v":""},{"$f":"IFERROR(VLOOKUP(BK176,Sheet1!$A$2:$E$25,4,FALSE),\"\")","v":""},{"$f":"IFERROR(VLOOKUP(BK176,Sheet1!$A$2:$E$25,5,FALSE),\"\")","v":""},{"$f":"IFERROR(VLOOKUP(N176,Sheet1!$A$29:$B$38,2,FALSE),\"\")","v":""}]
["","","",null,null,null,null,null,"","","",null,"",null,"","","","","","","","","","","","","","","","","","","","","","","","",{"$f":"IF($L177=\"\",\"\",IF(AND($L177>=Sheet1!$F$2,'Pupil List'!$L177<Sheet1!$G$2),Sheet1!$A$2,\"\"))","v":""},{"$f":"IF($L177=\"\",\"\",IF(AND($L177>=Sheet1!$F$3,'Pupil List'!$L177<Sheet1!$G$3),Sheet1!$A$3,\"\"))","v":""},{"$f":"IF($L177=\"\",\"\",IF(AND($L177>=Sheet1!$F$4,'Pupil List'!$L177<Sheet1!$G$4),Sheet1!$A$4,\"\"))","v":""},{"$f":"IF($L177=\"\",\"\",IF(AND($L177>=Sheet1!$F$5,'Pupil List'!$L177<Sheet1!$G$5),Sheet1!$A$5,\"\"))","v":""},{"$f":"IF($L177=\"\",\"\",IF(AND($L177>=Sheet1!$F$6,'Pupil List'!$L177<Sheet1!$G$6),Sheet1!$A$6,\"\"))","v":""},{"$f":"IF($L177=\"\",\"\",IF(AND($L177>=Sheet1!$F$7,'Pupil List'!$L177<Sheet1!$G$7),Sheet1!$A$7,\"\"))","v":""},{"$f":"IF($L177=\"\",\"\",IF(AND($L177>=Sheet1!$F$8,'Pupil List'!$L177<Sheet1!$G$8),Sheet1!$A$8,\"\"))","v":""},{"$f":"IF($L177=\"\",\"\",IF(AND($L177>=Sheet1!$F$9,'Pupil List'!$L177<Sheet1!$G$9),Sheet1!$A$9,\"\"))","v":""},{"$f":"IF($L177=\"\",\"\",IF(AND($L177>=Sheet1!$F$10,'Pupil List'!$L177<Sheet1!$G$10),Sheet1!$A$10,\"\"))","v":""},{"$f":"IF($L177=\"\",\"\",IF(AND($L177>=Sheet1!$F$11,'Pupil List'!$L177<Sheet1!$G$11),Sheet1!$A$11,\"\"))","v":""},{"$f":"IF($L177=\"\",\"\",IF(AND($L177>=Sheet1!$F$12,'Pupil List'!$L177<Sheet1!$G$12),Sheet1!$A$12,\"\"))","v":""},{"$f":"IF($L177=\"\",\"\",IF(AND($L177>=Sheet1!$F$13,'Pupil List'!$L177<Sheet1!$G$13),Sheet1!$A$13,\"\"))","v":""},{"$f":"IF($L177=\"\",\"\",IF(AND($L177>=Sheet1!$F$14,'Pupil List'!$L177<Sheet1!$G$14),Sheet1!$A$14,\"\"))","v":""},{"$f":"IF($L177=\"\",\"\",IF(AND($L177>=Sheet1!$F$15,'Pupil List'!$L177<Sheet1!$G$15),Sheet1!$A$15,\"\"))","v":""},{"$f":"IF($L177=\"\",\"\",IF(AND($L177>=Sheet1!$F$16,'Pupil List'!$L177<Sheet1!$G$16),Sheet1!$A$16,\"\"))","v":""},{"$f":"IF($L177=\"\",\"\",IF(AND($L177>=Sheet1!$F$17,'Pupil List'!$L177<Sheet1!$G$17),Sheet1!$A$17,\"\"))","v":""},{"$f":"IF($L177=\"\",\"\",IF(AND($L177>=Sheet1!$F$18,'Pupil List'!$L177<Sheet1!$G$18),Sheet1!$A$18,\"\"))","v":""},{"$f":"IF($L177=\"\",\"\",IF(AND($L177>=Sheet1!$F$19,'Pupil List'!$L177<Sheet1!$G$19),Sheet1!$A$19,\"\"))","v":""},{"$f":"IF($L177=\"\",\"\",IF(AND($L177>=Sheet1!$F$20,'Pupil List'!$L177<Sheet1!$G$20),Sheet1!$A$20,\"\"))","v":""},{"$f":"IF($L177=\"\",\"\",IF(AND($L177>=Sheet1!$F$21,'Pupil List'!$L177<Sheet1!$G$21),Sheet1!$A$21,\"\"))","v":""},{"$f":"IF($L177=\"\",\"\",IF(AND($L177>=Sheet1!$F$22,'Pupil List'!$L177<Sheet1!$G$22),Sheet1!$A$22,\"\"))","v":""},{"$f":"IF($L177=\"\",\"\",IF(AND($L177>=Sheet1!$F$23,'Pupil List'!$L177<Sheet1!$G$23),Sheet1!$A$23,\"\"))","v":""},{"$f":"IF($L177=\"\",\"\",IF(AND($L177>=Sheet1!$F$24,'Pupil List'!$L177<Sheet1!$G$24),Sheet1!$A$24,\"\"))","v":""},{"$f":"IF($L177=\"\",\"\",IF(AND($L177>=Sheet1!$F$25,'Pupil List'!$L177<Sheet1!$G$25),Sheet1!$A$25,\"\"))","v":""},{"$error":"#N/A"},{"$f":"IFERROR(VLOOKUP(BK177,Sheet1!$A$2:$E$25,3,FALSE),\"\")","v":""},{"$f":"IFERROR(VLOOKUP(BK177,Sheet1!$A$2:$E$25,4,FALSE),\"\")","v":""},{"$f":"IFERROR(VLOOKUP(BK177,Sheet1!$A$2:$E$25,5,FALSE),\"\")","v":""},{"$f":"IFERROR(VLOOKUP(N177,Sheet1!$A$29:$B$38,2,FALSE),\"\")","v":""}]
["","","",null,null,null,null,null,"","","",null,"",null,"","","","","","","","","","","","","","","","","","","","","","","","",{"$f":"IF($L178=\"\",\"\",IF(AND($L178>=Sheet1!$F$2,'Pupil List'!$L178<Sheet1!$G$2),Sheet1!$A$2,\"\"))","v":""},{"$f":"IF($L178=\"\",\"\",IF(AND($L178>=Sheet1!$F$3,'Pupil List'!$L178<Sheet1!$G$3),Sheet1!$A$3,\"\"))","v":""},{"$f":"IF($L178=\"\",\"\",IF(AND($L178>=Sheet1!$F$4,'Pupil List'!$L178<Sheet1!$G$4),Sheet1!$A$4,\"\"))","v":""},{"$f":"IF($L178=\"\",\"\",IF(AND($L178>=Sheet1!$F$5,'Pupil List'!$L178<Sheet1!$G$5),Sheet1!$A$5,\"\"))","v":""},{"$f":"IF($L178=\"\",\"\",IF(AND($L178>=Sheet1!$F$6,'Pupil List'!$L178<Sheet1!$G$6),Sheet1!$A$6,\"\"))","v":""},{"$f":"IF($L178=\"\",\"\",IF(AND($L178>=Sheet1!$F$7,'Pupil List'!$L178<Sheet1!$G$7),Sheet1!$A$7,\"\"))","v":""},{"$f":"IF($L178=\"\",\"\",IF(AND($L178>=Sheet1!$F$8,'Pupil List'!$L178<Sheet1!$G$8),Sheet1!$A$8,\"\"))","v":""},{"$f":"IF($L178=\"\",\"\",IF(AND($L178>=Sheet1!$F$9,'Pupil List'!$L178<Sheet1!$G$9),Sheet1!$A$9,\"\"))","v":""},{"$f":"IF($L178=\"\",\"\",IF(AND($L178>=Sheet1!$F$10,'Pupil List'!$L178<Sheet1!$G$10),Sheet1!$A$10,\"\"))","v":""},{"$f":"IF($L178=\"\",\"\",IF(AND($L178>=Sheet1!$F$11,'Pupil List'!$L178<Sheet1!$G$11),Sheet1!$A$11,\"\"))","v":""},{"$f":"IF($L178=\"\",\"\",IF(AND($L178>=Sheet1!$F$12,'Pupil List'!$L178<Sheet1!$G$12),Sheet1!$A$12,\"\"))","v":""},{"$f":"IF($L178=\"\",\"\",IF(AND($L178>=Sheet1!$F$13,'Pupil List'!$L178<Sheet1!$G$13),Sheet1!$A$13,\"\"))","v":""},{"$f":"IF($L178=\"\",\"\",IF(AND($L178>=Sheet1!$F$14,'Pupil List'!$L178<Sheet1!$G$14),Sheet1!$A$14,\"\"))","v":""},{"$f":"IF($L178=\"\",\"\",IF(AND($L178>=Sheet1!$F$15,'Pupil List'!$L178<Sheet1!$G$15),Sheet1!$A$15,\"\"))","v":""},{"$f":"IF($L178=\"\",\"\",IF(AND($L178>=Sheet1!$F$16,'Pupil List'!$L178<Sheet1!$G$16),Sheet1!$A$16,\"\"))","v":""},{"$f":"IF($L178=\"\",\"\",IF(AND($L178>=Sheet1!$F$17,'Pupil List'!$L178<Sheet1!$G$17),Sheet1!$A$17,\"\"))","v":""},{"$f":"IF($L178=\"\",\"\",IF(AND($L178>=Sheet1!$F$18,'Pupil List'!$L178<Sheet1!$G$18),Sheet1!$A$18,\"\"))","v":""},{"$f":"IF($L178=\"\",\"\",IF(AND($L178>=Sheet1!$F$19,'Pupil List'!$L178<Sheet1!$G$19),Sheet1!$A$19,\"\"))","v":""},{"$f":"IF($L178=\"\",\"\",IF(AND($L178>=Sheet1!$F$20,'Pupil List'!$L178<Sheet1!$G$20),Sheet1!$A$20,\"\"))","v":""},{"$f":"IF($L178=\"\",\"\",IF(AND($L178>=Sheet1!$F$21,'Pupil List'!$L178<Sheet1!$G$21),Sheet1!$A$21,\"\"))","v":""},{"$f":"IF($L178=\"\",\"\",IF(AND($L178>=Sheet1!$F$22,'Pupil List'!$L178<Sheet1!$G$22),Sheet1!$A$22,\"\"))","v":""},{"$f":"IF($L178=\"\",\"\",IF(AND($L178>=Sheet1!$F$23,'Pupil List'!$L178<Sheet1!$G$23),Sheet1!$A$23,\"\"))","v":""},{"$f":"IF($L178=\"\",\"\",IF(AND($L178>=Sheet1!$F$24,'Pupil List'!$L178<Sheet1!$G$24),Sheet1!$A$24,\"\"))","v":""},{"$f":"IF($L178=\"\",\"\",IF(AND($L178>=Sheet1!$F$25,'Pupil List'!$L178<Sheet1!$G$25),Sheet1!$A$25,\"\"))","v":""},{"$error":"#N/A"},{"$f":"IFERROR(VLOOKUP(BK178,Sheet1!$A$2:$E$25,3,FALSE),\"\")","v":""},{"$f":"IFERROR(VLOOKUP(BK178,Sheet1!$A$2:$E$25,4,FALSE),\"\")","v":""},{"$f":"IFERROR(VLOOKUP(BK178,Sheet1!$A$2:$E$25,5,FALSE),\"\")","v":""},{"$f":"IFERROR(VLOOKUP(N178,Sheet1!$A$29:$B$38,2,FALSE),\"\")","v":""}]
["","","",null,null,null,null,null,"","","",null,"",null,"","","","","","","","","","","","","","","","","","","","","","","","",{"$f":"IF($L179=\"\",\"\",IF(AND($L179>=Sheet1!$F$2,'Pupil List'!$L179<Sheet1!$G$2),Sheet1!$A$2,\"\"))","v":""},{"$f":"IF($L179=\"\",\"\",IF(AND($L179>=Sheet1!$F$3,'Pupil List'!$L179<Sheet1!$G$3),Sheet1!$A$3,\"\"))","v":""},{"$f":"IF($L179=\"\",\"\",IF(AND($L179>=Sheet1!$F$4,'Pupil List'!$L179<Sheet1!$G$4),Sheet1!$A$4,\"\"))","v":""},{"$f":"IF($L179=\"\",\"\",IF(AND($L179>=Sheet1!$F$5,'Pupil List'!$L179<Sheet1!$G$5),Sheet1!$A$5,\"\"))","v":""},{"$f":"IF($L179=\"\",\"\",IF(AND($L179>=Sheet1!$F$6,'Pupil List'!$L179<Sheet1!$G$6),Sheet1!$A$6,\"\"))","v":""},{"$f":"IF($L179=\"\",\"\",IF(AND($L179>=Sheet1!$F$7,'Pupil List'!$L179<Sheet1!$G$7),Sheet1!$A$7,\"\"))","v":""},{"$f":"IF($L179=\"\",\"\",IF(AND($L179>=Sheet1!$F$8,'Pupil List'!$L179<Sheet1!$G$8),Sheet1!$A$8,\"\"))","v":""},{"$f":"IF($L179=\"\",\"\",IF(AND($L179>=Sheet1!$F$9,'Pupil List'!$L179<Sheet1!$G$9),Sheet1!$A$9,\"\"))","v":""},{"$f":"IF($L179=\"\",\"\",IF(AND($L179>=Sheet1!$F$10,'Pupil List'!$L179<Sheet1!$G$10),Sheet1!$A$10,\"\"))","v":""},{"$f":"IF($L179=\"\",\"\",IF(AND($L179>=Sheet1!$F$11,'Pupil List'!$L179<Sheet1!$G$11),Sheet1!$A$11,\"\"))","v":""},{"$f":"IF($L179=\"\",\"\",IF(AND($L179>=Sheet1!$F$12,'Pupil List'!$L179<Sheet1!$G$12),Sheet1!$A$12,\"\"))","v":""},{"$f":"IF($L179=\"\",\"\",IF(AND($L179>=Sheet1!$F$13,'Pupil List'!$L179<Sheet1!$G$13),Sheet1!$A$13,\"\"))","v":""},{"$f":"IF($L179=\"\",\"\",IF(AND($L179>=Sheet1!$F$14,'Pupil List'!$L179<Sheet1!$G$14),Sheet1!$A$14,\"\"))","v":""},{"$f":"IF($L179=\"\",\"\",IF(AND($L179>=Sheet1!$F$15,'Pupil List'!$L179<Sheet1!$G$15),Sheet1!$A$15,\"\"))","v":""},{"$f":"IF($L179=\"\",\"\",IF(AND($L179>=Sheet1!$F$16,'Pupil List'!$L179<Sheet1!$G$16),Sheet1!$A$16,\"\"))","v":""},{"$f":"IF($L179=\"\",\"\",IF(AND($L179>=Sheet1!$F$17,'Pupil List'!$L179<Sheet1!$G$17),Sheet1!$A$17,\"\"))","v":""},{"$f":"IF($L179=\"\",\"\",IF(AND($L179>=Sheet1!$F$18,'Pupil List'!$L179<Sheet1!$G$18),Sheet1!$A$18,\"\"))","v":""},{"$f":"IF($L179=\"\",\"\",IF(AND($L179>=Sheet1!$F$19,'Pupil List'!$L179<Sheet1!$G$19),Sheet1!$A$19,\"\"))","v":""},{"$f":"IF($L179=\"\",\"\",IF(AND($L179>=Sheet1!$F$20,'Pupil List'!$L179<Sheet1!$G$20),Sheet1!$A$20,\"\"))","v":""},{"$f":"IF($L179=\"\",\"\",IF(AND($L179>=Sheet1!$F$21,'Pupil List'!$L179<Sheet1!$G$21),Sheet1!$A$21,\"\"))","v":""},{"$f":"IF($L179=\"\",\"\",IF(AND($L179>=Sheet1!$F$22,'Pupil List'!$L179<Sheet1!$G$22),Sheet1!$A$22,\"\"))","v":""},{"$f":"IF($L179=\"\",\"\",IF(AND($L179>=Sheet1!$F$23,'Pupil List'!$L179<Sheet1!$G$23),Sheet1!$A$23,\"\"))","v":""},{"$f":"IF($L179=\"\",\"\",IF(AND($L179>=Sheet1!$F$24,'Pupil List'!$L179<Sheet1!$G$24),Sheet1!$A$24,\"\"))","v":""},{"$f":"IF($L179=\"\",\"\",IF(AND($L179>=Sheet1!$F$25,'Pupil List'!$L179<Sheet1!$G$25),Sheet1!$A$25,\"\"))","v":""},{"$error":"#N/A"},{"$f":"IFERROR(VLOOKUP(BK179,Sheet1!$A$2:$E$25,3,FALSE),\"\")","v":""},{"$f":"IFERROR(VLOOKUP(BK179,Sheet1!$A$2:$E$25,4,FALSE),\"\")","v":""},{"$f":"IFERROR(VLOOKUP(BK179,Sheet1!$A$2:$E$25,5,FALSE),\"\")","v":""},{"$f":"IFERROR(VLOOKUP(N179,Sheet1!$A$29:$B$38,2,FALSE),\"\")","v":""}]
["","","",null,null,null,null,null,"","","",null,"",null,"","","","","","","","","","","","","","","","","","","","","","","","",{"$f":"IF($L180=\"\",\"\",IF(AND($L180>=Sheet1!$F$2,'Pupil List'!$L180<Sheet1!$G$2),Sheet1!$A$2,\"\"))","v":""},{"$f":"IF($L180=\"\",\"\",IF(AND($L180>=Sheet1!$F$3,'Pupil List'!$L180<Sheet1!$G$3),Sheet1!$A$3,\"\"))","v":""},{"$f":"IF($L180=\"\",\"\",IF(AND($L180>=Sheet1!$F$4,'Pupil List'!$L180<Sheet1!$G$4),Sheet1!$A$4,\"\"))","v":""},{"$f":"IF($L180=\"\",\"\",IF(AND($L180>=Sheet1!$F$5,'Pupil List'!$L180<Sheet1!$G$5),Sheet1!$A$5,\"\"))","v":""},{"$f":"IF($L180=\"\",\"\",IF(AND($L180>=Sheet1!$F$6,'Pupil List'!$L180<Sheet1!$G$6),Sheet1!$A$6,\"\"))","v":""},{"$f":"IF($L180=\"\",\"\",IF(AND($L180>=Sheet1!$F$7,'Pupil List'!$L180<Sheet1!$G$7),Sheet1!$A$7,\"\"))","v":""},{"$f":"IF($L180=\"\",\"\",IF(AND($L180>=Sheet1!$F$8,'Pupil List'!$L180<Sheet1!$G$8),Sheet1!$A$8,\"\"))","v":""},{"$f":"IF($L180=\"\",\"\",IF(AND($L180>=Sheet1!$F$9,'Pupil List'!$L180<Sheet1!$G$9),Sheet1!$A$9,\"\"))","v":""},{"$f":"IF($L180=\"\",\"\",IF(AND($L180>=Sheet1!$F$10,'Pupil List'!$L180<Sheet1!$G$10),Sheet1!$A$10,\"\"))","v":""},{"$f":"IF($L180=\"\",\"\",IF(AND($L180>=Sheet1!$F$11,'Pupil List'!$L180<Sheet1!$G$11),Sheet1!$A$11,\"\"))","v":""},{"$f":"IF($L180=\"\",\"\",IF(AND($L180>=Sheet1!$F$12,'Pupil List'!$L180<Sheet1!$G$12),Sheet1!$A$12,\"\"))","v":""},{"$f":"IF($L180=\"\",\"\",IF(AND($L180>=Sheet1!$F$13,'Pupil List'!$L180<Sheet1!$G$13),Sheet1!$A$13,\"\"))","v":""},{"$f":"IF($L180=\"\",\"\",IF(AND($L180>=Sheet1!$F$14,'Pupil List'!$L180<Sheet1!$G$14),Sheet1!$A$14,\"\"))","v":""},{"$f":"IF($L180=\"\",\"\",IF(AND($L180>=Sheet1!$F$15,'Pupil List'!$L180<Sheet1!$G$15),Sheet1!$A$15,\"\"))","v":""},{"$f":"IF($L180=\"\",\"\",IF(AND($L180>=Sheet1!$F$16,'Pupil List'!$L180<Sheet1!$G$16),Sheet1!$A$16,\"\"))","v":""},{"$f":"IF($L180=\"\",\"\",IF(AND($L180>=Sheet1!$F$17,'Pupil List'!$L180<Sheet1!$G$17),Sheet1!$A$17,\"\"))","v":""},{"$f":"IF($L180=\"\",\"\",IF(AND($L180>=Sheet1!$F$18,'Pupil List'!$L180<Sheet1!$G$18),Sheet1!$A$18,\"\"))","v":""},{"$f":"IF($L180=\"\",\"\",IF(AND($L180>=Sheet1!$F$19,'Pupil List'!$L180<Sheet1!$G$19),Sheet1!$A$19,\"\"))","v":""},{"$f":"IF($L180=\"\",\"\",IF(AND($L180>=Sheet1!$F$20,'Pupil List'!$L180<Sheet1!$G$20),Sheet1!$A$20,\"\"))","v":""},{"$f":"IF($L180=\"\",\"\",IF(AND($L180>=Sheet1!$F$21,'Pupil List'!$L180<Sheet1!$G$21),Sheet1!$A$21,\"\"))","v":""},{"$f":"IF($L180=\"\",\"\",IF(AND($L180>=Sheet1!$F$22,'Pupil List'!$L180<Sheet1!$G$22),Sheet1!$A$22,\"\"))","v":""},{"$f":"IF($L180=\"\",\"\",IF(AND($L180>=Sheet1!$F$23,'Pupil List'!$L180<Sheet1!$G$23),Sheet1!$A$23,\"\"))","v":""},{"$f":"IF($L180=\"\",\"\",IF(AND($L180>=Sheet1!$F$24,'Pupil List'!$L180<Sheet1!$G$24),Sheet1!$A$24,\"\"))","v":""},{"$f":"IF($L180=\"\",\"\",IF(AND($L180>=Sheet1!$F$25,'Pupil List'!$L180<Sheet1!$G$25),Sheet1!$A$25,\"\"))","v":""},{"$error":"#N/A"},{"$f":"IFERROR(VLOOKUP(BK180,Sheet1!$A$2:$E$25,3,FALSE),\"\")","v":""},{"$f":"IFERROR(VLOOKUP(BK180,Sheet1!$A$2:$E$25,4,FALSE),\"\")","v":""},{"$f":"IFERROR(VLOOKUP(BK180,Sheet1!$A$2:$E$25,5,FALSE),\"\")","v":""},{"$f":"IFERROR(VLOOKUP(N180,Sheet1!$A$29:$B$38,2,FALSE),\"\")","v":""}]
["","","",null,null,null,null,null,"","","",null,"",null,"","","","","","","","","","","","","","","","","","","","","","","","",{"$f":"IF($L181=\"\",\"\",IF(AND($L181>=Sheet1!$F$2,'Pupil List'!$L181<Sheet1!$G$2),Sheet1!$A$2,\"\"))","v":""},{"$f":"IF($L181=\"\",\"\",IF(AND($L181>=Sheet1!$F$3,'Pupil List'!$L181<Sheet1!$G$3),Sheet1!$A$3,\"\"))","v":""},{"$f":"IF($L181=\"\",\"\",IF(AND($L181>=Sheet1!$F$4,'Pupil List'!$L181<Sheet1!$G$4),Sheet1!$A$4,\"\"))","v":""},{"$f":"IF($L181=\"\",\"\",IF(AND($L181>=Sheet1!$F$5,'Pupil List'!$L181<Sheet1!$G$5),Sheet1!$A$5,\"\"))","v":""},{"$f":"IF($L181=\"\",\"\",IF(AND($L181>=Sheet1!$F$6,'Pupil List'!$L181<Sheet1!$G$6),Sheet1!$A$6,\"\"))","v":""},{"$f":"IF($L181=\"\",\"\",IF(AND($L181>=Sheet1!$F$7,'Pupil List'!$L181<Sheet1!$G$7),Sheet1!$A$7,\"\"))","v":""},{"$f":"IF($L181=\"\",\"\",IF(AND($L181>=Sheet1!$F$8,'Pupil List'!$L181<Sheet1!$G$8),Sheet1!$A$8,\"\"))","v":""},{"$f":"IF($L181=\"\",\"\",IF(AND($L181>=Sheet1!$F$9,'Pupil List'!$L181<Sheet1!$G$9),Sheet1!$A$9,\"\"))","v":""},{"$f":"IF($L181=\"\",\"\",IF(AND($L181>=Sheet1!$F$10,'Pupil List'!$L181<Sheet1!$G$10),Sheet1!$A$10,\"\"))","v":""},{"$f":"IF($L181=\"\",\"\",IF(AND($L181>=Sheet1!$F$11,'Pupil List'!$L181<Sheet1!$G$11),Sheet1!$A$11,\"\"))","v":""},{"$f":"IF($L181=\"\",\"\",IF(AND($L181>=Sheet1!$F$12,'Pupil List'!$L181<Sheet1!$G$12),Sheet1!$A$12,\"\"))","v":""},{"$f":"IF($L181=\"\",\"\",IF(AND($L181>=Sheet1!$F$13,'Pupil List'!$L181<Sheet1!$G$13),Sheet1!$A$13,\"\"))","v":""},{"$f":"IF($L181=\"\",\"\",IF(AND($L181>=Sheet1!$F$14,'Pupil List'!$L181<Sheet1!$G$14),Sheet1!$A$14,\"\"))","v":""},{"$f":"IF($L181=\"\",\"\",IF(AND($L181>=Sheet1!$F$15,'Pupil List'!$L181<Sheet1!$G$15),Sheet1!$A$15,\"\"))","v":""},{"$f":"IF($L181=\"\",\"\",IF(AND($L181>=Sheet1!$F$16,'Pupil List'!$L181<Sheet1!$G$16),Sheet1!$A$16,\"\"))","v":""},{"$f":"IF($L181=\"\",\"\",IF(AND($L181>=Sheet1!$F$17,'Pupil List'!$L181<Sheet1!$G$17),Sheet1!$A$17,\"\"))","v":""},{"$f":"IF($L181=\"\",\"\",IF(AND($L181>=Sheet1!$F$18,'Pupil List'!$L181<Sheet1!$G$18),Sheet1!$A$18,\"\"))","v":""},{"$f":"IF($L181=\"\",\"\",IF(AND($L181>=Sheet1!$F$19,'Pupil List'!$L181<Sheet1!$G$19),Sheet1!$A$19,\"\"))","v":""},{"$f":"IF($L181=\"\",\"\",IF(AND($L181>=Sheet1!$F$20,'Pupil List'!$L181<Sheet1!$G$20),Sheet1!$A$20,\"\"))","v":""},{"$f":"IF($L181=\"\",\"\",IF(AND($L181>=Sheet1!$F$21,'Pupil List'!$L181<Sheet1!$G$21),Sheet1!$A$21,\"\"))","v":""},{"$f":"IF($L181=\"\",\"\",IF(AND($L181>=Sheet1!$F$22,'Pupil List'!$L181<Sheet1!$G$22),Sheet1!$A$22,\"\"))","v":""},{"$f":"IF($L181=\"\",\"\",IF(AND($L181>=Sheet1!$F$23,'Pupil List'!$L181<Sheet1!$G$23),Sheet1!$A$23,\"\"))","v":""},{"$f":"IF($L181=\"\",\"\",IF(AND($L181>=Sheet1!$F$24,'Pupil List'!$L181<Sheet1!$G$24),Sheet1!$A$24,\"\"))","v":""},{"$f":"IF($L181=\"\",\"\",IF(AND($L181>=Sheet1!$F$25,'Pupil List'!$L181<Sheet1!$G$25),Sheet1!$A$25,\"\"))","v":""},{"$error":"#N/A"},{"$f":"IFERROR(VLOOKUP(BK181,Sheet1!$A$2:$E$25,3,FALSE),\"\")","v":""},{"$f":"IFERROR(VLOOKUP(BK181,Sheet1!$A$2:$E$25,4,FALSE),\"\")","v":""},{"$f":"IFERROR(VLOOKUP(BK181,Sheet1!$A$2:$E$25,5,FALSE),\"\")","v":""},{"$f":"IFERROR(VLOOKUP(N181,Sheet1!$A$29:$B$38,2,FALSE),\"\")","v":""}]
["","","",null,null,null,null,null,"","","",null,"",null,"","","","","","","","","","","","","","","","","","","","","","","","",{"$f":"IF($L182=\"\",\"\",IF(AND($L182>=Sheet1!$F$2,'Pupil List'!$L182<Sheet1!$G$2),Sheet1!$A$2,\"\"))","v":""},{"$f":"IF($L182=\"\",\"\",IF(AND($L182>=Sheet1!$F$3,'Pupil List'!$L182<Sheet1!$G$3),Sheet1!$A$3,\"\"))","v":""},{"$f":"IF($L182=\"\",\"\",IF(AND($L182>=Sheet1!$F$4,'Pupil List'!$L182<Sheet1!$G$4),Sheet1!$A$4,\"\"))","v":""},{"$f":"IF($L182=\"\",\"\",IF(AND($L182>=Sheet1!$F$5,'Pupil List'!$L182<Sheet1!$G$5),Sheet1!$A$5,\"\"))","v":""},{"$f":"IF($L182=\"\",\"\",IF(AND($L182>=Sheet1!$F$6,'Pupil List'!$L182<Sheet1!$G$6),Sheet1!$A$6,\"\"))","v":""},{"$f":"IF($L182=\"\",\"\",IF(AND($L182>=Sheet1!$F$7,'Pupil List'!$L182<Sheet1!$G$7),Sheet1!$A$7,\"\"))","v":""},{"$f":"IF($L182=\"\",\"\",IF(AND($L182>=Sheet1!$F$8,'Pupil List'!$L182<Sheet1!$G$8),Sheet1!$A$8,\"\"))","v":""},{"$f":"IF($L182=\"\",\"\",IF(AND($L182>=Sheet1!$F$9,'Pupil List'!$L182<Sheet1!$G$9),Sheet1!$A$9,\"\"))","v":""},{"$f":"IF($L182=\"\",\"\",IF(AND($L182>=Sheet1!$F$10,'Pupil List'!$L182<Sheet1!$G$10),Sheet1!$A$10,\"\"))","v":""},{"$f":"IF($L182=\"\",\"\",IF(AND($L182>=Sheet1!$F$11,'Pupil List'!$L182<Sheet1!$G$11),Sheet1!$A$11,\"\"))","v":""},{"$f":"IF($L182=\"\",\"\",IF(AND($L182>=Sheet1!$F$12,'Pupil List'!$L182<Sheet1!$G$12),Sheet1!$A$12,\"\"))","v":""},{"$f":"IF($L182=\"\",\"\",IF(AND($L182>=Sheet1!$F$13,'Pupil List'!$L182<Sheet1!$G$13),Sheet1!$A$13,\"\"))","v":""},{"$f":"IF($L182=\"\",\"\",IF(AND($L182>=Sheet1!$F$14,'Pupil List'!$L182<Sheet1!$G$14),Sheet1!$A$14,\"\"))","v":""},{"$f":"IF($L182=\"\",\"\",IF(AND($L182>=Sheet1!$F$15,'Pupil List'!$L182<Sheet1!$G$15),Sheet1!$A$15,\"\"))","v":""},{"$f":"IF($L182=\"\",\"\",IF(AND($L182>=Sheet1!$F$16,'Pupil List'!$L182<Sheet1!$G$16),Sheet1!$A$16,\"\"))","v":""},{"$f":"IF($L182=\"\",\"\",IF(AND($L182>=Sheet1!$F$17,'Pupil List'!$L182<Sheet1!$G$17),Sheet1!$A$17,\"\"))","v":""},{"$f":"IF($L182=\"\",\"\",IF(AND($L182>=Sheet1!$F$18,'Pupil List'!$L182<Sheet1!$G$18),Sheet1!$A$18,\"\"))","v":""},{"$f":"IF($L182=\"\",\"\",IF(AND($L182>=Sheet1!$F$19,'Pupil List'!$L182<Sheet1!$G$19),Sheet1!$A$19,\"\"))","v":""},{"$f":"IF($L182=\"\",\"\",IF(AND($L182>=Sheet1!$F$20,'Pupil List'!$L182<Sheet1!$G$20),Sheet1!$A$20,\"\"))","v":""},{"$f":"IF($L182=\"\",\"\",IF(AND($L182>=Sheet1!$F$21,'Pupil List'!$L182<Sheet1!$G$21),Sheet1!$A$21,\"\"))","v":""},{"$f":"IF($L182=\"\",\"\",IF(AND($L182>=Sheet1!$F$22,'Pupil List'!$L182<Sheet1!$G$22),Sheet1!$A$22,\"\"))","v":""},{"$f":"IF($L182=\"\",\"\",IF(AND($L182>=Sheet1!$F$23,'Pupil List'!$L182<Sheet1!$G$23),Sheet1!$A$23,\"\"))","v":""},{"$f":"IF($L182=\"\",\"\",IF(AND($L182>=Sheet1!$F$24,'Pupil List'!$L182<Sheet1!$G$24),Sheet1!$A$24,\"\"))","v":""},{"$f":"IF($L182=\"\",\"\",IF(AND($L182>=Sheet1!$F$25,'Pupil List'!$L182<Sheet1!$G$25),Sheet1!$A$25,\"\"))","v":""},{"$error":"#N/A"},{"$f":"IFERROR(VLOOKUP(BK182,Sheet1!$A$2:$E$25,3,FALSE),\"\")","v":""},{"$f":"IFERROR(VLOOKUP(BK182,Sheet1!$A$2:$E$25,4,FALSE),\"\")","v":""},{"$f":"IFERROR(VLOOKUP(BK182,Sheet1!$A$2:$E$25,5,FALSE),\"\")","v":""},{"$f":"IFERROR(VLOOKUP(N182,Sheet1!$A$29:$B$38,2,FALSE),\"\")","v":""}]
["","","",null,null,null,null,null,"","","",null,"",null,"","","","","","","","","","","","","","","","","","","","","","","","",{"$f":"IF($L183=\"\",\"\",IF(AND($L183>=Sheet1!$F$2,'Pupil List'!$L183<Sheet1!$G$2),Sheet1!$A$2,\"\"))","v":""},{"$f":"IF($L183=\"\",\"\",IF(AND($L183>=Sheet1!$F$3,'Pupil List'!$L183<Sheet1!$G$3),Sheet1!$A$3,\"\"))","v":""},{"$f":"IF($L183=\"\",\"\",IF(AND($L183>=Sheet1!$F$4,'Pupil List'!$L183<Sheet1!$G$4),Sheet1!$A$4,\"\"))","v":""},{"$f":"IF($L183=\"\",\"\",IF(AND($L183>=Sheet1!$F$5,'Pupil List'!$L183<Sheet1!$G$5),Sheet1!$A$5,\"\"))","v":""},{"$f":"IF($L183=\"\",\"\",IF(AND($L183>=Sheet1!$F$6,'Pupil List'!$L183<Sheet1!$G$6),Sheet1!$A$6,\"\"))","v":""},{"$f":"IF($L183=\"\",\"\",IF(AND($L183>=Sheet1!$F$7,'Pupil List'!$L183<Sheet1!$G$7),Sheet1!$A$7,\"\"))","v":""},{"$f":"IF($L183=\"\",\"\",IF(AND($L183>=Sheet1!$F$8,'Pupil List'!$L183<Sheet1!$G$8),Sheet1!$A$8,\"\"))","v":""},{"$f":"IF($L183=\"\",\"\",IF(AND($L183>=Sheet1!$F$9,'Pupil List'!$L183<Sheet1!$G$9),Sheet1!$A$9,\"\"))","v":""},{"$f":"IF($L183=\"\",\"\",IF(AND($L183>=Sheet1!$F$10,'Pupil List'!$L183<Sheet1!$G$10),Sheet1!$A$10,\"\"))","v":""},{"$f":"IF($L183=\"\",\"\",IF(AND($L183>=Sheet1!$F$11,'Pupil List'!$L183<Sheet1!$G$11),Sheet1!$A$11,\"\"))","v":""},{"$f":"IF($L183=\"\",\"\",IF(AND($L183>=Sheet1!$F$12,'Pupil List'!$L183<Sheet1!$G$12),Sheet1!$A$12,\"\"))","v":""},{"$f":"IF($L183=\"\",\"\",IF(AND($L183>=Sheet1!$F$13,'Pupil List'!$L183<Sheet1!$G$13),Sheet1!$A$13,\"\"))","v":""},{"$f":"IF($L183=\"\",\"\",IF(AND($L183>=Sheet1!$F$14,'Pupil List'!$L183<Sheet1!$G$14),Sheet1!$A$14,\"\"))","v":""},{"$f":"IF($L183=\"\",\"\",IF(AND($L183>=Sheet1!$F$15,'Pupil List'!$L183<Sheet1!$G$15),Sheet1!$A$15,\"\"))","v":""},{"$f":"IF($L183=\"\",\"\",IF(AND($L183>=Sheet1!$F$16,'Pupil List'!$L183<Sheet1!$G$16),Sheet1!$A$16,\"\"))","v":""},{"$f":"IF($L183=\"\",\"\",IF(AND($L183>=Sheet1!$F$17,'Pupil List'!$L183<Sheet1!$G$17),Sheet1!$A$17,\"\"))","v":""},{"$f":"IF($L183=\"\",\"\",IF(AND($L183>=Sheet1!$F$18,'Pupil List'!$L183<Sheet1!$G$18),Sheet1!$A$18,\"\"))","v":""},{"$f":"IF($L183=\"\",\"\",IF(AND($L183>=Sheet1!$F$19,'Pupil List'!$L183<Sheet1!$G$19),Sheet1!$A$19,\"\"))","v":""},{"$f":"IF($L183=\"\",\"\",IF(AND($L183>=Sheet1!$F$20,'Pupil List'!$L183<Sheet1!$G$20),Sheet1!$A$20,\"\"))","v":""},{"$f":"IF($L183=\"\",\"\",IF(AND($L183>=Sheet1!$F$21,'Pupil List'!$L183<Sheet1!$G$21),Sheet1!$A$21,\"\"))","v":""},{"$f":"IF($L183=\"\",\"\",IF(AND($L183>=Sheet1!$F$22,'Pupil List'!$L183<Sheet1!$G$22),Sheet1!$A$22,\"\"))","v":""},{"$f":"IF($L183=\"\",\"\",IF(AND($L183>=Sheet1!$F$23,'Pupil List'!$L183<Sheet1!$G$23),Sheet1!$A$23,\"\"))","v":""},{"$f":"IF($L183=\"\",\"\",IF(AND($L183>=Sheet1!$F$24,'Pupil List'!$L183<Sheet1!$G$24),Sheet1!$A$24,\"\"))","v":""},{"$f":"IF($L183=\"\",\"\",IF(AND($L183>=Sheet1!$F$25,'Pupil List'!$L183<Sheet1!$G$25),Sheet1!$A$25,\"\"))","v":""},{"$error":"#N/A"},{"$f":"IFERROR(VLOOKUP(BK183,Sheet1!$A$2:$E$25,3,FALSE),\"\")","v":""},{"$f":"IFERROR(VLOOKUP(BK183,Sheet1!$A$2:$E$25,4,FALSE),\"\")","v":""},{"$f":"IFERROR(VLOOKUP(BK183,Sheet1!$A$2:$E$25,5,FALSE),\"\")","v":""},{"$f":"IFERROR(VLOOKUP(N183,Sheet1!$A$29:$B$38,2,FALSE),\"\")","v":""}]
["","","",null,null,null,null,null,"","","",null,"",null,"","","","","","","","","","","","","","","","","","","","","","","","",{"$f":"IF($L184=\"\",\"\",IF(AND($L184>=Sheet1!$F$2,'Pupil List'!$L184<Sheet1!$G$2),Sheet1!$A$2,\"\"))","v":""},{"$f":"IF($L184=\"\",\"\",IF(AND($L184>=Sheet1!$F$3,'Pupil List'!$L184<Sheet1!$G$3),Sheet1!$A$3,\"\"))","v":""},{"$f":"IF($L184=\"\",\"\",IF(AND($L184>=Sheet1!$F$4,'Pupil List'!$L184<Sheet1!$G$4),Sheet1!$A$4,\"\"))","v":""},{"$f":"IF($L184=\"\",\"\",IF(AND($L184>=Sheet1!$F$5,'Pupil List'!$L184<Sheet1!$G$5),Sheet1!$A$5,\"\"))","v":""},{"$f":"IF($L184=\"\",\"\",IF(AND($L184>=Sheet1!$F$6,'Pupil List'!$L184<Sheet1!$G$6),Sheet1!$A$6,\"\"))","v":""},{"$f":"IF($L184=\"\",\"\",IF(AND($L184>=Sheet1!$F$7,'Pupil List'!$L184<Sheet1!$G$7),Sheet1!$A$7,\"\"))","v":""},{"$f":"IF($L184=\"\",\"\",IF(AND($L184>=Sheet1!$F$8,'Pupil List'!$L184<Sheet1!$G$8),Sheet1!$A$8,\"\"))","v":""},{"$f":"IF($L184=\"\",\"\",IF(AND($L184>=Sheet1!$F$9,'Pupil List'!$L184<Sheet1!$G$9),Sheet1!$A$9,\"\"))","v":""},{"$f":"IF($L184=\"\",\"\",IF(AND($L184>=Sheet1!$F$10,'Pupil List'!$L184<Sheet1!$G$10),Sheet1!$A$10,\"\"))","v":""},{"$f":"IF($L184=\"\",\"\",IF(AND($L184>=Sheet1!$F$11,'Pupil List'!$L184<Sheet1!$G$11),Sheet1!$A$11,\"\"))","v":""},{"$f":"IF($L184=\"\",\"\",IF(AND($L184>=Sheet1!$F$12,'Pupil List'!$L184<Sheet1!$G$12),Sheet1!$A$12,\"\"))","v":""},{"$f":"IF($L184=\"\",\"\",IF(AND($L184>=Sheet1!$F$13,'Pupil List'!$L184<Sheet1!$G$13),Sheet1!$A$13,\"\"))","v":""},{"$f":"IF($L184=\"\",\"\",IF(AND($L184>=Sheet1!$F$14,'Pupil List'!$L184<Sheet1!$G$14),Sheet1!$A$14,\"\"))","v":""},{"$f":"IF($L184=\"\",\"\",IF(AND($L184>=Sheet1!$F$15,'Pupil List'!$L184<Sheet1!$G$15),Sheet1!$A$15,\"\"))","v":""},{"$f":"IF($L184=\"\",\"\",IF(AND($L184>=Sheet1!$F$16,'Pupil List'!$L184<Sheet1!$G$16),Sheet1!$A$16,\"\"))","v":""},{"$f":"IF($L184=\"\",\"\",IF(AND($L184>=Sheet1!$F$17,'Pupil List'!$L184<Sheet1!$G$17),Sheet1!$A$17,\"\"))","v":""},{"$f":"IF($L184=\"\",\"\",IF(AND($L184>=Sheet1!$F$18,'Pupil List'!$L184<Sheet1!$G$18),Sheet1!$A$18,\"\"))","v":""},{"$f":"IF($L184=\"\",\"\",IF(AND($L184>=Sheet1!$F$19,'Pupil List'!$L184<Sheet1!$G$19),Sheet1!$A$19,\"\"))","v":""},{"$f":"IF($L184=\"\",\"\",IF(AND($L184>=Sheet1!$F$20,'Pupil List'!$L184<Sheet1!$G$20),Sheet1!$A$20,\"\"))","v":""},{"$f":"IF($L184=\"\",\"\",IF(AND($L184>=Sheet1!$F$21,'Pupil List'!$L184<Sheet1!$G$21),Sheet1!$A$21,\"\"))","v":""},{"$f":"IF($L184=\"\",\"\",IF(AND($L184>=Sheet1!$F$22,'Pupil List'!$L184<Sheet1!$G$22),Sheet1!$A$22,\"\"))","v":""},{"$f":"IF($L184=\"\",\"\",IF(AND($L184>=Sheet1!$F$23,'Pupil List'!$L184<Sheet1!$G$23),Sheet1!$A$23,\"\"))","v":""},{"$f":"IF($L184=\"\",\"\",IF(AND($L184>=Sheet1!$F$24,'Pupil List'!$L184<Sheet1!$G$24),Sheet1!$A$24,\"\"))","v":""},{"$f":"IF($L184=\"\",\"\",IF(AND($L184>=Sheet1!$F$25,'Pupil List'!$L184<Sheet1!$G$25),Sheet1!$A$25,\"\"))","v":""},{"$error":"#N/A"},{"$f":"IFERROR(VLOOKUP(BK184,Sheet1!$A$2:$E$25,3,FALSE),\"\")","v":""},{"$f":"IFERROR(VLOOKUP(BK184,Sheet1!$A$2:$E$25,4,FALSE),\"\")","v":""},{"$f":"IFERROR(VLOOKUP(BK184,Sheet1!$A$2:$E$25,5,FALSE),\"\")","v":""},{"$f":"IFERROR(VLOOKUP(N184,Sheet1!$A$29:$B$38,2,FALSE),\"\")","v":""}]
["","","",null,null,null,null,null,"","","",null,"",null,"","","","","","","","","","","","","","","","","","","","","","","","",{"$f":"IF($L185=\"\",\"\",IF(AND($L185>=Sheet1!$F$2,'Pupil List'!$L185<Sheet1!$G$2),Sheet1!$A$2,\"\"))","v":""},{"$f":"IF($L185=\"\",\"\",IF(AND($L185>=Sheet1!$F$3,'Pupil List'!$L185<Sheet1!$G$3),Sheet1!$A$3,\"\"))","v":""},{"$f":"IF($L185=\"\",\"\",IF(AND($L185>=Sheet1!$F$4,'Pupil List'!$L185<Sheet1!$G$4),Sheet1!$A$4,\"\"))","v":""},{"$f":"IF($L185=\"\",\"\",IF(AND($L185>=Sheet1!$F$5,'Pupil List'!$L185<Sheet1!$G$5),Sheet1!$A$5,\"\"))","v":""},{"$f":"IF($L185=\"\",\"\",IF(AND($L185>=Sheet1!$F$6,'Pupil List'!$L185<Sheet1!$G$6),Sheet1!$A$6,\"\"))","v":""},{"$f":"IF($L185=\"\",\"\",IF(AND($L185>=Sheet1!$F$7,'Pupil List'!$L185<Sheet1!$G$7),Sheet1!$A$7,\"\"))","v":""},{"$f":"IF($L185=\"\",\"\",IF(AND($L185>=Sheet1!$F$8,'Pupil List'!$L185<Sheet1!$G$8),Sheet1!$A$8,\"\"))","v":""},{"$f":"IF($L185=\"\",\"\",IF(AND($L185>=Sheet1!$F$9,'Pupil List'!$L185<Sheet1!$G$9),Sheet1!$A$9,\"\"))","v":""},{"$f":"IF($L185=\"\",\"\",IF(AND($L185>=Sheet1!$F$10,'Pupil List'!$L185<Sheet1!$G$10),Sheet1!$A$10,\"\"))","v":""},{"$f":"IF($L185=\"\",\"\",IF(AND($L185>=Sheet1!$F$11,'Pupil List'!$L185<Sheet1!$G$11),Sheet1!$A$11,\"\"))","v":""},{"$f":"IF($L185=\"\",\"\",IF(AND($L185>=Sheet1!$F$12,'Pupil List'!$L185<Sheet1!$G$12),Sheet1!$A$12,\"\"))","v":""},{"$f":"IF($L185=\"\",\"\",IF(AND($L185>=Sheet1!$F$13,'Pupil List'!$L185<Sheet1!$G$13),Sheet1!$A$13,\"\"))","v":""},{"$f":"IF($L185=\"\",\"\",IF(AND($L185>=Sheet1!$F$14,'Pupil List'!$L185<Sheet1!$G$14),Sheet1!$A$14,\"\"))","v":""},{"$f":"IF($L185=\"\",\"\",IF(AND($L185>=Sheet1!$F$15,'Pupil List'!$L185<Sheet1!$G$15),Sheet1!$A$15,\"\"))","v":""},{"$f":"IF($L185=\"\",\"\",IF(AND($L185>=Sheet1!$F$16,'Pupil List'!$L185<Sheet1!$G$16),Sheet1!$A$16,\"\"))","v":""},{"$f":"IF($L185=\"\",\"\",IF(AND($L185>=Sheet1!$F$17,'Pupil List'!$L185<Sheet1!$G$17),Sheet1!$A$17,\"\"))","v":""},{"$f":"IF($L185=\"\",\"\",IF(AND($L185>=Sheet1!$F$18,'Pupil List'!$L185<Sheet1!$G$18),Sheet1!$A$18,\"\"))","v":""},{"$f":"IF($L185=\"\",\"\",IF(AND($L185>=Sheet1!$F$19,'Pupil List'!$L185<Sheet1!$G$19),Sheet1!$A$19,\"\"))","v":""},{"$f":"IF($L185=\"\",\"\",IF(AND($L185>=Sheet1!$F$20,'Pupil List'!$L185<Sheet1!$G$20),Sheet1!$A$20,\"\"))","v":""},{"$f":"IF($L185=\"\",\"\",IF(AND($L185>=Sheet1!$F$21,'Pupil List'!$L185<Sheet1!$G$21),Sheet1!$A$21,\"\"))","v":""},{"$f":"IF($L185=\"\",\"\",IF(AND($L185>=Sheet1!$F$22,'Pupil List'!$L185<Sheet1!$G$22),Sheet1!$A$22,\"\"))","v":""},{"$f":"IF($L185=\"\",\"\",IF(AND($L185>=Sheet1!$F$23,'Pupil List'!$L185<Sheet1!$G$23),Sheet1!$A$23,\"\"))","v":""},{"$f":"IF($L185=\"\",\"\",IF(AND($L185>=Sheet1!$F$24,'Pupil List'!$L185<Sheet1!$G$24),Sheet1!$A$24,\"\"))","v":""},{"$f":"IF($L185=\"\",\"\",IF(AND($L185>=Sheet1!$F$25,'Pupil List'!$L185<Sheet1!$G$25),Sheet1!$A$25,\"\"))","v":""},{"$error":"#N/A"},{"$f":"IFERROR(VLOOKUP(BK185,Sheet1!$A$2:$E$25,3,FALSE),\"\")","v":""},{"$f":"IFERROR(VLOOKUP(BK185,Sheet1!$A$2:$E$25,4,FALSE),\"\")","v":""},{"$f":"IFERROR(VLOOKUP(BK185,Sheet1!$A$2:$E$25,5,FALSE),\"\")","v":""},{"$f":"IFERROR(VLOOKUP(N185,Sheet1!$A$29:$B$38,2,FALSE),\"\")","v":""}]
["","","",null,null,null,null,null,"","","",null,"",null,"","","","","","","","","","","","","","","","","","","","","","","","",{"$f":"IF($L186=\"\",\"\",IF(AND($L186>=Sheet1!$F$2,'Pupil List'!$L186<Sheet1!$G$2),Sheet1!$A$2,\"\"))","v":""},{"$f":"IF($L186=\"\",\"\",IF(AND($L186>=Sheet1!$F$3,'Pupil List'!$L186<Sheet1!$G$3),Sheet1!$A$3,\"\"))","v":""},{"$f":"IF($L186=\"\",\"\",IF(AND($L186>=Sheet1!$F$4,'Pupil List'!$L186<Sheet1!$G$4),Sheet1!$A$4,\"\"))","v":""},{"$f":"IF($L186=\"\",\"\",IF(AND($L186>=Sheet1!$F$5,'Pupil List'!$L186<Sheet1!$G$5),Sheet1!$A$5,\"\"))","v":""},{"$f":"IF($L186=\"\",\"\",IF(AND($L186>=Sheet1!$F$6,'Pupil List'!$L186<Sheet1!$G$6),Sheet1!$A$6,\"\"))","v":""},{"$f":"IF($L186=\"\",\"\",IF(AND($L186>=Sheet1!$F$7,'Pupil List'!$L186<Sheet1!$G$7),Sheet1!$A$7,\"\"))","v":""},{"$f":"IF($L186=\"\",\"\",IF(AND($L186>=Sheet1!$F$8,'Pupil List'!$L186<Sheet1!$G$8),Sheet1!$A$8,\"\"))","v":""},{"$f":"IF($L186=\"\",\"\",IF(AND($L186>=Sheet1!$F$9,'Pupil List'!$L186<Sheet1!$G$9),Sheet1!$A$9,\"\"))","v":""},{"$f":"IF($L186=\"\",\"\",IF(AND($L186>=Sheet1!$F$10,'Pupil List'!$L186<Sheet1!$G$10),Sheet1!$A$10,\"\"))","v":""},{"$f":"IF($L186=\"\",\"\",IF(AND($L186>=Sheet1!$F$11,'Pupil List'!$L186<Sheet1!$G$11),Sheet1!$A$11,\"\"))","v":""},{"$f":"IF($L186=\"\",\"\",IF(AND($L186>=Sheet1!$F$12,'Pupil List'!$L186<Sheet1!$G$12),Sheet1!$A$12,\"\"))","v":""},{"$f":"IF($L186=\"\",\"\",IF(AND($L186>=Sheet1!$F$13,'Pupil List'!$L186<Sheet1!$G$13),Sheet1!$A$13,\"\"))","v":""},{"$f":"IF($L186=\"\",\"\",IF(AND($L186>=Sheet1!$F$14,'Pupil List'!$L186<Sheet1!$G$14),Sheet1!$A$14,\"\"))","v":""},{"$f":"IF($L186=\"\",\"\",IF(AND($L186>=Sheet1!$F$15,'Pupil List'!$L186<Sheet1!$G$15),Sheet1!$A$15,\"\"))","v":""},{"$f":"IF($L186=\"\",\"\",IF(AND($L186>=Sheet1!$F$16,'Pupil List'!$L186<Sheet1!$G$16),Sheet1!$A$16,\"\"))","v":""},{"$f":"IF($L186=\"\",\"\",IF(AND($L186>=Sheet1!$F$17,'Pupil List'!$L186<Sheet1!$G$17),Sheet1!$A$17,\"\"))","v":""},{"$f":"IF($L186=\"\",\"\",IF(AND($L186>=Sheet1!$F$18,'Pupil List'!$L186<Sheet1!$G$18),Sheet1!$A$18,\"\"))","v":""},{"$f":"IF($L186=\"\",\"\",IF(AND($L186>=Sheet1!$F$19,'Pupil List'!$L186<Sheet1!$G$19),Sheet1!$A$19,\"\"))","v":""},{"$f":"IF($L186=\"\",\"\",IF(AND($L186>=Sheet1!$F$20,'Pupil List'!$L186<Sheet1!$G$20),Sheet1!$A$20,\"\"))","v":""},{"$f":"IF($L186=\"\",\"\",IF(AND($L186>=Sheet1!$F$21,'Pupil List'!$L186<Sheet1!$G$21),Sheet1!$A$21,\"\"))","v":""},{"$f":"IF($L186=\"\",\"\",IF(AND($L186>=Sheet1!$F$22,'Pupil List'!$L186<Sheet1!$G$22),Sheet1!$A$22,\"\"))","v":""},{"$f":"IF($L186=\"\",\"\",IF(AND($L186>=Sheet1!$F$23,'Pupil List'!$L186<Sheet1!$G$23),Sheet1!$A$23,\"\"))","v":""},{"$f":"IF($L186=\"\",\"\",IF(AND($L186>=Sheet1!$F$24,'Pupil List'!$L186<Sheet1!$G$24),Sheet1!$A$24,\"\"))","v":""},{"$f":"IF($L186=\"\",\"\",IF(AND($L186>=Sheet1!$F$25,'Pupil List'!$L186<Sheet1!$G$25),Sheet1!$A$25,\"\"))","v":""},{"$error":"#N/A"},{"$f":"IFERROR(VLOOKUP(BK186,Sheet1!$A$2:$E$25,3,FALSE),\"\")","v":""},{"$f":"IFERROR(VLOOKUP(BK186,Sheet1!$A$2:$E$25,4,FALSE),\"\")","v":""},{"$f":"IFERROR(VLOOKUP(BK186,Sheet1!$A$2:$E$25,5,FALSE),\"\")","v":""},{"$f":"IFERROR(VLOOKUP(N186,Sheet1!$A$29:$B$38,2,FALSE),\"\")","v":""}]
["","","",null,null,null,null,null,"","","",null,"",null,"","","","","","","","","","","","","","","","","","","","","","","","",{"$f":"IF($L187=\"\",\"\",IF(AND($L187>=Sheet1!$F$2,'Pupil List'!$L187<Sheet1!$G$2),Sheet1!$A$2,\"\"))","v":""},{"$f":"IF($L187=\"\",\"\",IF(AND($L187>=Sheet1!$F$3,'Pupil List'!$L187<Sheet1!$G$3),Sheet1!$A$3,\"\"))","v":""},{"$f":"IF($L187=\"\",\"\",IF(AND($L187>=Sheet1!$F$4,'Pupil List'!$L187<Sheet1!$G$4),Sheet1!$A$4,\"\"))","v":""},{"$f":"IF($L187=\"\",\"\",IF(AND($L187>=Sheet1!$F$5,'Pupil List'!$L187<Sheet1!$G$5),Sheet1!$A$5,\"\"))","v":""},{"$f":"IF($L187=\"\",\"\",IF(AND($L187>=Sheet1!$F$6,'Pupil List'!$L187<Sheet1!$G$6),Sheet1!$A$6,\"\"))","v":""},{"$f":"IF($L187=\"\",\"\",IF(AND($L187>=Sheet1!$F$7,'Pupil List'!$L187<Sheet1!$G$7),Sheet1!$A$7,\"\"))","v":""},{"$f":"IF($L187=\"\",\"\",IF(AND($L187>=Sheet1!$F$8,'Pupil List'!$L187<Sheet1!$G$8),Sheet1!$A$8,\"\"))","v":""},{"$f":"IF($L187=\"\",\"\",IF(AND($L187>=Sheet1!$F$9,'Pupil List'!$L187<Sheet1!$G$9),Sheet1!$A$9,\"\"))","v":""},{"$f":"IF($L187=\"\",\"\",IF(AND($L187>=Sheet1!$F$10,'Pupil List'!$L187<Sheet1!$G$10),Sheet1!$A$10,\"\"))","v":""},{"$f":"IF($L187=\"\",\"\",IF(AND($L187>=Sheet1!$F$11,'Pupil List'!$L187<Sheet1!$G$11),Sheet1!$A$11,\"\"))","v":""},{"$f":"IF($L187=\"\",\"\",IF(AND($L187>=Sheet1!$F$12,'Pupil List'!$L187<Sheet1!$G$12),Sheet1!$A$12,\"\"))","v":""},{"$f":"IF($L187=\"\",\"\",IF(AND($L187>=Sheet1!$F$13,'Pupil List'!$L187<Sheet1!$G$13),Sheet1!$A$13,\"\"))","v":""},{"$f":"IF($L187=\"\",\"\",IF(AND($L187>=Sheet1!$F$14,'Pupil List'!$L187<Sheet1!$G$14),Sheet1!$A$14,\"\"))","v":""},{"$f":"IF($L187=\"\",\"\",IF(AND($L187>=Sheet1!$F$15,'Pupil List'!$L187<Sheet1!$G$15),Sheet1!$A$15,\"\"))","v":""},{"$f":"IF($L187=\"\",\"\",IF(AND($L187>=Sheet1!$F$16,'Pupil List'!$L187<Sheet1!$G$16),Sheet1!$A$16,\"\"))","v":""},{"$f":"IF($L187=\"\",\"\",IF(AND($L187>=Sheet1!$F$17,'Pupil List'!$L187<Sheet1!$G$17),Sheet1!$A$17,\"\"))","v":""},{"$f":"IF($L187=\"\",\"\",IF(AND($L187>=Sheet1!$F$18,'Pupil List'!$L187<Sheet1!$G$18),Sheet1!$A$18,\"\"))","v":""},{"$f":"IF($L187=\"\",\"\",IF(AND($L187>=Sheet1!$F$19,'Pupil List'!$L187<Sheet1!$G$19),Sheet1!$A$19,\"\"))","v":""},{"$f":"IF($L187=\"\",\"\",IF(AND($L187>=Sheet1!$F$20,'Pupil List'!$L187<Sheet1!$G$20),Sheet1!$A$20,\"\"))","v":""},{"$f":"IF($L187=\"\",\"\",IF(AND($L187>=Sheet1!$F$21,'Pupil List'!$L187<Sheet1!$G$21),Sheet1!$A$21,\"\"))","v":""},{"$f":"IF($L187=\"\",\"\",IF(AND($L187>=Sheet1!$F$22,'Pupil List'!$L187<Sheet1!$G$22),Sheet1!$A$22,\"\"))","v":""},{"$f":"IF($L187=\"\",\"\",IF(AND($L187>=Sheet1!$F$23,'Pupil List'!$L187<Sheet1!$G$23),Sheet1!$A$23,\"\"))","v":""},{"$f":"IF($L187=\"\",\"\",IF(AND($L187>=Sheet1!$F$24,'Pupil List'!$L187<Sheet1!$G$24),Sheet1!$A$24,\"\"))","v":""},{"$f":"IF($L187=\"\",\"\",IF(AND($L187>=Sheet1!$F$25,'Pupil List'!$L187<Sheet1!$G$25),Sheet1!$A$25,\"\"))","v":""},{"$error":"#N/A"},{"$f":"IFERROR(VLOOKUP(BK187,Sheet1!$A$2:$E$25,3,FALSE),\"\")","v":""},{"$f":"IFERROR(VLOOKUP(BK187,Sheet1!$A$2:$E$25,4,FALSE),\"\")","v":""},{"$f":"IFERROR(VLOOKUP(BK187,Sheet1!$A$2:$E$25,5,FALSE),\"\")","v":""},{"$f":"IFERROR(VLOOKUP(N187,Sheet1!$A$29:$B$38,2,FALSE),\"\")","v":""}]
["","","",null,null,null,null,null,"","","",null,"",null,"","","","","","","","","","","","","","","","","","","","","","","","",{"$f":"IF($L188=\"\",\"\",IF(AND($L188>=Sheet1!$F$2,'Pupil List'!$L188<Sheet1!$G$2),Sheet1!$A$2,\"\"))","v":""},{"$f":"IF($L188=\"\",\"\",IF(AND($L188>=Sheet1!$F$3,'Pupil List'!$L188<Sheet1!$G$3),Sheet1!$A$3,\"\"))","v":""},{"$f":"IF($L188=\"\",\"\",IF(AND($L188>=Sheet1!$F$4,'Pupil List'!$L188<Sheet1!$G$4),Sheet1!$A$4,\"\"))","v":""},{"$f":"IF($L188=\"\",\"\",IF(AND($L188>=Sheet1!$F$5,'Pupil List'!$L188<Sheet1!$G$5),Sheet1!$A$5,\"\"))","v":""},{"$f":"IF($L188=\"\",\"\",IF(AND($L188>=Sheet1!$F$6,'Pupil List'!$L188<Sheet1!$G$6),Sheet1!$A$6,\"\"))","v":""},{"$f":"IF($L188=\"\",\"\",IF(AND($L188>=Sheet1!$F$7,'Pupil List'!$L188<Sheet1!$G$7),Sheet1!$A$7,\"\"))","v":""},{"$f":"IF($L188=\"\",\"\",IF(AND($L188>=Sheet1!$F$8,'Pupil List'!$L188<Sheet1!$G$8),Sheet1!$A$8,\"\"))","v":""},{"$f":"IF($L188=\"\",\"\",IF(AND($L188>=Sheet1!$F$9,'Pupil List'!$L188<Sheet1!$G$9),Sheet1!$A$9,\"\"))","v":""},{"$f":"IF($L188=\"\",\"\",IF(AND($L188>=Sheet1!$F$10,'Pupil List'!$L188<Sheet1!$G$10),Sheet1!$A$10,\"\"))","v":""},{"$f":"IF($L188=\"\",\"\",IF(AND($L188>=Sheet1!$F$11,'Pupil List'!$L188<Sheet1!$G$11),Sheet1!$A$11,\"\"))","v":""},{"$f":"IF($L188=\"\",\"\",IF(AND($L188>=Sheet1!$F$12,'Pupil List'!$L188<Sheet1!$G$12),Sheet1!$A$12,\"\"))","v":""},{"$f":"IF($L188=\"\",\"\",IF(AND($L188>=Sheet1!$F$13,'Pupil List'!$L188<Sheet1!$G$13),Sheet1!$A$13,\"\"))","v":""},{"$f":"IF($L188=\"\",\"\",IF(AND($L188>=Sheet1!$F$14,'Pupil List'!$L188<Sheet1!$G$14),Sheet1!$A$14,\"\"))","v":""},{"$f":"IF($L188=\"\",\"\",IF(AND($L188>=Sheet1!$F$15,'Pupil List'!$L188<Sheet1!$G$15),Sheet1!$A$15,\"\"))","v":""},{"$f":"IF($L188=\"\",\"\",IF(AND($L188>=Sheet1!$F$16,'Pupil List'!$L188<Sheet1!$G$16),Sheet1!$A$16,\"\"))","v":""},{"$f":"IF($L188=\"\",\"\",IF(AND($L188>=Sheet1!$F$17,'Pupil List'!$L188<Sheet1!$G$17),Sheet1!$A$17,\"\"))","v":""},{"$f":"IF($L188=\"\",\"\",IF(AND($L188>=Sheet1!$F$18,'Pupil List'!$L188<Sheet1!$G$18),Sheet1!$A$18,\"\"))","v":""},{"$f":"IF($L188=\"\",\"\",IF(AND($L188>=Sheet1!$F$19,'Pupil List'!$L188<Sheet1!$G$19),Sheet1!$A$19,\"\"))","v":""},{"$f":"IF($L188=\"\",\"\",IF(AND($L188>=Sheet1!$F$20,'Pupil List'!$L188<Sheet1!$G$20),Sheet1!$A$20,\"\"))","v":""},{"$f":"IF($L188=\"\",\"\",IF(AND($L188>=Sheet1!$F$21,'Pupil List'!$L188<Sheet1!$G$21),Sheet1!$A$21,\"\"))","v":""},{"$f":"IF($L188=\"\",\"\",IF(AND($L188>=Sheet1!$F$22,'Pupil List'!$L188<Sheet1!$G$22),Sheet1!$A$22,\"\"))","v":""},{"$f":"IF($L188=\"\",\"\",IF(AND($L188>=Sheet1!$F$23,'Pupil List'!$L188<Sheet1!$G$23),Sheet1!$A$23,\"\"))","v":""},{"$f":"IF($L188=\"\",\"\",IF(AND($L188>=Sheet1!$F$24,'Pupil List'!$L188<Sheet1!$G$24),Sheet1!$A$24,\"\"))","v":""},{"$f":"IF($L188=\"\",\"\",IF(AND($L188>=Sheet1!$F$25,'Pupil List'!$L188<Sheet1!$G$25),Sheet1!$A$25,\"\"))","v":""},{"$error":"#N/A"},{"$f":"IFERROR(VLOOKUP(BK188,Sheet1!$A$2:$E$25,3,FALSE),\"\")","v":""},{"$f":"IFERROR(VLOOKUP(BK188,Sheet1!$A$2:$E$25,4,FALSE),\"\")","v":""},{"$f":"IFERROR(VLOOKUP(BK188,Sheet1!$A$2:$E$25,5,FALSE),\"\")","v":""},{"$f":"IFERROR(VLOOKUP(N188,Sheet1!$A$29:$B$38,2,FALSE),\"\")","v":""}]
["","","",null,null,null,null,null,"","","",null,"",null,"","","","","","","","","","","","","","","","","","","","","","","","",{"$f":"IF($L189=\"\",\"\",IF(AND($L189>=Sheet1!$F$2,'Pupil List'!$L189<Sheet1!$G$2),Sheet1!$A$2,\"\"))","v":""},{"$f":"IF($L189=\"\",\"\",IF(AND($L189>=Sheet1!$F$3,'Pupil List'!$L189<Sheet1!$G$3),Sheet1!$A$3,\"\"))","v":""},{"$f":"IF($L189=\"\",\"\",IF(AND($L189>=Sheet1!$F$4,'Pupil List'!$L189<Sheet1!$G$4),Sheet1!$A$4,\"\"))","v":""},{"$f":"IF($L189=\"\",\"\",IF(AND($L189>=Sheet1!$F$5,'Pupil List'!$L189<Sheet1!$G$5),Sheet1!$A$5,\"\"))","v":""},{"$f":"IF($L189=\"\",\"\",IF(AND($L189>=Sheet1!$F$6,'Pupil List'!$L189<Sheet1!$G$6),Sheet1!$A$6,\"\"))","v":""},{"$f":"IF($L189=\"\",\"\",IF(AND($L189>=Sheet1!$F$7,'Pupil List'!$L189<Sheet1!$G$7),Sheet1!$A$7,\"\"))","v":""},{"$f":"IF($L189=\"\",\"\",IF(AND($L189>=Sheet1!$F$8,'Pupil List'!$L189<Sheet1!$G$8),Sheet1!$A$8,\"\"))","v":""},{"$f":"IF($L189=\"\",\"\",IF(AND($L189>=Sheet1!$F$9,'Pupil List'!$L189<Sheet1!$G$9),Sheet1!$A$9,\"\"))","v":""},{"$f":"IF($L189=\"\",\"\",IF(AND($L189>=Sheet1!$F$10,'Pupil List'!$L189<Sheet1!$G$10),Sheet1!$A$10,\"\"))","v":""},{"$f":"IF($L189=\"\",\"\",IF(AND($L189>=Sheet1!$F$11,'Pupil List'!$L189<Sheet1!$G$11),Sheet1!$A$11,\"\"))","v":""},{"$f":"IF($L189=\"\",\"\",IF(AND($L189>=Sheet1!$F$12,'Pupil List'!$L189<Sheet1!$G$12),Sheet1!$A$12,\"\"))","v":""},{"$f":"IF($L189=\"\",\"\",IF(AND($L189>=Sheet1!$F$13,'Pupil List'!$L189<Sheet1!$G$13),Sheet1!$A$13,\"\"))","v":""},{"$f":"IF($L189=\"\",\"\",IF(AND($L189>=Sheet1!$F$14,'Pupil List'!$L189<Sheet1!$G$14),Sheet1!$A$14,\"\"))","v":""},{"$f":"IF($L189=\"\",\"\",IF(AND($L189>=Sheet1!$F$15,'Pupil List'!$L189<Sheet1!$G$15),Sheet1!$A$15,\"\"))","v":""},{"$f":"IF($L189=\"\",\"\",IF(AND($L189>=Sheet1!$F$16,'Pupil List'!$L189<Sheet1!$G$16),Sheet1!$A$16,\"\"))","v":""},{"$f":"IF($L189=\"\",\"\",IF(AND($L189>=Sheet1!$F$17,'Pupil List'!$L189<Sheet1!$G$17),Sheet1!$A$17,\"\"))","v":""},{"$f":"IF($L189=\"\",\"\",IF(AND($L189>=Sheet1!$F$18,'Pupil List'!$L189<Sheet1!$G$18),Sheet1!$A$18,\"\"))","v":""},{"$f":"IF($L189=\"\",\"\",IF(AND($L189>=Sheet1!$F$19,'Pupil List'!$L189<Sheet1!$G$19),Sheet1!$A$19,\"\"))","v":""},{"$f":"IF($L189=\"\",\"\",IF(AND($L189>=Sheet1!$F$20,'Pupil List'!$L189<Sheet1!$G$20),Sheet1!$A$20,\"\"))","v":""},{"$f":"IF($L189=\"\",\"\",IF(AND($L189>=Sheet1!$F$21,'Pupil List'!$L189<Sheet1!$G$21),Sheet1!$A$21,\"\"))","v":""},{"$f":"IF($L189=\"\",\"\",IF(AND($L189>=Sheet1!$F$22,'Pupil List'!$L189<Sheet1!$G$22),Sheet1!$A$22,\"\"))","v":""},{"$f":"IF($L189=\"\",\"\",IF(AND($L189>=Sheet1!$F$23,'Pupil List'!$L189<Sheet1!$G$23),Sheet1!$A$23,\"\"))","v":""},{"$f":"IF($L189=\"\",\"\",IF(AND($L189>=Sheet1!$F$24,'Pupil List'!$L189<Sheet1!$G$24),Sheet1!$A$24,\"\"))","v":""},{"$f":"IF($L189=\"\",\"\",IF(AND($L189>=Sheet1!$F$25,'Pupil List'!$L189<Sheet1!$G$25),Sheet1!$A$25,\"\"))","v":""},{"$error":"#N/A"},{"$f":"IFERROR(VLOOKUP(BK189,Sheet1!$A$2:$E$25,3,FALSE),\"\")","v":""},{"$f":"IFERROR(VLOOKUP(BK189,Sheet1!$A$2:$E$25,4,FALSE),\"\")","v":""},{"$f":"IFERROR(VLOOKUP(BK189,Sheet1!$A$2:$E$25,5,FALSE),\"\")","v":""},{"$f":"IFERROR(VLOOKUP(N189,Sheet1!$A$29:$B$38,2,FALSE),\"\")","v":""}]
["","","",null,null,null,null,null,"","","",null,"",null,"","","","","","","","","","","","","","","","","","","","","","","","",{"$f":"IF($L190=\"\",\"\",IF(AND($L190>=Sheet1!$F$2,'Pupil List'!$L190<Sheet1!$G$2),Sheet1!$A$2,\"\"))","v":""},{"$f":"IF($L190=\"\",\"\",IF(AND($L190>=Sheet1!$F$3,'Pupil List'!$L190<Sheet1!$G$3),Sheet1!$A$3,\"\"))","v":""},{"$f":"IF($L190=\"\",\"\",IF(AND($L190>=Sheet1!$F$4,'Pupil List'!$L190<Sheet1!$G$4),Sheet1!$A$4,\"\"))","v":""},{"$f":"IF($L190=\"\",\"\",IF(AND($L190>=Sheet1!$F$5,'Pupil List'!$L190<Sheet1!$G$5),Sheet1!$A$5,\"\"))","v":""},{"$f":"IF($L190=\"\",\"\",IF(AND($L190>=Sheet1!$F$6,'Pupil List'!$L190<Sheet1!$G$6),Sheet1!$A$6,\"\"))","v":""},{"$f":"IF($L190=\"\",\"\",IF(AND($L190>=Sheet1!$F$7,'Pupil List'!$L190<Sheet1!$G$7),Sheet1!$A$7,\"\"))","v":""},{"$f":"IF($L190=\"\",\"\",IF(AND($L190>=Sheet1!$F$8,'Pupil List'!$L190<Sheet1!$G$8),Sheet1!$A$8,\"\"))","v":""},{"$f":"IF($L190=\"\",\"\",IF(AND($L190>=Sheet1!$F$9,'Pupil List'!$L190<Sheet1!$G$9),Sheet1!$A$9,\"\"))","v":""},{"$f":"IF($L190=\"\",\"\",IF(AND($L190>=Sheet1!$F$10,'Pupil List'!$L190<Sheet1!$G$10),Sheet1!$A$10,\"\"))","v":""},{"$f":"IF($L190=\"\",\"\",IF(AND($L190>=Sheet1!$F$11,'Pupil List'!$L190<Sheet1!$G$11),Sheet1!$A$11,\"\"))","v":""},{"$f":"IF($L190=\"\",\"\",IF(AND($L190>=Sheet1!$F$12,'Pupil List'!$L190<Sheet1!$G$12),Sheet1!$A$12,\"\"))","v":""},{"$f":"IF($L190=\"\",\"\",IF(AND($L190>=Sheet1!$F$13,'Pupil List'!$L190<Sheet1!$G$13),Sheet1!$A$13,\"\"))","v":""},{"$f":"IF($L190=\"\",\"\",IF(AND($L190>=Sheet1!$F$14,'Pupil List'!$L190<Sheet1!$G$14),Sheet1!$A$14,\"\"))","v":""},{"$f":"IF($L190=\"\",\"\",IF(AND($L190>=Sheet1!$F$15,'Pupil List'!$L190<Sheet1!$G$15),Sheet1!$A$15,\"\"))","v":""},{"$f":"IF($L190=\"\",\"\",IF(AND($L190>=Sheet1!$F$16,'Pupil List'!$L190<Sheet1!$G$16),Sheet1!$A$16,\"\"))","v":""},{"$f":"IF($L190=\"\",\"\",IF(AND($L190>=Sheet1!$F$17,'Pupil List'!$L190<Sheet1!$G$17),Sheet1!$A$17,\"\"))","v":""},{"$f":"IF($L190=\"\",\"\",IF(AND($L190>=Sheet1!$F$18,'Pupil List'!$L190<Sheet1!$G$18),Sheet1!$A$18,\"\"))","v":""},{"$f":"IF($L190=\"\",\"\",IF(AND($L190>=Sheet1!$F$19,'Pupil List'!$L190<Sheet1!$G$19),Sheet1!$A$19,\"\"))","v":""},{"$f":"IF($L190=\"\",\"\",IF(AND($L190>=Sheet1!$F$20,'Pupil List'!$L190<Sheet1!$G$20),Sheet1!$A$20,\"\"))","v":""},{"$f":"IF($L190=\"\",\"\",IF(AND($L190>=Sheet1!$F$21,'Pupil List'!$L190<Sheet1!$G$21),Sheet1!$A$21,\"\"))","v":""},{"$f":"IF($L190=\"\",\"\",IF(AND($L190>=Sheet1!$F$22,'Pupil List'!$L190<Sheet1!$G$22),Sheet1!$A$22,\"\"))","v":""},{"$f":"IF($L190=\"\",\"\",IF(AND($L190>=Sheet1!$F$23,'Pupil List'!$L190<Sheet1!$G$23),Sheet1!$A$23,\"\"))","v":""},{"$f":"IF($L190=\"\",\"\",IF(AND($L190>=Sheet1!$F$24,'Pupil List'!$L190<Sheet1!$G$24),Sheet1!$A$24,\"\"))","v":""},{"$f":"IF($L190=\"\",\"\",IF(AND($L190>=Sheet1!$F$25,'Pupil List'!$L190<Sheet1!$G$25),Sheet1!$A$25,\"\"))","v":""},{"$error":"#N/A"},{"$f":"IFERROR(VLOOKUP(BK190,Sheet1!$A$2:$E$25,3,FALSE),\"\")","v":""},{"$f":"IFERROR(VLOOKUP(BK190,Sheet1!$A$2:$E$25,4,FALSE),\"\")","v":""},{"$f":"IFERROR(VLOOKUP(BK190,Sheet1!$A$2:$E$25,5,FALSE),\"\")","v":""},{"$f":"IFERROR(VLOOKUP(N190,Sheet1!$A$29:$B$38,2,FALSE),\"\")","v":""}]
["","","",null,null,null,null,null,"","","",null,"",null,"","","","","","","","","","","","","","","","","","","","","","","","",{"$f":"IF($L191=\"\",\"\",IF(AND($L191>=Sheet1!$F$2,'Pupil List'!$L191<Sheet1!$G$2),Sheet1!$A$2,\"\"))","v":""},{"$f":"IF($L191=\"\",\"\",IF(AND($L191>=Sheet1!$F$3,'Pupil List'!$L191<Sheet1!$G$3),Sheet1!$A$3,\"\"))","v":""},{"$f":"IF($L191=\"\",\"\",IF(AND($L191>=Sheet1!$F$4,'Pupil List'!$L191<Sheet1!$G$4),Sheet1!$A$4,\"\"))","v":""},{"$f":"IF($L191=\"\",\"\",IF(AND($L191>=Sheet1!$F$5,'Pupil List'!$L191<Sheet1!$G$5),Sheet1!$A$5,\"\"))","v":""},{"$f":"IF($L191=\"\",\"\",IF(AND($L191>=Sheet1!$F$6,'Pupil List'!$L191<Sheet1!$G$6),Sheet1!$A$6,\"\"))","v":""},{"$f":"IF($L191=\"\",\"\",IF(AND($L191>=Sheet1!$F$7,'Pupil List'!$L191<Sheet1!$G$7),Sheet1!$A$7,\"\"))","v":""},{"$f":"IF($L191=\"\",\"\",IF(AND($L191>=Sheet1!$F$8,'Pupil List'!$L191<Sheet1!$G$8),Sheet1!$A$8,\"\"))","v":""},{"$f":"IF($L191=\"\",\"\",IF(AND($L191>=Sheet1!$F$9,'Pupil List'!$L191<Sheet1!$G$9),Sheet1!$A$9,\"\"))","v":""},{"$f":"IF($L191=\"\",\"\",IF(AND($L191>=Sheet1!$F$10,'Pupil List'!$L191<Sheet1!$G$10),Sheet1!$A$10,\"\"))","v":""},{"$f":"IF($L191=\"\",\"\",IF(AND($L191>=Sheet1!$F$11,'Pupil List'!$L191<Sheet1!$G$11),Sheet1!$A$11,\"\"))","v":""},{"$f":"IF($L191=\"\",\"\",IF(AND($L191>=Sheet1!$F$12,'Pupil List'!$L191<Sheet1!$G$12),Sheet1!$A$12,\"\"))","v":""},{"$f":"IF($L191=\"\",\"\",IF(AND($L191>=Sheet1!$F$13,'Pupil List'!$L191<Sheet1!$G$13),Sheet1!$A$13,\"\"))","v":""},{"$f":"IF($L191=\"\",\"\",IF(AND($L191>=Sheet1!$F$14,'Pupil List'!$L191<Sheet1!$G$14),Sheet1!$A$14,\"\"))","v":""},{"$f":"IF($L191=\"\",\"\",IF(AND($L191>=Sheet1!$F$15,'Pupil List'!$L191<Sheet1!$G$15),Sheet1!$A$15,\"\"))","v":""},{"$f":"IF($L191=\"\",\"\",IF(AND($L191>=Sheet1!$F$16,'Pupil List'!$L191<Sheet1!$G$16),Sheet1!$A$16,\"\"))","v":""},{"$f":"IF($L191=\"\",\"\",IF(AND($L191>=Sheet1!$F$17,'Pupil List'!$L191<Sheet1!$G$17),Sheet1!$A$17,\"\"))","v":""},{"$f":"IF($L191=\"\",\"\",IF(AND($L191>=Sheet1!$F$18,'Pupil List'!$L191<Sheet1!$G$18),Sheet1!$A$18,\"\"))","v":""},{"$f":"IF($L191=\"\",\"\",IF(AND($L191>=Sheet1!$F$19,'Pupil List'!$L191<Sheet1!$G$19),Sheet1!$A$19,\"\"))","v":""},{"$f":"IF($L191=\"\",\"\",IF(AND($L191>=Sheet1!$F$20,'Pupil List'!$L191<Sheet1!$G$20),Sheet1!$A$20,\"\"))","v":""},{"$f":"IF($L191=\"\",\"\",IF(AND($L191>=Sheet1!$F$21,'Pupil List'!$L191<Sheet1!$G$21),Sheet1!$A$21,\"\"))","v":""},{"$f":"IF($L191=\"\",\"\",IF(AND($L191>=Sheet1!$F$22,'Pupil List'!$L191<Sheet1!$G$22),Sheet1!$A$22,\"\"))","v":""},{"$f":"IF($L191=\"\",\"\",IF(AND($L191>=Sheet1!$F$23,'Pupil List'!$L191<Sheet1!$G$23),Sheet1!$A$23,\"\"))","v":""},{"$f":"IF($L191=\"\",\"\",IF(AND($L191>=Sheet1!$F$24,'Pupil List'!$L191<Sheet1!$G$24),Sheet1!$A$24,\"\"))","v":""},{"$f":"IF($L191=\"\",\"\",IF(AND($L191>=Sheet1!$F$25,'Pupil List'!$L191<Sheet1!$G$25),Sheet1!$A$25,\"\"))","v":""},{"$error":"#N/A"},{"$f":"IFERROR(VLOOKUP(BK191,Sheet1!$A$2:$E$25,3,FALSE),\"\")","v":""},{"$f":"IFERROR(VLOOKUP(BK191,Sheet1!$A$2:$E$25,4,FALSE),\"\")","v":""},{"$f":"IFERROR(VLOOKUP(BK191,Sheet1!$A$2:$E$25,5,FALSE),\"\")","v":""},{"$f":"IFERROR(VLOOKUP(N191,Sheet1!$A$29:$B$38,2,FALSE),\"\")","v":""}]
["","","",null,null,null,null,null,"","","",null,"",null,"","","","","","","","","","","","","","","","","","","","","","","","",{"$f":"IF($L192=\"\",\"\",IF(AND($L192>=Sheet1!$F$2,'Pupil List'!$L192<Sheet1!$G$2),Sheet1!$A$2,\"\"))","v":""},{"$f":"IF($L192=\"\",\"\",IF(AND($L192>=Sheet1!$F$3,'Pupil List'!$L192<Sheet1!$G$3),Sheet1!$A$3,\"\"))","v":""},{"$f":"IF($L192=\"\",\"\",IF(AND($L192>=Sheet1!$F$4,'Pupil List'!$L192<Sheet1!$G$4),Sheet1!$A$4,\"\"))","v":""},{"$f":"IF($L192=\"\",\"\",IF(AND($L192>=Sheet1!$F$5,'Pupil List'!$L192<Sheet1!$G$5),Sheet1!$A$5,\"\"))","v":""},{"$f":"IF($L192=\"\",\"\",IF(AND($L192>=Sheet1!$F$6,'Pupil List'!$L192<Sheet1!$G$6),Sheet1!$A$6,\"\"))","v":""},{"$f":"IF($L192=\"\",\"\",IF(AND($L192>=Sheet1!$F$7,'Pupil List'!$L192<Sheet1!$G$7),Sheet1!$A$7,\"\"))","v":""},{"$f":"IF($L192=\"\",\"\",IF(AND($L192>=Sheet1!$F$8,'Pupil List'!$L192<Sheet1!$G$8),Sheet1!$A$8,\"\"))","v":""},{"$f":"IF($L192=\"\",\"\",IF(AND($L192>=Sheet1!$F$9,'Pupil List'!$L192<Sheet1!$G$9),Sheet1!$A$9,\"\"))","v":""},{"$f":"IF($L192=\"\",\"\",IF(AND($L192>=Sheet1!$F$10,'Pupil List'!$L192<Sheet1!$G$10),Sheet1!$A$10,\"\"))","v":""},{"$f":"IF($L192=\"\",\"\",IF(AND($L192>=Sheet1!$F$11,'Pupil List'!$L192<Sheet1!$G$11),Sheet1!$A$11,\"\"))","v":""},{"$f":"IF($L192=\"\",\"\",IF(AND($L192>=Sheet1!$F$12,'Pupil List'!$L192<Sheet1!$G$12),Sheet1!$A$12,\"\"))","v":""},{"$f":"IF($L192=\"\",\"\",IF(AND($L192>=Sheet1!$F$13,'Pupil List'!$L192<Sheet1!$G$13),Sheet1!$A$13,\"\"))","v":""},{"$f":"IF($L192=\"\",\"\",IF(AND($L192>=Sheet1!$F$14,'Pupil List'!$L192<Sheet1!$G$14),Sheet1!$A$14,\"\"))","v":""},{"$f":"IF($L192=\"\",\"\",IF(AND($L192>=Sheet1!$F$15,'Pupil List'!$L192<Sheet1!$G$15),Sheet1!$A$15,\"\"))","v":""},{"$f":"IF($L192=\"\",\"\",IF(AND($L192>=Sheet1!$F$16,'Pupil List'!$L192<Sheet1!$G$16),Sheet1!$A$16,\"\"))","v":""},{"$f":"IF($L192=\"\",\"\",IF(AND($L192>=Sheet1!$F$17,'Pupil List'!$L192<Sheet1!$G$17),Sheet1!$A$17,\"\"))","v":""},{"$f":"IF($L192=\"\",\"\",IF(AND($L192>=Sheet1!$F$18,'Pupil List'!$L192<Sheet1!$G$18),Sheet1!$A$18,\"\"))","v":""},{"$f":"IF($L192=\"\",\"\",IF(AND($L192>=Sheet1!$F$19,'Pupil List'!$L192<Sheet1!$G$19),Sheet1!$A$19,\"\"))","v":""},{"$f":"IF($L192=\"\",\"\",IF(AND($L192>=Sheet1!$F$20,'Pupil List'!$L192<Sheet1!$G$20),Sheet1!$A$20,\"\"))","v":""},{"$f":"IF($L192=\"\",\"\",IF(AND($L192>=Sheet1!$F$21,'Pupil List'!$L192<Sheet1!$G$21),Sheet1!$A$21,\"\"))","v":""},{"$f":"IF($L192=\"\",\"\",IF(AND($L192>=Sheet1!$F$22,'Pupil List'!$L192<Sheet1!$G$22),Sheet1!$A$22,\"\"))","v":""},{"$f":"IF($L192=\"\",\"\",IF(AND($L192>=Sheet1!$F$23,'Pupil List'!$L192<Sheet1!$G$23),Sheet1!$A$23,\"\"))","v":""},{"$f":"IF($L192=\"\",\"\",IF(AND($L192>=Sheet1!$F$24,'Pupil List'!$L192<Sheet1!$G$24),Sheet1!$A$24,\"\"))","v":""},{"$f":"IF($L192=\"\",\"\",IF(AND($L192>=Sheet1!$F$25,'Pupil List'!$L192<Sheet1!$G$25),Sheet1!$A$25,\"\"))","v":""},{"$error":"#N/A"},{"$f":"IFERROR(VLOOKUP(BK192,Sheet1!$A$2:$E$25,3,FALSE),\"\")","v":""},{"$f":"IFERROR(VLOOKUP(BK192,Sheet1!$A$2:$E$25,4,FALSE),\"\")","v":""},{"$f":"IFERROR(VLOOKUP(BK192,Sheet1!$A$2:$E$25,5,FALSE),\"\")","v":""},{"$f":"IFERROR(VLOOKUP(N192,Sheet1!$A$29:$B$38,2,FALSE),\"\")","v":""}]
["","","",null,null,null,null,null,"","","",null,"",null,"","","","","","","","","","","","","","","","","","","","","","","","",{"$f":"IF($L193=\"\",\"\",IF(AND($L193>=Sheet1!$F$2,'Pupil List'!$L193<Sheet1!$G$2),Sheet1!$A$2,\"\"))","v":""},{"$f":"IF($L193=\"\",\"\",IF(AND($L193>=Sheet1!$F$3,'Pupil List'!$L193<Sheet1!$G$3),Sheet1!$A$3,\"\"))","v":""},{"$f":"IF($L193=\"\",\"\",IF(AND($L193>=Sheet1!$F$4,'Pupil List'!$L193<Sheet1!$G$4),Sheet1!$A$4,\"\"))","v":""},{"$f":"IF($L193=\"\",\"\",IF(AND($L193>=Sheet1!$F$5,'Pupil List'!$L193<Sheet1!$G$5),Sheet1!$A$5,\"\"))","v":""},{"$f":"IF($L193=\"\",\"\",IF(AND($L193>=Sheet1!$F$6,'Pupil List'!$L193<Sheet1!$G$6),Sheet1!$A$6,\"\"))","v":""},{"$f":"IF($L193=\"\",\"\",IF(AND($L193>=Sheet1!$F$7,'Pupil List'!$L193<Sheet1!$G$7),Sheet1!$A$7,\"\"))","v":""},{"$f":"IF($L193=\"\",\"\",IF(AND($L193>=Sheet1!$F$8,'Pupil List'!$L193<Sheet1!$G$8),Sheet1!$A$8,\"\"))","v":""},{"$f":"IF($L193=\"\",\"\",IF(AND($L193>=Sheet1!$F$9,'Pupil List'!$L193<Sheet1!$G$9),Sheet1!$A$9,\"\"))","v":""},{"$f":"IF($L193=\"\",\"\",IF(AND($L193>=Sheet1!$F$10,'Pupil List'!$L193<Sheet1!$G$10),Sheet1!$A$10,\"\"))","v":""},{"$f":"IF($L193=\"\",\"\",IF(AND($L193>=Sheet1!$F$11,'Pupil List'!$L193<Sheet1!$G$11),Sheet1!$A$11,\"\"))","v":""},{"$f":"IF($L193=\"\",\"\",IF(AND($L193>=Sheet1!$F$12,'Pupil List'!$L193<Sheet1!$G$12),Sheet1!$A$12,\"\"))","v":""},{"$f":"IF($L193=\"\",\"\",IF(AND($L193>=Sheet1!$F$13,'Pupil List'!$L193<Sheet1!$G$13),Sheet1!$A$13,\"\"))","v":""},{"$f":"IF($L193=\"\",\"\",IF(AND($L193>=Sheet1!$F$14,'Pupil List'!$L193<Sheet1!$G$14),Sheet1!$A$14,\"\"))","v":""},{"$f":"IF($L193=\"\",\"\",IF(AND($L193>=Sheet1!$F$15,'Pupil List'!$L193<Sheet1!$G$15),Sheet1!$A$15,\"\"))","v":""},{"$f":"IF($L193=\"\",\"\",IF(AND($L193>=Sheet1!$F$16,'Pupil List'!$L193<Sheet1!$G$16),Sheet1!$A$16,\"\"))","v":""},{"$f":"IF($L193=\"\",\"\",IF(AND($L193>=Sheet1!$F$17,'Pupil List'!$L193<Sheet1!$G$17),Sheet1!$A$17,\"\"))","v":""},{"$f":"IF($L193=\"\",\"\",IF(AND($L193>=Sheet1!$F$18,'Pupil List'!$L193<Sheet1!$G$18),Sheet1!$A$18,\"\"))","v":""},{"$f":"IF($L193=\"\",\"\",IF(AND($L193>=Sheet1!$F$19,'Pupil List'!$L193<Sheet1!$G$19),Sheet1!$A$19,\"\"))","v":""},{"$f":"IF($L193=\"\",\"\",IF(AND($L193>=Sheet1!$F$20,'Pupil List'!$L193<Sheet1!$G$20),Sheet1!$A$20,\"\"))","v":""},{"$f":"IF($L193=\"\",\"\",IF(AND($L193>=Sheet1!$F$21,'Pupil List'!$L193<Sheet1!$G$21),Sheet1!$A$21,\"\"))","v":""},{"$f":"IF($L193=\"\",\"\",IF(AND($L193>=Sheet1!$F$22,'Pupil List'!$L193<Sheet1!$G$22),Sheet1!$A$22,\"\"))","v":""},{"$f":"IF($L193=\"\",\"\",IF(AND($L193>=Sheet1!$F$23,'Pupil List'!$L193<Sheet1!$G$23),Sheet1!$A$23,\"\"))","v":""},{"$f":"IF($L193=\"\",\"\",IF(AND($L193>=Sheet1!$F$24,'Pupil List'!$L193<Sheet1!$G$24),Sheet1!$A$24,\"\"))","v":""},{"$f":"IF($L193=\"\",\"\",IF(AND($L193>=Sheet1!$F$25,'Pupil List'!$L193<Sheet1!$G$25),Sheet1!$A$25,\"\"))","v":""},{"$error":"#N/A"},{"$f":"IFERROR(VLOOKUP(BK193,Sheet1!$A$2:$E$25,3,FALSE),\"\")","v":""},{"$f":"IFERROR(VLOOKUP(BK193,Sheet1!$A$2:$E$25,4,FALSE),\"\")","v":""},{"$f":"IFERROR(VLOOKUP(BK193,Sheet1!$A$2:$E$25,5,FALSE),\"\")","v":""},{"$f":"IFERROR(VLOOKUP(N193,Sheet1!$A$29:$B$38,2,FALSE),\"\")","v":""}]
["","","",null,null,null,null,null,"","","",null,"",null,"","","","","","","","","","","","","","","","","","","","","","","","",{"$f":"IF($L194=\"\",\"\",IF(AND($L194>=Sheet1!$F$2,'Pupil List'!$L194<Sheet1!$G$2),Sheet1!$A$2,\"\"))","v":""},{"$f":"IF($L194=\"\",\"\",IF(AND($L194>=Sheet1!$F$3,'Pupil List'!$L194<Sheet1!$G$3),Sheet1!$A$3,\"\"))","v":""},{"$f":"IF($L194=\"\",\"\",IF(AND($L194>=Sheet1!$F$4,'Pupil List'!$L194<Sheet1!$G$4),Sheet1!$A$4,\"\"))","v":""},{"$f":"IF($L194=\"\",\"\",IF(AND($L194>=Sheet1!$F$5,'Pupil List'!$L194<Sheet1!$G$5),Sheet1!$A$5,\"\"))","v":""},{"$f":"IF($L194=\"\",\"\",IF(AND($L194>=Sheet1!$F$6,'Pupil List'!$L194<Sheet1!$G$6),Sheet1!$A$6,\"\"))","v":""},{"$f":"IF($L194=\"\",\"\",IF(AND($L194>=Sheet1!$F$7,'Pupil List'!$L194<Sheet1!$G$7),Sheet1!$A$7,\"\"))","v":""},{"$f":"IF($L194=\"\",\"\",IF(AND($L194>=Sheet1!$F$8,'Pupil List'!$L194<Sheet1!$G$8),Sheet1!$A$8,\"\"))","v":""},{"$f":"IF($L194=\"\",\"\",IF(AND($L194>=Sheet1!$F$9,'Pupil List'!$L194<Sheet1!$G$9),Sheet1!$A$9,\"\"))","v":""},{"$f":"IF($L194=\"\",\"\",IF(AND($L194>=Sheet1!$F$10,'Pupil List'!$L194<Sheet1!$G$10),Sheet1!$A$10,\"\"))","v":""},{"$f":"IF($L194=\"\",\"\",IF(AND($L194>=Sheet1!$F$11,'Pupil List'!$L194<Sheet1!$G$11),Sheet1!$A$11,\"\"))","v":""},{"$f":"IF($L194=\"\",\"\",IF(AND($L194>=Sheet1!$F$12,'Pupil List'!$L194<Sheet1!$G$12),Sheet1!$A$12,\"\"))","v":""},{"$f":"IF($L194=\"\",\"\",IF(AND($L194>=Sheet1!$F$13,'Pupil List'!$L194<Sheet1!$G$13),Sheet1!$A$13,\"\"))","v":""},{"$f":"IF($L194=\"\",\"\",IF(AND($L194>=Sheet1!$F$14,'Pupil List'!$L194<Sheet1!$G$14),Sheet1!$A$14,\"\"))","v":""},{"$f":"IF($L194=\"\",\"\",IF(AND($L194>=Sheet1!$F$15,'Pupil List'!$L194<Sheet1!$G$15),Sheet1!$A$15,\"\"))","v":""},{"$f":"IF($L194=\"\",\"\",IF(AND($L194>=Sheet1!$F$16,'Pupil List'!$L194<Sheet1!$G$16),Sheet1!$A$16,\"\"))","v":""},{"$f":"IF($L194=\"\",\"\",IF(AND($L194>=Sheet1!$F$17,'Pupil List'!$L194<Sheet1!$G$17),Sheet1!$A$17,\"\"))","v":""},{"$f":"IF($L194=\"\",\"\",IF(AND($L194>=Sheet1!$F$18,'Pupil List'!$L194<Sheet1!$G$18),Sheet1!$A$18,\"\"))","v":""},{"$f":"IF($L194=\"\",\"\",IF(AND($L194>=Sheet1!$F$19,'Pupil List'!$L194<Sheet1!$G$19),Sheet1!$A$19,\"\"))","v":""},{"$f":"IF($L194=\"\",\"\",IF(AND($L194>=Sheet1!$F$20,'Pupil List'!$L194<Sheet1!$G$20),Sheet1!$A$20,\"\"))","v":""},{"$f":"IF($L194=\"\",\"\",IF(AND($L194>=Sheet1!$F$21,'Pupil List'!$L194<Sheet1!$G$21),Sheet1!$A$21,\"\"))","v":""},{"$f":"IF($L194=\"\",\"\",IF(AND($L194>=Sheet1!$F$22,'Pupil List'!$L194<Sheet1!$G$22),Sheet1!$A$22,\"\"))","v":""},{"$f":"IF($L194=\"\",\"\",IF(AND($L194>=Sheet1!$F$23,'Pupil List'!$L194<Sheet1!$G$23),Sheet1!$A$23,\"\"))","v":""},{"$f":"IF($L194=\"\",\"\",IF(AND($L194>=Sheet1!$F$24,'Pupil List'!$L194<Sheet1!$G$24),Sheet1!$A$24,\"\"))","v":""},{"$f":"IF($L194=\"\",\"\",IF(AND($L194>=Sheet1!$F$25,'Pupil List'!$L194<Sheet1!$G$25),Sheet1!$A$25,\"\"))","v":""},{"$error":"#N/A"},{"$f":"IFERROR(VLOOKUP(BK194,Sheet1!$A$2:$E$25,3,FALSE),\"\")","v":""},{"$f":"IFERROR(VLOOKUP(BK194,Sheet1!$A$2:$E$25,4,FALSE),\"\")","v":""},{"$f":"IFERROR(VLOOKUP(BK194,Sheet1!$A$2:$E$25,5,FALSE),\"\")","v":""},{"$f":"IFERROR(VLOOKUP(N194,Sheet1!$A$29:$B$38,2,FALSE),\"\")","v":""}]
["","","",null,null,null,null,null,"","","",null,"",null,"","","","","","","","","","","","","","","","","","","","","","","","",{"$f":"IF($L195=\"\",\"\",IF(AND($L195>=Sheet1!$F$2,'Pupil List'!$L195<Sheet1!$G$2),Sheet1!$A$2,\"\"))","v":""},{"$f":"IF($L195=\"\",\"\",IF(AND($L195>=Sheet1!$F$3,'Pupil List'!$L195<Sheet1!$G$3),Sheet1!$A$3,\"\"))","v":""},{"$f":"IF($L195=\"\",\"\",IF(AND($L195>=Sheet1!$F$4,'Pupil List'!$L195<Sheet1!$G$4),Sheet1!$A$4,\"\"))","v":""},{"$f":"IF($L195=\"\",\"\",IF(AND($L195>=Sheet1!$F$5,'Pupil List'!$L195<Sheet1!$G$5),Sheet1!$A$5,\"\"))","v":""},{"$f":"IF($L195=\"\",\"\",IF(AND($L195>=Sheet1!$F$6,'Pupil List'!$L195<Sheet1!$G$6),Sheet1!$A$6,\"\"))","v":""},{"$f":"IF($L195=\"\",\"\",IF(AND($L195>=Sheet1!$F$7,'Pupil List'!$L195<Sheet1!$G$7),Sheet1!$A$7,\"\"))","v":""},{"$f":"IF($L195=\"\",\"\",IF(AND($L195>=Sheet1!$F$8,'Pupil List'!$L195<Sheet1!$G$8),Sheet1!$A$8,\"\"))","v":""},{"$f":"IF($L195=\"\",\"\",IF(AND($L195>=Sheet1!$F$9,'Pupil List'!$L195<Sheet1!$G$9),Sheet1!$A$9,\"\"))","v":""},{"$f":"IF($L195=\"\",\"\",IF(AND($L195>=Sheet1!$F$10,'Pupil List'!$L195<Sheet1!$G$10),Sheet1!$A$10,\"\"))","v":""},{"$f":"IF($L195=\"\",\"\",IF(AND($L195>=Sheet1!$F$11,'Pupil List'!$L195<Sheet1!$G$11),Sheet1!$A$11,\"\"))","v":""},{"$f":"IF($L195=\"\",\"\",IF(AND($L195>=Sheet1!$F$12,'Pupil List'!$L195<Sheet1!$G$12),Sheet1!$A$12,\"\"))","v":""},{"$f":"IF($L195=\"\",\"\",IF(AND($L195>=Sheet1!$F$13,'Pupil List'!$L195<Sheet1!$G$13),Sheet1!$A$13,\"\"))","v":""},{"$f":"IF($L195=\"\",\"\",IF(AND($L195>=Sheet1!$F$14,'Pupil List'!$L195<Sheet1!$G$14),Sheet1!$A$14,\"\"))","v":""},{"$f":"IF($L195=\"\",\"\",IF(AND($L195>=Sheet1!$F$15,'Pupil List'!$L195<Sheet1!$G$15),Sheet1!$A$15,\"\"))","v":""},{"$f":"IF($L195=\"\",\"\",IF(AND($L195>=Sheet1!$F$16,'Pupil List'!$L195<Sheet1!$G$16),Sheet1!$A$16,\"\"))","v":""},{"$f":"IF($L195=\"\",\"\",IF(AND($L195>=Sheet1!$F$17,'Pupil List'!$L195<Sheet1!$G$17),Sheet1!$A$17,\"\"))","v":""},{"$f":"IF($L195=\"\",\"\",IF(AND($L195>=Sheet1!$F$18,'Pupil List'!$L195<Sheet1!$G$18),Sheet1!$A$18,\"\"))","v":""},{"$f":"IF($L195=\"\",\"\",IF(AND($L195>=Sheet1!$F$19,'Pupil List'!$L195<Sheet1!$G$19),Sheet1!$A$19,\"\"))","v":""},{"$f":"IF($L195=\"\",\"\",IF(AND($L195>=Sheet1!$F$20,'Pupil List'!$L195<Sheet1!$G$20),Sheet1!$A$20,\"\"))","v":""},{"$f":"IF($L195=\"\",\"\",IF(AND($L195>=Sheet1!$F$21,'Pupil List'!$L195<Sheet1!$G$21),Sheet1!$A$21,\"\"))","v":""},{"$f":"IF($L195=\"\",\"\",IF(AND($L195>=Sheet1!$F$22,'Pupil List'!$L195<Sheet1!$G$22),Sheet1!$A$22,\"\"))","v":""},{"$f":"IF($L195=\"\",\"\",IF(AND($L195>=Sheet1!$F$23,'Pupil List'!$L195<Sheet1!$G$23),Sheet1!$A$23,\"\"))","v":""},{"$f":"IF($L195=\"\",\"\",IF(AND($L195>=Sheet1!$F$24,'Pupil List'!$L195<Sheet1!$G$24),Sheet1!$A$24,\"\"))","v":""},{"$f":"IF($L195=\"\",\"\",IF(AND($L195>=Sheet1!$F$25,'Pupil List'!$L195<Sheet1!$G$25),Sheet1!$A$25,\"\"))","v":""},{"$error":"#N/A"},{"$f":"IFERROR(VLOOKUP(BK195,Sheet1!$A$2:$E$25,3,FALSE),\"\")","v":""},{"$f":"IFERROR(VLOOKUP(BK195,Sheet1!$A$2:$E$25,4,FALSE),\"\")","v":""},{"$f":"IFERROR(VLOOKUP(BK195,Sheet1!$A$2:$E$25,5,FALSE),\"\")","v":""},{"$f":"IFERROR(VLOOKUP(N195,Sheet1!$A$29:$B$38,2,FALSE),\"\")","v":""}]
["","","",null,null,null,null,null,"","","",null,"",null,"",{"$f":"IFERROR((M196-BL196),\"\")","v":""},"","",{"$f":"IF(A196=\"\",\"\",IF(C196=\"No\",\"\",IF((AND(M196>=100,M196<110)),1,0)))","v":""},{"$f":"IF(A196=\"\",\"\",IF(C196=\"No\",\"\",IF((AND(M196>=100,M196<130)),1,0)))","v":""},{"$f":"IF(A196=\"\",\"\",IF(C196=\"No\",\"\",IF((AND(M196>=110,M196<130)),1,0)))","v":""},{"$f":"IF(A196=\"\",\"\",IF(C196=\"No\",\"\",IF((AND(O196>=100,O196<110)),1,0)))","v":""},{"$f":"IF(A196=\"\",\"\",IF(C196=\"No\",\"\",IF((AND(O196>=100,O196<130)),1,0)))","v":""},{"$f":"IF(A196=\"\",\"\",IF(C196=\"No\",\"\",IF((AND(O196>=110,O196<130)),1,0)))","v":""},{"$f":"IF(A196=\"\",\"\",IF(C196=\"No\",\"\",IF(N196=\"EXS\",1,0)))","v":""},{"$f":"IF(A196=\"\",\"\",IF(C196=\"No\",\"\",IF((OR(N196=\"GDS\",N196=\"EXS\")),1,0)))","v":""},{"$f":"IF(A196=\"\",\"\",IF(C196=\"No\",\"\",IF(N196=\"GDS\",1,0)))","v":""},{"$f":"IF(A196=\"\",\"\",IF(C196=\"No\",\"\",SUM(S196+V196+Y196)))","v":""},{"$f":"IF(A196=\"\",\"\",IF(C196=\"No\",\"\",IF(AB196=3,1,0)))","v":""},{"$f":"IF(A196=\"\",\"\",IF(C196=\"No\",\"\",SUM(T196+W196+Z196)))","v":""},{"$f":"IF(A196=\"\",\"\",IF(C196=\"No\",\"\",IF(AD196=3,1,0)))","v":""},{"$f":"IF(A196=\"\",\"\",IF(C196=\"No\",\"\",SUM(U196+X196+AA196)))","v":""},{"$f":"IF(A196=\"\",\"\",IF(C196=\"No\",\"\",IF(AF196=3,1,0)))","v":""},{"$f":"IF(P196=\"\",\"\",\"Y\")","v":""},{"$f":"IF(Q196=\"\",\"\",\"Y\")","v":""},{"$f":"IF(R196=\"\",\"\",\"Y\")","v":""},{"$f":"IF(M196=\"\",\"\",\"Y\")","v":""},{"$f":"IF(O196=\"\",\"\",\"Y\")","v":""},{"$f":"IF($L196=\"\",\"\",IF(AND($L196>=Sheet1!$F$2,'Pupil List'!$L196<Sheet1!$G$2),Sheet1!$A$2,\"\"))","v":""},{"$f":"IF($L196=\"\",\"\",IF(AND($L196>=Sheet1!$F$3,'Pupil List'!$L196<Sheet1!$G$3),Sheet1!$A$3,\"\"))","v":""},{"$f":"IF($L196=\"\",\"\",IF(AND($L196>=Sheet1!$F$4,'Pupil List'!$L196<Sheet1!$G$4),Sheet1!$A$4,\"\"))","v":""},{"$f":"IF($L196=\"\",\"\",IF(AND($L196>=Sheet1!$F$5,'Pupil List'!$L196<Sheet1!$G$5),Sheet1!$A$5,\"\"))","v":""},{"$f":"IF($L196=\"\",\"\",IF(AND($L196>=Sheet1!$F$6,'Pupil List'!$L196<Sheet1!$G$6),Sheet1!$A$6,\"\"))","v":""},{"$f":"IF($L196=\"\",\"\",IF(AND($L196>=Sheet1!$F$7,'Pupil List'!$L196<Sheet1!$G$7),Sheet1!$A$7,\"\"))","v":""},{"$f":"IF($L196=\"\",\"\",IF(AND($L196>=Sheet1!$F$8,'Pupil List'!$L196<Sheet1!$G$8),Sheet1!$A$8,\"\"))","v":""},{"$f":"IF($L196=\"\",\"\",IF(AND($L196>=Sheet1!$F$9,'Pupil List'!$L196<Sheet1!$G$9),Sheet1!$A$9,\"\"))","v":""},{"$f":"IF($L196=\"\",\"\",IF(AND($L196>=Sheet1!$F$10,'Pupil List'!$L196<Sheet1!$G$10),Sheet1!$A$10,\"\"))","v":""},{"$f":"IF($L196=\"\",\"\",IF(AND($L196>=Sheet1!$F$11,'Pupil List'!$L196<Sheet1!$G$11),Sheet1!$A$11,\"\"))","v":""},{"$f":"IF($L196=\"\",\"\",IF(AND($L196>=Sheet1!$F$12,'Pupil List'!$L196<Sheet1!$G$12),Sheet1!$A$12,\"\"))","v":""},{"$f":"IF($L196=\"\",\"\",IF(AND($L196>=Sheet1!$F$13,'Pupil List'!$L196<Sheet1!$G$13),Sheet1!$A$13,\"\"))","v":""},{"$f":"IF($L196=\"\",\"\",IF(AND($L196>=Sheet1!$F$14,'Pupil List'!$L196<Sheet1!$G$14),Sheet1!$A$14,\"\"))","v":""},{"$f":"IF($L196=\"\",\"\",IF(AND($L196>=Sheet1!$F$15,'Pupil List'!$L196<Sheet1!$G$15),Sheet1!$A$15,\"\"))","v":""},{"$f":"IF($L196=\"\",\"\",IF(AND($L196>=Sheet1!$F$16,'Pupil List'!$L196<Sheet1!$G$16),Sheet1!$A$16,\"\"))","v":""},{"$f":"IF($L196=\"\",\"\",IF(AND($L196>=Sheet1!$F$17,'Pupil List'!$L196<Sheet1!$G$17),Sheet1!$A$17,\"\"))","v":""},{"$f":"IF($L196=\"\",\"\",IF(AND($L196>=Sheet1!$F$18,'Pupil List'!$L196<Sheet1!$G$18),Sheet1!$A$18,\"\"))","v":""},{"$f":"IF($L196=\"\",\"\",IF(AND($L196>=Sheet1!$F$19,'Pupil List'!$L196<Sheet1!$G$19),Sheet1!$A$19,\"\"))","v":""},{"$f":"IF($L196=\"\",\"\",IF(AND($L196>=Sheet1!$F$20,'Pupil List'!$L196<Sheet1!$G$20),Sheet1!$A$20,\"\"))","v":""},{"$f":"IF($L196=\"\",\"\",IF(AND($L196>=Sheet1!$F$21,'Pupil List'!$L196<Sheet1!$G$21),Sheet1!$A$21,\"\"))","v":""},{"$f":"IF($L196=\"\",\"\",IF(AND($L196>=Sheet1!$F$22,'Pupil List'!$L196<Sheet1!$G$22),Sheet1!$A$22,\"\"))","v":""},{"$f":"IF($L196=\"\",\"\",IF(AND($L196>=Sheet1!$F$23,'Pupil List'!$L196<Sheet1!$G$23),Sheet1!$A$23,\"\"))","v":""},{"$f":"IF($L196=\"\",\"\",IF(AND($L196>=Sheet1!$F$24,'Pupil List'!$L196<Sheet1!$G$24),Sheet1!$A$24,\"\"))","v":""},{"$f":"IF($L196=\"\",\"\",IF(AND($L196>=Sheet1!$F$25,'Pupil List'!$L196<Sheet1!$G$25),Sheet1!$A$25,\"\"))","v":""},{"$error":"#N/A"},{"$f":"IFERROR(VLOOKUP(BK196,Sheet1!$A$2:$E$25,3,FALSE),\"\")","v":""},{"$f":"IFERROR(VLOOKUP(BK196,Sheet1!$A$2:$E$25,4,FALSE),\"\")","v":""},{"$f":"IFERROR(VLOOKUP(BK196,Sheet1!$A$2:$E$25,5,FALSE),\"\")","v":""},{"$f":"IFERROR(VLOOKUP(N196,Sheet1!$A$29:$B$38,2,FALSE),\"\")","v":""}]
["","",{"$f":"IF(A197=\"\",\"\",\"Yes\")","v":""},null,null,null,null,null,"","","",null,"",null,"","",{"$f":"IFERROR((BO197-BM197),\"\")","v":""},{"$f":"IFERROR((O197-BN197),\"\")","v":""},"","","","","","","","","","","","","","","","","","","","",{"$f":"IF($L197=\"\",\"\",IF(AND($L197>=Sheet1!$F$2,'Pupil List'!$L197<Sheet1!$G$2),Sheet1!$A$2,\"\"))","v":""},{"$f":"IF($L197=\"\",\"\",IF(AND($L197>=Sheet1!$F$3,'Pupil List'!$L197<Sheet1!$G$3),Sheet1!$A$3,\"\"))","v":""},{"$f":"IF($L197=\"\",\"\",IF(AND($L197>=Sheet1!$F$4,'Pupil List'!$L197<Sheet1!$G$4),Sheet1!$A$4,\"\"))","v":""},{"$f":"IF($L197=\"\",\"\",IF(AND($L197>=Sheet1!$F$5,'Pupil List'!$L197<Sheet1!$G$5),Sheet1!$A$5,\"\"))","v":""},{"$f":"IF($L197=\"\",\"\",IF(AND($L197>=Sheet1!$F$6,'Pupil List'!$L197<Sheet1!$G$6),Sheet1!$A$6,\"\"))","v":""},{"$f":"IF($L197=\"\",\"\",IF(AND($L197>=Sheet1!$F$7,'Pupil List'!$L197<Sheet1!$G$7),Sheet1!$A$7,\"\"))","v":""},{"$f":"IF($L197=\"\",\"\",IF(AND($L197>=Sheet1!$F$8,'Pupil List'!$L197<Sheet1!$G$8),Sheet1!$A$8,\"\"))","v":""},{"$f":"IF($L197=\"\",\"\",IF(AND($L197>=Sheet1!$F$9,'Pupil List'!$L197<Sheet1!$G$9),Sheet1!$A$9,\"\"))","v":""},{"$f":"IF($L197=\"\",\"\",IF(AND($L197>=Sheet1!$F$10,'Pupil List'!$L197<Sheet1!$G$10),Sheet1!$A$10,\"\"))","v":""},{"$f":"IF($L197=\"\",\"\",IF(AND($L197>=Sheet1!$F$11,'Pupil List'!$L197<Sheet1!$G$11),Sheet1!$A$11,\"\"))","v":""},{"$f":"IF($L197=\"\",\"\",IF(AND($L197>=Sheet1!$F$12,'Pupil List'!$L197<Sheet1!$G$12),Sheet1!$A$12,\"\"))","v":""},{"$f":"IF($L197=\"\",\"\",IF(AND($L197>=Sheet1!$F$13,'Pupil List'!$L197<Sheet1!$G$13),Sheet1!$A$13,\"\"))","v":""},{"$f":"IF($L197=\"\",\"\",IF(AND($L197>=Sheet1!$F$14,'Pupil List'!$L197<Sheet1!$G$14),Sheet1!$A$14,\"\"))","v":""},{"$f":"IF($L197=\"\",\"\",IF(AND($L197>=Sheet1!$F$15,'Pupil List'!$L197<Sheet1!$G$15),Sheet1!$A$15,\"\"))","v":""},{"$f":"IF($L197=\"\",\"\",IF(AND($L197>=Sheet1!$F$16,'Pupil List'!$L197<Sheet1!$G$16),Sheet1!$A$16,\"\"))","v":""},{"$f":"IF($L197=\"\",\"\",IF(AND($L197>=Sheet1!$F$17,'Pupil List'!$L197<Sheet1!$G$17),Sheet1!$A$17,\"\"))","v":""},{"$f":"IF($L197=\"\",\"\",IF(AND($L197>=Sheet1!$F$18,'Pupil List'!$L197<Sheet1!$G$18),Sheet1!$A$18,\"\"))","v":""},{"$f":"IF($L197=\"\",\"\",IF(AND($L197>=Sheet1!$F$19,'Pupil List'!$L197<Sheet1!$G$19),Sheet1!$A$19,\"\"))","v":""},{"$f":"IF($L197=\"\",\"\",IF(AND($L197>=Sheet1!$F$20,'Pupil List'!$L197<Sheet1!$G$20),Sheet1!$A$20,\"\"))","v":""},{"$f":"IF($L197=\"\",\"\",IF(AND($L197>=Sheet1!$F$21,'Pupil List'!$L197<Sheet1!$G$21),Sheet1!$A$21,\"\"))","v":""},{"$f":"IF($L197=\"\",\"\",IF(AND($L197>=Sheet1!$F$22,'Pupil List'!$L197<Sheet1!$G$22),Sheet1!$A$22,\"\"))","v":""},{"$f":"IF($L197=\"\",\"\",IF(AND($L197>=Sheet1!$F$23,'Pupil List'!$L197<Sheet1!$G$23),Sheet1!$A$23,\"\"))","v":""},{"$f":"IF($L197=\"\",\"\",IF(AND($L197>=Sheet1!$F$24,'Pupil List'!$L197<Sheet1!$G$24),Sheet1!$A$24,\"\"))","v":""},{"$f":"IF($L197=\"\",\"\",IF(AND($L197>=Sheet1!$F$25,'Pupil List'!$L197<Sheet1!$G$25),Sheet1!$A$25,\"\"))","v":""},{"$f":"INDEX(AM197:BJ197,MATCH(TRUE,INDEX((AM197:BJ197<>\"\"),0),0))","v":{"$error":"#N/A"}},{"$f":"IFERROR(VLOOKUP(BK197,Sheet1!$A$2:$E$25,3,FALSE),\"\")","v":""},{"$f":"IFERROR(VLOOKUP(BK197,Sheet1!$A$2:$E$25,4,FALSE),\"\")","v":""},{"$f":"IFERROR(VLOOKUP(BK197,Sheet1!$A$2:$E$25,5,FALSE),\"\")","v":""},{"$f":"IFERROR(VLOOKUP(N197,Sheet1!$A$29:$B$38,2,FALSE),\"\")","v":""}]
["","","",null,null,null,null,null,{"$f":"IF(A198=\"\",\"\",\"Yes\")","v":""},{"$f":"IF(A198=\"\",\"\",\"Yes\")","v":""},{"$f":"IF(A198=\"\",\"\",\"Yes\")","v":""},null,"",null,"","","","","","","","","","","","","","","","","","","","","","","","",{"$f":"IF($L198=\"\",\"\",IF(AND($L198>=Sheet1!$F$2,'Pupil List'!$L198<Sheet1!$G$2),Sheet1!$A$2,\"\"))","v":""},{"$f":"IF($L198=\"\",\"\",IF(AND($L198>=Sheet1!$F$3,'Pupil List'!$L198<Sheet1!$G$3),Sheet1!$A$3,\"\"))","v":""},{"$f":"IF($L198=\"\",\"\",IF(AND($L198>=Sheet1!$F$4,'Pupil List'!$L198<Sheet1!$G$4),Sheet1!$A$4,\"\"))","v":""},{"$f":"IF($L198=\"\",\"\",IF(AND($L198>=Sheet1!$F$5,'Pupil List'!$L198<Sheet1!$G$5),Sheet1!$A$5,\"\"))","v":""},{"$f":"IF($L198=\"\",\"\",IF(AND($L198>=Sheet1!$F$6,'Pupil List'!$L198<Sheet1!$G$6),Sheet1!$A$6,\"\"))","v":""},{"$f":"IF($L198=\"\",\"\",IF(AND($L198>=Sheet1!$F$7,'Pupil List'!$L198<Sheet1!$G$7),Sheet1!$A$7,\"\"))","v":""},{"$f":"IF($L198=\"\",\"\",IF(AND($L198>=Sheet1!$F$8,'Pupil List'!$L198<Sheet1!$G$8),Sheet1!$A$8,\"\"))","v":""},{"$f":"IF($L198=\"\",\"\",IF(AND($L198>=Sheet1!$F$9,'Pupil List'!$L198<Sheet1!$G$9),Sheet1!$A$9,\"\"))","v":""},{"$f":"IF($L198=\"\",\"\",IF(AND($L198>=Sheet1!$F$10,'Pupil List'!$L198<Sheet1!$G$10),Sheet1!$A$10,\"\"))","v":""},{"$f":"IF($L198=\"\",\"\",IF(AND($L198>=Sheet1!$F$11,'Pupil List'!$L198<Sheet1!$G$11),Sheet1!$A$11,\"\"))","v":""},{"$f":"IF($L198=\"\",\"\",IF(AND($L198>=Sheet1!$F$12,'Pupil List'!$L198<Sheet1!$G$12),Sheet1!$A$12,\"\"))","v":""},{"$f":"IF($L198=\"\",\"\",IF(AND($L198>=Sheet1!$F$13,'Pupil List'!$L198<Sheet1!$G$13),Sheet1!$A$13,\"\"))","v":""},{"$f":"IF($L198=\"\",\"\",IF(AND($L198>=Sheet1!$F$14,'Pupil List'!$L198<Sheet1!$G$14),Sheet1!$A$14,\"\"))","v":""},{"$f":"IF($L198=\"\",\"\",IF(AND($L198>=Sheet1!$F$15,'Pupil List'!$L198<Sheet1!$G$15),Sheet1!$A$15,\"\"))","v":""},{"$f":"IF($L198=\"\",\"\",IF(AND($L198>=Sheet1!$F$16,'Pupil List'!$L198<Sheet1!$G$16),Sheet1!$A$16,\"\"))","v":""},{"$f":"IF($L198=\"\",\"\",IF(AND($L198>=Sheet1!$F$17,'Pupil List'!$L198<Sheet1!$G$17),Sheet1!$A$17,\"\"))","v":""},{"$f":"IF($L198=\"\",\"\",IF(AND($L198>=Sheet1!$F$18,'Pupil List'!$L198<Sheet1!$G$18),Sheet1!$A$18,\"\"))","v":""},{"$f":"IF($L198=\"\",\"\",IF(AND($L198>=Sheet1!$F$19,'Pupil List'!$L198<Sheet1!$G$19),Sheet1!$A$19,\"\"))","v":""},{"$f":"IF($L198=\"\",\"\",IF(AND($L198>=Sheet1!$F$20,'Pupil List'!$L198<Sheet1!$G$20),Sheet1!$A$20,\"\"))","v":""},{"$f":"IF($L198=\"\",\"\",IF(AND($L198>=Sheet1!$F$21,'Pupil List'!$L198<Sheet1!$G$21),Sheet1!$A$21,\"\"))","v":""},{"$f":"IF($L198=\"\",\"\",IF(AND($L198>=Sheet1!$F$22,'Pupil List'!$L198<Sheet1!$G$22),Sheet1!$A$22,\"\"))","v":""},{"$f":"IF($L198=\"\",\"\",IF(AND($L198>=Sheet1!$F$23,'Pupil List'!$L198<Sheet1!$G$23),Sheet1!$A$23,\"\"))","v":""},{"$f":"IF($L198=\"\",\"\",IF(AND($L198>=Sheet1!$F$24,'Pupil List'!$L198<Sheet1!$G$24),Sheet1!$A$24,\"\"))","v":""},{"$f":"IF($L198=\"\",\"\",IF(AND($L198>=Sheet1!$F$25,'Pupil List'!$L198<Sheet1!$G$25),Sheet1!$A$25,\"\"))","v":""},{"$error":"#N/A"},{"$f":"IFERROR(VLOOKUP(BK198,Sheet1!$A$2:$E$25,3,FALSE),\"\")","v":""},{"$f":"IFERROR(VLOOKUP(BK198,Sheet1!$A$2:$E$25,4,FALSE),\"\")","v":""},{"$f":"IFERROR(VLOOKUP(BK198,Sheet1!$A$2:$E$25,5,FALSE),\"\")","v":""},{"$f":"IFERROR(VLOOKUP(N198,Sheet1!$A$29:$B$38,2,FALSE),\"\")","v":""}]
["","","",null,null,null,null,null,"","","",null,"",null,"","","","","","","","","","","","","","","","","","","","","","","","",{"$f":"IF($L199=\"\",\"\",IF(AND($L199>=Sheet1!$F$2,'Pupil List'!$L199<Sheet1!$G$2),Sheet1!$A$2,\"\"))","v":""},{"$f":"IF($L199=\"\",\"\",IF(AND($L199>=Sheet1!$F$3,'Pupil List'!$L199<Sheet1!$G$3),Sheet1!$A$3,\"\"))","v":""},{"$f":"IF($L199=\"\",\"\",IF(AND($L199>=Sheet1!$F$4,'Pupil List'!$L199<Sheet1!$G$4),Sheet1!$A$4,\"\"))","v":""},{"$f":"IF($L199=\"\",\"\",IF(AND($L199>=Sheet1!$F$5,'Pupil List'!$L199<Sheet1!$G$5),Sheet1!$A$5,\"\"))","v":""},{"$f":"IF($L199=\"\",\"\",IF(AND($L199>=Sheet1!$F$6,'Pupil List'!$L199<Sheet1!$G$6),Sheet1!$A$6,\"\"))","v":""},{"$f":"IF($L199=\"\",\"\",IF(AND($L199>=Sheet1!$F$7,'Pupil List'!$L199<Sheet1!$G$7),Sheet1!$A$7,\"\"))","v":""},{"$f":"IF($L199=\"\",\"\",IF(AND($L199>=Sheet1!$F$8,'Pupil List'!$L199<Sheet1!$G$8),Sheet1!$A$8,\"\"))","v":""},{"$f":"IF($L199=\"\",\"\",IF(AND($L199>=Sheet1!$F$9,'Pupil List'!$L199<Sheet1!$G$9),Sheet1!$A$9,\"\"))","v":""},{"$f":"IF($L199=\"\",\"\",IF(AND($L199>=Sheet1!$F$10,'Pupil List'!$L199<Sheet1!$G$10),Sheet1!$A$10,\"\"))","v":""},{"$f":"IF($L199=\"\",\"\",IF(AND($L199>=Sheet1!$F$11,'Pupil List'!$L199<Sheet1!$G$11),Sheet1!$A$11,\"\"))","v":""},{"$f":"IF($L199=\"\",\"\",IF(AND($L199>=Sheet1!$F$12,'Pupil List'!$L199<Sheet1!$G$12),Sheet1!$A$12,\"\"))","v":""},{"$f":"IF($L199=\"\",\"\",IF(AND($L199>=Sheet1!$F$13,'Pupil List'!$L199<Sheet1!$G$13),Sheet1!$A$13,\"\"))","v":""},{"$f":"IF($L199=\"\",\"\",IF(AND($L199>=Sheet1!$F$14,'Pupil List'!$L199<Sheet1!$G$14),Sheet1!$A$14,\"\"))","v":""},{"$f":"IF($L199=\"\",\"\",IF(AND($L199>=Sheet1!$F$15,'Pupil List'!$L199<Sheet1!$G$15),Sheet1!$A$15,\"\"))","v":""},{"$f":"IF($L199=\"\",\"\",IF(AND($L199>=Sheet1!$F$16,'Pupil List'!$L199<Sheet1!$G$16),Sheet1!$A$16,\"\"))","v":""},{"$f":"IF($L199=\"\",\"\",IF(AND($L199>=Sheet1!$F$17,'Pupil List'!$L199<Sheet1!$G$17),Sheet1!$A$17,\"\"))","v":""},{"$f":"IF($L199=\"\",\"\",IF(AND($L199>=Sheet1!$F$18,'Pupil List'!$L199<Sheet1!$G$18),Sheet1!$A$18,\"\"))","v":""},{"$f":"IF($L199=\"\",\"\",IF(AND($L199>=Sheet1!$F$19,'Pupil List'!$L199<Sheet1!$G$19),Sheet1!$A$19,\"\"))","v":""},{"$f":"IF($L199=\"\",\"\",IF(AND($L199>=Sheet1!$F$20,'Pupil List'!$L199<Sheet1!$G$20),Sheet1!$A$20,\"\"))","v":""},{"$f":"IF($L199=\"\",\"\",IF(AND($L199>=Sheet1!$F$21,'Pupil List'!$L199<Sheet1!$G$21),Sheet1!$A$21,\"\"))","v":""},{"$f":"IF($L199=\"\",\"\",IF(AND($L199>=Sheet1!$F$22,'Pupil List'!$L199<Sheet1!$G$22),Sheet1!$A$22,\"\"))","v":""},{"$f":"IF($L199=\"\",\"\",IF(AND($L199>=Sheet1!$F$23,'Pupil List'!$L199<Sheet1!$G$23),Sheet1!$A$23,\"\"))","v":""},{"$f":"IF($L199=\"\",\"\",IF(AND($L199>=Sheet1!$F$24,'Pupil List'!$L199<Sheet1!$G$24),Sheet1!$A$24,\"\"))","v":""},{"$f":"IF($L199=\"\",\"\",IF(AND($L199>=Sheet1!$F$25,'Pupil List'!$L199<Sheet1!$G$25),Sheet1!$A$25,\"\"))","v":""},{"$error":"#N/A"},{"$f":"IFERROR(VLOOKUP(BK199,Sheet1!$A$2:$E$25,3,FALSE),\"\")","v":""},{"$f":"IFERROR(VLOOKUP(BK199,Sheet1!$A$2:$E$25,4,FALSE),\"\")","v":""},{"$f":"IFERROR(VLOOKUP(BK199,Sheet1!$A$2:$E$25,5,FALSE),\"\")","v":""},{"$f":"IFERROR(VLOOKUP(N199,Sheet1!$A$29:$B$38,2,FALSE),\"\")","v":""}]
["","","",null,null,null,null,null,"","","",null,"",null,"","","","","","","","","","","","","","","","","","","","","","","","",{"$f":"IF($L200=\"\",\"\",IF(AND($L200>=Sheet1!$F$2,'Pupil List'!$L200<Sheet1!$G$2),Sheet1!$A$2,\"\"))","v":""},{"$f":"IF($L200=\"\",\"\",IF(AND($L200>=Sheet1!$F$3,'Pupil List'!$L200<Sheet1!$G$3),Sheet1!$A$3,\"\"))","v":""},{"$f":"IF($L200=\"\",\"\",IF(AND($L200>=Sheet1!$F$4,'Pupil List'!$L200<Sheet1!$G$4),Sheet1!$A$4,\"\"))","v":""},{"$f":"IF($L200=\"\",\"\",IF(AND($L200>=Sheet1!$F$5,'Pupil List'!$L200<Sheet1!$G$5),Sheet1!$A$5,\"\"))","v":""},{"$f":"IF($L200=\"\",\"\",IF(AND($L200>=Sheet1!$F$6,'Pupil List'!$L200<Sheet1!$G$6),Sheet1!$A$6,\"\"))","v":""},{"$f":"IF($L200=\"\",\"\",IF(AND($L200>=Sheet1!$F$7,'Pupil List'!$L200<Sheet1!$G$7),Sheet1!$A$7,\"\"))","v":""},{"$f":"IF($L200=\"\",\"\",IF(AND($L200>=Sheet1!$F$8,'Pupil List'!$L200<Sheet1!$G$8),Sheet1!$A$8,\"\"))","v":""},{"$f":"IF($L200=\"\",\"\",IF(AND($L200>=Sheet1!$F$9,'Pupil List'!$L200<Sheet1!$G$9),Sheet1!$A$9,\"\"))","v":""},{"$f":"IF($L200=\"\",\"\",IF(AND($L200>=Sheet1!$F$10,'Pupil List'!$L200<Sheet1!$G$10),Sheet1!$A$10,\"\"))","v":""},{"$f":"IF($L200=\"\",\"\",IF(AND($L200>=Sheet1!$F$11,'Pupil List'!$L200<Sheet1!$G$11),Sheet1!$A$11,\"\"))","v":""},{"$f":"IF($L200=\"\",\"\",IF(AND($L200>=Sheet1!$F$12,'Pupil List'!$L200<Sheet1!$G$12),Sheet1!$A$12,\"\"))","v":""},{"$f":"IF($L200=\"\",\"\",IF(AND($L200>=Sheet1!$F$13,'Pupil List'!$L200<Sheet1!$G$13),Sheet1!$A$13,\"\"))","v":""},{"$f":"IF($L200=\"\",\"\",IF(AND($L200>=Sheet1!$F$14,'Pupil List'!$L200<Sheet1!$G$14),Sheet1!$A$14,\"\"))","v":""},{"$f":"IF($L200=\"\",\"\",IF(AND($L200>=Sheet1!$F$15,'Pupil List'!$L200<Sheet1!$G$15),Sheet1!$A$15,\"\"))","v":""},{"$f":"IF($L200=\"\",\"\",IF(AND($L200>=Sheet1!$F$16,'Pupil List'!$L200<Sheet1!$G$16),Sheet1!$A$16,\"\"))","v":""},{"$f":"IF($L200=\"\",\"\",IF(AND($L200>=Sheet1!$F$17,'Pupil List'!$L200<Sheet1!$G$17),Sheet1!$A$17,\"\"))","v":""},{"$f":"IF($L200=\"\",\"\",IF(AND($L200>=Sheet1!$F$18,'Pupil List'!$L200<Sheet1!$G$18),Sheet1!$A$18,\"\"))","v":""},{"$f":"IF($L200=\"\",\"\",IF(AND($L200>=Sheet1!$F$19,'Pupil List'!$L200<Sheet1!$G$19),Sheet1!$A$19,\"\"))","v":""},{"$f":"IF($L200=\"\",\"\",IF(AND($L200>=Sheet1!$F$20,'Pupil List'!$L200<Sheet1!$G$20),Sheet1!$A$20,\"\"))","v":""},{"$f":"IF($L200=\"\",\"\",IF(AND($L200>=Sheet1!$F$21,'Pupil List'!$L200<Sheet1!$G$21),Sheet1!$A$21,\"\"))","v":""},{"$f":"IF($L200=\"\",\"\",IF(AND($L200>=Sheet1!$F$22,'Pupil List'!$L200<Sheet1!$G$22),Sheet1!$A$22,\"\"))","v":""},{"$f":"IF($L200=\"\",\"\",IF(AND($L200>=Sheet1!$F$23,'Pupil List'!$L200<Sheet1!$G$23),Sheet1!$A$23,\"\"))","v":""},{"$f":"IF($L200=\"\",\"\",IF(AND($L200>=Sheet1!$F$24,'Pupil List'!$L200<Sheet1!$G$24),Sheet1!$A$24,\"\"))","v":""},{"$f":"IF($L200=\"\",\"\",IF(AND($L200>=Sheet1!$F$25,'Pupil List'!$L200<Sheet1!$G$25),Sheet1!$A$25,\"\"))","v":""},{"$error":"#N/A"},{"$f":"IFERROR(VLOOKUP(BK200,Sheet1!$A$2:$E$25,3,FALSE),\"\")","v":""},{"$f":"IFERROR(VLOOKUP(BK200,Sheet1!$A$2:$E$25,4,FALSE),\"\")","v":""},{"$f":"IFERROR(VLOOKUP(BK200,Sheet1!$A$2:$E$25,5,FALSE),\"\")","v":""},{"$f":"IFERROR(VLOOKUP(N200,Sheet1!$A$29:$B$38,2,FALSE),\"\")","v":""}]
["","","",null,null,null,null,null,"","","",null,"",null,"","","","","","","","","","","","","","","","","","","","","","","","",{"$f":"IF($L201=\"\",\"\",IF(AND($L201>=Sheet1!$F$2,'Pupil List'!$L201<Sheet1!$G$2),Sheet1!$A$2,\"\"))","v":""},{"$f":"IF($L201=\"\",\"\",IF(AND($L201>=Sheet1!$F$3,'Pupil List'!$L201<Sheet1!$G$3),Sheet1!$A$3,\"\"))","v":""},{"$f":"IF($L201=\"\",\"\",IF(AND($L201>=Sheet1!$F$4,'Pupil List'!$L201<Sheet1!$G$4),Sheet1!$A$4,\"\"))","v":""},{"$f":"IF($L201=\"\",\"\",IF(AND($L201>=Sheet1!$F$5,'Pupil List'!$L201<Sheet1!$G$5),Sheet1!$A$5,\"\"))","v":""},{"$f":"IF($L201=\"\",\"\",IF(AND($L201>=Sheet1!$F$6,'Pupil List'!$L201<Sheet1!$G$6),Sheet1!$A$6,\"\"))","v":""},{"$f":"IF($L201=\"\",\"\",IF(AND($L201>=Sheet1!$F$7,'Pupil List'!$L201<Sheet1!$G$7),Sheet1!$A$7,\"\"))","v":""},{"$f":"IF($L201=\"\",\"\",IF(AND($L201>=Sheet1!$F$8,'Pupil List'!$L201<Sheet1!$G$8),Sheet1!$A$8,\"\"))","v":""},{"$f":"IF($L201=\"\",\"\",IF(AND($L201>=Sheet1!$F$9,'Pupil List'!$L201<Sheet1!$G$9),Sheet1!$A$9,\"\"))","v":""},{"$f":"IF($L201=\"\",\"\",IF(AND($L201>=Sheet1!$F$10,'Pupil List'!$L201<Sheet1!$G$10),Sheet1!$A$10,\"\"))","v":""},{"$f":"IF($L201=\"\",\"\",IF(AND($L201>=Sheet1!$F$11,'Pupil List'!$L201<Sheet1!$G$11),Sheet1!$A$11,\"\"))","v":""},{"$f":"IF($L201=\"\",\"\",IF(AND($L201>=Sheet1!$F$12,'Pupil List'!$L201<Sheet1!$G$12),Sheet1!$A$12,\"\"))","v":""},{"$f":"IF($L201=\"\",\"\",IF(AND($L201>=Sheet1!$F$13,'Pupil List'!$L201<Sheet1!$G$13),Sheet1!$A$13,\"\"))","v":""},{"$f":"IF($L201=\"\",\"\",IF(AND($L201>=Sheet1!$F$14,'Pupil List'!$L201<Sheet1!$G$14),Sheet1!$A$14,\"\"))","v":""},{"$f":"IF($L201=\"\",\"\",IF(AND($L201>=Sheet1!$F$15,'Pupil List'!$L201<Sheet1!$G$15),Sheet1!$A$15,\"\"))","v":""},{"$f":"IF($L201=\"\",\"\",IF(AND($L201>=Sheet1!$F$16,'Pupil List'!$L201<Sheet1!$G$16),Sheet1!$A$16,\"\"))","v":""},{"$f":"IF($L201=\"\",\"\",IF(AND($L201>=Sheet1!$F$17,'Pupil List'!$L201<Sheet1!$G$17),Sheet1!$A$17,\"\"))","v":""},{"$f":"IF($L201=\"\",\"\",IF(AND($L201>=Sheet1!$F$18,'Pupil List'!$L201<Sheet1!$G$18),Sheet1!$A$18,\"\"))","v":""},{"$f":"IF($L201=\"\",\"\",IF(AND($L201>=Sheet1!$F$19,'Pupil List'!$L201<Sheet1!$G$19),Sheet1!$A$19,\"\"))","v":""},{"$f":"IF($L201=\"\",\"\",IF(AND($L201>=Sheet1!$F$20,'Pupil List'!$L201<Sheet1!$G$20),Sheet1!$A$20,\"\"))","v":""},{"$f":"IF($L201=\"\",\"\",IF(AND($L201>=Sheet1!$F$21,'Pupil List'!$L201<Sheet1!$G$21),Sheet1!$A$21,\"\"))","v":""},{"$f":"IF($L201=\"\",\"\",IF(AND($L201>=Sheet1!$F$22,'Pupil List'!$L201<Sheet1!$G$22),Sheet1!$A$22,\"\"))","v":""},{"$f":"IF($L201=\"\",\"\",IF(AND($L201>=Sheet1!$F$23,'Pupil List'!$L201<Sheet1!$G$23),Sheet1!$A$23,\"\"))","v":""},{"$f":"IF($L201=\"\",\"\",IF(AND($L201>=Sheet1!$F$24,'Pupil List'!$L201<Sheet1!$G$24),Sheet1!$A$24,\"\"))","v":""},{"$f":"IF($L201=\"\",\"\",IF(AND($L201>=Sheet1!$F$25,'Pupil List'!$L201<Sheet1!$G$25),Sheet1!$A$25,\"\"))","v":""},{"$error":"#N/A"},{"$f":"IFERROR(VLOOKUP(BK201,Sheet1!$A$2:$E$25,3,FALSE),\"\")","v":""},{"$f":"IFERROR(VLOOKUP(BK201,Sheet1!$A$2:$E$25,4,FALSE),\"\")","v":""},{"$f":"IFERROR(VLOOKUP(BK201,Sheet1!$A$2:$E$25,5,FALSE),\"\")","v":""},{"$f":"IFERROR(VLOOKUP(N201,Sheet1!$A$29:$B$38,2,FALSE),\"\")","v":""}]
["","","",null,null,null,null,null,"","","",null,"",null,"","","","","","","","","","","","","","","","","","","","","","","","",{"$f":"IF($L202=\"\",\"\",IF(AND($L202>=Sheet1!$F$2,'Pupil List'!$L202<Sheet1!$G$2),Sheet1!$A$2,\"\"))","v":""},{"$f":"IF($L202=\"\",\"\",IF(AND($L202>=Sheet1!$F$3,'Pupil List'!$L202<Sheet1!$G$3),Sheet1!$A$3,\"\"))","v":""},{"$f":"IF($L202=\"\",\"\",IF(AND($L202>=Sheet1!$F$4,'Pupil List'!$L202<Sheet1!$G$4),Sheet1!$A$4,\"\"))","v":""},{"$f":"IF($L202=\"\",\"\",IF(AND($L202>=Sheet1!$F$5,'Pupil List'!$L202<Sheet1!$G$5),Sheet1!$A$5,\"\"))","v":""},{"$f":"IF($L202=\"\",\"\",IF(AND($L202>=Sheet1!$F$6,'Pupil List'!$L202<Sheet1!$G$6),Sheet1!$A$6,\"\"))","v":""},{"$f":"IF($L202=\"\",\"\",IF(AND($L202>=Sheet1!$F$7,'Pupil List'!$L202<Sheet1!$G$7),Sheet1!$A$7,\"\"))","v":""},{"$f":"IF($L202=\"\",\"\",IF(AND($L202>=Sheet1!$F$8,'Pupil List'!$L202<Sheet1!$G$8),Sheet1!$A$8,\"\"))","v":""},{"$f":"IF($L202=\"\",\"\",IF(AND($L202>=Sheet1!$F$9,'Pupil List'!$L202<Sheet1!$G$9),Sheet1!$A$9,\"\"))","v":""},{"$f":"IF($L202=\"\",\"\",IF(AND($L202>=Sheet1!$F$10,'Pupil List'!$L202<Sheet1!$G$10),Sheet1!$A$10,\"\"))","v":""},{"$f":"IF($L202=\"\",\"\",IF(AND($L202>=Sheet1!$F$11,'Pupil List'!$L202<Sheet1!$G$11),Sheet1!$A$11,\"\"))","v":""},{"$f":"IF($L202=\"\",\"\",IF(AND($L202>=Sheet1!$F$12,'Pupil List'!$L202<Sheet1!$G$12),Sheet1!$A$12,\"\"))","v":""},{"$f":"IF($L202=\"\",\"\",IF(AND($L202>=Sheet1!$F$13,'Pupil List'!$L202<Sheet1!$G$13),Sheet1!$A$13,\"\"))","v":""},{"$f":"IF($L202=\"\",\"\",IF(AND($L202>=Sheet1!$F$14,'Pupil List'!$L202<Sheet1!$G$14),Sheet1!$A$14,\"\"))","v":""},{"$f":"IF($L202=\"\",\"\",IF(AND($L202>=Sheet1!$F$15,'Pupil List'!$L202<Sheet1!$G$15),Sheet1!$A$15,\"\"))","v":""},{"$f":"IF($L202=\"\",\"\",IF(AND($L202>=Sheet1!$F$16,'Pupil List'!$L202<Sheet1!$G$16),Sheet1!$A$16,\"\"))","v":""},{"$f":"IF($L202=\"\",\"\",IF(AND($L202>=Sheet1!$F$17,'Pupil List'!$L202<Sheet1!$G$17),Sheet1!$A$17,\"\"))","v":""},{"$f":"IF($L202=\"\",\"\",IF(AND($L202>=Sheet1!$F$18,'Pupil List'!$L202<Sheet1!$G$18),Sheet1!$A$18,\"\"))","v":""},{"$f":"IF($L202=\"\",\"\",IF(AND($L202>=Sheet1!$F$19,'Pupil List'!$L202<Sheet1!$G$19),Sheet1!$A$19,\"\"))","v":""},{"$f":"IF($L202=\"\",\"\",IF(AND($L202>=Sheet1!$F$20,'Pupil List'!$L202<Sheet1!$G$20),Sheet1!$A$20,\"\"))","v":""},{"$f":"IF($L202=\"\",\"\",IF(AND($L202>=Sheet1!$F$21,'Pupil List'!$L202<Sheet1!$G$21),Sheet1!$A$21,\"\"))","v":""},{"$f":"IF($L202=\"\",\"\",IF(AND($L202>=Sheet1!$F$22,'Pupil List'!$L202<Sheet1!$G$22),Sheet1!$A$22,\"\"))","v":""},{"$f":"IF($L202=\"\",\"\",IF(AND($L202>=Sheet1!$F$23,'Pupil List'!$L202<Sheet1!$G$23),Sheet1!$A$23,\"\"))","v":""},{"$f":"IF($L202=\"\",\"\",IF(AND($L202>=Sheet1!$F$24,'Pupil List'!$L202<Sheet1!$G$24),Sheet1!$A$24,\"\"))","v":""},{"$f":"IF($L202=\"\",\"\",IF(AND($L202>=Sheet1!$F$25,'Pupil List'!$L202<Sheet1!$G$25),Sheet1!$A$25,\"\"))","v":""},{"$error":"#N/A"},{"$f":"IFERROR(VLOOKUP(BK202,Sheet1!$A$2:$E$25,3,FALSE),\"\")","v":""},{"$f":"IFERROR(VLOOKUP(BK202,Sheet1!$A$2:$E$25,4,FALSE),\"\")","v":""},{"$f":"IFERROR(VLOOKUP(BK202,Sheet1!$A$2:$E$25,5,FALSE),\"\")","v":""},{"$f":"IFERROR(VLOOKUP(N202,Sheet1!$A$29:$B$38,2,FALSE),\"\")","v":""}]
["","","",null,null,null,null,null,"","","",null,"",null,"","","","","","","","","","","","","","","","","","","","","","","","",{"$f":"IF($L203=\"\",\"\",IF(AND($L203>=Sheet1!$F$2,'Pupil List'!$L203<Sheet1!$G$2),Sheet1!$A$2,\"\"))","v":""},{"$f":"IF($L203=\"\",\"\",IF(AND($L203>=Sheet1!$F$3,'Pupil List'!$L203<Sheet1!$G$3),Sheet1!$A$3,\"\"))","v":""},{"$f":"IF($L203=\"\",\"\",IF(AND($L203>=Sheet1!$F$4,'Pupil List'!$L203<Sheet1!$G$4),Sheet1!$A$4,\"\"))","v":""},{"$f":"IF($L203=\"\",\"\",IF(AND($L203>=Sheet1!$F$5,'Pupil List'!$L203<Sheet1!$G$5),Sheet1!$A$5,\"\"))","v":""},{"$f":"IF($L203=\"\",\"\",IF(AND($L203>=Sheet1!$F$6,'Pupil List'!$L203<Sheet1!$G$6),Sheet1!$A$6,\"\"))","v":""},{"$f":"IF($L203=\"\",\"\",IF(AND($L203>=Sheet1!$F$7,'Pupil List'!$L203<Sheet1!$G$7),Sheet1!$A$7,\"\"))","v":""},{"$f":"IF($L203=\"\",\"\",IF(AND($L203>=Sheet1!$F$8,'Pupil List'!$L203<Sheet1!$G$8),Sheet1!$A$8,\"\"))","v":""},{"$f":"IF($L203=\"\",\"\",IF(AND($L203>=Sheet1!$F$9,'Pupil List'!$L203<Sheet1!$G$9),Sheet1!$A$9,\"\"))","v":""},{"$f":"IF($L203=\"\",\"\",IF(AND($L203>=Sheet1!$F$10,'Pupil List'!$L203<Sheet1!$G$10),Sheet1!$A$10,\"\"))","v":""},{"$f":"IF($L203=\"\",\"\",IF(AND($L203>=Sheet1!$F$11,'Pupil List'!$L203<Sheet1!$G$11),Sheet1!$A$11,\"\"))","v":""},{"$f":"IF($L203=\"\",\"\",IF(AND($L203>=Sheet1!$F$12,'Pupil List'!$L203<Sheet1!$G$12),Sheet1!$A$12,\"\"))","v":""},{"$f":"IF($L203=\"\",\"\",IF(AND($L203>=Sheet1!$F$13,'Pupil List'!$L203<Sheet1!$G$13),Sheet1!$A$13,\"\"))","v":""},{"$f":"IF($L203=\"\",\"\",IF(AND($L203>=Sheet1!$F$14,'Pupil List'!$L203<Sheet1!$G$14),Sheet1!$A$14,\"\"))","v":""},{"$f":"IF($L203=\"\",\"\",IF(AND($L203>=Sheet1!$F$15,'Pupil List'!$L203<Sheet1!$G$15),Sheet1!$A$15,\"\"))","v":""},{"$f":"IF($L203=\"\",\"\",IF(AND($L203>=Sheet1!$F$16,'Pupil List'!$L203<Sheet1!$G$16),Sheet1!$A$16,\"\"))","v":""},{"$f":"IF($L203=\"\",\"\",IF(AND($L203>=Sheet1!$F$17,'Pupil List'!$L203<Sheet1!$G$17),Sheet1!$A$17,\"\"))","v":""},{"$f":"IF($L203=\"\",\"\",IF(AND($L203>=Sheet1!$F$18,'Pupil List'!$L203<Sheet1!$G$18),Sheet1!$A$18,\"\"))","v":""},{"$f":"IF($L203=\"\",\"\",IF(AND($L203>=Sheet1!$F$19,'Pupil List'!$L203<Sheet1!$G$19),Sheet1!$A$19,\"\"))","v":""},{"$f":"IF($L203=\"\",\"\",IF(AND($L203>=Sheet1!$F$20,'Pupil List'!$L203<Sheet1!$G$20),Sheet1!$A$20,\"\"))","v":""},{"$f":"IF($L203=\"\",\"\",IF(AND($L203>=Sheet1!$F$21,'Pupil List'!$L203<Sheet1!$G$21),Sheet1!$A$21,\"\"))","v":""},{"$f":"IF($L203=\"\",\"\",IF(AND($L203>=Sheet1!$F$22,'Pupil List'!$L203<Sheet1!$G$22),Sheet1!$A$22,\"\"))","v":""},{"$f":"IF($L203=\"\",\"\",IF(AND($L203>=Sheet1!$F$23,'Pupil List'!$L203<Sheet1!$G$23),Sheet1!$A$23,\"\"))","v":""},{"$f":"IF($L203=\"\",\"\",IF(AND($L203>=Sheet1!$F$24,'Pupil List'!$L203<Sheet1!$G$24),Sheet1!$A$24,\"\"))","v":""},{"$f":"IF($L203=\"\",\"\",IF(AND($L203>=Sheet1!$F$25,'Pupil List'!$L203<Sheet1!$G$25),Sheet1!$A$25,\"\"))","v":""},{"$error":"#N/A"},{"$f":"IFERROR(VLOOKUP(BK203,Sheet1!$A$2:$E$25,3,FALSE),\"\")","v":""},{"$f":"IFERROR(VLOOKUP(BK203,Sheet1!$A$2:$E$25,4,FALSE),\"\")","v":""},{"$f":"IFERROR(VLOOKUP(BK203,Sheet1!$A$2:$E$25,5,FALSE),\"\")","v":""},{"$f":"IFERROR(VLOOKUP(N203,Sheet1!$A$29:$B$38,2,FALSE),\"\")","v":""}]
["","","",null,null,null,null,null,"","","",null,"",null,"","","","","","","","","","","","","","","","","","","","","","","","",{"$f":"IF($L204=\"\",\"\",IF(AND($L204>=Sheet1!$F$2,'Pupil List'!$L204<Sheet1!$G$2),Sheet1!$A$2,\"\"))","v":""},{"$f":"IF($L204=\"\",\"\",IF(AND($L204>=Sheet1!$F$3,'Pupil List'!$L204<Sheet1!$G$3),Sheet1!$A$3,\"\"))","v":""},{"$f":"IF($L204=\"\",\"\",IF(AND($L204>=Sheet1!$F$4,'Pupil List'!$L204<Sheet1!$G$4),Sheet1!$A$4,\"\"))","v":""},{"$f":"IF($L204=\"\",\"\",IF(AND($L204>=Sheet1!$F$5,'Pupil List'!$L204<Sheet1!$G$5),Sheet1!$A$5,\"\"))","v":""},{"$f":"IF($L204=\"\",\"\",IF(AND($L204>=Sheet1!$F$6,'Pupil List'!$L204<Sheet1!$G$6),Sheet1!$A$6,\"\"))","v":""},{"$f":"IF($L204=\"\",\"\",IF(AND($L204>=Sheet1!$F$7,'Pupil List'!$L204<Sheet1!$G$7),Sheet1!$A$7,\"\"))","v":""},{"$f":"IF($L204=\"\",\"\",IF(AND($L204>=Sheet1!$F$8,'Pupil List'!$L204<Sheet1!$G$8),Sheet1!$A$8,\"\"))","v":""},{"$f":"IF($L204=\"\",\"\",IF(AND($L204>=Sheet1!$F$9,'Pupil List'!$L204<Sheet1!$G$9),Sheet1!$A$9,\"\"))","v":""},{"$f":"IF($L204=\"\",\"\",IF(AND($L204>=Sheet1!$F$10,'Pupil List'!$L204<Sheet1!$G$10),Sheet1!$A$10,\"\"))","v":""},{"$f":"IF($L204=\"\",\"\",IF(AND($L204>=Sheet1!$F$11,'Pupil List'!$L204<Sheet1!$G$11),Sheet1!$A$11,\"\"))","v":""},{"$f":"IF($L204=\"\",\"\",IF(AND($L204>=Sheet1!$F$12,'Pupil List'!$L204<Sheet1!$G$12),Sheet1!$A$12,\"\"))","v":""},{"$f":"IF($L204=\"\",\"\",IF(AND($L204>=Sheet1!$F$13,'Pupil List'!$L204<Sheet1!$G$13),Sheet1!$A$13,\"\"))","v":""},{"$f":"IF($L204=\"\",\"\",IF(AND($L204>=Sheet1!$F$14,'Pupil List'!$L204<Sheet1!$G$14),Sheet1!$A$14,\"\"))","v":""},{"$f":"IF($L204=\"\",\"\",IF(AND($L204>=Sheet1!$F$15,'Pupil List'!$L204<Sheet1!$G$15),Sheet1!$A$15,\"\"))","v":""},{"$f":"IF($L204=\"\",\"\",IF(AND($L204>=Sheet1!$F$16,'Pupil List'!$L204<Sheet1!$G$16),Sheet1!$A$16,\"\"))","v":""},{"$f":"IF($L204=\"\",\"\",IF(AND($L204>=Sheet1!$F$17,'Pupil List'!$L204<Sheet1!$G$17),Sheet1!$A$17,\"\"))","v":""},{"$f":"IF($L204=\"\",\"\",IF(AND($L204>=Sheet1!$F$18,'Pupil List'!$L204<Sheet1!$G$18),Sheet1!$A$18,\"\"))","v":""},{"$f":"IF($L204=\"\",\"\",IF(AND($L204>=Sheet1!$F$19,'Pupil List'!$L204<Sheet1!$G$19),Sheet1!$A$19,\"\"))","v":""},{"$f":"IF($L204=\"\",\"\",IF(AND($L204>=Sheet1!$F$20,'Pupil List'!$L204<Sheet1!$G$20),Sheet1!$A$20,\"\"))","v":""},{"$f":"IF($L204=\"\",\"\",IF(AND($L204>=Sheet1!$F$21,'Pupil List'!$L204<Sheet1!$G$21),Sheet1!$A$21,\"\"))","v":""},{"$f":"IF($L204=\"\",\"\",IF(AND($L204>=Sheet1!$F$22,'Pupil List'!$L204<Sheet1!$G$22),Sheet1!$A$22,\"\"))","v":""},{"$f":"IF($L204=\"\",\"\",IF(AND($L204>=Sheet1!$F$23,'Pupil List'!$L204<Sheet1!$G$23),Sheet1!$A$23,\"\"))","v":""},{"$f":"IF($L204=\"\",\"\",IF(AND($L204>=Sheet1!$F$24,'Pupil List'!$L204<Sheet1!$G$24),Sheet1!$A$24,\"\"))","v":""},{"$f":"IF($L204=\"\",\"\",IF(AND($L204>=Sheet1!$F$25,'Pupil List'!$L204<Sheet1!$G$25),Sheet1!$A$25,\"\"))","v":""},{"$error":"#N/A"},{"$f":"IFERROR(VLOOKUP(BK204,Sheet1!$A$2:$E$25,3,FALSE),\"\")","v":""},{"$f":"IFERROR(VLOOKUP(BK204,Sheet1!$A$2:$E$25,4,FALSE),\"\")","v":""},{"$f":"IFERROR(VLOOKUP(BK204,Sheet1!$A$2:$E$25,5,FALSE),\"\")","v":""},{"$f":"IFERROR(VLOOKUP(N204,Sheet1!$A$29:$B$38,2,FALSE),\"\")","v":""}]
["","","",null,null,null,null,null,"","","",null,"",null,"","","","","","","","","","","","","","","","","","","","","","","","",{"$f":"IF($L205=\"\",\"\",IF(AND($L205>=Sheet1!$F$2,'Pupil List'!$L205<Sheet1!$G$2),Sheet1!$A$2,\"\"))","v":""},{"$f":"IF($L205=\"\",\"\",IF(AND($L205>=Sheet1!$F$3,'Pupil List'!$L205<Sheet1!$G$3),Sheet1!$A$3,\"\"))","v":""},{"$f":"IF($L205=\"\",\"\",IF(AND($L205>=Sheet1!$F$4,'Pupil List'!$L205<Sheet1!$G$4),Sheet1!$A$4,\"\"))","v":""},{"$f":"IF($L205=\"\",\"\",IF(AND($L205>=Sheet1!$F$5,'Pupil List'!$L205<Sheet1!$G$5),Sheet1!$A$5,\"\"))","v":""},{"$f":"IF($L205=\"\",\"\",IF(AND($L205>=Sheet1!$F$6,'Pupil List'!$L205<Sheet1!$G$6),Sheet1!$A$6,\"\"))","v":""},{"$f":"IF($L205=\"\",\"\",IF(AND($L205>=Sheet1!$F$7,'Pupil List'!$L205<Sheet1!$G$7),Sheet1!$A$7,\"\"))","v":""},{"$f":"IF($L205=\"\",\"\",IF(AND($L205>=Sheet1!$F$8,'Pupil List'!$L205<Sheet1!$G$8),Sheet1!$A$8,\"\"))","v":""},{"$f":"IF($L205=\"\",\"\",IF(AND($L205>=Sheet1!$F$9,'Pupil List'!$L205<Sheet1!$G$9),Sheet1!$A$9,\"\"))","v":""},{"$f":"IF($L205=\"\",\"\",IF(AND($L205>=Sheet1!$F$10,'Pupil List'!$L205<Sheet1!$G$10),Sheet1!$A$10,\"\"))","v":""},{"$f":"IF($L205=\"\",\"\",IF(AND($L205>=Sheet1!$F$11,'Pupil List'!$L205<Sheet1!$G$11),Sheet1!$A$11,\"\"))","v":""},{"$f":"IF($L205=\"\",\"\",IF(AND($L205>=Sheet1!$F$12,'Pupil List'!$L205<Sheet1!$G$12),Sheet1!$A$12,\"\"))","v":""},{"$f":"IF($L205=\"\",\"\",IF(AND($L205>=Sheet1!$F$13,'Pupil List'!$L205<Sheet1!$G$13),Sheet1!$A$13,\"\"))","v":""},{"$f":"IF($L205=\"\",\"\",IF(AND($L205>=Sheet1!$F$14,'Pupil List'!$L205<Sheet1!$G$14),Sheet1!$A$14,\"\"))","v":""},{"$f":"IF($L205=\"\",\"\",IF(AND($L205>=Sheet1!$F$15,'Pupil List'!$L205<Sheet1!$G$15),Sheet1!$A$15,\"\"))","v":""},{"$f":"IF($L205=\"\",\"\",IF(AND($L205>=Sheet1!$F$16,'Pupil List'!$L205<Sheet1!$G$16),Sheet1!$A$16,\"\"))","v":""},{"$f":"IF($L205=\"\",\"\",IF(AND($L205>=Sheet1!$F$17,'Pupil List'!$L205<Sheet1!$G$17),Sheet1!$A$17,\"\"))","v":""},{"$f":"IF($L205=\"\",\"\",IF(AND($L205>=Sheet1!$F$18,'Pupil List'!$L205<Sheet1!$G$18),Sheet1!$A$18,\"\"))","v":""},{"$f":"IF($L205=\"\",\"\",IF(AND($L205>=Sheet1!$F$19,'Pupil List'!$L205<Sheet1!$G$19),Sheet1!$A$19,\"\"))","v":""},{"$f":"IF($L205=\"\",\"\",IF(AND($L205>=Sheet1!$F$20,'Pupil List'!$L205<Sheet1!$G$20),Sheet1!$A$20,\"\"))","v":""},{"$f":"IF($L205=\"\",\"\",IF(AND($L205>=Sheet1!$F$21,'Pupil List'!$L205<Sheet1!$G$21),Sheet1!$A$21,\"\"))","v":""},{"$f":"IF($L205=\"\",\"\",IF(AND($L205>=Sheet1!$F$22,'Pupil List'!$L205<Sheet1!$G$22),Sheet1!$A$22,\"\"))","v":""},{"$f":"IF($L205=\"\",\"\",IF(AND($L205>=Sheet1!$F$23,'Pupil List'!$L205<Sheet1!$G$23),Sheet1!$A$23,\"\"))","v":""},{"$f":"IF($L205=\"\",\"\",IF(AND($L205>=Sheet1!$F$24,'Pupil List'!$L205<Sheet1!$G$24),Sheet1!$A$24,\"\"))","v":""},{"$f":"IF($L205=\"\",\"\",IF(AND($L205>=Sheet1!$F$25,'Pupil List'!$L205<Sheet1!$G$25),Sheet1!$A$25,\"\"))","v":""},{"$error":"#N/A"},{"$f":"IFERROR(VLOOKUP(BK205,Sheet1!$A$2:$E$25,3,FALSE),\"\")","v":""},{"$f":"IFERROR(VLOOKUP(BK205,Sheet1!$A$2:$E$25,4,FALSE),\"\")","v":""},{"$f":"IFERROR(VLOOKUP(BK205,Sheet1!$A$2:$E$25,5,FALSE),\"\")","v":""},{"$f":"IFERROR(VLOOKUP(N205,Sheet1!$A$29:$B$38,2,FALSE),\"\")","v":""}]
["","","",null,null,null,null,null,"","","",null,"",null,"","","","","","","","","","","","","","","","","","","","","","","","",{"$f":"IF($L206=\"\",\"\",IF(AND($L206>=Sheet1!$F$2,'Pupil List'!$L206<Sheet1!$G$2),Sheet1!$A$2,\"\"))","v":""},{"$f":"IF($L206=\"\",\"\",IF(AND($L206>=Sheet1!$F$3,'Pupil List'!$L206<Sheet1!$G$3),Sheet1!$A$3,\"\"))","v":""},{"$f":"IF($L206=\"\",\"\",IF(AND($L206>=Sheet1!$F$4,'Pupil List'!$L206<Sheet1!$G$4),Sheet1!$A$4,\"\"))","v":""},{"$f":"IF($L206=\"\",\"\",IF(AND($L206>=Sheet1!$F$5,'Pupil List'!$L206<Sheet1!$G$5),Sheet1!$A$5,\"\"))","v":""},{"$f":"IF($L206=\"\",\"\",IF(AND($L206>=Sheet1!$F$6,'Pupil List'!$L206<Sheet1!$G$6),Sheet1!$A$6,\"\"))","v":""},{"$f":"IF($L206=\"\",\"\",IF(AND($L206>=Sheet1!$F$7,'Pupil List'!$L206<Sheet1!$G$7),Sheet1!$A$7,\"\"))","v":""},{"$f":"IF($L206=\"\",\"\",IF(AND($L206>=Sheet1!$F$8,'Pupil List'!$L206<Sheet1!$G$8),Sheet1!$A$8,\"\"))","v":""},{"$f":"IF($L206=\"\",\"\",IF(AND($L206>=Sheet1!$F$9,'Pupil List'!$L206<Sheet1!$G$9),Sheet1!$A$9,\"\"))","v":""},{"$f":"IF($L206=\"\",\"\",IF(AND($L206>=Sheet1!$F$10,'Pupil List'!$L206<Sheet1!$G$10),Sheet1!$A$10,\"\"))","v":""},{"$f":"IF($L206=\"\",\"\",IF(AND($L206>=Sheet1!$F$11,'Pupil List'!$L206<Sheet1!$G$11),Sheet1!$A$11,\"\"))","v":""},{"$f":"IF($L206=\"\",\"\",IF(AND($L206>=Sheet1!$F$12,'Pupil List'!$L206<Sheet1!$G$12),Sheet1!$A$12,\"\"))","v":""},{"$f":"IF($L206=\"\",\"\",IF(AND($L206>=Sheet1!$F$13,'Pupil List'!$L206<Sheet1!$G$13),Sheet1!$A$13,\"\"))","v":""},{"$f":"IF($L206=\"\",\"\",IF(AND($L206>=Sheet1!$F$14,'Pupil List'!$L206<Sheet1!$G$14),Sheet1!$A$14,\"\"))","v":""},{"$f":"IF($L206=\"\",\"\",IF(AND($L206>=Sheet1!$F$15,'Pupil List'!$L206<Sheet1!$G$15),Sheet1!$A$15,\"\"))","v":""},{"$f":"IF($L206=\"\",\"\",IF(AND($L206>=Sheet1!$F$16,'Pupil List'!$L206<Sheet1!$G$16),Sheet1!$A$16,\"\"))","v":""},{"$f":"IF($L206=\"\",\"\",IF(AND($L206>=Sheet1!$F$17,'Pupil List'!$L206<Sheet1!$G$17),Sheet1!$A$17,\"\"))","v":""},{"$f":"IF($L206=\"\",\"\",IF(AND($L206>=Sheet1!$F$18,'Pupil List'!$L206<Sheet1!$G$18),Sheet1!$A$18,\"\"))","v":""},{"$f":"IF($L206=\"\",\"\",IF(AND($L206>=Sheet1!$F$19,'Pupil List'!$L206<Sheet1!$G$19),Sheet1!$A$19,\"\"))","v":""},{"$f":"IF($L206=\"\",\"\",IF(AND($L206>=Sheet1!$F$20,'Pupil List'!$L206<Sheet1!$G$20),Sheet1!$A$20,\"\"))","v":""},{"$f":"IF($L206=\"\",\"\",IF(AND($L206>=Sheet1!$F$21,'Pupil List'!$L206<Sheet1!$G$21),Sheet1!$A$21,\"\"))","v":""},{"$f":"IF($L206=\"\",\"\",IF(AND($L206>=Sheet1!$F$22,'Pupil List'!$L206<Sheet1!$G$22),Sheet1!$A$22,\"\"))","v":""},{"$f":"IF($L206=\"\",\"\",IF(AND($L206>=Sheet1!$F$23,'Pupil List'!$L206<Sheet1!$G$23),Sheet1!$A$23,\"\"))","v":""},{"$f":"IF($L206=\"\",\"\",IF(AND($L206>=Sheet1!$F$24,'Pupil List'!$L206<Sheet1!$G$24),Sheet1!$A$24,\"\"))","v":""},{"$f":"IF($L206=\"\",\"\",IF(AND($L206>=Sheet1!$F$25,'Pupil List'!$L206<Sheet1!$G$25),Sheet1!$A$25,\"\"))","v":""},{"$error":"#N/A"},{"$f":"IFERROR(VLOOKUP(BK206,Sheet1!$A$2:$E$25,3,FALSE),\"\")","v":""},{"$f":"IFERROR(VLOOKUP(BK206,Sheet1!$A$2:$E$25,4,FALSE),\"\")","v":""},{"$f":"IFERROR(VLOOKUP(BK206,Sheet1!$A$2:$E$25,5,FALSE),\"\")","v":""},{"$f":"IFERROR(VLOOKUP(N206,Sheet1!$A$29:$B$38,2,FALSE),\"\")","v":""}]
["","","",null,null,null,null,null,"","","",null,"",null,"","","","","","","","","","","","","","","","","","","","","","","","",{"$f":"IF($L207=\"\",\"\",IF(AND($L207>=Sheet1!$F$2,'Pupil List'!$L207<Sheet1!$G$2),Sheet1!$A$2,\"\"))","v":""},{"$f":"IF($L207=\"\",\"\",IF(AND($L207>=Sheet1!$F$3,'Pupil List'!$L207<Sheet1!$G$3),Sheet1!$A$3,\"\"))","v":""},{"$f":"IF($L207=\"\",\"\",IF(AND($L207>=Sheet1!$F$4,'Pupil List'!$L207<Sheet1!$G$4),Sheet1!$A$4,\"\"))","v":""},{"$f":"IF($L207=\"\",\"\",IF(AND($L207>=Sheet1!$F$5,'Pupil List'!$L207<Sheet1!$G$5),Sheet1!$A$5,\"\"))","v":""},{"$f":"IF($L207=\"\",\"\",IF(AND($L207>=Sheet1!$F$6,'Pupil List'!$L207<Sheet1!$G$6),Sheet1!$A$6,\"\"))","v":""},{"$f":"IF($L207=\"\",\"\",IF(AND($L207>=Sheet1!$F$7,'Pupil List'!$L207<Sheet1!$G$7),Sheet1!$A$7,\"\"))","v":""},{"$f":"IF($L207=\"\",\"\",IF(AND($L207>=Sheet1!$F$8,'Pupil List'!$L207<Sheet1!$G$8),Sheet1!$A$8,\"\"))","v":""},{"$f":"IF($L207=\"\",\"\",IF(AND($L207>=Sheet1!$F$9,'Pupil List'!$L207<Sheet1!$G$9),Sheet1!$A$9,\"\"))","v":""},{"$f":"IF($L207=\"\",\"\",IF(AND($L207>=Sheet1!$F$10,'Pupil List'!$L207<Sheet1!$G$10),Sheet1!$A$10,\"\"))","v":""},{"$f":"IF($L207=\"\",\"\",IF(AND($L207>=Sheet1!$F$11,'Pupil List'!$L207<Sheet1!$G$11),Sheet1!$A$11,\"\"))","v":""},{"$f":"IF($L207=\"\",\"\",IF(AND($L207>=Sheet1!$F$12,'Pupil List'!$L207<Sheet1!$G$12),Sheet1!$A$12,\"\"))","v":""},{"$f":"IF($L207=\"\",\"\",IF(AND($L207>=Sheet1!$F$13,'Pupil List'!$L207<Sheet1!$G$13),Sheet1!$A$13,\"\"))","v":""},{"$f":"IF($L207=\"\",\"\",IF(AND($L207>=Sheet1!$F$14,'Pupil List'!$L207<Sheet1!$G$14),Sheet1!$A$14,\"\"))","v":""},{"$f":"IF($L207=\"\",\"\",IF(AND($L207>=Sheet1!$F$15,'Pupil List'!$L207<Sheet1!$G$15),Sheet1!$A$15,\"\"))","v":""},{"$f":"IF($L207=\"\",\"\",IF(AND($L207>=Sheet1!$F$16,'Pupil List'!$L207<Sheet1!$G$16),Sheet1!$A$16,\"\"))","v":""},{"$f":"IF($L207=\"\",\"\",IF(AND($L207>=Sheet1!$F$17,'Pupil List'!$L207<Sheet1!$G$17),Sheet1!$A$17,\"\"))","v":""},{"$f":"IF($L207=\"\",\"\",IF(AND($L207>=Sheet1!$F$18,'Pupil List'!$L207<Sheet1!$G$18),Sheet1!$A$18,\"\"))","v":""},{"$f":"IF($L207=\"\",\"\",IF(AND($L207>=Sheet1!$F$19,'Pupil List'!$L207<Sheet1!$G$19),Sheet1!$A$19,\"\"))","v":""},{"$f":"IF($L207=\"\",\"\",IF(AND($L207>=Sheet1!$F$20,'Pupil List'!$L207<Sheet1!$G$20),Sheet1!$A$20,\"\"))","v":""},{"$f":"IF($L207=\"\",\"\",IF(AND($L207>=Sheet1!$F$21,'Pupil List'!$L207<Sheet1!$G$21),Sheet1!$A$21,\"\"))","v":""},{"$f":"IF($L207=\"\",\"\",IF(AND($L207>=Sheet1!$F$22,'Pupil List'!$L207<Sheet1!$G$22),Sheet1!$A$22,\"\"))","v":""},{"$f":"IF($L207=\"\",\"\",IF(AND($L207>=Sheet1!$F$23,'Pupil List'!$L207<Sheet1!$G$23),Sheet1!$A$23,\"\"))","v":""},{"$f":"IF($L207=\"\",\"\",IF(AND($L207>=Sheet1!$F$24,'Pupil List'!$L207<Sheet1!$G$24),Sheet1!$A$24,\"\"))","v":""},{"$f":"IF($L207=\"\",\"\",IF(AND($L207>=Sheet1!$F$25,'Pupil List'!$L207<Sheet1!$G$25),Sheet1!$A$25,\"\"))","v":""},{"$error":"#N/A"},{"$f":"IFERROR(VLOOKUP(BK207,Sheet1!$A$2:$E$25,3,FALSE),\"\")","v":""},{"$f":"IFERROR(VLOOKUP(BK207,Sheet1!$A$2:$E$25,4,FALSE),\"\")","v":""},{"$f":"IFERROR(VLOOKUP(BK207,Sheet1!$A$2:$E$25,5,FALSE),\"\")","v":""},{"$f":"IFERROR(VLOOKUP(N207,Sheet1!$A$29:$B$38,2,FALSE),\"\")","v":""}]
["","","",null,null,null,null,null,"","","",null,"",null,"","","","","","","","","","","","","","","","","","","","","","","","",{"$f":"IF($L208=\"\",\"\",IF(AND($L208>=Sheet1!$F$2,'Pupil List'!$L208<Sheet1!$G$2),Sheet1!$A$2,\"\"))","v":""},{"$f":"IF($L208=\"\",\"\",IF(AND($L208>=Sheet1!$F$3,'Pupil List'!$L208<Sheet1!$G$3),Sheet1!$A$3,\"\"))","v":""},{"$f":"IF($L208=\"\",\"\",IF(AND($L208>=Sheet1!$F$4,'Pupil List'!$L208<Sheet1!$G$4),Sheet1!$A$4,\"\"))","v":""},{"$f":"IF($L208=\"\",\"\",IF(AND($L208>=Sheet1!$F$5,'Pupil List'!$L208<Sheet1!$G$5),Sheet1!$A$5,\"\"))","v":""},{"$f":"IF($L208=\"\",\"\",IF(AND($L208>=Sheet1!$F$6,'Pupil List'!$L208<Sheet1!$G$6),Sheet1!$A$6,\"\"))","v":""},{"$f":"IF($L208=\"\",\"\",IF(AND($L208>=Sheet1!$F$7,'Pupil List'!$L208<Sheet1!$G$7),Sheet1!$A$7,\"\"))","v":""},{"$f":"IF($L208=\"\",\"\",IF(AND($L208>=Sheet1!$F$8,'Pupil List'!$L208<Sheet1!$G$8),Sheet1!$A$8,\"\"))","v":""},{"$f":"IF($L208=\"\",\"\",IF(AND($L208>=Sheet1!$F$9,'Pupil List'!$L208<Sheet1!$G$9),Sheet1!$A$9,\"\"))","v":""},{"$f":"IF($L208=\"\",\"\",IF(AND($L208>=Sheet1!$F$10,'Pupil List'!$L208<Sheet1!$G$10),Sheet1!$A$10,\"\"))","v":""},{"$f":"IF($L208=\"\",\"\",IF(AND($L208>=Sheet1!$F$11,'Pupil List'!$L208<Sheet1!$G$11),Sheet1!$A$11,\"\"))","v":""},{"$f":"IF($L208=\"\",\"\",IF(AND($L208>=Sheet1!$F$12,'Pupil List'!$L208<Sheet1!$G$12),Sheet1!$A$12,\"\"))","v":""},{"$f":"IF($L208=\"\",\"\",IF(AND($L208>=Sheet1!$F$13,'Pupil List'!$L208<Sheet1!$G$13),Sheet1!$A$13,\"\"))","v":""},{"$f":"IF($L208=\"\",\"\",IF(AND($L208>=Sheet1!$F$14,'Pupil List'!$L208<Sheet1!$G$14),Sheet1!$A$14,\"\"))","v":""},{"$f":"IF($L208=\"\",\"\",IF(AND($L208>=Sheet1!$F$15,'Pupil List'!$L208<Sheet1!$G$15),Sheet1!$A$15,\"\"))","v":""},{"$f":"IF($L208=\"\",\"\",IF(AND($L208>=Sheet1!$F$16,'Pupil List'!$L208<Sheet1!$G$16),Sheet1!$A$16,\"\"))","v":""},{"$f":"IF($L208=\"\",\"\",IF(AND($L208>=Sheet1!$F$17,'Pupil List'!$L208<Sheet1!$G$17),Sheet1!$A$17,\"\"))","v":""},{"$f":"IF($L208=\"\",\"\",IF(AND($L208>=Sheet1!$F$18,'Pupil List'!$L208<Sheet1!$G$18),Sheet1!$A$18,\"\"))","v":""},{"$f":"IF($L208=\"\",\"\",IF(AND($L208>=Sheet1!$F$19,'Pupil List'!$L208<Sheet1!$G$19),Sheet1!$A$19,\"\"))","v":""},{"$f":"IF($L208=\"\",\"\",IF(AND($L208>=Sheet1!$F$20,'Pupil List'!$L208<Sheet1!$G$20),Sheet1!$A$20,\"\"))","v":""},{"$f":"IF($L208=\"\",\"\",IF(AND($L208>=Sheet1!$F$21,'Pupil List'!$L208<Sheet1!$G$21),Sheet1!$A$21,\"\"))","v":""},{"$f":"IF($L208=\"\",\"\",IF(AND($L208>=Sheet1!$F$22,'Pupil List'!$L208<Sheet1!$G$22),Sheet1!$A$22,\"\"))","v":""},{"$f":"IF($L208=\"\",\"\",IF(AND($L208>=Sheet1!$F$23,'Pupil List'!$L208<Sheet1!$G$23),Sheet1!$A$23,\"\"))","v":""},{"$f":"IF($L208=\"\",\"\",IF(AND($L208>=Sheet1!$F$24,'Pupil List'!$L208<Sheet1!$G$24),Sheet1!$A$24,\"\"))","v":""},{"$f":"IF($L208=\"\",\"\",IF(AND($L208>=Sheet1!$F$25,'Pupil List'!$L208<Sheet1!$G$25),Sheet1!$A$25,\"\"))","v":""},{"$error":"#N/A"},{"$f":"IFERROR(VLOOKUP(BK208,Sheet1!$A$2:$E$25,3,FALSE),\"\")","v":""},{"$f":"IFERROR(VLOOKUP(BK208,Sheet1!$A$2:$E$25,4,FALSE),\"\")","v":""},{"$f":"IFERROR(VLOOKUP(BK208,Sheet1!$A$2:$E$25,5,FALSE),\"\")","v":""},{"$f":"IFERROR(VLOOKUP(N208,Sheet1!$A$29:$B$38,2,FALSE),\"\")","v":""}]
["","","",null,null,null,null,null,"","","",null,"",null,"","","","","","","","","","","","","","","","","","","","","","","","",{"$f":"IF($L209=\"\",\"\",IF(AND($L209>=Sheet1!$F$2,'Pupil List'!$L209<Sheet1!$G$2),Sheet1!$A$2,\"\"))","v":""},{"$f":"IF($L209=\"\",\"\",IF(AND($L209>=Sheet1!$F$3,'Pupil List'!$L209<Sheet1!$G$3),Sheet1!$A$3,\"\"))","v":""},{"$f":"IF($L209=\"\",\"\",IF(AND($L209>=Sheet1!$F$4,'Pupil List'!$L209<Sheet1!$G$4),Sheet1!$A$4,\"\"))","v":""},{"$f":"IF($L209=\"\",\"\",IF(AND($L209>=Sheet1!$F$5,'Pupil List'!$L209<Sheet1!$G$5),Sheet1!$A$5,\"\"))","v":""},{"$f":"IF($L209=\"\",\"\",IF(AND($L209>=Sheet1!$F$6,'Pupil List'!$L209<Sheet1!$G$6),Sheet1!$A$6,\"\"))","v":""},{"$f":"IF($L209=\"\",\"\",IF(AND($L209>=Sheet1!$F$7,'Pupil List'!$L209<Sheet1!$G$7),Sheet1!$A$7,\"\"))","v":""},{"$f":"IF($L209=\"\",\"\",IF(AND($L209>=Sheet1!$F$8,'Pupil List'!$L209<Sheet1!$G$8),Sheet1!$A$8,\"\"))","v":""},{"$f":"IF($L209=\"\",\"\",IF(AND($L209>=Sheet1!$F$9,'Pupil List'!$L209<Sheet1!$G$9),Sheet1!$A$9,\"\"))","v":""},{"$f":"IF($L209=\"\",\"\",IF(AND($L209>=Sheet1!$F$10,'Pupil List'!$L209<Sheet1!$G$10),Sheet1!$A$10,\"\"))","v":""},{"$f":"IF($L209=\"\",\"\",IF(AND($L209>=Sheet1!$F$11,'Pupil List'!$L209<Sheet1!$G$11),Sheet1!$A$11,\"\"))","v":""},{"$f":"IF($L209=\"\",\"\",IF(AND($L209>=Sheet1!$F$12,'Pupil List'!$L209<Sheet1!$G$12),Sheet1!$A$12,\"\"))","v":""},{"$f":"IF($L209=\"\",\"\",IF(AND($L209>=Sheet1!$F$13,'Pupil List'!$L209<Sheet1!$G$13),Sheet1!$A$13,\"\"))","v":""},{"$f":"IF($L209=\"\",\"\",IF(AND($L209>=Sheet1!$F$14,'Pupil List'!$L209<Sheet1!$G$14),Sheet1!$A$14,\"\"))","v":""},{"$f":"IF($L209=\"\",\"\",IF(AND($L209>=Sheet1!$F$15,'Pupil List'!$L209<Sheet1!$G$15),Sheet1!$A$15,\"\"))","v":""},{"$f":"IF($L209=\"\",\"\",IF(AND($L209>=Sheet1!$F$16,'Pupil List'!$L209<Sheet1!$G$16),Sheet1!$A$16,\"\"))","v":""},{"$f":"IF($L209=\"\",\"\",IF(AND($L209>=Sheet1!$F$17,'Pupil List'!$L209<Sheet1!$G$17),Sheet1!$A$17,\"\"))","v":""},{"$f":"IF($L209=\"\",\"\",IF(AND($L209>=Sheet1!$F$18,'Pupil List'!$L209<Sheet1!$G$18),Sheet1!$A$18,\"\"))","v":""},{"$f":"IF($L209=\"\",\"\",IF(AND($L209>=Sheet1!$F$19,'Pupil List'!$L209<Sheet1!$G$19),Sheet1!$A$19,\"\"))","v":""},{"$f":"IF($L209=\"\",\"\",IF(AND($L209>=Sheet1!$F$20,'Pupil List'!$L209<Sheet1!$G$20),Sheet1!$A$20,\"\"))","v":""},{"$f":"IF($L209=\"\",\"\",IF(AND($L209>=Sheet1!$F$21,'Pupil List'!$L209<Sheet1!$G$21),Sheet1!$A$21,\"\"))","v":""},{"$f":"IF($L209=\"\",\"\",IF(AND($L209>=Sheet1!$F$22,'Pupil List'!$L209<Sheet1!$G$22),Sheet1!$A$22,\"\"))","v":""},{"$f":"IF($L209=\"\",\"\",IF(AND($L209>=Sheet1!$F$23,'Pupil List'!$L209<Sheet1!$G$23),Sheet1!$A$23,\"\"))","v":""},{"$f":"IF($L209=\"\",\"\",IF(AND($L209>=Sheet1!$F$24,'Pupil List'!$L209<Sheet1!$G$24),Sheet1!$A$24,\"\"))","v":""},{"$f":"IF($L209=\"\",\"\",IF(AND($L209>=Sheet1!$F$25,'Pupil List'!$L209<Sheet1!$G$25),Sheet1!$A$25,\"\"))","v":""},{"$error":"#N/A"},{"$f":"IFERROR(VLOOKUP(BK209,Sheet1!$A$2:$E$25,3,FALSE),\"\")","v":""},{"$f":"IFERROR(VLOOKUP(BK209,Sheet1!$A$2:$E$25,4,FALSE),\"\")","v":""},{"$f":"IFERROR(VLOOKUP(BK209,Sheet1!$A$2:$E$25,5,FALSE),\"\")","v":""},{"$f":"IFERROR(VLOOKUP(N209,Sheet1!$A$29:$B$38,2,FALSE),\"\")","v":""}]
["","","",null,null,null,null,null,"","","",null,"",null,"","","","","","","","","","","","","","","","","","","","","","","","",{"$f":"IF($L210=\"\",\"\",IF(AND($L210>=Sheet1!$F$2,'Pupil List'!$L210<Sheet1!$G$2),Sheet1!$A$2,\"\"))","v":""},{"$f":"IF($L210=\"\",\"\",IF(AND($L210>=Sheet1!$F$3,'Pupil List'!$L210<Sheet1!$G$3),Sheet1!$A$3,\"\"))","v":""},{"$f":"IF($L210=\"\",\"\",IF(AND($L210>=Sheet1!$F$4,'Pupil List'!$L210<Sheet1!$G$4),Sheet1!$A$4,\"\"))","v":""},{"$f":"IF($L210=\"\",\"\",IF(AND($L210>=Sheet1!$F$5,'Pupil List'!$L210<Sheet1!$G$5),Sheet1!$A$5,\"\"))","v":""},{"$f":"IF($L210=\"\",\"\",IF(AND($L210>=Sheet1!$F$6,'Pupil List'!$L210<Sheet1!$G$6),Sheet1!$A$6,\"\"))","v":""},{"$f":"IF($L210=\"\",\"\",IF(AND($L210>=Sheet1!$F$7,'Pupil List'!$L210<Sheet1!$G$7),Sheet1!$A$7,\"\"))","v":""},{"$f":"IF($L210=\"\",\"\",IF(AND($L210>=Sheet1!$F$8,'Pupil List'!$L210<Sheet1!$G$8),Sheet1!$A$8,\"\"))","v":""},{"$f":"IF($L210=\"\",\"\",IF(AND($L210>=Sheet1!$F$9,'Pupil List'!$L210<Sheet1!$G$9),Sheet1!$A$9,\"\"))","v":""},{"$f":"IF($L210=\"\",\"\",IF(AND($L210>=Sheet1!$F$10,'Pupil List'!$L210<Sheet1!$G$10),Sheet1!$A$10,\"\"))","v":""},{"$f":"IF($L210=\"\",\"\",IF(AND($L210>=Sheet1!$F$11,'Pupil List'!$L210<Sheet1!$G$11),Sheet1!$A$11,\"\"))","v":""},{"$f":"IF($L210=\"\",\"\",IF(AND($L210>=Sheet1!$F$12,'Pupil List'!$L210<Sheet1!$G$12),Sheet1!$A$12,\"\"))","v":""},{"$f":"IF($L210=\"\",\"\",IF(AND($L210>=Sheet1!$F$13,'Pupil List'!$L210<Sheet1!$G$13),Sheet1!$A$13,\"\"))","v":""},{"$f":"IF($L210=\"\",\"\",IF(AND($L210>=Sheet1!$F$14,'Pupil List'!$L210<Sheet1!$G$14),Sheet1!$A$14,\"\"))","v":""},{"$f":"IF($L210=\"\",\"\",IF(AND($L210>=Sheet1!$F$15,'Pupil List'!$L210<Sheet1!$G$15),Sheet1!$A$15,\"\"))","v":""},{"$f":"IF($L210=\"\",\"\",IF(AND($L210>=Sheet1!$F$16,'Pupil List'!$L210<Sheet1!$G$16),Sheet1!$A$16,\"\"))","v":""},{"$f":"IF($L210=\"\",\"\",IF(AND($L210>=Sheet1!$F$17,'Pupil List'!$L210<Sheet1!$G$17),Sheet1!$A$17,\"\"))","v":""},{"$f":"IF($L210=\"\",\"\",IF(AND($L210>=Sheet1!$F$18,'Pupil List'!$L210<Sheet1!$G$18),Sheet1!$A$18,\"\"))","v":""},{"$f":"IF($L210=\"\",\"\",IF(AND($L210>=Sheet1!$F$19,'Pupil List'!$L210<Sheet1!$G$19),Sheet1!$A$19,\"\"))","v":""},{"$f":"IF($L210=\"\",\"\",IF(AND($L210>=Sheet1!$F$20,'Pupil List'!$L210<Sheet1!$G$20),Sheet1!$A$20,\"\"))","v":""},{"$f":"IF($L210=\"\",\"\",IF(AND($L210>=Sheet1!$F$21,'Pupil List'!$L210<Sheet1!$G$21),Sheet1!$A$21,\"\"))","v":""},{"$f":"IF($L210=\"\",\"\",IF(AND($L210>=Sheet1!$F$22,'Pupil List'!$L210<Sheet1!$G$22),Sheet1!$A$22,\"\"))","v":""},{"$f":"IF($L210=\"\",\"\",IF(AND($L210>=Sheet1!$F$23,'Pupil List'!$L210<Sheet1!$G$23),Sheet1!$A$23,\"\"))","v":""},{"$f":"IF($L210=\"\",\"\",IF(AND($L210>=Sheet1!$F$24,'Pupil List'!$L210<Sheet1!$G$24),Sheet1!$A$24,\"\"))","v":""},{"$f":"IF($L210=\"\",\"\",IF(AND($L210>=Sheet1!$F$25,'Pupil List'!$L210<Sheet1!$G$25),Sheet1!$A$25,\"\"))","v":""},{"$error":"#N/A"},{"$f":"IFERROR(VLOOKUP(BK210,Sheet1!$A$2:$E$25,3,FALSE),\"\")","v":""},{"$f":"IFERROR(VLOOKUP(BK210,Sheet1!$A$2:$E$25,4,FALSE),\"\")","v":""},{"$f":"IFERROR(VLOOKUP(BK210,Sheet1!$A$2:$E$25,5,FALSE),\"\")","v":""},{"$f":"IFERROR(VLOOKUP(N210,Sheet1!$A$29:$B$38,2,FALSE),\"\")","v":""}]
["","","",null,null,null,null,null,"","","",null,"",null,"","","","","","","","","","","","","","","","","","","","","","","","",{"$f":"IF($L211=\"\",\"\",IF(AND($L211>=Sheet1!$F$2,'Pupil List'!$L211<Sheet1!$G$2),Sheet1!$A$2,\"\"))","v":""},{"$f":"IF($L211=\"\",\"\",IF(AND($L211>=Sheet1!$F$3,'Pupil List'!$L211<Sheet1!$G$3),Sheet1!$A$3,\"\"))","v":""},{"$f":"IF($L211=\"\",\"\",IF(AND($L211>=Sheet1!$F$4,'Pupil List'!$L211<Sheet1!$G$4),Sheet1!$A$4,\"\"))","v":""},{"$f":"IF($L211=\"\",\"\",IF(AND($L211>=Sheet1!$F$5,'Pupil List'!$L211<Sheet1!$G$5),Sheet1!$A$5,\"\"))","v":""},{"$f":"IF($L211=\"\",\"\",IF(AND($L211>=Sheet1!$F$6,'Pupil List'!$L211<Sheet1!$G$6),Sheet1!$A$6,\"\"))","v":""},{"$f":"IF($L211=\"\",\"\",IF(AND($L211>=Sheet1!$F$7,'Pupil List'!$L211<Sheet1!$G$7),Sheet1!$A$7,\"\"))","v":""},{"$f":"IF($L211=\"\",\"\",IF(AND($L211>=Sheet1!$F$8,'Pupil List'!$L211<Sheet1!$G$8),Sheet1!$A$8,\"\"))","v":""},{"$f":"IF($L211=\"\",\"\",IF(AND($L211>=Sheet1!$F$9,'Pupil List'!$L211<Sheet1!$G$9),Sheet1!$A$9,\"\"))","v":""},{"$f":"IF($L211=\"\",\"\",IF(AND($L211>=Sheet1!$F$10,'Pupil List'!$L211<Sheet1!$G$10),Sheet1!$A$10,\"\"))","v":""},{"$f":"IF($L211=\"\",\"\",IF(AND($L211>=Sheet1!$F$11,'Pupil List'!$L211<Sheet1!$G$11),Sheet1!$A$11,\"\"))","v":""},{"$f":"IF($L211=\"\",\"\",IF(AND($L211>=Sheet1!$F$12,'Pupil List'!$L211<Sheet1!$G$12),Sheet1!$A$12,\"\"))","v":""},{"$f":"IF($L211=\"\",\"\",IF(AND($L211>=Sheet1!$F$13,'Pupil List'!$L211<Sheet1!$G$13),Sheet1!$A$13,\"\"))","v":""},{"$f":"IF($L211=\"\",\"\",IF(AND($L211>=Sheet1!$F$14,'Pupil List'!$L211<Sheet1!$G$14),Sheet1!$A$14,\"\"))","v":""},{"$f":"IF($L211=\"\",\"\",IF(AND($L211>=Sheet1!$F$15,'Pupil List'!$L211<Sheet1!$G$15),Sheet1!$A$15,\"\"))","v":""},{"$f":"IF($L211=\"\",\"\",IF(AND($L211>=Sheet1!$F$16,'Pupil List'!$L211<Sheet1!$G$16),Sheet1!$A$16,\"\"))","v":""},{"$f":"IF($L211=\"\",\"\",IF(AND($L211>=Sheet1!$F$17,'Pupil List'!$L211<Sheet1!$G$17),Sheet1!$A$17,\"\"))","v":""},{"$f":"IF($L211=\"\",\"\",IF(AND($L211>=Sheet1!$F$18,'Pupil List'!$L211<Sheet1!$G$18),Sheet1!$A$18,\"\"))","v":""},{"$f":"IF($L211=\"\",\"\",IF(AND($L211>=Sheet1!$F$19,'Pupil List'!$L211<Sheet1!$G$19),Sheet1!$A$19,\"\"))","v":""},{"$f":"IF($L211=\"\",\"\",IF(AND($L211>=Sheet1!$F$20,'Pupil List'!$L211<Sheet1!$G$20),Sheet1!$A$20,\"\"))","v":""},{"$f":"IF($L211=\"\",\"\",IF(AND($L211>=Sheet1!$F$21,'Pupil List'!$L211<Sheet1!$G$21),Sheet1!$A$21,\"\"))","v":""},{"$f":"IF($L211=\"\",\"\",IF(AND($L211>=Sheet1!$F$22,'Pupil List'!$L211<Sheet1!$G$22),Sheet1!$A$22,\"\"))","v":""},{"$f":"IF($L211=\"\",\"\",IF(AND($L211>=Sheet1!$F$23,'Pupil List'!$L211<Sheet1!$G$23),Sheet1!$A$23,\"\"))","v":""},{"$f":"IF($L211=\"\",\"\",IF(AND($L211>=Sheet1!$F$24,'Pupil List'!$L211<Sheet1!$G$24),Sheet1!$A$24,\"\"))","v":""},{"$f":"IF($L211=\"\",\"\",IF(AND($L211>=Sheet1!$F$25,'Pupil List'!$L211<Sheet1!$G$25),Sheet1!$A$25,\"\"))","v":""},{"$error":"#N/A"},{"$f":"IFERROR(VLOOKUP(BK211,Sheet1!$A$2:$E$25,3,FALSE),\"\")","v":""},{"$f":"IFERROR(VLOOKUP(BK211,Sheet1!$A$2:$E$25,4,FALSE),\"\")","v":""},{"$f":"IFERROR(VLOOKUP(BK211,Sheet1!$A$2:$E$25,5,FALSE),\"\")","v":""},{"$f":"IFERROR(VLOOKUP(N211,Sheet1!$A$29:$B$38,2,FALSE),\"\")","v":""}]
["","","",null,null,null,null,null,"","","",null,"",null,"","","","","","","","","","","","","","","","","","","","","","","","",{"$f":"IF($L212=\"\",\"\",IF(AND($L212>=Sheet1!$F$2,'Pupil List'!$L212<Sheet1!$G$2),Sheet1!$A$2,\"\"))","v":""},{"$f":"IF($L212=\"\",\"\",IF(AND($L212>=Sheet1!$F$3,'Pupil List'!$L212<Sheet1!$G$3),Sheet1!$A$3,\"\"))","v":""},{"$f":"IF($L212=\"\",\"\",IF(AND($L212>=Sheet1!$F$4,'Pupil List'!$L212<Sheet1!$G$4),Sheet1!$A$4,\"\"))","v":""},{"$f":"IF($L212=\"\",\"\",IF(AND($L212>=Sheet1!$F$5,'Pupil List'!$L212<Sheet1!$G$5),Sheet1!$A$5,\"\"))","v":""},{"$f":"IF($L212=\"\",\"\",IF(AND($L212>=Sheet1!$F$6,'Pupil List'!$L212<Sheet1!$G$6),Sheet1!$A$6,\"\"))","v":""},{"$f":"IF($L212=\"\",\"\",IF(AND($L212>=Sheet1!$F$7,'Pupil List'!$L212<Sheet1!$G$7),Sheet1!$A$7,\"\"))","v":""},{"$f":"IF($L212=\"\",\"\",IF(AND($L212>=Sheet1!$F$8,'Pupil List'!$L212<Sheet1!$G$8),Sheet1!$A$8,\"\"))","v":""},{"$f":"IF($L212=\"\",\"\",IF(AND($L212>=Sheet1!$F$9,'Pupil List'!$L212<Sheet1!$G$9),Sheet1!$A$9,\"\"))","v":""},{"$f":"IF($L212=\"\",\"\",IF(AND($L212>=Sheet1!$F$10,'Pupil List'!$L212<Sheet1!$G$10),Sheet1!$A$10,\"\"))","v":""},{"$f":"IF($L212=\"\",\"\",IF(AND($L212>=Sheet1!$F$11,'Pupil List'!$L212<Sheet1!$G$11),Sheet1!$A$11,\"\"))","v":""},{"$f":"IF($L212=\"\",\"\",IF(AND($L212>=Sheet1!$F$12,'Pupil List'!$L212<Sheet1!$G$12),Sheet1!$A$12,\"\"))","v":""},{"$f":"IF($L212=\"\",\"\",IF(AND($L212>=Sheet1!$F$13,'Pupil List'!$L212<Sheet1!$G$13),Sheet1!$A$13,\"\"))","v":""},{"$f":"IF($L212=\"\",\"\",IF(AND($L212>=Sheet1!$F$14,'Pupil List'!$L212<Sheet1!$G$14),Sheet1!$A$14,\"\"))","v":""},{"$f":"IF($L212=\"\",\"\",IF(AND($L212>=Sheet1!$F$15,'Pupil List'!$L212<Sheet1!$G$15),Sheet1!$A$15,\"\"))","v":""},{"$f":"IF($L212=\"\",\"\",IF(AND($L212>=Sheet1!$F$16,'Pupil List'!$L212<Sheet1!$G$16),Sheet1!$A$16,\"\"))","v":""},{"$f":"IF($L212=\"\",\"\",IF(AND($L212>=Sheet1!$F$17,'Pupil List'!$L212<Sheet1!$G$17),Sheet1!$A$17,\"\"))","v":""},{"$f":"IF($L212=\"\",\"\",IF(AND($L212>=Sheet1!$F$18,'Pupil List'!$L212<Sheet1!$G$18),Sheet1!$A$18,\"\"))","v":""},{"$f":"IF($L212=\"\",\"\",IF(AND($L212>=Sheet1!$F$19,'Pupil List'!$L212<Sheet1!$G$19),Sheet1!$A$19,\"\"))","v":""},{"$f":"IF($L212=\"\",\"\",IF(AND($L212>=Sheet1!$F$20,'Pupil List'!$L212<Sheet1!$G$20),Sheet1!$A$20,\"\"))","v":""},{"$f":"IF($L212=\"\",\"\",IF(AND($L212>=Sheet1!$F$21,'Pupil List'!$L212<Sheet1!$G$21),Sheet1!$A$21,\"\"))","v":""},{"$f":"IF($L212=\"\",\"\",IF(AND($L212>=Sheet1!$F$22,'Pupil List'!$L212<Sheet1!$G$22),Sheet1!$A$22,\"\"))","v":""},{"$f":"IF($L212=\"\",\"\",IF(AND($L212>=Sheet1!$F$23,'Pupil List'!$L212<Sheet1!$G$23),Sheet1!$A$23,\"\"))","v":""},{"$f":"IF($L212=\"\",\"\",IF(AND($L212>=Sheet1!$F$24,'Pupil List'!$L212<Sheet1!$G$24),Sheet1!$A$24,\"\"))","v":""},{"$f":"IF($L212=\"\",\"\",IF(AND($L212>=Sheet1!$F$25,'Pupil List'!$L212<Sheet1!$G$25),Sheet1!$A$25,\"\"))","v":""},{"$error":"#N/A"},{"$f":"IFERROR(VLOOKUP(BK212,Sheet1!$A$2:$E$25,3,FALSE),\"\")","v":""},{"$f":"IFERROR(VLOOKUP(BK212,Sheet1!$A$2:$E$25,4,FALSE),\"\")","v":""},{"$f":"IFERROR(VLOOKUP(BK212,Sheet1!$A$2:$E$25,5,FALSE),\"\")","v":""},{"$f":"IFERROR(VLOOKUP(N212,Sheet1!$A$29:$B$38,2,FALSE),\"\")","v":""}]
["","","",null,null,null,null,null,"","","",null,"",null,"","","","","","","","","","","","","","","","","","","","","","","","",{"$f":"IF($L213=\"\",\"\",IF(AND($L213>=Sheet1!$F$2,'Pupil List'!$L213<Sheet1!$G$2),Sheet1!$A$2,\"\"))","v":""},{"$f":"IF($L213=\"\",\"\",IF(AND($L213>=Sheet1!$F$3,'Pupil List'!$L213<Sheet1!$G$3),Sheet1!$A$3,\"\"))","v":""},{"$f":"IF($L213=\"\",\"\",IF(AND($L213>=Sheet1!$F$4,'Pupil List'!$L213<Sheet1!$G$4),Sheet1!$A$4,\"\"))","v":""},{"$f":"IF($L213=\"\",\"\",IF(AND($L213>=Sheet1!$F$5,'Pupil List'!$L213<Sheet1!$G$5),Sheet1!$A$5,\"\"))","v":""},{"$f":"IF($L213=\"\",\"\",IF(AND($L213>=Sheet1!$F$6,'Pupil List'!$L213<Sheet1!$G$6),Sheet1!$A$6,\"\"))","v":""},{"$f":"IF($L213=\"\",\"\",IF(AND($L213>=Sheet1!$F$7,'Pupil List'!$L213<Sheet1!$G$7),Sheet1!$A$7,\"\"))","v":""},{"$f":"IF($L213=\"\",\"\",IF(AND($L213>=Sheet1!$F$8,'Pupil List'!$L213<Sheet1!$G$8),Sheet1!$A$8,\"\"))","v":""},{"$f":"IF($L213=\"\",\"\",IF(AND($L213>=Sheet1!$F$9,'Pupil List'!$L213<Sheet1!$G$9),Sheet1!$A$9,\"\"))","v":""},{"$f":"IF($L213=\"\",\"\",IF(AND($L213>=Sheet1!$F$10,'Pupil List'!$L213<Sheet1!$G$10),Sheet1!$A$10,\"\"))","v":""},{"$f":"IF($L213=\"\",\"\",IF(AND($L213>=Sheet1!$F$11,'Pupil List'!$L213<Sheet1!$G$11),Sheet1!$A$11,\"\"))","v":""},{"$f":"IF($L213=\"\",\"\",IF(AND($L213>=Sheet1!$F$12,'Pupil List'!$L213<Sheet1!$G$12),Sheet1!$A$12,\"\"))","v":""},{"$f":"IF($L213=\"\",\"\",IF(AND($L213>=Sheet1!$F$13,'Pupil List'!$L213<Sheet1!$G$13),Sheet1!$A$13,\"\"))","v":""},{"$f":"IF($L213=\"\",\"\",IF(AND($L213>=Sheet1!$F$14,'Pupil List'!$L213<Sheet1!$G$14),Sheet1!$A$14,\"\"))","v":""},{"$f":"IF($L213=\"\",\"\",IF(AND($L213>=Sheet1!$F$15,'Pupil List'!$L213<Sheet1!$G$15),Sheet1!$A$15,\"\"))","v":""},{"$f":"IF($L213=\"\",\"\",IF(AND($L213>=Sheet1!$F$16,'Pupil List'!$L213<Sheet1!$G$16),Sheet1!$A$16,\"\"))","v":""},{"$f":"IF($L213=\"\",\"\",IF(AND($L213>=Sheet1!$F$17,'Pupil List'!$L213<Sheet1!$G$17),Sheet1!$A$17,\"\"))","v":""},{"$f":"IF($L213=\"\",\"\",IF(AND($L213>=Sheet1!$F$18,'Pupil List'!$L213<Sheet1!$G$18),Sheet1!$A$18,\"\"))","v":""},{"$f":"IF($L213=\"\",\"\",IF(AND($L213>=Sheet1!$F$19,'Pupil List'!$L213<Sheet1!$G$19),Sheet1!$A$19,\"\"))","v":""},{"$f":"IF($L213=\"\",\"\",IF(AND($L213>=Sheet1!$F$20,'Pupil List'!$L213<Sheet1!$G$20),Sheet1!$A$20,\"\"))","v":""},{"$f":"IF($L213=\"\",\"\",IF(AND($L213>=Sheet1!$F$21,'Pupil List'!$L213<Sheet1!$G$21),Sheet1!$A$21,\"\"))","v":""},{"$f":"IF($L213=\"\",\"\",IF(AND($L213>=Sheet1!$F$22,'Pupil List'!$L213<Sheet1!$G$22),Sheet1!$A$22,\"\"))","v":""},{"$f":"IF($L213=\"\",\"\",IF(AND($L213>=Sheet1!$F$23,'Pupil List'!$L213<Sheet1!$G$23),Sheet1!$A$23,\"\"))","v":""},{"$f":"IF($L213=\"\",\"\",IF(AND($L213>=Sheet1!$F$24,'Pupil List'!$L213<Sheet1!$G$24),Sheet1!$A$24,\"\"))","v":""},{"$f":"IF($L213=\"\",\"\",IF(AND($L213>=Sheet1!$F$25,'Pupil List'!$L213<Sheet1!$G$25),Sheet1!$A$25,\"\"))","v":""},{"$error":"#N/A"},{"$f":"IFERROR(VLOOKUP(BK213,Sheet1!$A$2:$E$25,3,FALSE),\"\")","v":""},{"$f":"IFERROR(VLOOKUP(BK213,Sheet1!$A$2:$E$25,4,FALSE),\"\")","v":""},{"$f":"IFERROR(VLOOKUP(BK213,Sheet1!$A$2:$E$25,5,FALSE),\"\")","v":""},{"$f":"IFERROR(VLOOKUP(N213,Sheet1!$A$29:$B$38,2,FALSE),\"\")","v":""}]
["","","",null,null,null,null,null,"","","",null,"",null,"","","","","","","","","","","","","","","","","","","","","","","","",{"$f":"IF($L214=\"\",\"\",IF(AND($L214>=Sheet1!$F$2,'Pupil List'!$L214<Sheet1!$G$2),Sheet1!$A$2,\"\"))","v":""},{"$f":"IF($L214=\"\",\"\",IF(AND($L214>=Sheet1!$F$3,'Pupil List'!$L214<Sheet1!$G$3),Sheet1!$A$3,\"\"))","v":""},{"$f":"IF($L214=\"\",\"\",IF(AND($L214>=Sheet1!$F$4,'Pupil List'!$L214<Sheet1!$G$4),Sheet1!$A$4,\"\"))","v":""},{"$f":"IF($L214=\"\",\"\",IF(AND($L214>=Sheet1!$F$5,'Pupil List'!$L214<Sheet1!$G$5),Sheet1!$A$5,\"\"))","v":""},{"$f":"IF($L214=\"\",\"\",IF(AND($L214>=Sheet1!$F$6,'Pupil List'!$L214<Sheet1!$G$6),Sheet1!$A$6,\"\"))","v":""},{"$f":"IF($L214=\"\",\"\",IF(AND($L214>=Sheet1!$F$7,'Pupil List'!$L214<Sheet1!$G$7),Sheet1!$A$7,\"\"))","v":""},{"$f":"IF($L214=\"\",\"\",IF(AND($L214>=Sheet1!$F$8,'Pupil List'!$L214<Sheet1!$G$8),Sheet1!$A$8,\"\"))","v":""},{"$f":"IF($L214=\"\",\"\",IF(AND($L214>=Sheet1!$F$9,'Pupil List'!$L214<Sheet1!$G$9),Sheet1!$A$9,\"\"))","v":""},{"$f":"IF($L214=\"\",\"\",IF(AND($L214>=Sheet1!$F$10,'Pupil List'!$L214<Sheet1!$G$10),Sheet1!$A$10,\"\"))","v":""},{"$f":"IF($L214=\"\",\"\",IF(AND($L214>=Sheet1!$F$11,'Pupil List'!$L214<Sheet1!$G$11),Sheet1!$A$11,\"\"))","v":""},{"$f":"IF($L214=\"\",\"\",IF(AND($L214>=Sheet1!$F$12,'Pupil List'!$L214<Sheet1!$G$12),Sheet1!$A$12,\"\"))","v":""},{"$f":"IF($L214=\"\",\"\",IF(AND($L214>=Sheet1!$F$13,'Pupil List'!$L214<Sheet1!$G$13),Sheet1!$A$13,\"\"))","v":""},{"$f":"IF($L214=\"\",\"\",IF(AND($L214>=Sheet1!$F$14,'Pupil List'!$L214<Sheet1!$G$14),Sheet1!$A$14,\"\"))","v":""},{"$f":"IF($L214=\"\",\"\",IF(AND($L214>=Sheet1!$F$15,'Pupil List'!$L214<Sheet1!$G$15),Sheet1!$A$15,\"\"))","v":""},{"$f":"IF($L214=\"\",\"\",IF(AND($L214>=Sheet1!$F$16,'Pupil List'!$L214<Sheet1!$G$16),Sheet1!$A$16,\"\"))","v":""},{"$f":"IF($L214=\"\",\"\",IF(AND($L214>=Sheet1!$F$17,'Pupil List'!$L214<Sheet1!$G$17),Sheet1!$A$17,\"\"))","v":""},{"$f":"IF($L214=\"\",\"\",IF(AND($L214>=Sheet1!$F$18,'Pupil List'!$L214<Sheet1!$G$18),Sheet1!$A$18,\"\"))","v":""},{"$f":"IF($L214=\"\",\"\",IF(AND($L214>=Sheet1!$F$19,'Pupil List'!$L214<Sheet1!$G$19),Sheet1!$A$19,\"\"))","v":""},{"$f":"IF($L214=\"\",\"\",IF(AND($L214>=Sheet1!$F$20,'Pupil List'!$L214<Sheet1!$G$20),Sheet1!$A$20,\"\"))","v":""},{"$f":"IF($L214=\"\",\"\",IF(AND($L214>=Sheet1!$F$21,'Pupil List'!$L214<Sheet1!$G$21),Sheet1!$A$21,\"\"))","v":""},{"$f":"IF($L214=\"\",\"\",IF(AND($L214>=Sheet1!$F$22,'Pupil List'!$L214<Sheet1!$G$22),Sheet1!$A$22,\"\"))","v":""},{"$f":"IF($L214=\"\",\"\",IF(AND($L214>=Sheet1!$F$23,'Pupil List'!$L214<Sheet1!$G$23),Sheet1!$A$23,\"\"))","v":""},{"$f":"IF($L214=\"\",\"\",IF(AND($L214>=Sheet1!$F$24,'Pupil List'!$L214<Sheet1!$G$24),Sheet1!$A$24,\"\"))","v":""},{"$f":"IF($L214=\"\",\"\",IF(AND($L214>=Sheet1!$F$25,'Pupil List'!$L214<Sheet1!$G$25),Sheet1!$A$25,\"\"))","v":""},{"$error":"#N/A"},{"$f":"IFERROR(VLOOKUP(BK214,Sheet1!$A$2:$E$25,3,FALSE),\"\")","v":""},{"$f":"IFERROR(VLOOKUP(BK214,Sheet1!$A$2:$E$25,4,FALSE),\"\")","v":""},{"$f":"IFERROR(VLOOKUP(BK214,Sheet1!$A$2:$E$25,5,FALSE),\"\")","v":""},{"$f":"IFERROR(VLOOKUP(N214,Sheet1!$A$29:$B$38,2,FALSE),\"\")","v":""}]
["","","",null,null,null,null,null,"","","",null,"",null,"","","","","","","","","","","","","","","","","","","","","","","","",{"$f":"IF($L215=\"\",\"\",IF(AND($L215>=Sheet1!$F$2,'Pupil List'!$L215<Sheet1!$G$2),Sheet1!$A$2,\"\"))","v":""},{"$f":"IF($L215=\"\",\"\",IF(AND($L215>=Sheet1!$F$3,'Pupil List'!$L215<Sheet1!$G$3),Sheet1!$A$3,\"\"))","v":""},{"$f":"IF($L215=\"\",\"\",IF(AND($L215>=Sheet1!$F$4,'Pupil List'!$L215<Sheet1!$G$4),Sheet1!$A$4,\"\"))","v":""},{"$f":"IF($L215=\"\",\"\",IF(AND($L215>=Sheet1!$F$5,'Pupil List'!$L215<Sheet1!$G$5),Sheet1!$A$5,\"\"))","v":""},{"$f":"IF($L215=\"\",\"\",IF(AND($L215>=Sheet1!$F$6,'Pupil List'!$L215<Sheet1!$G$6),Sheet1!$A$6,\"\"))","v":""},{"$f":"IF($L215=\"\",\"\",IF(AND($L215>=Sheet1!$F$7,'Pupil List'!$L215<Sheet1!$G$7),Sheet1!$A$7,\"\"))","v":""},{"$f":"IF($L215=\"\",\"\",IF(AND($L215>=Sheet1!$F$8,'Pupil List'!$L215<Sheet1!$G$8),Sheet1!$A$8,\"\"))","v":""},{"$f":"IF($L215=\"\",\"\",IF(AND($L215>=Sheet1!$F$9,'Pupil List'!$L215<Sheet1!$G$9),Sheet1!$A$9,\"\"))","v":""},{"$f":"IF($L215=\"\",\"\",IF(AND($L215>=Sheet1!$F$10,'Pupil List'!$L215<Sheet1!$G$10),Sheet1!$A$10,\"\"))","v":""},{"$f":"IF($L215=\"\",\"\",IF(AND($L215>=Sheet1!$F$11,'Pupil List'!$L215<Sheet1!$G$11),Sheet1!$A$11,\"\"))","v":""},{"$f":"IF($L215=\"\",\"\",IF(AND($L215>=Sheet1!$F$12,'Pupil List'!$L215<Sheet1!$G$12),Sheet1!$A$12,\"\"))","v":""},{"$f":"IF($L215=\"\",\"\",IF(AND($L215>=Sheet1!$F$13,'Pupil List'!$L215<Sheet1!$G$13),Sheet1!$A$13,\"\"))","v":""},{"$f":"IF($L215=\"\",\"\",IF(AND($L215>=Sheet1!$F$14,'Pupil List'!$L215<Sheet1!$G$14),Sheet1!$A$14,\"\"))","v":""},{"$f":"IF($L215=\"\",\"\",IF(AND($L215>=Sheet1!$F$15,'Pupil List'!$L215<Sheet1!$G$15),Sheet1!$A$15,\"\"))","v":""},{"$f":"IF($L215=\"\",\"\",IF(AND($L215>=Sheet1!$F$16,'Pupil List'!$L215<Sheet1!$G$16),Sheet1!$A$16,\"\"))","v":""},{"$f":"IF($L215=\"\",\"\",IF(AND($L215>=Sheet1!$F$17,'Pupil List'!$L215<Sheet1!$G$17),Sheet1!$A$17,\"\"))","v":""},{"$f":"IF($L215=\"\",\"\",IF(AND($L215>=Sheet1!$F$18,'Pupil List'!$L215<Sheet1!$G$18),Sheet1!$A$18,\"\"))","v":""},{"$f":"IF($L215=\"\",\"\",IF(AND($L215>=Sheet1!$F$19,'Pupil List'!$L215<Sheet1!$G$19),Sheet1!$A$19,\"\"))","v":""},{"$f":"IF($L215=\"\",\"\",IF(AND($L215>=Sheet1!$F$20,'Pupil List'!$L215<Sheet1!$G$20),Sheet1!$A$20,\"\"))","v":""},{"$f":"IF($L215=\"\",\"\",IF(AND($L215>=Sheet1!$F$21,'Pupil List'!$L215<Sheet1!$G$21),Sheet1!$A$21,\"\"))","v":""},{"$f":"IF($L215=\"\",\"\",IF(AND($L215>=Sheet1!$F$22,'Pupil List'!$L215<Sheet1!$G$22),Sheet1!$A$22,\"\"))","v":""},{"$f":"IF($L215=\"\",\"\",IF(AND($L215>=Sheet1!$F$23,'Pupil List'!$L215<Sheet1!$G$23),Sheet1!$A$23,\"\"))","v":""},{"$f":"IF($L215=\"\",\"\",IF(AND($L215>=Sheet1!$F$24,'Pupil List'!$L215<Sheet1!$G$24),Sheet1!$A$24,\"\"))","v":""},{"$f":"IF($L215=\"\",\"\",IF(AND($L215>=Sheet1!$F$25,'Pupil List'!$L215<Sheet1!$G$25),Sheet1!$A$25,\"\"))","v":""},{"$error":"#N/A"},{"$f":"IFERROR(VLOOKUP(BK215,Sheet1!$A$2:$E$25,3,FALSE),\"\")","v":""},{"$f":"IFERROR(VLOOKUP(BK215,Sheet1!$A$2:$E$25,4,FALSE),\"\")","v":""},{"$f":"IFERROR(VLOOKUP(BK215,Sheet1!$A$2:$E$25,5,FALSE),\"\")","v":""},{"$f":"IFERROR(VLOOKUP(N215,Sheet1!$A$29:$B$38,2,FALSE),\"\")","v":""}]
["","","",null,null,null,null,null,"","","",null,"",null,"","","","","","","","","","","","","","","","","","","","","","","","",{"$f":"IF($L216=\"\",\"\",IF(AND($L216>=Sheet1!$F$2,'Pupil List'!$L216<Sheet1!$G$2),Sheet1!$A$2,\"\"))","v":""},{"$f":"IF($L216=\"\",\"\",IF(AND($L216>=Sheet1!$F$3,'Pupil List'!$L216<Sheet1!$G$3),Sheet1!$A$3,\"\"))","v":""},{"$f":"IF($L216=\"\",\"\",IF(AND($L216>=Sheet1!$F$4,'Pupil List'!$L216<Sheet1!$G$4),Sheet1!$A$4,\"\"))","v":""},{"$f":"IF($L216=\"\",\"\",IF(AND($L216>=Sheet1!$F$5,'Pupil List'!$L216<Sheet1!$G$5),Sheet1!$A$5,\"\"))","v":""},{"$f":"IF($L216=\"\",\"\",IF(AND($L216>=Sheet1!$F$6,'Pupil List'!$L216<Sheet1!$G$6),Sheet1!$A$6,\"\"))","v":""},{"$f":"IF($L216=\"\",\"\",IF(AND($L216>=Sheet1!$F$7,'Pupil List'!$L216<Sheet1!$G$7),Sheet1!$A$7,\"\"))","v":""},{"$f":"IF($L216=\"\",\"\",IF(AND($L216>=Sheet1!$F$8,'Pupil List'!$L216<Sheet1!$G$8),Sheet1!$A$8,\"\"))","v":""},{"$f":"IF($L216=\"\",\"\",IF(AND($L216>=Sheet1!$F$9,'Pupil List'!$L216<Sheet1!$G$9),Sheet1!$A$9,\"\"))","v":""},{"$f":"IF($L216=\"\",\"\",IF(AND($L216>=Sheet1!$F$10,'Pupil List'!$L216<Sheet1!$G$10),Sheet1!$A$10,\"\"))","v":""},{"$f":"IF($L216=\"\",\"\",IF(AND($L216>=Sheet1!$F$11,'Pupil List'!$L216<Sheet1!$G$11),Sheet1!$A$11,\"\"))","v":""},{"$f":"IF($L216=\"\",\"\",IF(AND($L216>=Sheet1!$F$12,'Pupil List'!$L216<Sheet1!$G$12),Sheet1!$A$12,\"\"))","v":""},{"$f":"IF($L216=\"\",\"\",IF(AND($L216>=Sheet1!$F$13,'Pupil List'!$L216<Sheet1!$G$13),Sheet1!$A$13,\"\"))","v":""},{"$f":"IF($L216=\"\",\"\",IF(AND($L216>=Sheet1!$F$14,'Pupil List'!$L216<Sheet1!$G$14),Sheet1!$A$14,\"\"))","v":""},{"$f":"IF($L216=\"\",\"\",IF(AND($L216>=Sheet1!$F$15,'Pupil List'!$L216<Sheet1!$G$15),Sheet1!$A$15,\"\"))","v":""},{"$f":"IF($L216=\"\",\"\",IF(AND($L216>=Sheet1!$F$16,'Pupil List'!$L216<Sheet1!$G$16),Sheet1!$A$16,\"\"))","v":""},{"$f":"IF($L216=\"\",\"\",IF(AND($L216>=Sheet1!$F$17,'Pupil List'!$L216<Sheet1!$G$17),Sheet1!$A$17,\"\"))","v":""},{"$f":"IF($L216=\"\",\"\",IF(AND($L216>=Sheet1!$F$18,'Pupil List'!$L216<Sheet1!$G$18),Sheet1!$A$18,\"\"))","v":""},{"$f":"IF($L216=\"\",\"\",IF(AND($L216>=Sheet1!$F$19,'Pupil List'!$L216<Sheet1!$G$19),Sheet1!$A$19,\"\"))","v":""},{"$f":"IF($L216=\"\",\"\",IF(AND($L216>=Sheet1!$F$20,'Pupil List'!$L216<Sheet1!$G$20),Sheet1!$A$20,\"\"))","v":""},{"$f":"IF($L216=\"\",\"\",IF(AND($L216>=Sheet1!$F$21,'Pupil List'!$L216<Sheet1!$G$21),Sheet1!$A$21,\"\"))","v":""},{"$f":"IF($L216=\"\",\"\",IF(AND($L216>=Sheet1!$F$22,'Pupil List'!$L216<Sheet1!$G$22),Sheet1!$A$22,\"\"))","v":""},{"$f":"IF($L216=\"\",\"\",IF(AND($L216>=Sheet1!$F$23,'Pupil List'!$L216<Sheet1!$G$23),Sheet1!$A$23,\"\"))","v":""},{"$f":"IF($L216=\"\",\"\",IF(AND($L216>=Sheet1!$F$24,'Pupil List'!$L216<Sheet1!$G$24),Sheet1!$A$24,\"\"))","v":""},{"$f":"IF($L216=\"\",\"\",IF(AND($L216>=Sheet1!$F$25,'Pupil List'!$L216<Sheet1!$G$25),Sheet1!$A$25,\"\"))","v":""},{"$error":"#N/A"},{"$f":"IFERROR(VLOOKUP(BK216,Sheet1!$A$2:$E$25,3,FALSE),\"\")","v":""},{"$f":"IFERROR(VLOOKUP(BK216,Sheet1!$A$2:$E$25,4,FALSE),\"\")","v":""},{"$f":"IFERROR(VLOOKUP(BK216,Sheet1!$A$2:$E$25,5,FALSE),\"\")","v":""},{"$f":"IFERROR(VLOOKUP(N216,Sheet1!$A$29:$B$38,2,FALSE),\"\")","v":""}]
["","","",null,null,null,null,null,"","","",null,"",null,"","","","","","","","","","","","","","","","","","","","","","","","",{"$f":"IF($L217=\"\",\"\",IF(AND($L217>=Sheet1!$F$2,'Pupil List'!$L217<Sheet1!$G$2),Sheet1!$A$2,\"\"))","v":""},{"$f":"IF($L217=\"\",\"\",IF(AND($L217>=Sheet1!$F$3,'Pupil List'!$L217<Sheet1!$G$3),Sheet1!$A$3,\"\"))","v":""},{"$f":"IF($L217=\"\",\"\",IF(AND($L217>=Sheet1!$F$4,'Pupil List'!$L217<Sheet1!$G$4),Sheet1!$A$4,\"\"))","v":""},{"$f":"IF($L217=\"\",\"\",IF(AND($L217>=Sheet1!$F$5,'Pupil List'!$L217<Sheet1!$G$5),Sheet1!$A$5,\"\"))","v":""},{"$f":"IF($L217=\"\",\"\",IF(AND($L217>=Sheet1!$F$6,'Pupil List'!$L217<Sheet1!$G$6),Sheet1!$A$6,\"\"))","v":""},{"$f":"IF($L217=\"\",\"\",IF(AND($L217>=Sheet1!$F$7,'Pupil List'!$L217<Sheet1!$G$7),Sheet1!$A$7,\"\"))","v":""},{"$f":"IF($L217=\"\",\"\",IF(AND($L217>=Sheet1!$F$8,'Pupil List'!$L217<Sheet1!$G$8),Sheet1!$A$8,\"\"))","v":""},{"$f":"IF($L217=\"\",\"\",IF(AND($L217>=Sheet1!$F$9,'Pupil List'!$L217<Sheet1!$G$9),Sheet1!$A$9,\"\"))","v":""},{"$f":"IF($L217=\"\",\"\",IF(AND($L217>=Sheet1!$F$10,'Pupil List'!$L217<Sheet1!$G$10),Sheet1!$A$10,\"\"))","v":""},{"$f":"IF($L217=\"\",\"\",IF(AND($L217>=Sheet1!$F$11,'Pupil List'!$L217<Sheet1!$G$11),Sheet1!$A$11,\"\"))","v":""},{"$f":"IF($L217=\"\",\"\",IF(AND($L217>=Sheet1!$F$12,'Pupil List'!$L217<Sheet1!$G$12),Sheet1!$A$12,\"\"))","v":""},{"$f":"IF($L217=\"\",\"\",IF(AND($L217>=Sheet1!$F$13,'Pupil List'!$L217<Sheet1!$G$13),Sheet1!$A$13,\"\"))","v":""},{"$f":"IF($L217=\"\",\"\",IF(AND($L217>=Sheet1!$F$14,'Pupil List'!$L217<Sheet1!$G$14),Sheet1!$A$14,\"\"))","v":""},{"$f":"IF($L217=\"\",\"\",IF(AND($L217>=Sheet1!$F$15,'Pupil List'!$L217<Sheet1!$G$15),Sheet1!$A$15,\"\"))","v":""},{"$f":"IF($L217=\"\",\"\",IF(AND($L217>=Sheet1!$F$16,'Pupil List'!$L217<Sheet1!$G$16),Sheet1!$A$16,\"\"))","v":""},{"$f":"IF($L217=\"\",\"\",IF(AND($L217>=Sheet1!$F$17,'Pupil List'!$L217<Sheet1!$G$17),Sheet1!$A$17,\"\"))","v":""},{"$f":"IF($L217=\"\",\"\",IF(AND($L217>=Sheet1!$F$18,'Pupil List'!$L217<Sheet1!$G$18),Sheet1!$A$18,\"\"))","v":""},{"$f":"IF($L217=\"\",\"\",IF(AND($L217>=Sheet1!$F$19,'Pupil List'!$L217<Sheet1!$G$19),Sheet1!$A$19,\"\"))","v":""},{"$f":"IF($L217=\"\",\"\",IF(AND($L217>=Sheet1!$F$20,'Pupil List'!$L217<Sheet1!$G$20),Sheet1!$A$20,\"\"))","v":""},{"$f":"IF($L217=\"\",\"\",IF(AND($L217>=Sheet1!$F$21,'Pupil List'!$L217<Sheet1!$G$21),Sheet1!$A$21,\"\"))","v":""},{"$f":"IF($L217=\"\",\"\",IF(AND($L217>=Sheet1!$F$22,'Pupil List'!$L217<Sheet1!$G$22),Sheet1!$A$22,\"\"))","v":""},{"$f":"IF($L217=\"\",\"\",IF(AND($L217>=Sheet1!$F$23,'Pupil List'!$L217<Sheet1!$G$23),Sheet1!$A$23,\"\"))","v":""},{"$f":"IF($L217=\"\",\"\",IF(AND($L217>=Sheet1!$F$24,'Pupil List'!$L217<Sheet1!$G$24),Sheet1!$A$24,\"\"))","v":""},{"$f":"IF($L217=\"\",\"\",IF(AND($L217>=Sheet1!$F$25,'Pupil List'!$L217<Sheet1!$G$25),Sheet1!$A$25,\"\"))","v":""},{"$error":"#N/A"},{"$f":"IFERROR(VLOOKUP(BK217,Sheet1!$A$2:$E$25,3,FALSE),\"\")","v":""},{"$f":"IFERROR(VLOOKUP(BK217,Sheet1!$A$2:$E$25,4,FALSE),\"\")","v":""},{"$f":"IFERROR(VLOOKUP(BK217,Sheet1!$A$2:$E$25,5,FALSE),\"\")","v":""},{"$f":"IFERROR(VLOOKUP(N217,Sheet1!$A$29:$B$38,2,FALSE),\"\")","v":""}]
["","","",null,null,null,null,null,"","","",null,"",null,"","","","","","","","","","","","","","","","","","","","","","","","",{"$f":"IF($L218=\"\",\"\",IF(AND($L218>=Sheet1!$F$2,'Pupil List'!$L218<Sheet1!$G$2),Sheet1!$A$2,\"\"))","v":""},{"$f":"IF($L218=\"\",\"\",IF(AND($L218>=Sheet1!$F$3,'Pupil List'!$L218<Sheet1!$G$3),Sheet1!$A$3,\"\"))","v":""},{"$f":"IF($L218=\"\",\"\",IF(AND($L218>=Sheet1!$F$4,'Pupil List'!$L218<Sheet1!$G$4),Sheet1!$A$4,\"\"))","v":""},{"$f":"IF($L218=\"\",\"\",IF(AND($L218>=Sheet1!$F$5,'Pupil List'!$L218<Sheet1!$G$5),Sheet1!$A$5,\"\"))","v":""},{"$f":"IF($L218=\"\",\"\",IF(AND($L218>=Sheet1!$F$6,'Pupil List'!$L218<Sheet1!$G$6),Sheet1!$A$6,\"\"))","v":""},{"$f":"IF($L218=\"\",\"\",IF(AND($L218>=Sheet1!$F$7,'Pupil List'!$L218<Sheet1!$G$7),Sheet1!$A$7,\"\"))","v":""},{"$f":"IF($L218=\"\",\"\",IF(AND($L218>=Sheet1!$F$8,'Pupil List'!$L218<Sheet1!$G$8),Sheet1!$A$8,\"\"))","v":""},{"$f":"IF($L218=\"\",\"\",IF(AND($L218>=Sheet1!$F$9,'Pupil List'!$L218<Sheet1!$G$9),Sheet1!$A$9,\"\"))","v":""},{"$f":"IF($L218=\"\",\"\",IF(AND($L218>=Sheet1!$F$10,'Pupil List'!$L218<Sheet1!$G$10),Sheet1!$A$10,\"\"))","v":""},{"$f":"IF($L218=\"\",\"\",IF(AND($L218>=Sheet1!$F$11,'Pupil List'!$L218<Sheet1!$G$11),Sheet1!$A$11,\"\"))","v":""},{"$f":"IF($L218=\"\",\"\",IF(AND($L218>=Sheet1!$F$12,'Pupil List'!$L218<Sheet1!$G$12),Sheet1!$A$12,\"\"))","v":""},{"$f":"IF($L218=\"\",\"\",IF(AND($L218>=Sheet1!$F$13,'Pupil List'!$L218<Sheet1!$G$13),Sheet1!$A$13,\"\"))","v":""},{"$f":"IF($L218=\"\",\"\",IF(AND($L218>=Sheet1!$F$14,'Pupil List'!$L218<Sheet1!$G$14),Sheet1!$A$14,\"\"))","v":""},{"$f":"IF($L218=\"\",\"\",IF(AND($L218>=Sheet1!$F$15,'Pupil List'!$L218<Sheet1!$G$15),Sheet1!$A$15,\"\"))","v":""},{"$f":"IF($L218=\"\",\"\",IF(AND($L218>=Sheet1!$F$16,'Pupil List'!$L218<Sheet1!$G$16),Sheet1!$A$16,\"\"))","v":""},{"$f":"IF($L218=\"\",\"\",IF(AND($L218>=Sheet1!$F$17,'Pupil List'!$L218<Sheet1!$G$17),Sheet1!$A$17,\"\"))","v":""},{"$f":"IF($L218=\"\",\"\",IF(AND($L218>=Sheet1!$F$18,'Pupil List'!$L218<Sheet1!$G$18),Sheet1!$A$18,\"\"))","v":""},{"$f":"IF($L218=\"\",\"\",IF(AND($L218>=Sheet1!$F$19,'Pupil List'!$L218<Sheet1!$G$19),Sheet1!$A$19,\"\"))","v":""},{"$f":"IF($L218=\"\",\"\",IF(AND($L218>=Sheet1!$F$20,'Pupil List'!$L218<Sheet1!$G$20),Sheet1!$A$20,\"\"))","v":""},{"$f":"IF($L218=\"\",\"\",IF(AND($L218>=Sheet1!$F$21,'Pupil List'!$L218<Sheet1!$G$21),Sheet1!$A$21,\"\"))","v":""},{"$f":"IF($L218=\"\",\"\",IF(AND($L218>=Sheet1!$F$22,'Pupil List'!$L218<Sheet1!$G$22),Sheet1!$A$22,\"\"))","v":""},{"$f":"IF($L218=\"\",\"\",IF(AND($L218>=Sheet1!$F$23,'Pupil List'!$L218<Sheet1!$G$23),Sheet1!$A$23,\"\"))","v":""},{"$f":"IF($L218=\"\",\"\",IF(AND($L218>=Sheet1!$F$24,'Pupil List'!$L218<Sheet1!$G$24),Sheet1!$A$24,\"\"))","v":""},{"$f":"IF($L218=\"\",\"\",IF(AND($L218>=Sheet1!$F$25,'Pupil List'!$L218<Sheet1!$G$25),Sheet1!$A$25,\"\"))","v":""},{"$error":"#N/A"},{"$f":"IFERROR(VLOOKUP(BK218,Sheet1!$A$2:$E$25,3,FALSE),\"\")","v":""},{"$f":"IFERROR(VLOOKUP(BK218,Sheet1!$A$2:$E$25,4,FALSE),\"\")","v":""},{"$f":"IFERROR(VLOOKUP(BK218,Sheet1!$A$2:$E$25,5,FALSE),\"\")","v":""},{"$f":"IFERROR(VLOOKUP(N218,Sheet1!$A$29:$B$38,2,FALSE),\"\")","v":""}]
["","","",null,null,null,null,null,"","","",null,"",null,"","","","","","","","","","","","","","","","","","","","","","","","",{"$f":"IF($L219=\"\",\"\",IF(AND($L219>=Sheet1!$F$2,'Pupil List'!$L219<Sheet1!$G$2),Sheet1!$A$2,\"\"))","v":""},{"$f":"IF($L219=\"\",\"\",IF(AND($L219>=Sheet1!$F$3,'Pupil List'!$L219<Sheet1!$G$3),Sheet1!$A$3,\"\"))","v":""},{"$f":"IF($L219=\"\",\"\",IF(AND($L219>=Sheet1!$F$4,'Pupil List'!$L219<Sheet1!$G$4),Sheet1!$A$4,\"\"))","v":""},{"$f":"IF($L219=\"\",\"\",IF(AND($L219>=Sheet1!$F$5,'Pupil List'!$L219<Sheet1!$G$5),Sheet1!$A$5,\"\"))","v":""},{"$f":"IF($L219=\"\",\"\",IF(AND($L219>=Sheet1!$F$6,'Pupil List'!$L219<Sheet1!$G$6),Sheet1!$A$6,\"\"))","v":""},{"$f":"IF($L219=\"\",\"\",IF(AND($L219>=Sheet1!$F$7,'Pupil List'!$L219<Sheet1!$G$7),Sheet1!$A$7,\"\"))","v":""},{"$f":"IF($L219=\"\",\"\",IF(AND($L219>=Sheet1!$F$8,'Pupil List'!$L219<Sheet1!$G$8),Sheet1!$A$8,\"\"))","v":""},{"$f":"IF($L219=\"\",\"\",IF(AND($L219>=Sheet1!$F$9,'Pupil List'!$L219<Sheet1!$G$9),Sheet1!$A$9,\"\"))","v":""},{"$f":"IF($L219=\"\",\"\",IF(AND($L219>=Sheet1!$F$10,'Pupil List'!$L219<Sheet1!$G$10),Sheet1!$A$10,\"\"))","v":""},{"$f":"IF($L219=\"\",\"\",IF(AND($L219>=Sheet1!$F$11,'Pupil List'!$L219<Sheet1!$G$11),Sheet1!$A$11,\"\"))","v":""},{"$f":"IF($L219=\"\",\"\",IF(AND($L219>=Sheet1!$F$12,'Pupil List'!$L219<Sheet1!$G$12),Sheet1!$A$12,\"\"))","v":""},{"$f":"IF($L219=\"\",\"\",IF(AND($L219>=Sheet1!$F$13,'Pupil List'!$L219<Sheet1!$G$13),Sheet1!$A$13,\"\"))","v":""},{"$f":"IF($L219=\"\",\"\",IF(AND($L219>=Sheet1!$F$14,'Pupil List'!$L219<Sheet1!$G$14),Sheet1!$A$14,\"\"))","v":""},{"$f":"IF($L219=\"\",\"\",IF(AND($L219>=Sheet1!$F$15,'Pupil List'!$L219<Sheet1!$G$15),Sheet1!$A$15,\"\"))","v":""},{"$f":"IF($L219=\"\",\"\",IF(AND($L219>=Sheet1!$F$16,'Pupil List'!$L219<Sheet1!$G$16),Sheet1!$A$16,\"\"))","v":""},{"$f":"IF($L219=\"\",\"\",IF(AND($L219>=Sheet1!$F$17,'Pupil List'!$L219<Sheet1!$G$17),Sheet1!$A$17,\"\"))","v":""},{"$f":"IF($L219=\"\",\"\",IF(AND($L219>=Sheet1!$F$18,'Pupil List'!$L219<Sheet1!$G$18),Sheet1!$A$18,\"\"))","v":""},{"$f":"IF($L219=\"\",\"\",IF(AND($L219>=Sheet1!$F$19,'Pupil List'!$L219<Sheet1!$G$19),Sheet1!$A$19,\"\"))","v":""},{"$f":"IF($L219=\"\",\"\",IF(AND($L219>=Sheet1!$F$20,'Pupil List'!$L219<Sheet1!$G$20),Sheet1!$A$20,\"\"))","v":""},{"$f":"IF($L219=\"\",\"\",IF(AND($L219>=Sheet1!$F$21,'Pupil List'!$L219<Sheet1!$G$21),Sheet1!$A$21,\"\"))","v":""},{"$f":"IF($L219=\"\",\"\",IF(AND($L219>=Sheet1!$F$22,'Pupil List'!$L219<Sheet1!$G$22),Sheet1!$A$22,\"\"))","v":""},{"$f":"IF($L219=\"\",\"\",IF(AND($L219>=Sheet1!$F$23,'Pupil List'!$L219<Sheet1!$G$23),Sheet1!$A$23,\"\"))","v":""},{"$f":"IF($L219=\"\",\"\",IF(AND($L219>=Sheet1!$F$24,'Pupil List'!$L219<Sheet1!$G$24),Sheet1!$A$24,\"\"))","v":""},{"$f":"IF($L219=\"\",\"\",IF(AND($L219>=Sheet1!$F$25,'Pupil List'!$L219<Sheet1!$G$25),Sheet1!$A$25,\"\"))","v":""},{"$error":"#N/A"},{"$f":"IFERROR(VLOOKUP(BK219,Sheet1!$A$2:$E$25,3,FALSE),\"\")","v":""},{"$f":"IFERROR(VLOOKUP(BK219,Sheet1!$A$2:$E$25,4,FALSE),\"\")","v":""},{"$f":"IFERROR(VLOOKUP(BK219,Sheet1!$A$2:$E$25,5,FALSE),\"\")","v":""},{"$f":"IFERROR(VLOOKUP(N219,Sheet1!$A$29:$B$38,2,FALSE),\"\")","v":""}]
["","","",null,null,null,null,null,"","","",null,"",null,"","","","","","","","","","","","","","","","","","","","","","","","",{"$f":"IF($L220=\"\",\"\",IF(AND($L220>=Sheet1!$F$2,'Pupil List'!$L220<Sheet1!$G$2),Sheet1!$A$2,\"\"))","v":""},{"$f":"IF($L220=\"\",\"\",IF(AND($L220>=Sheet1!$F$3,'Pupil List'!$L220<Sheet1!$G$3),Sheet1!$A$3,\"\"))","v":""},{"$f":"IF($L220=\"\",\"\",IF(AND($L220>=Sheet1!$F$4,'Pupil List'!$L220<Sheet1!$G$4),Sheet1!$A$4,\"\"))","v":""},{"$f":"IF($L220=\"\",\"\",IF(AND($L220>=Sheet1!$F$5,'Pupil List'!$L220<Sheet1!$G$5),Sheet1!$A$5,\"\"))","v":""},{"$f":"IF($L220=\"\",\"\",IF(AND($L220>=Sheet1!$F$6,'Pupil List'!$L220<Sheet1!$G$6),Sheet1!$A$6,\"\"))","v":""},{"$f":"IF($L220=\"\",\"\",IF(AND($L220>=Sheet1!$F$7,'Pupil List'!$L220<Sheet1!$G$7),Sheet1!$A$7,\"\"))","v":""},{"$f":"IF($L220=\"\",\"\",IF(AND($L220>=Sheet1!$F$8,'Pupil List'!$L220<Sheet1!$G$8),Sheet1!$A$8,\"\"))","v":""},{"$f":"IF($L220=\"\",\"\",IF(AND($L220>=Sheet1!$F$9,'Pupil List'!$L220<Sheet1!$G$9),Sheet1!$A$9,\"\"))","v":""},{"$f":"IF($L220=\"\",\"\",IF(AND($L220>=Sheet1!$F$10,'Pupil List'!$L220<Sheet1!$G$10),Sheet1!$A$10,\"\"))","v":""},{"$f":"IF($L220=\"\",\"\",IF(AND($L220>=Sheet1!$F$11,'Pupil List'!$L220<Sheet1!$G$11),Sheet1!$A$11,\"\"))","v":""},{"$f":"IF($L220=\"\",\"\",IF(AND($L220>=Sheet1!$F$12,'Pupil List'!$L220<Sheet1!$G$12),Sheet1!$A$12,\"\"))","v":""},{"$f":"IF($L220=\"\",\"\",IF(AND($L220>=Sheet1!$F$13,'Pupil List'!$L220<Sheet1!$G$13),Sheet1!$A$13,\"\"))","v":""},{"$f":"IF($L220=\"\",\"\",IF(AND($L220>=Sheet1!$F$14,'Pupil List'!$L220<Sheet1!$G$14),Sheet1!$A$14,\"\"))","v":""},{"$f":"IF($L220=\"\",\"\",IF(AND($L220>=Sheet1!$F$15,'Pupil List'!$L220<Sheet1!$G$15),Sheet1!$A$15,\"\"))","v":""},{"$f":"IF($L220=\"\",\"\",IF(AND($L220>=Sheet1!$F$16,'Pupil List'!$L220<Sheet1!$G$16),Sheet1!$A$16,\"\"))","v":""},{"$f":"IF($L220=\"\",\"\",IF(AND($L220>=Sheet1!$F$17,'Pupil List'!$L220<Sheet1!$G$17),Sheet1!$A$17,\"\"))","v":""},{"$f":"IF($L220=\"\",\"\",IF(AND($L220>=Sheet1!$F$18,'Pupil List'!$L220<Sheet1!$G$18),Sheet1!$A$18,\"\"))","v":""},{"$f":"IF($L220=\"\",\"\",IF(AND($L220>=Sheet1!$F$19,'Pupil List'!$L220<Sheet1!$G$19),Sheet1!$A$19,\"\"))","v":""},{"$f":"IF($L220=\"\",\"\",IF(AND($L220>=Sheet1!$F$20,'Pupil List'!$L220<Sheet1!$G$20),Sheet1!$A$20,\"\"))","v":""},{"$f":"IF($L220=\"\",\"\",IF(AND($L220>=Sheet1!$F$21,'Pupil List'!$L220<Sheet1!$G$21),Sheet1!$A$21,\"\"))","v":""},{"$f":"IF($L220=\"\",\"\",IF(AND($L220>=Sheet1!$F$22,'Pupil List'!$L220<Sheet1!$G$22),Sheet1!$A$22,\"\"))","v":""},{"$f":"IF($L220=\"\",\"\",IF(AND($L220>=Sheet1!$F$23,'Pupil List'!$L220<Sheet1!$G$23),Sheet1!$A$23,\"\"))","v":""},{"$f":"IF($L220=\"\",\"\",IF(AND($L220>=Sheet1!$F$24,'Pupil List'!$L220<Sheet1!$G$24),Sheet1!$A$24,\"\"))","v":""},{"$f":"IF($L220=\"\",\"\",IF(AND($L220>=Sheet1!$F$25,'Pupil List'!$L220<Sheet1!$G$25),Sheet1!$A$25,\"\"))","v":""},{"$error":"#N/A"},{"$f":"IFERROR(VLOOKUP(BK220,Sheet1!$A$2:$E$25,3,FALSE),\"\")","v":""},{"$f":"IFERROR(VLOOKUP(BK220,Sheet1!$A$2:$E$25,4,FALSE),\"\")","v":""},{"$f":"IFERROR(VLOOKUP(BK220,Sheet1!$A$2:$E$25,5,FALSE),\"\")","v":""},{"$f":"IFERROR(VLOOKUP(N220,Sheet1!$A$29:$B$38,2,FALSE),\"\")","v":""}]
["","","",null,null,null,null,null,"","","",null,"",null,"","","","","","","","","","","","","","","","","","","","","","","","",{"$f":"IF($L221=\"\",\"\",IF(AND($L221>=Sheet1!$F$2,'Pupil List'!$L221<Sheet1!$G$2),Sheet1!$A$2,\"\"))","v":""},{"$f":"IF($L221=\"\",\"\",IF(AND($L221>=Sheet1!$F$3,'Pupil List'!$L221<Sheet1!$G$3),Sheet1!$A$3,\"\"))","v":""},{"$f":"IF($L221=\"\",\"\",IF(AND($L221>=Sheet1!$F$4,'Pupil List'!$L221<Sheet1!$G$4),Sheet1!$A$4,\"\"))","v":""},{"$f":"IF($L221=\"\",\"\",IF(AND($L221>=Sheet1!$F$5,'Pupil List'!$L221<Sheet1!$G$5),Sheet1!$A$5,\"\"))","v":""},{"$f":"IF($L221=\"\",\"\",IF(AND($L221>=Sheet1!$F$6,'Pupil List'!$L221<Sheet1!$G$6),Sheet1!$A$6,\"\"))","v":""},{"$f":"IF($L221=\"\",\"\",IF(AND($L221>=Sheet1!$F$7,'Pupil List'!$L221<Sheet1!$G$7),Sheet1!$A$7,\"\"))","v":""},{"$f":"IF($L221=\"\",\"\",IF(AND($L221>=Sheet1!$F$8,'Pupil List'!$L221<Sheet1!$G$8),Sheet1!$A$8,\"\"))","v":""},{"$f":"IF($L221=\"\",\"\",IF(AND($L221>=Sheet1!$F$9,'Pupil List'!$L221<Sheet1!$G$9),Sheet1!$A$9,\"\"))","v":""},{"$f":"IF($L221=\"\",\"\",IF(AND($L221>=Sheet1!$F$10,'Pupil List'!$L221<Sheet1!$G$10),Sheet1!$A$10,\"\"))","v":""},{"$f":"IF($L221=\"\",\"\",IF(AND($L221>=Sheet1!$F$11,'Pupil List'!$L221<Sheet1!$G$11),Sheet1!$A$11,\"\"))","v":""},{"$f":"IF($L221=\"\",\"\",IF(AND($L221>=Sheet1!$F$12,'Pupil List'!$L221<Sheet1!$G$12),Sheet1!$A$12,\"\"))","v":""},{"$f":"IF($L221=\"\",\"\",IF(AND($L221>=Sheet1!$F$13,'Pupil List'!$L221<Sheet1!$G$13),Sheet1!$A$13,\"\"))","v":""},{"$f":"IF($L221=\"\",\"\",IF(AND($L221>=Sheet1!$F$14,'Pupil List'!$L221<Sheet1!$G$14),Sheet1!$A$14,\"\"))","v":""},{"$f":"IF($L221=\"\",\"\",IF(AND($L221>=Sheet1!$F$15,'Pupil List'!$L221<Sheet1!$G$15),Sheet1!$A$15,\"\"))","v":""},{"$f":"IF($L221=\"\",\"\",IF(AND($L221>=Sheet1!$F$16,'Pupil List'!$L221<Sheet1!$G$16),Sheet1!$A$16,\"\"))","v":""},{"$f":"IF($L221=\"\",\"\",IF(AND($L221>=Sheet1!$F$17,'Pupil List'!$L221<Sheet1!$G$17),Sheet1!$A$17,\"\"))","v":""},{"$f":"IF($L221=\"\",\"\",IF(AND($L221>=Sheet1!$F$18,'Pupil List'!$L221<Sheet1!$G$18),Sheet1!$A$18,\"\"))","v":""},{"$f":"IF($L221=\"\",\"\",IF(AND($L221>=Sheet1!$F$19,'Pupil List'!$L221<Sheet1!$G$19),Sheet1!$A$19,\"\"))","v":""},{"$f":"IF($L221=\"\",\"\",IF(AND($L221>=Sheet1!$F$20,'Pupil List'!$L221<Sheet1!$G$20),Sheet1!$A$20,\"\"))","v":""},{"$f":"IF($L221=\"\",\"\",IF(AND($L221>=Sheet1!$F$21,'Pupil List'!$L221<Sheet1!$G$21),Sheet1!$A$21,\"\"))","v":""},{"$f":"IF($L221=\"\",\"\",IF(AND($L221>=Sheet1!$F$22,'Pupil List'!$L221<Sheet1!$G$22),Sheet1!$A$22,\"\"))","v":""},{"$f":"IF($L221=\"\",\"\",IF(AND($L221>=Sheet1!$F$23,'Pupil List'!$L221<Sheet1!$G$23),Sheet1!$A$23,\"\"))","v":""},{"$f":"IF($L221=\"\",\"\",IF(AND($L221>=Sheet1!$F$24,'Pupil List'!$L221<Sheet1!$G$24),Sheet1!$A$24,\"\"))","v":""},{"$f":"IF($L221=\"\",\"\",IF(AND($L221>=Sheet1!$F$25,'Pupil List'!$L221<Sheet1!$G$25),Sheet1!$A$25,\"\"))","v":""},{"$error":"#N/A"},{"$f":"IFERROR(VLOOKUP(BK221,Sheet1!$A$2:$E$25,3,FALSE),\"\")","v":""},{"$f":"IFERROR(VLOOKUP(BK221,Sheet1!$A$2:$E$25,4,FALSE),\"\")","v":""},{"$f":"IFERROR(VLOOKUP(BK221,Sheet1!$A$2:$E$25,5,FALSE),\"\")","v":""},{"$f":"IFERROR(VLOOKUP(N221,Sheet1!$A$29:$B$38,2,FALSE),\"\")","v":""}]
["","","",null,null,null,null,null,"","","",null,"",null,"","","","","","","","","","","","","","","","","","","","","","","","",{"$f":"IF($L222=\"\",\"\",IF(AND($L222>=Sheet1!$F$2,'Pupil List'!$L222<Sheet1!$G$2),Sheet1!$A$2,\"\"))","v":""},{"$f":"IF($L222=\"\",\"\",IF(AND($L222>=Sheet1!$F$3,'Pupil List'!$L222<Sheet1!$G$3),Sheet1!$A$3,\"\"))","v":""},{"$f":"IF($L222=\"\",\"\",IF(AND($L222>=Sheet1!$F$4,'Pupil List'!$L222<Sheet1!$G$4),Sheet1!$A$4,\"\"))","v":""},{"$f":"IF($L222=\"\",\"\",IF(AND($L222>=Sheet1!$F$5,'Pupil List'!$L222<Sheet1!$G$5),Sheet1!$A$5,\"\"))","v":""},{"$f":"IF($L222=\"\",\"\",IF(AND($L222>=Sheet1!$F$6,'Pupil List'!$L222<Sheet1!$G$6),Sheet1!$A$6,\"\"))","v":""},{"$f":"IF($L222=\"\",\"\",IF(AND($L222>=Sheet1!$F$7,'Pupil List'!$L222<Sheet1!$G$7),Sheet1!$A$7,\"\"))","v":""},{"$f":"IF($L222=\"\",\"\",IF(AND($L222>=Sheet1!$F$8,'Pupil List'!$L222<Sheet1!$G$8),Sheet1!$A$8,\"\"))","v":""},{"$f":"IF($L222=\"\",\"\",IF(AND($L222>=Sheet1!$F$9,'Pupil List'!$L222<Sheet1!$G$9),Sheet1!$A$9,\"\"))","v":""},{"$f":"IF($L222=\"\",\"\",IF(AND($L222>=Sheet1!$F$10,'Pupil List'!$L222<Sheet1!$G$10),Sheet1!$A$10,\"\"))","v":""},{"$f":"IF($L222=\"\",\"\",IF(AND($L222>=Sheet1!$F$11,'Pupil List'!$L222<Sheet1!$G$11),Sheet1!$A$11,\"\"))","v":""},{"$f":"IF($L222=\"\",\"\",IF(AND($L222>=Sheet1!$F$12,'Pupil List'!$L222<Sheet1!$G$12),Sheet1!$A$12,\"\"))","v":""},{"$f":"IF($L222=\"\",\"\",IF(AND($L222>=Sheet1!$F$13,'Pupil List'!$L222<Sheet1!$G$13),Sheet1!$A$13,\"\"))","v":""},{"$f":"IF($L222=\"\",\"\",IF(AND($L222>=Sheet1!$F$14,'Pupil List'!$L222<Sheet1!$G$14),Sheet1!$A$14,\"\"))","v":""},{"$f":"IF($L222=\"\",\"\",IF(AND($L222>=Sheet1!$F$15,'Pupil List'!$L222<Sheet1!$G$15),Sheet1!$A$15,\"\"))","v":""},{"$f":"IF($L222=\"\",\"\",IF(AND($L222>=Sheet1!$F$16,'Pupil List'!$L222<Sheet1!$G$16),Sheet1!$A$16,\"\"))","v":""},{"$f":"IF($L222=\"\",\"\",IF(AND($L222>=Sheet1!$F$17,'Pupil List'!$L222<Sheet1!$G$17),Sheet1!$A$17,\"\"))","v":""},{"$f":"IF($L222=\"\",\"\",IF(AND($L222>=Sheet1!$F$18,'Pupil List'!$L222<Sheet1!$G$18),Sheet1!$A$18,\"\"))","v":""},{"$f":"IF($L222=\"\",\"\",IF(AND($L222>=Sheet1!$F$19,'Pupil List'!$L222<Sheet1!$G$19),Sheet1!$A$19,\"\"))","v":""},{"$f":"IF($L222=\"\",\"\",IF(AND($L222>=Sheet1!$F$20,'Pupil List'!$L222<Sheet1!$G$20),Sheet1!$A$20,\"\"))","v":""},{"$f":"IF($L222=\"\",\"\",IF(AND($L222>=Sheet1!$F$21,'Pupil List'!$L222<Sheet1!$G$21),Sheet1!$A$21,\"\"))","v":""},{"$f":"IF($L222=\"\",\"\",IF(AND($L222>=Sheet1!$F$22,'Pupil List'!$L222<Sheet1!$G$22),Sheet1!$A$22,\"\"))","v":""},{"$f":"IF($L222=\"\",\"\",IF(AND($L222>=Sheet1!$F$23,'Pupil List'!$L222<Sheet1!$G$23),Sheet1!$A$23,\"\"))","v":""},{"$f":"IF($L222=\"\",\"\",IF(AND($L222>=Sheet1!$F$24,'Pupil List'!$L222<Sheet1!$G$24),Sheet1!$A$24,\"\"))","v":""},{"$f":"IF($L222=\"\",\"\",IF(AND($L222>=Sheet1!$F$25,'Pupil List'!$L222<Sheet1!$G$25),Sheet1!$A$25,\"\"))","v":""},{"$error":"#N/A"},{"$f":"IFERROR(VLOOKUP(BK222,Sheet1!$A$2:$E$25,3,FALSE),\"\")","v":""},{"$f":"IFERROR(VLOOKUP(BK222,Sheet1!$A$2:$E$25,4,FALSE),\"\")","v":""},{"$f":"IFERROR(VLOOKUP(BK222,Sheet1!$A$2:$E$25,5,FALSE),\"\")","v":""},{"$f":"IFERROR(VLOOKUP(N222,Sheet1!$A$29:$B$38,2,FALSE),\"\")","v":""}]
["","","",null,null,null,null,null,"","","",null,"",null,"","","","","","","","","","","","","","","","","","","","","","","","",{"$f":"IF($L223=\"\",\"\",IF(AND($L223>=Sheet1!$F$2,'Pupil List'!$L223<Sheet1!$G$2),Sheet1!$A$2,\"\"))","v":""},{"$f":"IF($L223=\"\",\"\",IF(AND($L223>=Sheet1!$F$3,'Pupil List'!$L223<Sheet1!$G$3),Sheet1!$A$3,\"\"))","v":""},{"$f":"IF($L223=\"\",\"\",IF(AND($L223>=Sheet1!$F$4,'Pupil List'!$L223<Sheet1!$G$4),Sheet1!$A$4,\"\"))","v":""},{"$f":"IF($L223=\"\",\"\",IF(AND($L223>=Sheet1!$F$5,'Pupil List'!$L223<Sheet1!$G$5),Sheet1!$A$5,\"\"))","v":""},{"$f":"IF($L223=\"\",\"\",IF(AND($L223>=Sheet1!$F$6,'Pupil List'!$L223<Sheet1!$G$6),Sheet1!$A$6,\"\"))","v":""},{"$f":"IF($L223=\"\",\"\",IF(AND($L223>=Sheet1!$F$7,'Pupil List'!$L223<Sheet1!$G$7),Sheet1!$A$7,\"\"))","v":""},{"$f":"IF($L223=\"\",\"\",IF(AND($L223>=Sheet1!$F$8,'Pupil List'!$L223<Sheet1!$G$8),Sheet1!$A$8,\"\"))","v":""},{"$f":"IF($L223=\"\",\"\",IF(AND($L223>=Sheet1!$F$9,'Pupil List'!$L223<Sheet1!$G$9),Sheet1!$A$9,\"\"))","v":""},{"$f":"IF($L223=\"\",\"\",IF(AND($L223>=Sheet1!$F$10,'Pupil List'!$L223<Sheet1!$G$10),Sheet1!$A$10,\"\"))","v":""},{"$f":"IF($L223=\"\",\"\",IF(AND($L223>=Sheet1!$F$11,'Pupil List'!$L223<Sheet1!$G$11),Sheet1!$A$11,\"\"))","v":""},{"$f":"IF($L223=\"\",\"\",IF(AND($L223>=Sheet1!$F$12,'Pupil List'!$L223<Sheet1!$G$12),Sheet1!$A$12,\"\"))","v":""},{"$f":"IF($L223=\"\",\"\",IF(AND($L223>=Sheet1!$F$13,'Pupil List'!$L223<Sheet1!$G$13),Sheet1!$A$13,\"\"))","v":""},{"$f":"IF($L223=\"\",\"\",IF(AND($L223>=Sheet1!$F$14,'Pupil List'!$L223<Sheet1!$G$14),Sheet1!$A$14,\"\"))","v":""},{"$f":"IF($L223=\"\",\"\",IF(AND($L223>=Sheet1!$F$15,'Pupil List'!$L223<Sheet1!$G$15),Sheet1!$A$15,\"\"))","v":""},{"$f":"IF($L223=\"\",\"\",IF(AND($L223>=Sheet1!$F$16,'Pupil List'!$L223<Sheet1!$G$16),Sheet1!$A$16,\"\"))","v":""},{"$f":"IF($L223=\"\",\"\",IF(AND($L223>=Sheet1!$F$17,'Pupil List'!$L223<Sheet1!$G$17),Sheet1!$A$17,\"\"))","v":""},{"$f":"IF($L223=\"\",\"\",IF(AND($L223>=Sheet1!$F$18,'Pupil List'!$L223<Sheet1!$G$18),Sheet1!$A$18,\"\"))","v":""},{"$f":"IF($L223=\"\",\"\",IF(AND($L223>=Sheet1!$F$19,'Pupil List'!$L223<Sheet1!$G$19),Sheet1!$A$19,\"\"))","v":""},{"$f":"IF($L223=\"\",\"\",IF(AND($L223>=Sheet1!$F$20,'Pupil List'!$L223<Sheet1!$G$20),Sheet1!$A$20,\"\"))","v":""},{"$f":"IF($L223=\"\",\"\",IF(AND($L223>=Sheet1!$F$21,'Pupil List'!$L223<Sheet1!$G$21),Sheet1!$A$21,\"\"))","v":""},{"$f":"IF($L223=\"\",\"\",IF(AND($L223>=Sheet1!$F$22,'Pupil List'!$L223<Sheet1!$G$22),Sheet1!$A$22,\"\"))","v":""},{"$f":"IF($L223=\"\",\"\",IF(AND($L223>=Sheet1!$F$23,'Pupil List'!$L223<Sheet1!$G$23),Sheet1!$A$23,\"\"))","v":""},{"$f":"IF($L223=\"\",\"\",IF(AND($L223>=Sheet1!$F$24,'Pupil List'!$L223<Sheet1!$G$24),Sheet1!$A$24,\"\"))","v":""},{"$f":"IF($L223=\"\",\"\",IF(AND($L223>=Sheet1!$F$25,'Pupil List'!$L223<Sheet1!$G$25),Sheet1!$A$25,\"\"))","v":""},{"$error":"#N/A"},{"$f":"IFERROR(VLOOKUP(BK223,Sheet1!$A$2:$E$25,3,FALSE),\"\")","v":""},{"$f":"IFERROR(VLOOKUP(BK223,Sheet1!$A$2:$E$25,4,FALSE),\"\")","v":""},{"$f":"IFERROR(VLOOKUP(BK223,Sheet1!$A$2:$E$25,5,FALSE),\"\")","v":""},{"$f":"IFERROR(VLOOKUP(N223,Sheet1!$A$29:$B$38,2,FALSE),\"\")","v":""}]
["","","",null,null,null,null,null,"","","",null,"",null,"","","","","","","","","","","","","","","","","","","","","","","","",{"$f":"IF($L224=\"\",\"\",IF(AND($L224>=Sheet1!$F$2,'Pupil List'!$L224<Sheet1!$G$2),Sheet1!$A$2,\"\"))","v":""},{"$f":"IF($L224=\"\",\"\",IF(AND($L224>=Sheet1!$F$3,'Pupil List'!$L224<Sheet1!$G$3),Sheet1!$A$3,\"\"))","v":""},{"$f":"IF($L224=\"\",\"\",IF(AND($L224>=Sheet1!$F$4,'Pupil List'!$L224<Sheet1!$G$4),Sheet1!$A$4,\"\"))","v":""},{"$f":"IF($L224=\"\",\"\",IF(AND($L224>=Sheet1!$F$5,'Pupil List'!$L224<Sheet1!$G$5),Sheet1!$A$5,\"\"))","v":""},{"$f":"IF($L224=\"\",\"\",IF(AND($L224>=Sheet1!$F$6,'Pupil List'!$L224<Sheet1!$G$6),Sheet1!$A$6,\"\"))","v":""},{"$f":"IF($L224=\"\",\"\",IF(AND($L224>=Sheet1!$F$7,'Pupil List'!$L224<Sheet1!$G$7),Sheet1!$A$7,\"\"))","v":""},{"$f":"IF($L224=\"\",\"\",IF(AND($L224>=Sheet1!$F$8,'Pupil List'!$L224<Sheet1!$G$8),Sheet1!$A$8,\"\"))","v":""},{"$f":"IF($L224=\"\",\"\",IF(AND($L224>=Sheet1!$F$9,'Pupil List'!$L224<Sheet1!$G$9),Sheet1!$A$9,\"\"))","v":""},{"$f":"IF($L224=\"\",\"\",IF(AND($L224>=Sheet1!$F$10,'Pupil List'!$L224<Sheet1!$G$10),Sheet1!$A$10,\"\"))","v":""},{"$f":"IF($L224=\"\",\"\",IF(AND($L224>=Sheet1!$F$11,'Pupil List'!$L224<Sheet1!$G$11),Sheet1!$A$11,\"\"))","v":""},{"$f":"IF($L224=\"\",\"\",IF(AND($L224>=Sheet1!$F$12,'Pupil List'!$L224<Sheet1!$G$12),Sheet1!$A$12,\"\"))","v":""},{"$f":"IF($L224=\"\",\"\",IF(AND($L224>=Sheet1!$F$13,'Pupil List'!$L224<Sheet1!$G$13),Sheet1!$A$13,\"\"))","v":""},{"$f":"IF($L224=\"\",\"\",IF(AND($L224>=Sheet1!$F$14,'Pupil List'!$L224<Sheet1!$G$14),Sheet1!$A$14,\"\"))","v":""},{"$f":"IF($L224=\"\",\"\",IF(AND($L224>=Sheet1!$F$15,'Pupil List'!$L224<Sheet1!$G$15),Sheet1!$A$15,\"\"))","v":""},{"$f":"IF($L224=\"\",\"\",IF(AND($L224>=Sheet1!$F$16,'Pupil List'!$L224<Sheet1!$G$16),Sheet1!$A$16,\"\"))","v":""},{"$f":"IF($L224=\"\",\"\",IF(AND($L224>=Sheet1!$F$17,'Pupil List'!$L224<Sheet1!$G$17),Sheet1!$A$17,\"\"))","v":""},{"$f":"IF($L224=\"\",\"\",IF(AND($L224>=Sheet1!$F$18,'Pupil List'!$L224<Sheet1!$G$18),Sheet1!$A$18,\"\"))","v":""},{"$f":"IF($L224=\"\",\"\",IF(AND($L224>=Sheet1!$F$19,'Pupil List'!$L224<Sheet1!$G$19),Sheet1!$A$19,\"\"))","v":""},{"$f":"IF($L224=\"\",\"\",IF(AND($L224>=Sheet1!$F$20,'Pupil List'!$L224<Sheet1!$G$20),Sheet1!$A$20,\"\"))","v":""},{"$f":"IF($L224=\"\",\"\",IF(AND($L224>=Sheet1!$F$21,'Pupil List'!$L224<Sheet1!$G$21),Sheet1!$A$21,\"\"))","v":""},{"$f":"IF($L224=\"\",\"\",IF(AND($L224>=Sheet1!$F$22,'Pupil List'!$L224<Sheet1!$G$22),Sheet1!$A$22,\"\"))","v":""},{"$f":"IF($L224=\"\",\"\",IF(AND($L224>=Sheet1!$F$23,'Pupil List'!$L224<Sheet1!$G$23),Sheet1!$A$23,\"\"))","v":""},{"$f":"IF($L224=\"\",\"\",IF(AND($L224>=Sheet1!$F$24,'Pupil List'!$L224<Sheet1!$G$24),Sheet1!$A$24,\"\"))","v":""},{"$f":"IF($L224=\"\",\"\",IF(AND($L224>=Sheet1!$F$25,'Pupil List'!$L224<Sheet1!$G$25),Sheet1!$A$25,\"\"))","v":""},{"$error":"#N/A"},{"$f":"IFERROR(VLOOKUP(BK224,Sheet1!$A$2:$E$25,3,FALSE),\"\")","v":""},{"$f":"IFERROR(VLOOKUP(BK224,Sheet1!$A$2:$E$25,4,FALSE),\"\")","v":""},{"$f":"IFERROR(VLOOKUP(BK224,Sheet1!$A$2:$E$25,5,FALSE),\"\")","v":""},{"$f":"IFERROR(VLOOKUP(N224,Sheet1!$A$29:$B$38,2,FALSE),\"\")","v":""}]
["","","",null,null,null,null,null,"","","",null,"",null,"","","","","","","","","","","","","","","","","","","","","","","","",{"$f":"IF($L225=\"\",\"\",IF(AND($L225>=Sheet1!$F$2,'Pupil List'!$L225<Sheet1!$G$2),Sheet1!$A$2,\"\"))","v":""},{"$f":"IF($L225=\"\",\"\",IF(AND($L225>=Sheet1!$F$3,'Pupil List'!$L225<Sheet1!$G$3),Sheet1!$A$3,\"\"))","v":""},{"$f":"IF($L225=\"\",\"\",IF(AND($L225>=Sheet1!$F$4,'Pupil List'!$L225<Sheet1!$G$4),Sheet1!$A$4,\"\"))","v":""},{"$f":"IF($L225=\"\",\"\",IF(AND($L225>=Sheet1!$F$5,'Pupil List'!$L225<Sheet1!$G$5),Sheet1!$A$5,\"\"))","v":""},{"$f":"IF($L225=\"\",\"\",IF(AND($L225>=Sheet1!$F$6,'Pupil List'!$L225<Sheet1!$G$6),Sheet1!$A$6,\"\"))","v":""},{"$f":"IF($L225=\"\",\"\",IF(AND($L225>=Sheet1!$F$7,'Pupil List'!$L225<Sheet1!$G$7),Sheet1!$A$7,\"\"))","v":""},{"$f":"IF($L225=\"\",\"\",IF(AND($L225>=Sheet1!$F$8,'Pupil List'!$L225<Sheet1!$G$8),Sheet1!$A$8,\"\"))","v":""},{"$f":"IF($L225=\"\",\"\",IF(AND($L225>=Sheet1!$F$9,'Pupil List'!$L225<Sheet1!$G$9),Sheet1!$A$9,\"\"))","v":""},{"$f":"IF($L225=\"\",\"\",IF(AND($L225>=Sheet1!$F$10,'Pupil List'!$L225<Sheet1!$G$10),Sheet1!$A$10,\"\"))","v":""},{"$f":"IF($L225=\"\",\"\",IF(AND($L225>=Sheet1!$F$11,'Pupil List'!$L225<Sheet1!$G$11),Sheet1!$A$11,\"\"))","v":""},{"$f":"IF($L225=\"\",\"\",IF(AND($L225>=Sheet1!$F$12,'Pupil List'!$L225<Sheet1!$G$12),Sheet1!$A$12,\"\"))","v":""},{"$f":"IF($L225=\"\",\"\",IF(AND($L225>=Sheet1!$F$13,'Pupil List'!$L225<Sheet1!$G$13),Sheet1!$A$13,\"\"))","v":""},{"$f":"IF($L225=\"\",\"\",IF(AND($L225>=Sheet1!$F$14,'Pupil List'!$L225<Sheet1!$G$14),Sheet1!$A$14,\"\"))","v":""},{"$f":"IF($L225=\"\",\"\",IF(AND($L225>=Sheet1!$F$15,'Pupil List'!$L225<Sheet1!$G$15),Sheet1!$A$15,\"\"))","v":""},{"$f":"IF($L225=\"\",\"\",IF(AND($L225>=Sheet1!$F$16,'Pupil List'!$L225<Sheet1!$G$16),Sheet1!$A$16,\"\"))","v":""},{"$f":"IF($L225=\"\",\"\",IF(AND($L225>=Sheet1!$F$17,'Pupil List'!$L225<Sheet1!$G$17),Sheet1!$A$17,\"\"))","v":""},{"$f":"IF($L225=\"\",\"\",IF(AND($L225>=Sheet1!$F$18,'Pupil List'!$L225<Sheet1!$G$18),Sheet1!$A$18,\"\"))","v":""},{"$f":"IF($L225=\"\",\"\",IF(AND($L225>=Sheet1!$F$19,'Pupil List'!$L225<Sheet1!$G$19),Sheet1!$A$19,\"\"))","v":""},{"$f":"IF($L225=\"\",\"\",IF(AND($L225>=Sheet1!$F$20,'Pupil List'!$L225<Sheet1!$G$20),Sheet1!$A$20,\"\"))","v":""},{"$f":"IF($L225=\"\",\"\",IF(AND($L225>=Sheet1!$F$21,'Pupil List'!$L225<Sheet1!$G$21),Sheet1!$A$21,\"\"))","v":""},{"$f":"IF($L225=\"\",\"\",IF(AND($L225>=Sheet1!$F$22,'Pupil List'!$L225<Sheet1!$G$22),Sheet1!$A$22,\"\"))","v":""},{"$f":"IF($L225=\"\",\"\",IF(AND($L225>=Sheet1!$F$23,'Pupil List'!$L225<Sheet1!$G$23),Sheet1!$A$23,\"\"))","v":""},{"$f":"IF($L225=\"\",\"\",IF(AND($L225>=Sheet1!$F$24,'Pupil List'!$L225<Sheet1!$G$24),Sheet1!$A$24,\"\"))","v":""},{"$f":"IF($L225=\"\",\"\",IF(AND($L225>=Sheet1!$F$25,'Pupil List'!$L225<Sheet1!$G$25),Sheet1!$A$25,\"\"))","v":""},{"$error":"#N/A"},{"$f":"IFERROR(VLOOKUP(BK225,Sheet1!$A$2:$E$25,3,FALSE),\"\")","v":""},{"$f":"IFERROR(VLOOKUP(BK225,Sheet1!$A$2:$E$25,4,FALSE),\"\")","v":""},{"$f":"IFERROR(VLOOKUP(BK225,Sheet1!$A$2:$E$25,5,FALSE),\"\")","v":""},{"$f":"IFERROR(VLOOKUP(N225,Sheet1!$A$29:$B$38,2,FALSE),\"\")","v":""}]
["","","",null,null,null,null,null,"","","",null,"",null,"","","","","","","","","","","","","","","","","","","","","","","","",{"$f":"IF($L226=\"\",\"\",IF(AND($L226>=Sheet1!$F$2,'Pupil List'!$L226<Sheet1!$G$2),Sheet1!$A$2,\"\"))","v":""},{"$f":"IF($L226=\"\",\"\",IF(AND($L226>=Sheet1!$F$3,'Pupil List'!$L226<Sheet1!$G$3),Sheet1!$A$3,\"\"))","v":""},{"$f":"IF($L226=\"\",\"\",IF(AND($L226>=Sheet1!$F$4,'Pupil List'!$L226<Sheet1!$G$4),Sheet1!$A$4,\"\"))","v":""},{"$f":"IF($L226=\"\",\"\",IF(AND($L226>=Sheet1!$F$5,'Pupil List'!$L226<Sheet1!$G$5),Sheet1!$A$5,\"\"))","v":""},{"$f":"IF($L226=\"\",\"\",IF(AND($L226>=Sheet1!$F$6,'Pupil List'!$L226<Sheet1!$G$6),Sheet1!$A$6,\"\"))","v":""},{"$f":"IF($L226=\"\",\"\",IF(AND($L226>=Sheet1!$F$7,'Pupil List'!$L226<Sheet1!$G$7),Sheet1!$A$7,\"\"))","v":""},{"$f":"IF($L226=\"\",\"\",IF(AND($L226>=Sheet1!$F$8,'Pupil List'!$L226<Sheet1!$G$8),Sheet1!$A$8,\"\"))","v":""},{"$f":"IF($L226=\"\",\"\",IF(AND($L226>=Sheet1!$F$9,'Pupil List'!$L226<Sheet1!$G$9),Sheet1!$A$9,\"\"))","v":""},{"$f":"IF($L226=\"\",\"\",IF(AND($L226>=Sheet1!$F$10,'Pupil List'!$L226<Sheet1!$G$10),Sheet1!$A$10,\"\"))","v":""},{"$f":"IF($L226=\"\",\"\",IF(AND($L226>=Sheet1!$F$11,'Pupil List'!$L226<Sheet1!$G$11),Sheet1!$A$11,\"\"))","v":""},{"$f":"IF($L226=\"\",\"\",IF(AND($L226>=Sheet1!$F$12,'Pupil List'!$L226<Sheet1!$G$12),Sheet1!$A$12,\"\"))","v":""},{"$f":"IF($L226=\"\",\"\",IF(AND($L226>=Sheet1!$F$13,'Pupil List'!$L226<Sheet1!$G$13),Sheet1!$A$13,\"\"))","v":""},{"$f":"IF($L226=\"\",\"\",IF(AND($L226>=Sheet1!$F$14,'Pupil List'!$L226<Sheet1!$G$14),Sheet1!$A$14,\"\"))","v":""},{"$f":"IF($L226=\"\",\"\",IF(AND($L226>=Sheet1!$F$15,'Pupil List'!$L226<Sheet1!$G$15),Sheet1!$A$15,\"\"))","v":""},{"$f":"IF($L226=\"\",\"\",IF(AND($L226>=Sheet1!$F$16,'Pupil List'!$L226<Sheet1!$G$16),Sheet1!$A$16,\"\"))","v":""},{"$f":"IF($L226=\"\",\"\",IF(AND($L226>=Sheet1!$F$17,'Pupil List'!$L226<Sheet1!$G$17),Sheet1!$A$17,\"\"))","v":""},{"$f":"IF($L226=\"\",\"\",IF(AND($L226>=Sheet1!$F$18,'Pupil List'!$L226<Sheet1!$G$18),Sheet1!$A$18,\"\"))","v":""},{"$f":"IF($L226=\"\",\"\",IF(AND($L226>=Sheet1!$F$19,'Pupil List'!$L226<Sheet1!$G$19),Sheet1!$A$19,\"\"))","v":""},{"$f":"IF($L226=\"\",\"\",IF(AND($L226>=Sheet1!$F$20,'Pupil List'!$L226<Sheet1!$G$20),Sheet1!$A$20,\"\"))","v":""},{"$f":"IF($L226=\"\",\"\",IF(AND($L226>=Sheet1!$F$21,'Pupil List'!$L226<Sheet1!$G$21),Sheet1!$A$21,\"\"))","v":""},{"$f":"IF($L226=\"\",\"\",IF(AND($L226>=Sheet1!$F$22,'Pupil List'!$L226<Sheet1!$G$22),Sheet1!$A$22,\"\"))","v":""},{"$f":"IF($L226=\"\",\"\",IF(AND($L226>=Sheet1!$F$23,'Pupil List'!$L226<Sheet1!$G$23),Sheet1!$A$23,\"\"))","v":""},{"$f":"IF($L226=\"\",\"\",IF(AND($L226>=Sheet1!$F$24,'Pupil List'!$L226<Sheet1!$G$24),Sheet1!$A$24,\"\"))","v":""},{"$f":"IF($L226=\"\",\"\",IF(AND($L226>=Sheet1!$F$25,'Pupil List'!$L226<Sheet1!$G$25),Sheet1!$A$25,\"\"))","v":""},{"$error":"#N/A"},{"$f":"IFERROR(VLOOKUP(BK226,Sheet1!$A$2:$E$25,3,FALSE),\"\")","v":""},{"$f":"IFERROR(VLOOKUP(BK226,Sheet1!$A$2:$E$25,4,FALSE),\"\")","v":""},{"$f":"IFERROR(VLOOKUP(BK226,Sheet1!$A$2:$E$25,5,FALSE),\"\")","v":""},{"$f":"IFERROR(VLOOKUP(N226,Sheet1!$A$29:$B$38,2,FALSE),\"\")","v":""}]
["","","",null,null,null,null,null,"","","",null,"",null,"","","","","","","","","","","","","","","","","","","","","","","","",{"$f":"IF($L227=\"\",\"\",IF(AND($L227>=Sheet1!$F$2,'Pupil List'!$L227<Sheet1!$G$2),Sheet1!$A$2,\"\"))","v":""},{"$f":"IF($L227=\"\",\"\",IF(AND($L227>=Sheet1!$F$3,'Pupil List'!$L227<Sheet1!$G$3),Sheet1!$A$3,\"\"))","v":""},{"$f":"IF($L227=\"\",\"\",IF(AND($L227>=Sheet1!$F$4,'Pupil List'!$L227<Sheet1!$G$4),Sheet1!$A$4,\"\"))","v":""},{"$f":"IF($L227=\"\",\"\",IF(AND($L227>=Sheet1!$F$5,'Pupil List'!$L227<Sheet1!$G$5),Sheet1!$A$5,\"\"))","v":""},{"$f":"IF($L227=\"\",\"\",IF(AND($L227>=Sheet1!$F$6,'Pupil List'!$L227<Sheet1!$G$6),Sheet1!$A$6,\"\"))","v":""},{"$f":"IF($L227=\"\",\"\",IF(AND($L227>=Sheet1!$F$7,'Pupil List'!$L227<Sheet1!$G$7),Sheet1!$A$7,\"\"))","v":""},{"$f":"IF($L227=\"\",\"\",IF(AND($L227>=Sheet1!$F$8,'Pupil List'!$L227<Sheet1!$G$8),Sheet1!$A$8,\"\"))","v":""},{"$f":"IF($L227=\"\",\"\",IF(AND($L227>=Sheet1!$F$9,'Pupil List'!$L227<Sheet1!$G$9),Sheet1!$A$9,\"\"))","v":""},{"$f":"IF($L227=\"\",\"\",IF(AND($L227>=Sheet1!$F$10,'Pupil List'!$L227<Sheet1!$G$10),Sheet1!$A$10,\"\"))","v":""},{"$f":"IF($L227=\"\",\"\",IF(AND($L227>=Sheet1!$F$11,'Pupil List'!$L227<Sheet1!$G$11),Sheet1!$A$11,\"\"))","v":""},{"$f":"IF($L227=\"\",\"\",IF(AND($L227>=Sheet1!$F$12,'Pupil List'!$L227<Sheet1!$G$12),Sheet1!$A$12,\"\"))","v":""},{"$f":"IF($L227=\"\",\"\",IF(AND($L227>=Sheet1!$F$13,'Pupil List'!$L227<Sheet1!$G$13),Sheet1!$A$13,\"\"))","v":""},{"$f":"IF($L227=\"\",\"\",IF(AND($L227>=Sheet1!$F$14,'Pupil List'!$L227<Sheet1!$G$14),Sheet1!$A$14,\"\"))","v":""},{"$f":"IF($L227=\"\",\"\",IF(AND($L227>=Sheet1!$F$15,'Pupil List'!$L227<Sheet1!$G$15),Sheet1!$A$15,\"\"))","v":""},{"$f":"IF($L227=\"\",\"\",IF(AND($L227>=Sheet1!$F$16,'Pupil List'!$L227<Sheet1!$G$16),Sheet1!$A$16,\"\"))","v":""},{"$f":"IF($L227=\"\",\"\",IF(AND($L227>=Sheet1!$F$17,'Pupil List'!$L227<Sheet1!$G$17),Sheet1!$A$17,\"\"))","v":""},{"$f":"IF($L227=\"\",\"\",IF(AND($L227>=Sheet1!$F$18,'Pupil List'!$L227<Sheet1!$G$18),Sheet1!$A$18,\"\"))","v":""},{"$f":"IF($L227=\"\",\"\",IF(AND($L227>=Sheet1!$F$19,'Pupil List'!$L227<Sheet1!$G$19),Sheet1!$A$19,\"\"))","v":""},{"$f":"IF($L227=\"\",\"\",IF(AND($L227>=Sheet1!$F$20,'Pupil List'!$L227<Sheet1!$G$20),Sheet1!$A$20,\"\"))","v":""},{"$f":"IF($L227=\"\",\"\",IF(AND($L227>=Sheet1!$F$21,'Pupil List'!$L227<Sheet1!$G$21),Sheet1!$A$21,\"\"))","v":""},{"$f":"IF($L227=\"\",\"\",IF(AND($L227>=Sheet1!$F$22,'Pupil List'!$L227<Sheet1!$G$22),Sheet1!$A$22,\"\"))","v":""},{"$f":"IF($L227=\"\",\"\",IF(AND($L227>=Sheet1!$F$23,'Pupil List'!$L227<Sheet1!$G$23),Sheet1!$A$23,\"\"))","v":""},{"$f":"IF($L227=\"\",\"\",IF(AND($L227>=Sheet1!$F$24,'Pupil List'!$L227<Sheet1!$G$24),Sheet1!$A$24,\"\"))","v":""},{"$f":"IF($L227=\"\",\"\",IF(AND($L227>=Sheet1!$F$25,'Pupil List'!$L227<Sheet1!$G$25),Sheet1!$A$25,\"\"))","v":""},{"$error":"#N/A"},{"$f":"IFERROR(VLOOKUP(BK227,Sheet1!$A$2:$E$25,3,FALSE),\"\")","v":""},{"$f":"IFERROR(VLOOKUP(BK227,Sheet1!$A$2:$E$25,4,FALSE),\"\")","v":""},{"$f":"IFERROR(VLOOKUP(BK227,Sheet1!$A$2:$E$25,5,FALSE),\"\")","v":""},{"$f":"IFERROR(VLOOKUP(N227,Sheet1!$A$29:$B$38,2,FALSE),\"\")","v":""}]
["","","",null,null,null,null,null,"","","",null,"",null,"","","","","","","","","","","","","","","","","","","","","","","","",{"$f":"IF($L228=\"\",\"\",IF(AND($L228>=Sheet1!$F$2,'Pupil List'!$L228<Sheet1!$G$2),Sheet1!$A$2,\"\"))","v":""},{"$f":"IF($L228=\"\",\"\",IF(AND($L228>=Sheet1!$F$3,'Pupil List'!$L228<Sheet1!$G$3),Sheet1!$A$3,\"\"))","v":""},{"$f":"IF($L228=\"\",\"\",IF(AND($L228>=Sheet1!$F$4,'Pupil List'!$L228<Sheet1!$G$4),Sheet1!$A$4,\"\"))","v":""},{"$f":"IF($L228=\"\",\"\",IF(AND($L228>=Sheet1!$F$5,'Pupil List'!$L228<Sheet1!$G$5),Sheet1!$A$5,\"\"))","v":""},{"$f":"IF($L228=\"\",\"\",IF(AND($L228>=Sheet1!$F$6,'Pupil List'!$L228<Sheet1!$G$6),Sheet1!$A$6,\"\"))","v":""},{"$f":"IF($L228=\"\",\"\",IF(AND($L228>=Sheet1!$F$7,'Pupil List'!$L228<Sheet1!$G$7),Sheet1!$A$7,\"\"))","v":""},{"$f":"IF($L228=\"\",\"\",IF(AND($L228>=Sheet1!$F$8,'Pupil List'!$L228<Sheet1!$G$8),Sheet1!$A$8,\"\"))","v":""},{"$f":"IF($L228=\"\",\"\",IF(AND($L228>=Sheet1!$F$9,'Pupil List'!$L228<Sheet1!$G$9),Sheet1!$A$9,\"\"))","v":""},{"$f":"IF($L228=\"\",\"\",IF(AND($L228>=Sheet1!$F$10,'Pupil List'!$L228<Sheet1!$G$10),Sheet1!$A$10,\"\"))","v":""},{"$f":"IF($L228=\"\",\"\",IF(AND($L228>=Sheet1!$F$11,'Pupil List'!$L228<Sheet1!$G$11),Sheet1!$A$11,\"\"))","v":""},{"$f":"IF($L228=\"\",\"\",IF(AND($L228>=Sheet1!$F$12,'Pupil List'!$L228<Sheet1!$G$12),Sheet1!$A$12,\"\"))","v":""},{"$f":"IF($L228=\"\",\"\",IF(AND($L228>=Sheet1!$F$13,'Pupil List'!$L228<Sheet1!$G$13),Sheet1!$A$13,\"\"))","v":""},{"$f":"IF($L228=\"\",\"\",IF(AND($L228>=Sheet1!$F$14,'Pupil List'!$L228<Sheet1!$G$14),Sheet1!$A$14,\"\"))","v":""},{"$f":"IF($L228=\"\",\"\",IF(AND($L228>=Sheet1!$F$15,'Pupil List'!$L228<Sheet1!$G$15),Sheet1!$A$15,\"\"))","v":""},{"$f":"IF($L228=\"\",\"\",IF(AND($L228>=Sheet1!$F$16,'Pupil List'!$L228<Sheet1!$G$16),Sheet1!$A$16,\"\"))","v":""},{"$f":"IF($L228=\"\",\"\",IF(AND($L228>=Sheet1!$F$17,'Pupil List'!$L228<Sheet1!$G$17),Sheet1!$A$17,\"\"))","v":""},{"$f":"IF($L228=\"\",\"\",IF(AND($L228>=Sheet1!$F$18,'Pupil List'!$L228<Sheet1!$G$18),Sheet1!$A$18,\"\"))","v":""},{"$f":"IF($L228=\"\",\"\",IF(AND($L228>=Sheet1!$F$19,'Pupil List'!$L228<Sheet1!$G$19),Sheet1!$A$19,\"\"))","v":""},{"$f":"IF($L228=\"\",\"\",IF(AND($L228>=Sheet1!$F$20,'Pupil List'!$L228<Sheet1!$G$20),Sheet1!$A$20,\"\"))","v":""},{"$f":"IF($L228=\"\",\"\",IF(AND($L228>=Sheet1!$F$21,'Pupil List'!$L228<Sheet1!$G$21),Sheet1!$A$21,\"\"))","v":""},{"$f":"IF($L228=\"\",\"\",IF(AND($L228>=Sheet1!$F$22,'Pupil List'!$L228<Sheet1!$G$22),Sheet1!$A$22,\"\"))","v":""},{"$f":"IF($L228=\"\",\"\",IF(AND($L228>=Sheet1!$F$23,'Pupil List'!$L228<Sheet1!$G$23),Sheet1!$A$23,\"\"))","v":""},{"$f":"IF($L228=\"\",\"\",IF(AND($L228>=Sheet1!$F$24,'Pupil List'!$L228<Sheet1!$G$24),Sheet1!$A$24,\"\"))","v":""},{"$f":"IF($L228=\"\",\"\",IF(AND($L228>=Sheet1!$F$25,'Pupil List'!$L228<Sheet1!$G$25),Sheet1!$A$25,\"\"))","v":""},{"$error":"#N/A"},{"$f":"IFERROR(VLOOKUP(BK228,Sheet1!$A$2:$E$25,3,FALSE),\"\")","v":""},{"$f":"IFERROR(VLOOKUP(BK228,Sheet1!$A$2:$E$25,4,FALSE),\"\")","v":""},{"$f":"IFERROR(VLOOKUP(BK228,Sheet1!$A$2:$E$25,5,FALSE),\"\")","v":""},{"$f":"IFERROR(VLOOKUP(N228,Sheet1!$A$29:$B$38,2,FALSE),\"\")","v":""}]
["","","",null,null,null,null,null,"","","",null,"",null,"","","","","","","","","","","","","","","","","","","","","","","","",{"$f":"IF($L229=\"\",\"\",IF(AND($L229>=Sheet1!$F$2,'Pupil List'!$L229<Sheet1!$G$2),Sheet1!$A$2,\"\"))","v":""},{"$f":"IF($L229=\"\",\"\",IF(AND($L229>=Sheet1!$F$3,'Pupil List'!$L229<Sheet1!$G$3),Sheet1!$A$3,\"\"))","v":""},{"$f":"IF($L229=\"\",\"\",IF(AND($L229>=Sheet1!$F$4,'Pupil List'!$L229<Sheet1!$G$4),Sheet1!$A$4,\"\"))","v":""},{"$f":"IF($L229=\"\",\"\",IF(AND($L229>=Sheet1!$F$5,'Pupil List'!$L229<Sheet1!$G$5),Sheet1!$A$5,\"\"))","v":""},{"$f":"IF($L229=\"\",\"\",IF(AND($L229>=Sheet1!$F$6,'Pupil List'!$L229<Sheet1!$G$6),Sheet1!$A$6,\"\"))","v":""},{"$f":"IF($L229=\"\",\"\",IF(AND($L229>=Sheet1!$F$7,'Pupil List'!$L229<Sheet1!$G$7),Sheet1!$A$7,\"\"))","v":""},{"$f":"IF($L229=\"\",\"\",IF(AND($L229>=Sheet1!$F$8,'Pupil List'!$L229<Sheet1!$G$8),Sheet1!$A$8,\"\"))","v":""},{"$f":"IF($L229=\"\",\"\",IF(AND($L229>=Sheet1!$F$9,'Pupil List'!$L229<Sheet1!$G$9),Sheet1!$A$9,\"\"))","v":""},{"$f":"IF($L229=\"\",\"\",IF(AND($L229>=Sheet1!$F$10,'Pupil List'!$L229<Sheet1!$G$10),Sheet1!$A$10,\"\"))","v":""},{"$f":"IF($L229=\"\",\"\",IF(AND($L229>=Sheet1!$F$11,'Pupil List'!$L229<Sheet1!$G$11),Sheet1!$A$11,\"\"))","v":""},{"$f":"IF($L229=\"\",\"\",IF(AND($L229>=Sheet1!$F$12,'Pupil List'!$L229<Sheet1!$G$12),Sheet1!$A$12,\"\"))","v":""},{"$f":"IF($L229=\"\",\"\",IF(AND($L229>=Sheet1!$F$13,'Pupil List'!$L229<Sheet1!$G$13),Sheet1!$A$13,\"\"))","v":""},{"$f":"IF($L229=\"\",\"\",IF(AND($L229>=Sheet1!$F$14,'Pupil List'!$L229<Sheet1!$G$14),Sheet1!$A$14,\"\"))","v":""},{"$f":"IF($L229=\"\",\"\",IF(AND($L229>=Sheet1!$F$15,'Pupil List'!$L229<Sheet1!$G$15),Sheet1!$A$15,\"\"))","v":""},{"$f":"IF($L229=\"\",\"\",IF(AND($L229>=Sheet1!$F$16,'Pupil List'!$L229<Sheet1!$G$16),Sheet1!$A$16,\"\"))","v":""},{"$f":"IF($L229=\"\",\"\",IF(AND($L229>=Sheet1!$F$17,'Pupil List'!$L229<Sheet1!$G$17),Sheet1!$A$17,\"\"))","v":""},{"$f":"IF($L229=\"\",\"\",IF(AND($L229>=Sheet1!$F$18,'Pupil List'!$L229<Sheet1!$G$18),Sheet1!$A$18,\"\"))","v":""},{"$f":"IF($L229=\"\",\"\",IF(AND($L229>=Sheet1!$F$19,'Pupil List'!$L229<Sheet1!$G$19),Sheet1!$A$19,\"\"))","v":""},{"$f":"IF($L229=\"\",\"\",IF(AND($L229>=Sheet1!$F$20,'Pupil List'!$L229<Sheet1!$G$20),Sheet1!$A$20,\"\"))","v":""},{"$f":"IF($L229=\"\",\"\",IF(AND($L229>=Sheet1!$F$21,'Pupil List'!$L229<Sheet1!$G$21),Sheet1!$A$21,\"\"))","v":""},{"$f":"IF($L229=\"\",\"\",IF(AND($L229>=Sheet1!$F$22,'Pupil List'!$L229<Sheet1!$G$22),Sheet1!$A$22,\"\"))","v":""},{"$f":"IF($L229=\"\",\"\",IF(AND($L229>=Sheet1!$F$23,'Pupil List'!$L229<Sheet1!$G$23),Sheet1!$A$23,\"\"))","v":""},{"$f":"IF($L229=\"\",\"\",IF(AND($L229>=Sheet1!$F$24,'Pupil List'!$L229<Sheet1!$G$24),Sheet1!$A$24,\"\"))","v":""},{"$f":"IF($L229=\"\",\"\",IF(AND($L229>=Sheet1!$F$25,'Pupil List'!$L229<Sheet1!$G$25),Sheet1!$A$25,\"\"))","v":""},{"$error":"#N/A"},{"$f":"IFERROR(VLOOKUP(BK229,Sheet1!$A$2:$E$25,3,FALSE),\"\")","v":""},{"$f":"IFERROR(VLOOKUP(BK229,Sheet1!$A$2:$E$25,4,FALSE),\"\")","v":""},{"$f":"IFERROR(VLOOKUP(BK229,Sheet1!$A$2:$E$25,5,FALSE),\"\")","v":""},{"$f":"IFERROR(VLOOKUP(N229,Sheet1!$A$29:$B$38,2,FALSE),\"\")","v":""}]
["","","",null,null,null,null,null,"","","",null,"",null,"","","","","","","","","","","","","","","","","","","","","","","","",{"$f":"IF($L230=\"\",\"\",IF(AND($L230>=Sheet1!$F$2,'Pupil List'!$L230<Sheet1!$G$2),Sheet1!$A$2,\"\"))","v":""},{"$f":"IF($L230=\"\",\"\",IF(AND($L230>=Sheet1!$F$3,'Pupil List'!$L230<Sheet1!$G$3),Sheet1!$A$3,\"\"))","v":""},{"$f":"IF($L230=\"\",\"\",IF(AND($L230>=Sheet1!$F$4,'Pupil List'!$L230<Sheet1!$G$4),Sheet1!$A$4,\"\"))","v":""},{"$f":"IF($L230=\"\",\"\",IF(AND($L230>=Sheet1!$F$5,'Pupil List'!$L230<Sheet1!$G$5),Sheet1!$A$5,\"\"))","v":""},{"$f":"IF($L230=\"\",\"\",IF(AND($L230>=Sheet1!$F$6,'Pupil List'!$L230<Sheet1!$G$6),Sheet1!$A$6,\"\"))","v":""},{"$f":"IF($L230=\"\",\"\",IF(AND($L230>=Sheet1!$F$7,'Pupil List'!$L230<Sheet1!$G$7),Sheet1!$A$7,\"\"))","v":""},{"$f":"IF($L230=\"\",\"\",IF(AND($L230>=Sheet1!$F$8,'Pupil List'!$L230<Sheet1!$G$8),Sheet1!$A$8,\"\"))","v":""},{"$f":"IF($L230=\"\",\"\",IF(AND($L230>=Sheet1!$F$9,'Pupil List'!$L230<Sheet1!$G$9),Sheet1!$A$9,\"\"))","v":""},{"$f":"IF($L230=\"\",\"\",IF(AND($L230>=Sheet1!$F$10,'Pupil List'!$L230<Sheet1!$G$10),Sheet1!$A$10,\"\"))","v":""},{"$f":"IF($L230=\"\",\"\",IF(AND($L230>=Sheet1!$F$11,'Pupil List'!$L230<Sheet1!$G$11),Sheet1!$A$11,\"\"))","v":""},{"$f":"IF($L230=\"\",\"\",IF(AND($L230>=Sheet1!$F$12,'Pupil List'!$L230<Sheet1!$G$12),Sheet1!$A$12,\"\"))","v":""},{"$f":"IF($L230=\"\",\"\",IF(AND($L230>=Sheet1!$F$13,'Pupil List'!$L230<Sheet1!$G$13),Sheet1!$A$13,\"\"))","v":""},{"$f":"IF($L230=\"\",\"\",IF(AND($L230>=Sheet1!$F$14,'Pupil List'!$L230<Sheet1!$G$14),Sheet1!$A$14,\"\"))","v":""},{"$f":"IF($L230=\"\",\"\",IF(AND($L230>=Sheet1!$F$15,'Pupil List'!$L230<Sheet1!$G$15),Sheet1!$A$15,\"\"))","v":""},{"$f":"IF($L230=\"\",\"\",IF(AND($L230>=Sheet1!$F$16,'Pupil List'!$L230<Sheet1!$G$16),Sheet1!$A$16,\"\"))","v":""},{"$f":"IF($L230=\"\",\"\",IF(AND($L230>=Sheet1!$F$17,'Pupil List'!$L230<Sheet1!$G$17),Sheet1!$A$17,\"\"))","v":""},{"$f":"IF($L230=\"\",\"\",IF(AND($L230>=Sheet1!$F$18,'Pupil List'!$L230<Sheet1!$G$18),Sheet1!$A$18,\"\"))","v":""},{"$f":"IF($L230=\"\",\"\",IF(AND($L230>=Sheet1!$F$19,'Pupil List'!$L230<Sheet1!$G$19),Sheet1!$A$19,\"\"))","v":""},{"$f":"IF($L230=\"\",\"\",IF(AND($L230>=Sheet1!$F$20,'Pupil List'!$L230<Sheet1!$G$20),Sheet1!$A$20,\"\"))","v":""},{"$f":"IF($L230=\"\",\"\",IF(AND($L230>=Sheet1!$F$21,'Pupil List'!$L230<Sheet1!$G$21),Sheet1!$A$21,\"\"))","v":""},{"$f":"IF($L230=\"\",\"\",IF(AND($L230>=Sheet1!$F$22,'Pupil List'!$L230<Sheet1!$G$22),Sheet1!$A$22,\"\"))","v":""},{"$f":"IF($L230=\"\",\"\",IF(AND($L230>=Sheet1!$F$23,'Pupil List'!$L230<Sheet1!$G$23),Sheet1!$A$23,\"\"))","v":""},{"$f":"IF($L230=\"\",\"\",IF(AND($L230>=Sheet1!$F$24,'Pupil List'!$L230<Sheet1!$G$24),Sheet1!$A$24,\"\"))","v":""},{"$f":"IF($L230=\"\",\"\",IF(AND($L230>=Sheet1!$F$25,'Pupil List'!$L230<Sheet1!$G$25),Sheet1!$A$25,\"\"))","v":""},{"$error":"#N/A"},{"$f":"IFERROR(VLOOKUP(BK230,Sheet1!$A$2:$E$25,3,FALSE),\"\")","v":""},{"$f":"IFERROR(VLOOKUP(BK230,Sheet1!$A$2:$E$25,4,FALSE),\"\")","v":""},{"$f":"IFERROR(VLOOKUP(BK230,Sheet1!$A$2:$E$25,5,FALSE),\"\")","v":""},{"$f":"IFERROR(VLOOKUP(N230,Sheet1!$A$29:$B$38,2,FALSE),\"\")","v":""}]
["","","",null,null,null,null,null,"","","",null,"",null,"","","","","","","","","","","","","","","","","","","","","","","","",{"$f":"IF($L231=\"\",\"\",IF(AND($L231>=Sheet1!$F$2,'Pupil List'!$L231<Sheet1!$G$2),Sheet1!$A$2,\"\"))","v":""},{"$f":"IF($L231=\"\",\"\",IF(AND($L231>=Sheet1!$F$3,'Pupil List'!$L231<Sheet1!$G$3),Sheet1!$A$3,\"\"))","v":""},{"$f":"IF($L231=\"\",\"\",IF(AND($L231>=Sheet1!$F$4,'Pupil List'!$L231<Sheet1!$G$4),Sheet1!$A$4,\"\"))","v":""},{"$f":"IF($L231=\"\",\"\",IF(AND($L231>=Sheet1!$F$5,'Pupil List'!$L231<Sheet1!$G$5),Sheet1!$A$5,\"\"))","v":""},{"$f":"IF($L231=\"\",\"\",IF(AND($L231>=Sheet1!$F$6,'Pupil List'!$L231<Sheet1!$G$6),Sheet1!$A$6,\"\"))","v":""},{"$f":"IF($L231=\"\",\"\",IF(AND($L231>=Sheet1!$F$7,'Pupil List'!$L231<Sheet1!$G$7),Sheet1!$A$7,\"\"))","v":""},{"$f":"IF($L231=\"\",\"\",IF(AND($L231>=Sheet1!$F$8,'Pupil List'!$L231<Sheet1!$G$8),Sheet1!$A$8,\"\"))","v":""},{"$f":"IF($L231=\"\",\"\",IF(AND($L231>=Sheet1!$F$9,'Pupil List'!$L231<Sheet1!$G$9),Sheet1!$A$9,\"\"))","v":""},{"$f":"IF($L231=\"\",\"\",IF(AND($L231>=Sheet1!$F$10,'Pupil List'!$L231<Sheet1!$G$10),Sheet1!$A$10,\"\"))","v":""},{"$f":"IF($L231=\"\",\"\",IF(AND($L231>=Sheet1!$F$11,'Pupil List'!$L231<Sheet1!$G$11),Sheet1!$A$11,\"\"))","v":""},{"$f":"IF($L231=\"\",\"\",IF(AND($L231>=Sheet1!$F$12,'Pupil List'!$L231<Sheet1!$G$12),Sheet1!$A$12,\"\"))","v":""},{"$f":"IF($L231=\"\",\"\",IF(AND($L231>=Sheet1!$F$13,'Pupil List'!$L231<Sheet1!$G$13),Sheet1!$A$13,\"\"))","v":""},{"$f":"IF($L231=\"\",\"\",IF(AND($L231>=Sheet1!$F$14,'Pupil List'!$L231<Sheet1!$G$14),Sheet1!$A$14,\"\"))","v":""},{"$f":"IF($L231=\"\",\"\",IF(AND($L231>=Sheet1!$F$15,'Pupil List'!$L231<Sheet1!$G$15),Sheet1!$A$15,\"\"))","v":""},{"$f":"IF($L231=\"\",\"\",IF(AND($L231>=Sheet1!$F$16,'Pupil List'!$L231<Sheet1!$G$16),Sheet1!$A$16,\"\"))","v":""},{"$f":"IF($L231=\"\",\"\",IF(AND($L231>=Sheet1!$F$17,'Pupil List'!$L231<Sheet1!$G$17),Sheet1!$A$17,\"\"))","v":""},{"$f":"IF($L231=\"\",\"\",IF(AND($L231>=Sheet1!$F$18,'Pupil List'!$L231<Sheet1!$G$18),Sheet1!$A$18,\"\"))","v":""},{"$f":"IF($L231=\"\",\"\",IF(AND($L231>=Sheet1!$F$19,'Pupil List'!$L231<Sheet1!$G$19),Sheet1!$A$19,\"\"))","v":""},{"$f":"IF($L231=\"\",\"\",IF(AND($L231>=Sheet1!$F$20,'Pupil List'!$L231<Sheet1!$G$20),Sheet1!$A$20,\"\"))","v":""},{"$f":"IF($L231=\"\",\"\",IF(AND($L231>=Sheet1!$F$21,'Pupil List'!$L231<Sheet1!$G$21),Sheet1!$A$21,\"\"))","v":""},{"$f":"IF($L231=\"\",\"\",IF(AND($L231>=Sheet1!$F$22,'Pupil List'!$L231<Sheet1!$G$22),Sheet1!$A$22,\"\"))","v":""},{"$f":"IF($L231=\"\",\"\",IF(AND($L231>=Sheet1!$F$23,'Pupil List'!$L231<Sheet1!$G$23),Sheet1!$A$23,\"\"))","v":""},{"$f":"IF($L231=\"\",\"\",IF(AND($L231>=Sheet1!$F$24,'Pupil List'!$L231<Sheet1!$G$24),Sheet1!$A$24,\"\"))","v":""},{"$f":"IF($L231=\"\",\"\",IF(AND($L231>=Sheet1!$F$25,'Pupil List'!$L231<Sheet1!$G$25),Sheet1!$A$25,\"\"))","v":""},{"$error":"#N/A"},{"$f":"IFERROR(VLOOKUP(BK231,Sheet1!$A$2:$E$25,3,FALSE),\"\")","v":""},{"$f":"IFERROR(VLOOKUP(BK231,Sheet1!$A$2:$E$25,4,FALSE),\"\")","v":""},{"$f":"IFERROR(VLOOKUP(BK231,Sheet1!$A$2:$E$25,5,FALSE),\"\")","v":""},{"$f":"IFERROR(VLOOKUP(N231,Sheet1!$A$29:$B$38,2,FALSE),\"\")","v":""}]
["","","",null,null,null,null,null,"","","",null,"",null,"","","","","","","","","","","","","","","","","","","","","","","","",{"$f":"IF($L232=\"\",\"\",IF(AND($L232>=Sheet1!$F$2,'Pupil List'!$L232<Sheet1!$G$2),Sheet1!$A$2,\"\"))","v":""},{"$f":"IF($L232=\"\",\"\",IF(AND($L232>=Sheet1!$F$3,'Pupil List'!$L232<Sheet1!$G$3),Sheet1!$A$3,\"\"))","v":""},{"$f":"IF($L232=\"\",\"\",IF(AND($L232>=Sheet1!$F$4,'Pupil List'!$L232<Sheet1!$G$4),Sheet1!$A$4,\"\"))","v":""},{"$f":"IF($L232=\"\",\"\",IF(AND($L232>=Sheet1!$F$5,'Pupil List'!$L232<Sheet1!$G$5),Sheet1!$A$5,\"\"))","v":""},{"$f":"IF($L232=\"\",\"\",IF(AND($L232>=Sheet1!$F$6,'Pupil List'!$L232<Sheet1!$G$6),Sheet1!$A$6,\"\"))","v":""},{"$f":"IF($L232=\"\",\"\",IF(AND($L232>=Sheet1!$F$7,'Pupil List'!$L232<Sheet1!$G$7),Sheet1!$A$7,\"\"))","v":""},{"$f":"IF($L232=\"\",\"\",IF(AND($L232>=Sheet1!$F$8,'Pupil List'!$L232<Sheet1!$G$8),Sheet1!$A$8,\"\"))","v":""},{"$f":"IF($L232=\"\",\"\",IF(AND($L232>=Sheet1!$F$9,'Pupil List'!$L232<Sheet1!$G$9),Sheet1!$A$9,\"\"))","v":""},{"$f":"IF($L232=\"\",\"\",IF(AND($L232>=Sheet1!$F$10,'Pupil List'!$L232<Sheet1!$G$10),Sheet1!$A$10,\"\"))","v":""},{"$f":"IF($L232=\"\",\"\",IF(AND($L232>=Sheet1!$F$11,'Pupil List'!$L232<Sheet1!$G$11),Sheet1!$A$11,\"\"))","v":""},{"$f":"IF($L232=\"\",\"\",IF(AND($L232>=Sheet1!$F$12,'Pupil List'!$L232<Sheet1!$G$12),Sheet1!$A$12,\"\"))","v":""},{"$f":"IF($L232=\"\",\"\",IF(AND($L232>=Sheet1!$F$13,'Pupil List'!$L232<Sheet1!$G$13),Sheet1!$A$13,\"\"))","v":""},{"$f":"IF($L232=\"\",\"\",IF(AND($L232>=Sheet1!$F$14,'Pupil List'!$L232<Sheet1!$G$14),Sheet1!$A$14,\"\"))","v":""},{"$f":"IF($L232=\"\",\"\",IF(AND($L232>=Sheet1!$F$15,'Pupil List'!$L232<Sheet1!$G$15),Sheet1!$A$15,\"\"))","v":""},{"$f":"IF($L232=\"\",\"\",IF(AND($L232>=Sheet1!$F$16,'Pupil List'!$L232<Sheet1!$G$16),Sheet1!$A$16,\"\"))","v":""},{"$f":"IF($L232=\"\",\"\",IF(AND($L232>=Sheet1!$F$17,'Pupil List'!$L232<Sheet1!$G$17),Sheet1!$A$17,\"\"))","v":""},{"$f":"IF($L232=\"\",\"\",IF(AND($L232>=Sheet1!$F$18,'Pupil List'!$L232<Sheet1!$G$18),Sheet1!$A$18,\"\"))","v":""},{"$f":"IF($L232=\"\",\"\",IF(AND($L232>=Sheet1!$F$19,'Pupil List'!$L232<Sheet1!$G$19),Sheet1!$A$19,\"\"))","v":""},{"$f":"IF($L232=\"\",\"\",IF(AND($L232>=Sheet1!$F$20,'Pupil List'!$L232<Sheet1!$G$20),Sheet1!$A$20,\"\"))","v":""},{"$f":"IF($L232=\"\",\"\",IF(AND($L232>=Sheet1!$F$21,'Pupil List'!$L232<Sheet1!$G$21),Sheet1!$A$21,\"\"))","v":""},{"$f":"IF($L232=\"\",\"\",IF(AND($L232>=Sheet1!$F$22,'Pupil List'!$L232<Sheet1!$G$22),Sheet1!$A$22,\"\"))","v":""},{"$f":"IF($L232=\"\",\"\",IF(AND($L232>=Sheet1!$F$23,'Pupil List'!$L232<Sheet1!$G$23),Sheet1!$A$23,\"\"))","v":""},{"$f":"IF($L232=\"\",\"\",IF(AND($L232>=Sheet1!$F$24,'Pupil List'!$L232<Sheet1!$G$24),Sheet1!$A$24,\"\"))","v":""},{"$f":"IF($L232=\"\",\"\",IF(AND($L232>=Sheet1!$F$25,'Pupil List'!$L232<Sheet1!$G$25),Sheet1!$A$25,\"\"))","v":""},{"$error":"#N/A"},{"$f":"IFERROR(VLOOKUP(BK232,Sheet1!$A$2:$E$25,3,FALSE),\"\")","v":""},{"$f":"IFERROR(VLOOKUP(BK232,Sheet1!$A$2:$E$25,4,FALSE),\"\")","v":""},{"$f":"IFERROR(VLOOKUP(BK232,Sheet1!$A$2:$E$25,5,FALSE),\"\")","v":""},{"$f":"IFERROR(VLOOKUP(N232,Sheet1!$A$29:$B$38,2,FALSE),\"\")","v":""}]
["","","",null,null,null,null,null,"","","",null,"",null,"","","","","","","","","","","","","","","","","","","","","","","","",{"$f":"IF($L233=\"\",\"\",IF(AND($L233>=Sheet1!$F$2,'Pupil List'!$L233<Sheet1!$G$2),Sheet1!$A$2,\"\"))","v":""},{"$f":"IF($L233=\"\",\"\",IF(AND($L233>=Sheet1!$F$3,'Pupil List'!$L233<Sheet1!$G$3),Sheet1!$A$3,\"\"))","v":""},{"$f":"IF($L233=\"\",\"\",IF(AND($L233>=Sheet1!$F$4,'Pupil List'!$L233<Sheet1!$G$4),Sheet1!$A$4,\"\"))","v":""},{"$f":"IF($L233=\"\",\"\",IF(AND($L233>=Sheet1!$F$5,'Pupil List'!$L233<Sheet1!$G$5),Sheet1!$A$5,\"\"))","v":""},{"$f":"IF($L233=\"\",\"\",IF(AND($L233>=Sheet1!$F$6,'Pupil List'!$L233<Sheet1!$G$6),Sheet1!$A$6,\"\"))","v":""},{"$f":"IF($L233=\"\",\"\",IF(AND($L233>=Sheet1!$F$7,'Pupil List'!$L233<Sheet1!$G$7),Sheet1!$A$7,\"\"))","v":""},{"$f":"IF($L233=\"\",\"\",IF(AND($L233>=Sheet1!$F$8,'Pupil List'!$L233<Sheet1!$G$8),Sheet1!$A$8,\"\"))","v":""},{"$f":"IF($L233=\"\",\"\",IF(AND($L233>=Sheet1!$F$9,'Pupil List'!$L233<Sheet1!$G$9),Sheet1!$A$9,\"\"))","v":""},{"$f":"IF($L233=\"\",\"\",IF(AND($L233>=Sheet1!$F$10,'Pupil List'!$L233<Sheet1!$G$10),Sheet1!$A$10,\"\"))","v":""},{"$f":"IF($L233=\"\",\"\",IF(AND($L233>=Sheet1!$F$11,'Pupil List'!$L233<Sheet1!$G$11),Sheet1!$A$11,\"\"))","v":""},{"$f":"IF($L233=\"\",\"\",IF(AND($L233>=Sheet1!$F$12,'Pupil List'!$L233<Sheet1!$G$12),Sheet1!$A$12,\"\"))","v":""},{"$f":"IF($L233=\"\",\"\",IF(AND($L233>=Sheet1!$F$13,'Pupil List'!$L233<Sheet1!$G$13),Sheet1!$A$13,\"\"))","v":""},{"$f":"IF($L233=\"\",\"\",IF(AND($L233>=Sheet1!$F$14,'Pupil List'!$L233<Sheet1!$G$14),Sheet1!$A$14,\"\"))","v":""},{"$f":"IF($L233=\"\",\"\",IF(AND($L233>=Sheet1!$F$15,'Pupil List'!$L233<Sheet1!$G$15),Sheet1!$A$15,\"\"))","v":""},{"$f":"IF($L233=\"\",\"\",IF(AND($L233>=Sheet1!$F$16,'Pupil List'!$L233<Sheet1!$G$16),Sheet1!$A$16,\"\"))","v":""},{"$f":"IF($L233=\"\",\"\",IF(AND($L233>=Sheet1!$F$17,'Pupil List'!$L233<Sheet1!$G$17),Sheet1!$A$17,\"\"))","v":""},{"$f":"IF($L233=\"\",\"\",IF(AND($L233>=Sheet1!$F$18,'Pupil List'!$L233<Sheet1!$G$18),Sheet1!$A$18,\"\"))","v":""},{"$f":"IF($L233=\"\",\"\",IF(AND($L233>=Sheet1!$F$19,'Pupil List'!$L233<Sheet1!$G$19),Sheet1!$A$19,\"\"))","v":""},{"$f":"IF($L233=\"\",\"\",IF(AND($L233>=Sheet1!$F$20,'Pupil List'!$L233<Sheet1!$G$20),Sheet1!$A$20,\"\"))","v":""},{"$f":"IF($L233=\"\",\"\",IF(AND($L233>=Sheet1!$F$21,'Pupil List'!$L233<Sheet1!$G$21),Sheet1!$A$21,\"\"))","v":""},{"$f":"IF($L233=\"\",\"\",IF(AND($L233>=Sheet1!$F$22,'Pupil List'!$L233<Sheet1!$G$22),Sheet1!$A$22,\"\"))","v":""},{"$f":"IF($L233=\"\",\"\",IF(AND($L233>=Sheet1!$F$23,'Pupil List'!$L233<Sheet1!$G$23),Sheet1!$A$23,\"\"))","v":""},{"$f":"IF($L233=\"\",\"\",IF(AND($L233>=Sheet1!$F$24,'Pupil List'!$L233<Sheet1!$G$24),Sheet1!$A$24,\"\"))","v":""},{"$f":"IF($L233=\"\",\"\",IF(AND($L233>=Sheet1!$F$25,'Pupil List'!$L233<Sheet1!$G$25),Sheet1!$A$25,\"\"))","v":""},{"$error":"#N/A"},{"$f":"IFERROR(VLOOKUP(BK233,Sheet1!$A$2:$E$25,3,FALSE),\"\")","v":""},{"$f":"IFERROR(VLOOKUP(BK233,Sheet1!$A$2:$E$25,4,FALSE),\"\")","v":""},{"$f":"IFERROR(VLOOKUP(BK233,Sheet1!$A$2:$E$25,5,FALSE),\"\")","v":""},{"$f":"IFERROR(VLOOKUP(N233,Sheet1!$A$29:$B$38,2,FALSE),\"\")","v":""}]
["","","",null,null,null,null,null,"","","",null,"",null,"","","","","","","","","","","","","","","","","","","","","","","","",{"$f":"IF($L234=\"\",\"\",IF(AND($L234>=Sheet1!$F$2,'Pupil List'!$L234<Sheet1!$G$2),Sheet1!$A$2,\"\"))","v":""},{"$f":"IF($L234=\"\",\"\",IF(AND($L234>=Sheet1!$F$3,'Pupil List'!$L234<Sheet1!$G$3),Sheet1!$A$3,\"\"))","v":""},{"$f":"IF($L234=\"\",\"\",IF(AND($L234>=Sheet1!$F$4,'Pupil List'!$L234<Sheet1!$G$4),Sheet1!$A$4,\"\"))","v":""},{"$f":"IF($L234=\"\",\"\",IF(AND($L234>=Sheet1!$F$5,'Pupil List'!$L234<Sheet1!$G$5),Sheet1!$A$5,\"\"))","v":""},{"$f":"IF($L234=\"\",\"\",IF(AND($L234>=Sheet1!$F$6,'Pupil List'!$L234<Sheet1!$G$6),Sheet1!$A$6,\"\"))","v":""},{"$f":"IF($L234=\"\",\"\",IF(AND($L234>=Sheet1!$F$7,'Pupil List'!$L234<Sheet1!$G$7),Sheet1!$A$7,\"\"))","v":""},{"$f":"IF($L234=\"\",\"\",IF(AND($L234>=Sheet1!$F$8,'Pupil List'!$L234<Sheet1!$G$8),Sheet1!$A$8,\"\"))","v":""},{"$f":"IF($L234=\"\",\"\",IF(AND($L234>=Sheet1!$F$9,'Pupil List'!$L234<Sheet1!$G$9),Sheet1!$A$9,\"\"))","v":""},{"$f":"IF($L234=\"\",\"\",IF(AND($L234>=Sheet1!$F$10,'Pupil List'!$L234<Sheet1!$G$10),Sheet1!$A$10,\"\"))","v":""},{"$f":"IF($L234=\"\",\"\",IF(AND($L234>=Sheet1!$F$11,'Pupil List'!$L234<Sheet1!$G$11),Sheet1!$A$11,\"\"))","v":""},{"$f":"IF($L234=\"\",\"\",IF(AND($L234>=Sheet1!$F$12,'Pupil List'!$L234<Sheet1!$G$12),Sheet1!$A$12,\"\"))","v":""},{"$f":"IF($L234=\"\",\"\",IF(AND($L234>=Sheet1!$F$13,'Pupil List'!$L234<Sheet1!$G$13),Sheet1!$A$13,\"\"))","v":""},{"$f":"IF($L234=\"\",\"\",IF(AND($L234>=Sheet1!$F$14,'Pupil List'!$L234<Sheet1!$G$14),Sheet1!$A$14,\"\"))","v":""},{"$f":"IF($L234=\"\",\"\",IF(AND($L234>=Sheet1!$F$15,'Pupil List'!$L234<Sheet1!$G$15),Sheet1!$A$15,\"\"))","v":""},{"$f":"IF($L234=\"\",\"\",IF(AND($L234>=Sheet1!$F$16,'Pupil List'!$L234<Sheet1!$G$16),Sheet1!$A$16,\"\"))","v":""},{"$f":"IF($L234=\"\",\"\",IF(AND($L234>=Sheet1!$F$17,'Pupil List'!$L234<Sheet1!$G$17),Sheet1!$A$17,\"\"))","v":""},{"$f":"IF($L234=\"\",\"\",IF(AND($L234>=Sheet1!$F$18,'Pupil List'!$L234<Sheet1!$G$18),Sheet1!$A$18,\"\"))","v":""},{"$f":"IF($L234=\"\",\"\",IF(AND($L234>=Sheet1!$F$19,'Pupil List'!$L234<Sheet1!$G$19),Sheet1!$A$19,\"\"))","v":""},{"$f":"IF($L234=\"\",\"\",IF(AND($L234>=Sheet1!$F$20,'Pupil List'!$L234<Sheet1!$G$20),Sheet1!$A$20,\"\"))","v":""},{"$f":"IF($L234=\"\",\"\",IF(AND($L234>=Sheet1!$F$21,'Pupil List'!$L234<Sheet1!$G$21),Sheet1!$A$21,\"\"))","v":""},{"$f":"IF($L234=\"\",\"\",IF(AND($L234>=Sheet1!$F$22,'Pupil List'!$L234<Sheet1!$G$22),Sheet1!$A$22,\"\"))","v":""},{"$f":"IF($L234=\"\",\"\",IF(AND($L234>=Sheet1!$F$23,'Pupil List'!$L234<Sheet1!$G$23),Sheet1!$A$23,\"\"))","v":""},{"$f":"IF($L234=\"\",\"\",IF(AND($L234>=Sheet1!$F$24,'Pupil List'!$L234<Sheet1!$G$24),Sheet1!$A$24,\"\"))","v":""},{"$f":"IF($L234=\"\",\"\",IF(AND($L234>=Sheet1!$F$25,'Pupil List'!$L234<Sheet1!$G$25),Sheet1!$A$25,\"\"))","v":""},{"$error":"#N/A"},{"$f":"IFERROR(VLOOKUP(BK234,Sheet1!$A$2:$E$25,3,FALSE),\"\")","v":""},{"$f":"IFERROR(VLOOKUP(BK234,Sheet1!$A$2:$E$25,4,FALSE),\"\")","v":""},{"$f":"IFERROR(VLOOKUP(BK234,Sheet1!$A$2:$E$25,5,FALSE),\"\")","v":""},{"$f":"IFERROR(VLOOKUP(N234,Sheet1!$A$29:$B$38,2,FALSE),\"\")","v":""}]
["","","",null,null,null,null,null,"","","",null,"",null,"","","","","","","","","","","","","","","","","","","","","","","","",{"$f":"IF($L235=\"\",\"\",IF(AND($L235>=Sheet1!$F$2,'Pupil List'!$L235<Sheet1!$G$2),Sheet1!$A$2,\"\"))","v":""},{"$f":"IF($L235=\"\",\"\",IF(AND($L235>=Sheet1!$F$3,'Pupil List'!$L235<Sheet1!$G$3),Sheet1!$A$3,\"\"))","v":""},{"$f":"IF($L235=\"\",\"\",IF(AND($L235>=Sheet1!$F$4,'Pupil List'!$L235<Sheet1!$G$4),Sheet1!$A$4,\"\"))","v":""},{"$f":"IF($L235=\"\",\"\",IF(AND($L235>=Sheet1!$F$5,'Pupil List'!$L235<Sheet1!$G$5),Sheet1!$A$5,\"\"))","v":""},{"$f":"IF($L235=\"\",\"\",IF(AND($L235>=Sheet1!$F$6,'Pupil List'!$L235<Sheet1!$G$6),Sheet1!$A$6,\"\"))","v":""},{"$f":"IF($L235=\"\",\"\",IF(AND($L235>=Sheet1!$F$7,'Pupil List'!$L235<Sheet1!$G$7),Sheet1!$A$7,\"\"))","v":""},{"$f":"IF($L235=\"\",\"\",IF(AND($L235>=Sheet1!$F$8,'Pupil List'!$L235<Sheet1!$G$8),Sheet1!$A$8,\"\"))","v":""},{"$f":"IF($L235=\"\",\"\",IF(AND($L235>=Sheet1!$F$9,'Pupil List'!$L235<Sheet1!$G$9),Sheet1!$A$9,\"\"))","v":""},{"$f":"IF($L235=\"\",\"\",IF(AND($L235>=Sheet1!$F$10,'Pupil List'!$L235<Sheet1!$G$10),Sheet1!$A$10,\"\"))","v":""},{"$f":"IF($L235=\"\",\"\",IF(AND($L235>=Sheet1!$F$11,'Pupil List'!$L235<Sheet1!$G$11),Sheet1!$A$11,\"\"))","v":""},{"$f":"IF($L235=\"\",\"\",IF(AND($L235>=Sheet1!$F$12,'Pupil List'!$L235<Sheet1!$G$12),Sheet1!$A$12,\"\"))","v":""},{"$f":"IF($L235=\"\",\"\",IF(AND($L235>=Sheet1!$F$13,'Pupil List'!$L235<Sheet1!$G$13),Sheet1!$A$13,\"\"))","v":""},{"$f":"IF($L235=\"\",\"\",IF(AND($L235>=Sheet1!$F$14,'Pupil List'!$L235<Sheet1!$G$14),Sheet1!$A$14,\"\"))","v":""},{"$f":"IF($L235=\"\",\"\",IF(AND($L235>=Sheet1!$F$15,'Pupil List'!$L235<Sheet1!$G$15),Sheet1!$A$15,\"\"))","v":""},{"$f":"IF($L235=\"\",\"\",IF(AND($L235>=Sheet1!$F$16,'Pupil List'!$L235<Sheet1!$G$16),Sheet1!$A$16,\"\"))","v":""},{"$f":"IF($L235=\"\",\"\",IF(AND($L235>=Sheet1!$F$17,'Pupil List'!$L235<Sheet1!$G$17),Sheet1!$A$17,\"\"))","v":""},{"$f":"IF($L235=\"\",\"\",IF(AND($L235>=Sheet1!$F$18,'Pupil List'!$L235<Sheet1!$G$18),Sheet1!$A$18,\"\"))","v":""},{"$f":"IF($L235=\"\",\"\",IF(AND($L235>=Sheet1!$F$19,'Pupil List'!$L235<Sheet1!$G$19),Sheet1!$A$19,\"\"))","v":""},{"$f":"IF($L235=\"\",\"\",IF(AND($L235>=Sheet1!$F$20,'Pupil List'!$L235<Sheet1!$G$20),Sheet1!$A$20,\"\"))","v":""},{"$f":"IF($L235=\"\",\"\",IF(AND($L235>=Sheet1!$F$21,'Pupil List'!$L235<Sheet1!$G$21),Sheet1!$A$21,\"\"))","v":""},{"$f":"IF($L235=\"\",\"\",IF(AND($L235>=Sheet1!$F$22,'Pupil List'!$L235<Sheet1!$G$22),Sheet1!$A$22,\"\"))","v":""},{"$f":"IF($L235=\"\",\"\",IF(AND($L235>=Sheet1!$F$23,'Pupil List'!$L235<Sheet1!$G$23),Sheet1!$A$23,\"\"))","v":""},{"$f":"IF($L235=\"\",\"\",IF(AND($L235>=Sheet1!$F$24,'Pupil List'!$L235<Sheet1!$G$24),Sheet1!$A$24,\"\"))","v":""},{"$f":"IF($L235=\"\",\"\",IF(AND($L235>=Sheet1!$F$25,'Pupil List'!$L235<Sheet1!$G$25),Sheet1!$A$25,\"\"))","v":""},{"$error":"#N/A"},{"$f":"IFERROR(VLOOKUP(BK235,Sheet1!$A$2:$E$25,3,FALSE),\"\")","v":""},{"$f":"IFERROR(VLOOKUP(BK235,Sheet1!$A$2:$E$25,4,FALSE),\"\")","v":""},{"$f":"IFERROR(VLOOKUP(BK235,Sheet1!$A$2:$E$25,5,FALSE),\"\")","v":""},{"$f":"IFERROR(VLOOKUP(N235,Sheet1!$A$29:$B$38,2,FALSE),\"\")","v":""}]
["","","",null,null,null,null,null,"","","",null,"",null,"","","","","","","","","","","","","","","","","","","","","","","","",{"$f":"IF($L236=\"\",\"\",IF(AND($L236>=Sheet1!$F$2,'Pupil List'!$L236<Sheet1!$G$2),Sheet1!$A$2,\"\"))","v":""},{"$f":"IF($L236=\"\",\"\",IF(AND($L236>=Sheet1!$F$3,'Pupil List'!$L236<Sheet1!$G$3),Sheet1!$A$3,\"\"))","v":""},{"$f":"IF($L236=\"\",\"\",IF(AND($L236>=Sheet1!$F$4,'Pupil List'!$L236<Sheet1!$G$4),Sheet1!$A$4,\"\"))","v":""},{"$f":"IF($L236=\"\",\"\",IF(AND($L236>=Sheet1!$F$5,'Pupil List'!$L236<Sheet1!$G$5),Sheet1!$A$5,\"\"))","v":""},{"$f":"IF($L236=\"\",\"\",IF(AND($L236>=Sheet1!$F$6,'Pupil List'!$L236<Sheet1!$G$6),Sheet1!$A$6,\"\"))","v":""},{"$f":"IF($L236=\"\",\"\",IF(AND($L236>=Sheet1!$F$7,'Pupil List'!$L236<Sheet1!$G$7),Sheet1!$A$7,\"\"))","v":""},{"$f":"IF($L236=\"\",\"\",IF(AND($L236>=Sheet1!$F$8,'Pupil List'!$L236<Sheet1!$G$8),Sheet1!$A$8,\"\"))","v":""},{"$f":"IF($L236=\"\",\"\",IF(AND($L236>=Sheet1!$F$9,'Pupil List'!$L236<Sheet1!$G$9),Sheet1!$A$9,\"\"))","v":""},{"$f":"IF($L236=\"\",\"\",IF(AND($L236>=Sheet1!$F$10,'Pupil List'!$L236<Sheet1!$G$10),Sheet1!$A$10,\"\"))","v":""},{"$f":"IF($L236=\"\",\"\",IF(AND($L236>=Sheet1!$F$11,'Pupil List'!$L236<Sheet1!$G$11),Sheet1!$A$11,\"\"))","v":""},{"$f":"IF($L236=\"\",\"\",IF(AND($L236>=Sheet1!$F$12,'Pupil List'!$L236<Sheet1!$G$12),Sheet1!$A$12,\"\"))","v":""},{"$f":"IF($L236=\"\",\"\",IF(AND($L236>=Sheet1!$F$13,'Pupil List'!$L236<Sheet1!$G$13),Sheet1!$A$13,\"\"))","v":""},{"$f":"IF($L236=\"\",\"\",IF(AND($L236>=Sheet1!$F$14,'Pupil List'!$L236<Sheet1!$G$14),Sheet1!$A$14,\"\"))","v":""},{"$f":"IF($L236=\"\",\"\",IF(AND($L236>=Sheet1!$F$15,'Pupil List'!$L236<Sheet1!$G$15),Sheet1!$A$15,\"\"))","v":""},{"$f":"IF($L236=\"\",\"\",IF(AND($L236>=Sheet1!$F$16,'Pupil List'!$L236<Sheet1!$G$16),Sheet1!$A$16,\"\"))","v":""},{"$f":"IF($L236=\"\",\"\",IF(AND($L236>=Sheet1!$F$17,'Pupil List'!$L236<Sheet1!$G$17),Sheet1!$A$17,\"\"))","v":""},{"$f":"IF($L236=\"\",\"\",IF(AND($L236>=Sheet1!$F$18,'Pupil List'!$L236<Sheet1!$G$18),Sheet1!$A$18,\"\"))","v":""},{"$f":"IF($L236=\"\",\"\",IF(AND($L236>=Sheet1!$F$19,'Pupil List'!$L236<Sheet1!$G$19),Sheet1!$A$19,\"\"))","v":""},{"$f":"IF($L236=\"\",\"\",IF(AND($L236>=Sheet1!$F$20,'Pupil List'!$L236<Sheet1!$G$20),Sheet1!$A$20,\"\"))","v":""},{"$f":"IF($L236=\"\",\"\",IF(AND($L236>=Sheet1!$F$21,'Pupil List'!$L236<Sheet1!$G$21),Sheet1!$A$21,\"\"))","v":""},{"$f":"IF($L236=\"\",\"\",IF(AND($L236>=Sheet1!$F$22,'Pupil List'!$L236<Sheet1!$G$22),Sheet1!$A$22,\"\"))","v":""},{"$f":"IF($L236=\"\",\"\",IF(AND($L236>=Sheet1!$F$23,'Pupil List'!$L236<Sheet1!$G$23),Sheet1!$A$23,\"\"))","v":""},{"$f":"IF($L236=\"\",\"\",IF(AND($L236>=Sheet1!$F$24,'Pupil List'!$L236<Sheet1!$G$24),Sheet1!$A$24,\"\"))","v":""},{"$f":"IF($L236=\"\",\"\",IF(AND($L236>=Sheet1!$F$25,'Pupil List'!$L236<Sheet1!$G$25),Sheet1!$A$25,\"\"))","v":""},{"$error":"#N/A"},{"$f":"IFERROR(VLOOKUP(BK236,Sheet1!$A$2:$E$25,3,FALSE),\"\")","v":""},{"$f":"IFERROR(VLOOKUP(BK236,Sheet1!$A$2:$E$25,4,FALSE),\"\")","v":""},{"$f":"IFERROR(VLOOKUP(BK236,Sheet1!$A$2:$E$25,5,FALSE),\"\")","v":""},{"$f":"IFERROR(VLOOKUP(N236,Sheet1!$A$29:$B$38,2,FALSE),\"\")","v":""}]
["","","",null,null,null,null,null,"","","",null,"",null,"","","","","","","","","","","","","","","","","","","","","","","","",{"$f":"IF($L237=\"\",\"\",IF(AND($L237>=Sheet1!$F$2,'Pupil List'!$L237<Sheet1!$G$2),Sheet1!$A$2,\"\"))","v":""},{"$f":"IF($L237=\"\",\"\",IF(AND($L237>=Sheet1!$F$3,'Pupil List'!$L237<Sheet1!$G$3),Sheet1!$A$3,\"\"))","v":""},{"$f":"IF($L237=\"\",\"\",IF(AND($L237>=Sheet1!$F$4,'Pupil List'!$L237<Sheet1!$G$4),Sheet1!$A$4,\"\"))","v":""},{"$f":"IF($L237=\"\",\"\",IF(AND($L237>=Sheet1!$F$5,'Pupil List'!$L237<Sheet1!$G$5),Sheet1!$A$5,\"\"))","v":""},{"$f":"IF($L237=\"\",\"\",IF(AND($L237>=Sheet1!$F$6,'Pupil List'!$L237<Sheet1!$G$6),Sheet1!$A$6,\"\"))","v":""},{"$f":"IF($L237=\"\",\"\",IF(AND($L237>=Sheet1!$F$7,'Pupil List'!$L237<Sheet1!$G$7),Sheet1!$A$7,\"\"))","v":""},{"$f":"IF($L237=\"\",\"\",IF(AND($L237>=Sheet1!$F$8,'Pupil List'!$L237<Sheet1!$G$8),Sheet1!$A$8,\"\"))","v":""},{"$f":"IF($L237=\"\",\"\",IF(AND($L237>=Sheet1!$F$9,'Pupil List'!$L237<Sheet1!$G$9),Sheet1!$A$9,\"\"))","v":""},{"$f":"IF($L237=\"\",\"\",IF(AND($L237>=Sheet1!$F$10,'Pupil List'!$L237<Sheet1!$G$10),Sheet1!$A$10,\"\"))","v":""},{"$f":"IF($L237=\"\",\"\",IF(AND($L237>=Sheet1!$F$11,'Pupil List'!$L237<Sheet1!$G$11),Sheet1!$A$11,\"\"))","v":""},{"$f":"IF($L237=\"\",\"\",IF(AND($L237>=Sheet1!$F$12,'Pupil List'!$L237<Sheet1!$G$12),Sheet1!$A$12,\"\"))","v":""},{"$f":"IF($L237=\"\",\"\",IF(AND($L237>=Sheet1!$F$13,'Pupil List'!$L237<Sheet1!$G$13),Sheet1!$A$13,\"\"))","v":""},{"$f":"IF($L237=\"\",\"\",IF(AND($L237>=Sheet1!$F$14,'Pupil List'!$L237<Sheet1!$G$14),Sheet1!$A$14,\"\"))","v":""},{"$f":"IF($L237=\"\",\"\",IF(AND($L237>=Sheet1!$F$15,'Pupil List'!$L237<Sheet1!$G$15),Sheet1!$A$15,\"\"))","v":""},{"$f":"IF($L237=\"\",\"\",IF(AND($L237>=Sheet1!$F$16,'Pupil List'!$L237<Sheet1!$G$16),Sheet1!$A$16,\"\"))","v":""},{"$f":"IF($L237=\"\",\"\",IF(AND($L237>=Sheet1!$F$17,'Pupil List'!$L237<Sheet1!$G$17),Sheet1!$A$17,\"\"))","v":""},{"$f":"IF($L237=\"\",\"\",IF(AND($L237>=Sheet1!$F$18,'Pupil List'!$L237<Sheet1!$G$18),Sheet1!$A$18,\"\"))","v":""},{"$f":"IF($L237=\"\",\"\",IF(AND($L237>=Sheet1!$F$19,'Pupil List'!$L237<Sheet1!$G$19),Sheet1!$A$19,\"\"))","v":""},{"$f":"IF($L237=\"\",\"\",IF(AND($L237>=Sheet1!$F$20,'Pupil List'!$L237<Sheet1!$G$20),Sheet1!$A$20,\"\"))","v":""},{"$f":"IF($L237=\"\",\"\",IF(AND($L237>=Sheet1!$F$21,'Pupil List'!$L237<Sheet1!$G$21),Sheet1!$A$21,\"\"))","v":""},{"$f":"IF($L237=\"\",\"\",IF(AND($L237>=Sheet1!$F$22,'Pupil List'!$L237<Sheet1!$G$22),Sheet1!$A$22,\"\"))","v":""},{"$f":"IF($L237=\"\",\"\",IF(AND($L237>=Sheet1!$F$23,'Pupil List'!$L237<Sheet1!$G$23),Sheet1!$A$23,\"\"))","v":""},{"$f":"IF($L237=\"\",\"\",IF(AND($L237>=Sheet1!$F$24,'Pupil List'!$L237<Sheet1!$G$24),Sheet1!$A$24,\"\"))","v":""},{"$f":"IF($L237=\"\",\"\",IF(AND($L237>=Sheet1!$F$25,'Pupil List'!$L237<Sheet1!$G$25),Sheet1!$A$25,\"\"))","v":""},{"$error":"#N/A"},{"$f":"IFERROR(VLOOKUP(BK237,Sheet1!$A$2:$E$25,3,FALSE),\"\")","v":""},{"$f":"IFERROR(VLOOKUP(BK237,Sheet1!$A$2:$E$25,4,FALSE),\"\")","v":""},{"$f":"IFERROR(VLOOKUP(BK237,Sheet1!$A$2:$E$25,5,FALSE),\"\")","v":""},{"$f":"IFERROR(VLOOKUP(N237,Sheet1!$A$29:$B$38,2,FALSE),\"\")","v":""}]
["","","",null,null,null,null,null,"","","",null,"",null,"","","","","","","","","","","","","","","","","","","","","","","","",{"$f":"IF($L238=\"\",\"\",IF(AND($L238>=Sheet1!$F$2,'Pupil List'!$L238<Sheet1!$G$2),Sheet1!$A$2,\"\"))","v":""},{"$f":"IF($L238=\"\",\"\",IF(AND($L238>=Sheet1!$F$3,'Pupil List'!$L238<Sheet1!$G$3),Sheet1!$A$3,\"\"))","v":""},{"$f":"IF($L238=\"\",\"\",IF(AND($L238>=Sheet1!$F$4,'Pupil List'!$L238<Sheet1!$G$4),Sheet1!$A$4,\"\"))","v":""},{"$f":"IF($L238=\"\",\"\",IF(AND($L238>=Sheet1!$F$5,'Pupil List'!$L238<Sheet1!$G$5),Sheet1!$A$5,\"\"))","v":""},{"$f":"IF($L238=\"\",\"\",IF(AND($L238>=Sheet1!$F$6,'Pupil List'!$L238<Sheet1!$G$6),Sheet1!$A$6,\"\"))","v":""},{"$f":"IF($L238=\"\",\"\",IF(AND($L238>=Sheet1!$F$7,'Pupil List'!$L238<Sheet1!$G$7),Sheet1!$A$7,\"\"))","v":""},{"$f":"IF($L238=\"\",\"\",IF(AND($L238>=Sheet1!$F$8,'Pupil List'!$L238<Sheet1!$G$8),Sheet1!$A$8,\"\"))","v":""},{"$f":"IF($L238=\"\",\"\",IF(AND($L238>=Sheet1!$F$9,'Pupil List'!$L238<Sheet1!$G$9),Sheet1!$A$9,\"\"))","v":""},{"$f":"IF($L238=\"\",\"\",IF(AND($L238>=Sheet1!$F$10,'Pupil List'!$L238<Sheet1!$G$10),Sheet1!$A$10,\"\"))","v":""},{"$f":"IF($L238=\"\",\"\",IF(AND($L238>=Sheet1!$F$11,'Pupil List'!$L238<Sheet1!$G$11),Sheet1!$A$11,\"\"))","v":""},{"$f":"IF($L238=\"\",\"\",IF(AND($L238>=Sheet1!$F$12,'Pupil List'!$L238<Sheet1!$G$12),Sheet1!$A$12,\"\"))","v":""},{"$f":"IF($L238=\"\",\"\",IF(AND($L238>=Sheet1!$F$13,'Pupil List'!$L238<Sheet1!$G$13),Sheet1!$A$13,\"\"))","v":""},{"$f":"IF($L238=\"\",\"\",IF(AND($L238>=Sheet1!$F$14,'Pupil List'!$L238<Sheet1!$G$14),Sheet1!$A$14,\"\"))","v":""},{"$f":"IF($L238=\"\",\"\",IF(AND($L238>=Sheet1!$F$15,'Pupil List'!$L238<Sheet1!$G$15),Sheet1!$A$15,\"\"))","v":""},{"$f":"IF($L238=\"\",\"\",IF(AND($L238>=Sheet1!$F$16,'Pupil List'!$L238<Sheet1!$G$16),Sheet1!$A$16,\"\"))","v":""},{"$f":"IF($L238=\"\",\"\",IF(AND($L238>=Sheet1!$F$17,'Pupil List'!$L238<Sheet1!$G$17),Sheet1!$A$17,\"\"))","v":""},{"$f":"IF($L238=\"\",\"\",IF(AND($L238>=Sheet1!$F$18,'Pupil List'!$L238<Sheet1!$G$18),Sheet1!$A$18,\"\"))","v":""},{"$f":"IF($L238=\"\",\"\",IF(AND($L238>=Sheet1!$F$19,'Pupil List'!$L238<Sheet1!$G$19),Sheet1!$A$19,\"\"))","v":""},{"$f":"IF($L238=\"\",\"\",IF(AND($L238>=Sheet1!$F$20,'Pupil List'!$L238<Sheet1!$G$20),Sheet1!$A$20,\"\"))","v":""},{"$f":"IF($L238=\"\",\"\",IF(AND($L238>=Sheet1!$F$21,'Pupil List'!$L238<Sheet1!$G$21),Sheet1!$A$21,\"\"))","v":""},{"$f":"IF($L238=\"\",\"\",IF(AND($L238>=Sheet1!$F$22,'Pupil List'!$L238<Sheet1!$G$22),Sheet1!$A$22,\"\"))","v":""},{"$f":"IF($L238=\"\",\"\",IF(AND($L238>=Sheet1!$F$23,'Pupil List'!$L238<Sheet1!$G$23),Sheet1!$A$23,\"\"))","v":""},{"$f":"IF($L238=\"\",\"\",IF(AND($L238>=Sheet1!$F$24,'Pupil List'!$L238<Sheet1!$G$24),Sheet1!$A$24,\"\"))","v":""},{"$f":"IF($L238=\"\",\"\",IF(AND($L238>=Sheet1!$F$25,'Pupil List'!$L238<Sheet1!$G$25),Sheet1!$A$25,\"\"))","v":""},{"$error":"#N/A"},{"$f":"IFERROR(VLOOKUP(BK238,Sheet1!$A$2:$E$25,3,FALSE),\"\")","v":""},{"$f":"IFERROR(VLOOKUP(BK238,Sheet1!$A$2:$E$25,4,FALSE),\"\")","v":""},{"$f":"IFERROR(VLOOKUP(BK238,Sheet1!$A$2:$E$25,5,FALSE),\"\")","v":""},{"$f":"IFERROR(VLOOKUP(N238,Sheet1!$A$29:$B$38,2,FALSE),\"\")","v":""}]
["","","",null,null,null,null,null,"","","",null,"",null,"","","","","","","","","","","","","","","","","","","","","","","","",{"$f":"IF($L239=\"\",\"\",IF(AND($L239>=Sheet1!$F$2,'Pupil List'!$L239<Sheet1!$G$2),Sheet1!$A$2,\"\"))","v":""},{"$f":"IF($L239=\"\",\"\",IF(AND($L239>=Sheet1!$F$3,'Pupil List'!$L239<Sheet1!$G$3),Sheet1!$A$3,\"\"))","v":""},{"$f":"IF($L239=\"\",\"\",IF(AND($L239>=Sheet1!$F$4,'Pupil List'!$L239<Sheet1!$G$4),Sheet1!$A$4,\"\"))","v":""},{"$f":"IF($L239=\"\",\"\",IF(AND($L239>=Sheet1!$F$5,'Pupil List'!$L239<Sheet1!$G$5),Sheet1!$A$5,\"\"))","v":""},{"$f":"IF($L239=\"\",\"\",IF(AND($L239>=Sheet1!$F$6,'Pupil List'!$L239<Sheet1!$G$6),Sheet1!$A$6,\"\"))","v":""},{"$f":"IF($L239=\"\",\"\",IF(AND($L239>=Sheet1!$F$7,'Pupil List'!$L239<Sheet1!$G$7),Sheet1!$A$7,\"\"))","v":""},{"$f":"IF($L239=\"\",\"\",IF(AND($L239>=Sheet1!$F$8,'Pupil List'!$L239<Sheet1!$G$8),Sheet1!$A$8,\"\"))","v":""},{"$f":"IF($L239=\"\",\"\",IF(AND($L239>=Sheet1!$F$9,'Pupil List'!$L239<Sheet1!$G$9),Sheet1!$A$9,\"\"))","v":""},{"$f":"IF($L239=\"\",\"\",IF(AND($L239>=Sheet1!$F$10,'Pupil List'!$L239<Sheet1!$G$10),Sheet1!$A$10,\"\"))","v":""},{"$f":"IF($L239=\"\",\"\",IF(AND($L239>=Sheet1!$F$11,'Pupil List'!$L239<Sheet1!$G$11),Sheet1!$A$11,\"\"))","v":""},{"$f":"IF($L239=\"\",\"\",IF(AND($L239>=Sheet1!$F$12,'Pupil List'!$L239<Sheet1!$G$12),Sheet1!$A$12,\"\"))","v":""},{"$f":"IF($L239=\"\",\"\",IF(AND($L239>=Sheet1!$F$13,'Pupil List'!$L239<Sheet1!$G$13),Sheet1!$A$13,\"\"))","v":""},{"$f":"IF($L239=\"\",\"\",IF(AND($L239>=Sheet1!$F$14,'Pupil List'!$L239<Sheet1!$G$14),Sheet1!$A$14,\"\"))","v":""},{"$f":"IF($L239=\"\",\"\",IF(AND($L239>=Sheet1!$F$15,'Pupil List'!$L239<Sheet1!$G$15),Sheet1!$A$15,\"\"))","v":""},{"$f":"IF($L239=\"\",\"\",IF(AND($L239>=Sheet1!$F$16,'Pupil List'!$L239<Sheet1!$G$16),Sheet1!$A$16,\"\"))","v":""},{"$f":"IF($L239=\"\",\"\",IF(AND($L239>=Sheet1!$F$17,'Pupil List'!$L239<Sheet1!$G$17),Sheet1!$A$17,\"\"))","v":""},{"$f":"IF($L239=\"\",\"\",IF(AND($L239>=Sheet1!$F$18,'Pupil List'!$L239<Sheet1!$G$18),Sheet1!$A$18,\"\"))","v":""},{"$f":"IF($L239=\"\",\"\",IF(AND($L239>=Sheet1!$F$19,'Pupil List'!$L239<Sheet1!$G$19),Sheet1!$A$19,\"\"))","v":""},{"$f":"IF($L239=\"\",\"\",IF(AND($L239>=Sheet1!$F$20,'Pupil List'!$L239<Sheet1!$G$20),Sheet1!$A$20,\"\"))","v":""},{"$f":"IF($L239=\"\",\"\",IF(AND($L239>=Sheet1!$F$21,'Pupil List'!$L239<Sheet1!$G$21),Sheet1!$A$21,\"\"))","v":""},{"$f":"IF($L239=\"\",\"\",IF(AND($L239>=Sheet1!$F$22,'Pupil List'!$L239<Sheet1!$G$22),Sheet1!$A$22,\"\"))","v":""},{"$f":"IF($L239=\"\",\"\",IF(AND($L239>=Sheet1!$F$23,'Pupil List'!$L239<Sheet1!$G$23),Sheet1!$A$23,\"\"))","v":""},{"$f":"IF($L239=\"\",\"\",IF(AND($L239>=Sheet1!$F$24,'Pupil List'!$L239<Sheet1!$G$24),Sheet1!$A$24,\"\"))","v":""},{"$f":"IF($L239=\"\",\"\",IF(AND($L239>=Sheet1!$F$25,'Pupil List'!$L239<Sheet1!$G$25),Sheet1!$A$25,\"\"))","v":""},{"$error":"#N/A"},{"$f":"IFERROR(VLOOKUP(BK239,Sheet1!$A$2:$E$25,3,FALSE),\"\")","v":""},{"$f":"IFERROR(VLOOKUP(BK239,Sheet1!$A$2:$E$25,4,FALSE),\"\")","v":""},{"$f":"IFERROR(VLOOKUP(BK239,Sheet1!$A$2:$E$25,5,FALSE),\"\")","v":""},{"$f":"IFERROR(VLOOKUP(N239,Sheet1!$A$29:$B$38,2,FALSE),\"\")","v":""}]
["","","",null,null,null,null,null,"","","",null,"",null,"","","","","","","","","","","","","","","","","","","","","","","","",{"$f":"IF($L240=\"\",\"\",IF(AND($L240>=Sheet1!$F$2,'Pupil List'!$L240<Sheet1!$G$2),Sheet1!$A$2,\"\"))","v":""},{"$f":"IF($L240=\"\",\"\",IF(AND($L240>=Sheet1!$F$3,'Pupil List'!$L240<Sheet1!$G$3),Sheet1!$A$3,\"\"))","v":""},{"$f":"IF($L240=\"\",\"\",IF(AND($L240>=Sheet1!$F$4,'Pupil List'!$L240<Sheet1!$G$4),Sheet1!$A$4,\"\"))","v":""},{"$f":"IF($L240=\"\",\"\",IF(AND($L240>=Sheet1!$F$5,'Pupil List'!$L240<Sheet1!$G$5),Sheet1!$A$5,\"\"))","v":""},{"$f":"IF($L240=\"\",\"\",IF(AND($L240>=Sheet1!$F$6,'Pupil List'!$L240<Sheet1!$G$6),Sheet1!$A$6,\"\"))","v":""},{"$f":"IF($L240=\"\",\"\",IF(AND($L240>=Sheet1!$F$7,'Pupil List'!$L240<Sheet1!$G$7),Sheet1!$A$7,\"\"))","v":""},{"$f":"IF($L240=\"\",\"\",IF(AND($L240>=Sheet1!$F$8,'Pupil List'!$L240<Sheet1!$G$8),Sheet1!$A$8,\"\"))","v":""},{"$f":"IF($L240=\"\",\"\",IF(AND($L240>=Sheet1!$F$9,'Pupil List'!$L240<Sheet1!$G$9),Sheet1!$A$9,\"\"))","v":""},{"$f":"IF($L240=\"\",\"\",IF(AND($L240>=Sheet1!$F$10,'Pupil List'!$L240<Sheet1!$G$10),Sheet1!$A$10,\"\"))","v":""},{"$f":"IF($L240=\"\",\"\",IF(AND($L240>=Sheet1!$F$11,'Pupil List'!$L240<Sheet1!$G$11),Sheet1!$A$11,\"\"))","v":""},{"$f":"IF($L240=\"\",\"\",IF(AND($L240>=Sheet1!$F$12,'Pupil List'!$L240<Sheet1!$G$12),Sheet1!$A$12,\"\"))","v":""},{"$f":"IF($L240=\"\",\"\",IF(AND($L240>=Sheet1!$F$13,'Pupil List'!$L240<Sheet1!$G$13),Sheet1!$A$13,\"\"))","v":""},{"$f":"IF($L240=\"\",\"\",IF(AND($L240>=Sheet1!$F$14,'Pupil List'!$L240<Sheet1!$G$14),Sheet1!$A$14,\"\"))","v":""},{"$f":"IF($L240=\"\",\"\",IF(AND($L240>=Sheet1!$F$15,'Pupil List'!$L240<Sheet1!$G$15),Sheet1!$A$15,\"\"))","v":""},{"$f":"IF($L240=\"\",\"\",IF(AND($L240>=Sheet1!$F$16,'Pupil List'!$L240<Sheet1!$G$16),Sheet1!$A$16,\"\"))","v":""},{"$f":"IF($L240=\"\",\"\",IF(AND($L240>=Sheet1!$F$17,'Pupil List'!$L240<Sheet1!$G$17),Sheet1!$A$17,\"\"))","v":""},{"$f":"IF($L240=\"\",\"\",IF(AND($L240>=Sheet1!$F$18,'Pupil List'!$L240<Sheet1!$G$18),Sheet1!$A$18,\"\"))","v":""},{"$f":"IF($L240=\"\",\"\",IF(AND($L240>=Sheet1!$F$19,'Pupil List'!$L240<Sheet1!$G$19),Sheet1!$A$19,\"\"))","v":""},{"$f":"IF($L240=\"\",\"\",IF(AND($L240>=Sheet1!$F$20,'Pupil List'!$L240<Sheet1!$G$20),Sheet1!$A$20,\"\"))","v":""},{"$f":"IF($L240=\"\",\"\",IF(AND($L240>=Sheet1!$F$21,'Pupil List'!$L240<Sheet1!$G$21),Sheet1!$A$21,\"\"))","v":""},{"$f":"IF($L240=\"\",\"\",IF(AND($L240>=Sheet1!$F$22,'Pupil List'!$L240<Sheet1!$G$22),Sheet1!$A$22,\"\"))","v":""},{"$f":"IF($L240=\"\",\"\",IF(AND($L240>=Sheet1!$F$23,'Pupil List'!$L240<Sheet1!$G$23),Sheet1!$A$23,\"\"))","v":""},{"$f":"IF($L240=\"\",\"\",IF(AND($L240>=Sheet1!$F$24,'Pupil List'!$L240<Sheet1!$G$24),Sheet1!$A$24,\"\"))","v":""},{"$f":"IF($L240=\"\",\"\",IF(AND($L240>=Sheet1!$F$25,'Pupil List'!$L240<Sheet1!$G$25),Sheet1!$A$25,\"\"))","v":""},{"$error":"#N/A"},{"$f":"IFERROR(VLOOKUP(BK240,Sheet1!$A$2:$E$25,3,FALSE),\"\")","v":""},{"$f":"IFERROR(VLOOKUP(BK240,Sheet1!$A$2:$E$25,4,FALSE),\"\")","v":""},{"$f":"IFERROR(VLOOKUP(BK240,Sheet1!$A$2:$E$25,5,FALSE),\"\")","v":""},{"$f":"IFERROR(VLOOKUP(N240,Sheet1!$A$29:$B$38,2,FALSE),\"\")","v":""}]
["","","",null,null,null,null,null,"","","",null,"",null,"","","","","","","","","","","","","","","","","","","","","","","","",{"$f":"IF($L241=\"\",\"\",IF(AND($L241>=Sheet1!$F$2,'Pupil List'!$L241<Sheet1!$G$2),Sheet1!$A$2,\"\"))","v":""},{"$f":"IF($L241=\"\",\"\",IF(AND($L241>=Sheet1!$F$3,'Pupil List'!$L241<Sheet1!$G$3),Sheet1!$A$3,\"\"))","v":""},{"$f":"IF($L241=\"\",\"\",IF(AND($L241>=Sheet1!$F$4,'Pupil List'!$L241<Sheet1!$G$4),Sheet1!$A$4,\"\"))","v":""},{"$f":"IF($L241=\"\",\"\",IF(AND($L241>=Sheet1!$F$5,'Pupil List'!$L241<Sheet1!$G$5),Sheet1!$A$5,\"\"))","v":""},{"$f":"IF($L241=\"\",\"\",IF(AND($L241>=Sheet1!$F$6,'Pupil List'!$L241<Sheet1!$G$6),Sheet1!$A$6,\"\"))","v":""},{"$f":"IF($L241=\"\",\"\",IF(AND($L241>=Sheet1!$F$7,'Pupil List'!$L241<Sheet1!$G$7),Sheet1!$A$7,\"\"))","v":""},{"$f":"IF($L241=\"\",\"\",IF(AND($L241>=Sheet1!$F$8,'Pupil List'!$L241<Sheet1!$G$8),Sheet1!$A$8,\"\"))","v":""},{"$f":"IF($L241=\"\",\"\",IF(AND($L241>=Sheet1!$F$9,'Pupil List'!$L241<Sheet1!$G$9),Sheet1!$A$9,\"\"))","v":""},{"$f":"IF($L241=\"\",\"\",IF(AND($L241>=Sheet1!$F$10,'Pupil List'!$L241<Sheet1!$G$10),Sheet1!$A$10,\"\"))","v":""},{"$f":"IF($L241=\"\",\"\",IF(AND($L241>=Sheet1!$F$11,'Pupil List'!$L241<Sheet1!$G$11),Sheet1!$A$11,\"\"))","v":""},{"$f":"IF($L241=\"\",\"\",IF(AND($L241>=Sheet1!$F$12,'Pupil List'!$L241<Sheet1!$G$12),Sheet1!$A$12,\"\"))","v":""},{"$f":"IF($L241=\"\",\"\",IF(AND($L241>=Sheet1!$F$13,'Pupil List'!$L241<Sheet1!$G$13),Sheet1!$A$13,\"\"))","v":""},{"$f":"IF($L241=\"\",\"\",IF(AND($L241>=Sheet1!$F$14,'Pupil List'!$L241<Sheet1!$G$14),Sheet1!$A$14,\"\"))","v":""},{"$f":"IF($L241=\"\",\"\",IF(AND($L241>=Sheet1!$F$15,'Pupil List'!$L241<Sheet1!$G$15),Sheet1!$A$15,\"\"))","v":""},{"$f":"IF($L241=\"\",\"\",IF(AND($L241>=Sheet1!$F$16,'Pupil List'!$L241<Sheet1!$G$16),Sheet1!$A$16,\"\"))","v":""},{"$f":"IF($L241=\"\",\"\",IF(AND($L241>=Sheet1!$F$17,'Pupil List'!$L241<Sheet1!$G$17),Sheet1!$A$17,\"\"))","v":""},{"$f":"IF($L241=\"\",\"\",IF(AND($L241>=Sheet1!$F$18,'Pupil List'!$L241<Sheet1!$G$18),Sheet1!$A$18,\"\"))","v":""},{"$f":"IF($L241=\"\",\"\",IF(AND($L241>=Sheet1!$F$19,'Pupil List'!$L241<Sheet1!$G$19),Sheet1!$A$19,\"\"))","v":""},{"$f":"IF($L241=\"\",\"\",IF(AND($L241>=Sheet1!$F$20,'Pupil List'!$L241<Sheet1!$G$20),Sheet1!$A$20,\"\"))","v":""},{"$f":"IF($L241=\"\",\"\",IF(AND($L241>=Sheet1!$F$21,'Pupil List'!$L241<Sheet1!$G$21),Sheet1!$A$21,\"\"))","v":""},{"$f":"IF($L241=\"\",\"\",IF(AND($L241>=Sheet1!$F$22,'Pupil List'!$L241<Sheet1!$G$22),Sheet1!$A$22,\"\"))","v":""},{"$f":"IF($L241=\"\",\"\",IF(AND($L241>=Sheet1!$F$23,'Pupil List'!$L241<Sheet1!$G$23),Sheet1!$A$23,\"\"))","v":""},{"$f":"IF($L241=\"\",\"\",IF(AND($L241>=Sheet1!$F$24,'Pupil List'!$L241<Sheet1!$G$24),Sheet1!$A$24,\"\"))","v":""},{"$f":"IF($L241=\"\",\"\",IF(AND($L241>=Sheet1!$F$25,'Pupil List'!$L241<Sheet1!$G$25),Sheet1!$A$25,\"\"))","v":""},{"$error":"#N/A"},{"$f":"IFERROR(VLOOKUP(BK241,Sheet1!$A$2:$E$25,3,FALSE),\"\")","v":""},{"$f":"IFERROR(VLOOKUP(BK241,Sheet1!$A$2:$E$25,4,FALSE),\"\")","v":""},{"$f":"IFERROR(VLOOKUP(BK241,Sheet1!$A$2:$E$25,5,FALSE),\"\")","v":""},{"$f":"IFERROR(VLOOKUP(N241,Sheet1!$A$29:$B$38,2,FALSE),\"\")","v":""}]
["","","",null,null,null,null,null,"","","",null,"",null,"","","","","","","","","","","","","","","","","","","","","","","","",{"$f":"IF($L242=\"\",\"\",IF(AND($L242>=Sheet1!$F$2,'Pupil List'!$L242<Sheet1!$G$2),Sheet1!$A$2,\"\"))","v":""},{"$f":"IF($L242=\"\",\"\",IF(AND($L242>=Sheet1!$F$3,'Pupil List'!$L242<Sheet1!$G$3),Sheet1!$A$3,\"\"))","v":""},{"$f":"IF($L242=\"\",\"\",IF(AND($L242>=Sheet1!$F$4,'Pupil List'!$L242<Sheet1!$G$4),Sheet1!$A$4,\"\"))","v":""},{"$f":"IF($L242=\"\",\"\",IF(AND($L242>=Sheet1!$F$5,'Pupil List'!$L242<Sheet1!$G$5),Sheet1!$A$5,\"\"))","v":""},{"$f":"IF($L242=\"\",\"\",IF(AND($L242>=Sheet1!$F$6,'Pupil List'!$L242<Sheet1!$G$6),Sheet1!$A$6,\"\"))","v":""},{"$f":"IF($L242=\"\",\"\",IF(AND($L242>=Sheet1!$F$7,'Pupil List'!$L242<Sheet1!$G$7),Sheet1!$A$7,\"\"))","v":""},{"$f":"IF($L242=\"\",\"\",IF(AND($L242>=Sheet1!$F$8,'Pupil List'!$L242<Sheet1!$G$8),Sheet1!$A$8,\"\"))","v":""},{"$f":"IF($L242=\"\",\"\",IF(AND($L242>=Sheet1!$F$9,'Pupil List'!$L242<Sheet1!$G$9),Sheet1!$A$9,\"\"))","v":""},{"$f":"IF($L242=\"\",\"\",IF(AND($L242>=Sheet1!$F$10,'Pupil List'!$L242<Sheet1!$G$10),Sheet1!$A$10,\"\"))","v":""},{"$f":"IF($L242=\"\",\"\",IF(AND($L242>=Sheet1!$F$11,'Pupil List'!$L242<Sheet1!$G$11),Sheet1!$A$11,\"\"))","v":""},{"$f":"IF($L242=\"\",\"\",IF(AND($L242>=Sheet1!$F$12,'Pupil List'!$L242<Sheet1!$G$12),Sheet1!$A$12,\"\"))","v":""},{"$f":"IF($L242=\"\",\"\",IF(AND($L242>=Sheet1!$F$13,'Pupil List'!$L242<Sheet1!$G$13),Sheet1!$A$13,\"\"))","v":""},{"$f":"IF($L242=\"\",\"\",IF(AND($L242>=Sheet1!$F$14,'Pupil List'!$L242<Sheet1!$G$14),Sheet1!$A$14,\"\"))","v":""},{"$f":"IF($L242=\"\",\"\",IF(AND($L242>=Sheet1!$F$15,'Pupil List'!$L242<Sheet1!$G$15),Sheet1!$A$15,\"\"))","v":""},{"$f":"IF($L242=\"\",\"\",IF(AND($L242>=Sheet1!$F$16,'Pupil List'!$L242<Sheet1!$G$16),Sheet1!$A$16,\"\"))","v":""},{"$f":"IF($L242=\"\",\"\",IF(AND($L242>=Sheet1!$F$17,'Pupil List'!$L242<Sheet1!$G$17),Sheet1!$A$17,\"\"))","v":""},{"$f":"IF($L242=\"\",\"\",IF(AND($L242>=Sheet1!$F$18,'Pupil List'!$L242<Sheet1!$G$18),Sheet1!$A$18,\"\"))","v":""},{"$f":"IF($L242=\"\",\"\",IF(AND($L242>=Sheet1!$F$19,'Pupil List'!$L242<Sheet1!$G$19),Sheet1!$A$19,\"\"))","v":""},{"$f":"IF($L242=\"\",\"\",IF(AND($L242>=Sheet1!$F$20,'Pupil List'!$L242<Sheet1!$G$20),Sheet1!$A$20,\"\"))","v":""},{"$f":"IF($L242=\"\",\"\",IF(AND($L242>=Sheet1!$F$21,'Pupil List'!$L242<Sheet1!$G$21),Sheet1!$A$21,\"\"))","v":""},{"$f":"IF($L242=\"\",\"\",IF(AND($L242>=Sheet1!$F$22,'Pupil List'!$L242<Sheet1!$G$22),Sheet1!$A$22,\"\"))","v":""},{"$f":"IF($L242=\"\",\"\",IF(AND($L242>=Sheet1!$F$23,'Pupil List'!$L242<Sheet1!$G$23),Sheet1!$A$23,\"\"))","v":""},{"$f":"IF($L242=\"\",\"\",IF(AND($L242>=Sheet1!$F$24,'Pupil List'!$L242<Sheet1!$G$24),Sheet1!$A$24,\"\"))","v":""},{"$f":"IF($L242=\"\",\"\",IF(AND($L242>=Sheet1!$F$25,'Pupil List'!$L242<Sheet1!$G$25),Sheet1!$A$25,\"\"))","v":""},{"$error":"#N/A"},{"$f":"IFERROR(VLOOKUP(BK242,Sheet1!$A$2:$E$25,3,FALSE),\"\")","v":""},{"$f":"IFERROR(VLOOKUP(BK242,Sheet1!$A$2:$E$25,4,FALSE),\"\")","v":""},{"$f":"IFERROR(VLOOKUP(BK242,Sheet1!$A$2:$E$25,5,FALSE),\"\")","v":""},{"$f":"IFERROR(VLOOKUP(N242,Sheet1!$A$29:$B$38,2,FALSE),\"\")","v":""}]
["","","",null,null,null,null,null,"","","",null,"",null,"","","","","","","","","","","","","","","","","","","","","","","","",{"$f":"IF($L243=\"\",\"\",IF(AND($L243>=Sheet1!$F$2,'Pupil List'!$L243<Sheet1!$G$2),Sheet1!$A$2,\"\"))","v":""},{"$f":"IF($L243=\"\",\"\",IF(AND($L243>=Sheet1!$F$3,'Pupil List'!$L243<Sheet1!$G$3),Sheet1!$A$3,\"\"))","v":""},{"$f":"IF($L243=\"\",\"\",IF(AND($L243>=Sheet1!$F$4,'Pupil List'!$L243<Sheet1!$G$4),Sheet1!$A$4,\"\"))","v":""},{"$f":"IF($L243=\"\",\"\",IF(AND($L243>=Sheet1!$F$5,'Pupil List'!$L243<Sheet1!$G$5),Sheet1!$A$5,\"\"))","v":""},{"$f":"IF($L243=\"\",\"\",IF(AND($L243>=Sheet1!$F$6,'Pupil List'!$L243<Sheet1!$G$6),Sheet1!$A$6,\"\"))","v":""},{"$f":"IF($L243=\"\",\"\",IF(AND($L243>=Sheet1!$F$7,'Pupil List'!$L243<Sheet1!$G$7),Sheet1!$A$7,\"\"))","v":""},{"$f":"IF($L243=\"\",\"\",IF(AND($L243>=Sheet1!$F$8,'Pupil List'!$L243<Sheet1!$G$8),Sheet1!$A$8,\"\"))","v":""},{"$f":"IF($L243=\"\",\"\",IF(AND($L243>=Sheet1!$F$9,'Pupil List'!$L243<Sheet1!$G$9),Sheet1!$A$9,\"\"))","v":""},{"$f":"IF($L243=\"\",\"\",IF(AND($L243>=Sheet1!$F$10,'Pupil List'!$L243<Sheet1!$G$10),Sheet1!$A$10,\"\"))","v":""},{"$f":"IF($L243=\"\",\"\",IF(AND($L243>=Sheet1!$F$11,'Pupil List'!$L243<Sheet1!$G$11),Sheet1!$A$11,\"\"))","v":""},{"$f":"IF($L243=\"\",\"\",IF(AND($L243>=Sheet1!$F$12,'Pupil List'!$L243<Sheet1!$G$12),Sheet1!$A$12,\"\"))","v":""},{"$f":"IF($L243=\"\",\"\",IF(AND($L243>=Sheet1!$F$13,'Pupil List'!$L243<Sheet1!$G$13),Sheet1!$A$13,\"\"))","v":""},{"$f":"IF($L243=\"\",\"\",IF(AND($L243>=Sheet1!$F$14,'Pupil List'!$L243<Sheet1!$G$14),Sheet1!$A$14,\"\"))","v":""},{"$f":"IF($L243=\"\",\"\",IF(AND($L243>=Sheet1!$F$15,'Pupil List'!$L243<Sheet1!$G$15),Sheet1!$A$15,\"\"))","v":""},{"$f":"IF($L243=\"\",\"\",IF(AND($L243>=Sheet1!$F$16,'Pupil List'!$L243<Sheet1!$G$16),Sheet1!$A$16,\"\"))","v":""},{"$f":"IF($L243=\"\",\"\",IF(AND($L243>=Sheet1!$F$17,'Pupil List'!$L243<Sheet1!$G$17),Sheet1!$A$17,\"\"))","v":""},{"$f":"IF($L243=\"\",\"\",IF(AND($L243>=Sheet1!$F$18,'Pupil List'!$L243<Sheet1!$G$18),Sheet1!$A$18,\"\"))","v":""},{"$f":"IF($L243=\"\",\"\",IF(AND($L243>=Sheet1!$F$19,'Pupil List'!$L243<Sheet1!$G$19),Sheet1!$A$19,\"\"))","v":""},{"$f":"IF($L243=\"\",\"\",IF(AND($L243>=Sheet1!$F$20,'Pupil List'!$L243<Sheet1!$G$20),Sheet1!$A$20,\"\"))","v":""},{"$f":"IF($L243=\"\",\"\",IF(AND($L243>=Sheet1!$F$21,'Pupil List'!$L243<Sheet1!$G$21),Sheet1!$A$21,\"\"))","v":""},{"$f":"IF($L243=\"\",\"\",IF(AND($L243>=Sheet1!$F$22,'Pupil List'!$L243<Sheet1!$G$22),Sheet1!$A$22,\"\"))","v":""},{"$f":"IF($L243=\"\",\"\",IF(AND($L243>=Sheet1!$F$23,'Pupil List'!$L243<Sheet1!$G$23),Sheet1!$A$23,\"\"))","v":""},{"$f":"IF($L243=\"\",\"\",IF(AND($L243>=Sheet1!$F$24,'Pupil List'!$L243<Sheet1!$G$24),Sheet1!$A$24,\"\"))","v":""},{"$f":"IF($L243=\"\",\"\",IF(AND($L243>=Sheet1!$F$25,'Pupil List'!$L243<Sheet1!$G$25),Sheet1!$A$25,\"\"))","v":""},{"$error":"#N/A"},{"$f":"IFERROR(VLOOKUP(BK243,Sheet1!$A$2:$E$25,3,FALSE),\"\")","v":""},{"$f":"IFERROR(VLOOKUP(BK243,Sheet1!$A$2:$E$25,4,FALSE),\"\")","v":""},{"$f":"IFERROR(VLOOKUP(BK243,Sheet1!$A$2:$E$25,5,FALSE),\"\")","v":""},{"$f":"IFERROR(VLOOKUP(N243,Sheet1!$A$29:$B$38,2,FALSE),\"\")","v":""}]
["","","",null,null,null,null,null,"","","",null,"",null,"","","","","","","","","","","","","","","","","","","","","","","","",{"$f":"IF($L244=\"\",\"\",IF(AND($L244>=Sheet1!$F$2,'Pupil List'!$L244<Sheet1!$G$2),Sheet1!$A$2,\"\"))","v":""},{"$f":"IF($L244=\"\",\"\",IF(AND($L244>=Sheet1!$F$3,'Pupil List'!$L244<Sheet1!$G$3),Sheet1!$A$3,\"\"))","v":""},{"$f":"IF($L244=\"\",\"\",IF(AND($L244>=Sheet1!$F$4,'Pupil List'!$L244<Sheet1!$G$4),Sheet1!$A$4,\"\"))","v":""},{"$f":"IF($L244=\"\",\"\",IF(AND($L244>=Sheet1!$F$5,'Pupil List'!$L244<Sheet1!$G$5),Sheet1!$A$5,\"\"))","v":""},{"$f":"IF($L244=\"\",\"\",IF(AND($L244>=Sheet1!$F$6,'Pupil List'!$L244<Sheet1!$G$6),Sheet1!$A$6,\"\"))","v":""},{"$f":"IF($L244=\"\",\"\",IF(AND($L244>=Sheet1!$F$7,'Pupil List'!$L244<Sheet1!$G$7),Sheet1!$A$7,\"\"))","v":""},{"$f":"IF($L244=\"\",\"\",IF(AND($L244>=Sheet1!$F$8,'Pupil List'!$L244<Sheet1!$G$8),Sheet1!$A$8,\"\"))","v":""},{"$f":"IF($L244=\"\",\"\",IF(AND($L244>=Sheet1!$F$9,'Pupil List'!$L244<Sheet1!$G$9),Sheet1!$A$9,\"\"))","v":""},{"$f":"IF($L244=\"\",\"\",IF(AND($L244>=Sheet1!$F$10,'Pupil List'!$L244<Sheet1!$G$10),Sheet1!$A$10,\"\"))","v":""},{"$f":"IF($L244=\"\",\"\",IF(AND($L244>=Sheet1!$F$11,'Pupil List'!$L244<Sheet1!$G$11),Sheet1!$A$11,\"\"))","v":""},{"$f":"IF($L244=\"\",\"\",IF(AND($L244>=Sheet1!$F$12,'Pupil List'!$L244<Sheet1!$G$12),Sheet1!$A$12,\"\"))","v":""},{"$f":"IF($L244=\"\",\"\",IF(AND($L244>=Sheet1!$F$13,'Pupil List'!$L244<Sheet1!$G$13),Sheet1!$A$13,\"\"))","v":""},{"$f":"IF($L244=\"\",\"\",IF(AND($L244>=Sheet1!$F$14,'Pupil List'!$L244<Sheet1!$G$14),Sheet1!$A$14,\"\"))","v":""},{"$f":"IF($L244=\"\",\"\",IF(AND($L244>=Sheet1!$F$15,'Pupil List'!$L244<Sheet1!$G$15),Sheet1!$A$15,\"\"))","v":""},{"$f":"IF($L244=\"\",\"\",IF(AND($L244>=Sheet1!$F$16,'Pupil List'!$L244<Sheet1!$G$16),Sheet1!$A$16,\"\"))","v":""},{"$f":"IF($L244=\"\",\"\",IF(AND($L244>=Sheet1!$F$17,'Pupil List'!$L244<Sheet1!$G$17),Sheet1!$A$17,\"\"))","v":""},{"$f":"IF($L244=\"\",\"\",IF(AND($L244>=Sheet1!$F$18,'Pupil List'!$L244<Sheet1!$G$18),Sheet1!$A$18,\"\"))","v":""},{"$f":"IF($L244=\"\",\"\",IF(AND($L244>=Sheet1!$F$19,'Pupil List'!$L244<Sheet1!$G$19),Sheet1!$A$19,\"\"))","v":""},{"$f":"IF($L244=\"\",\"\",IF(AND($L244>=Sheet1!$F$20,'Pupil List'!$L244<Sheet1!$G$20),Sheet1!$A$20,\"\"))","v":""},{"$f":"IF($L244=\"\",\"\",IF(AND($L244>=Sheet1!$F$21,'Pupil List'!$L244<Sheet1!$G$21),Sheet1!$A$21,\"\"))","v":""},{"$f":"IF($L244=\"\",\"\",IF(AND($L244>=Sheet1!$F$22,'Pupil List'!$L244<Sheet1!$G$22),Sheet1!$A$22,\"\"))","v":""},{"$f":"IF($L244=\"\",\"\",IF(AND($L244>=Sheet1!$F$23,'Pupil List'!$L244<Sheet1!$G$23),Sheet1!$A$23,\"\"))","v":""},{"$f":"IF($L244=\"\",\"\",IF(AND($L244>=Sheet1!$F$24,'Pupil List'!$L244<Sheet1!$G$24),Sheet1!$A$24,\"\"))","v":""},{"$f":"IF($L244=\"\",\"\",IF(AND($L244>=Sheet1!$F$25,'Pupil List'!$L244<Sheet1!$G$25),Sheet1!$A$25,\"\"))","v":""},{"$error":"#N/A"},{"$f":"IFERROR(VLOOKUP(BK244,Sheet1!$A$2:$E$25,3,FALSE),\"\")","v":""},{"$f":"IFERROR(VLOOKUP(BK244,Sheet1!$A$2:$E$25,4,FALSE),\"\")","v":""},{"$f":"IFERROR(VLOOKUP(BK244,Sheet1!$A$2:$E$25,5,FALSE),\"\")","v":""},{"$f":"IFERROR(VLOOKUP(N244,Sheet1!$A$29:$B$38,2,FALSE),\"\")","v":""}]
["","","",null,null,null,null,null,"","","",null,"",null,"","","","","","","","","","","","","","","","","","","","","","","","",{"$f":"IF($L245=\"\",\"\",IF(AND($L245>=Sheet1!$F$2,'Pupil List'!$L245<Sheet1!$G$2),Sheet1!$A$2,\"\"))","v":""},{"$f":"IF($L245=\"\",\"\",IF(AND($L245>=Sheet1!$F$3,'Pupil List'!$L245<Sheet1!$G$3),Sheet1!$A$3,\"\"))","v":""},{"$f":"IF($L245=\"\",\"\",IF(AND($L245>=Sheet1!$F$4,'Pupil List'!$L245<Sheet1!$G$4),Sheet1!$A$4,\"\"))","v":""},{"$f":"IF($L245=\"\",\"\",IF(AND($L245>=Sheet1!$F$5,'Pupil List'!$L245<Sheet1!$G$5),Sheet1!$A$5,\"\"))","v":""},{"$f":"IF($L245=\"\",\"\",IF(AND($L245>=Sheet1!$F$6,'Pupil List'!$L245<Sheet1!$G$6),Sheet1!$A$6,\"\"))","v":""},{"$f":"IF($L245=\"\",\"\",IF(AND($L245>=Sheet1!$F$7,'Pupil List'!$L245<Sheet1!$G$7),Sheet1!$A$7,\"\"))","v":""},{"$f":"IF($L245=\"\",\"\",IF(AND($L245>=Sheet1!$F$8,'Pupil List'!$L245<Sheet1!$G$8),Sheet1!$A$8,\"\"))","v":""},{"$f":"IF($L245=\"\",\"\",IF(AND($L245>=Sheet1!$F$9,'Pupil List'!$L245<Sheet1!$G$9),Sheet1!$A$9,\"\"))","v":""},{"$f":"IF($L245=\"\",\"\",IF(AND($L245>=Sheet1!$F$10,'Pupil List'!$L245<Sheet1!$G$10),Sheet1!$A$10,\"\"))","v":""},{"$f":"IF($L245=\"\",\"\",IF(AND($L245>=Sheet1!$F$11,'Pupil List'!$L245<Sheet1!$G$11),Sheet1!$A$11,\"\"))","v":""},{"$f":"IF($L245=\"\",\"\",IF(AND($L245>=Sheet1!$F$12,'Pupil List'!$L245<Sheet1!$G$12),Sheet1!$A$12,\"\"))","v":""},{"$f":"IF($L245=\"\",\"\",IF(AND($L245>=Sheet1!$F$13,'Pupil List'!$L245<Sheet1!$G$13),Sheet1!$A$13,\"\"))","v":""},{"$f":"IF($L245=\"\",\"\",IF(AND($L245>=Sheet1!$F$14,'Pupil List'!$L245<Sheet1!$G$14),Sheet1!$A$14,\"\"))","v":""},{"$f":"IF($L245=\"\",\"\",IF(AND($L245>=Sheet1!$F$15,'Pupil List'!$L245<Sheet1!$G$15),Sheet1!$A$15,\"\"))","v":""},{"$f":"IF($L245=\"\",\"\",IF(AND($L245>=Sheet1!$F$16,'Pupil List'!$L245<Sheet1!$G$16),Sheet1!$A$16,\"\"))","v":""},{"$f":"IF($L245=\"\",\"\",IF(AND($L245>=Sheet1!$F$17,'Pupil List'!$L245<Sheet1!$G$17),Sheet1!$A$17,\"\"))","v":""},{"$f":"IF($L245=\"\",\"\",IF(AND($L245>=Sheet1!$F$18,'Pupil List'!$L245<Sheet1!$G$18),Sheet1!$A$18,\"\"))","v":""},{"$f":"IF($L245=\"\",\"\",IF(AND($L245>=Sheet1!$F$19,'Pupil List'!$L245<Sheet1!$G$19),Sheet1!$A$19,\"\"))","v":""},{"$f":"IF($L245=\"\",\"\",IF(AND($L245>=Sheet1!$F$20,'Pupil List'!$L245<Sheet1!$G$20),Sheet1!$A$20,\"\"))","v":""},{"$f":"IF($L245=\"\",\"\",IF(AND($L245>=Sheet1!$F$21,'Pupil List'!$L245<Sheet1!$G$21),Sheet1!$A$21,\"\"))","v":""},{"$f":"IF($L245=\"\",\"\",IF(AND($L245>=Sheet1!$F$22,'Pupil List'!$L245<Sheet1!$G$22),Sheet1!$A$22,\"\"))","v":""},{"$f":"IF($L245=\"\",\"\",IF(AND($L245>=Sheet1!$F$23,'Pupil List'!$L245<Sheet1!$G$23),Sheet1!$A$23,\"\"))","v":""},{"$f":"IF($L245=\"\",\"\",IF(AND($L245>=Sheet1!$F$24,'Pupil List'!$L245<Sheet1!$G$24),Sheet1!$A$24,\"\"))","v":""},{"$f":"IF($L245=\"\",\"\",IF(AND($L245>=Sheet1!$F$25,'Pupil List'!$L245<Sheet1!$G$25),Sheet1!$A$25,\"\"))","v":""},{"$error":"#N/A"},{"$f":"IFERROR(VLOOKUP(BK245,Sheet1!$A$2:$E$25,3,FALSE),\"\")","v":""},{"$f":"IFERROR(VLOOKUP(BK245,Sheet1!$A$2:$E$25,4,FALSE),\"\")","v":""},{"$f":"IFERROR(VLOOKUP(BK245,Sheet1!$A$2:$E$25,5,FALSE),\"\")","v":""},{"$f":"IFERROR(VLOOKUP(N245,Sheet1!$A$29:$B$38,2,FALSE),\"\")","v":""}]
["","","",null,null,null,null,null,"","","",null,"",null,"","","","","","","","","","","","","","","","","","","","","","","","",{"$f":"IF($L246=\"\",\"\",IF(AND($L246>=Sheet1!$F$2,'Pupil List'!$L246<Sheet1!$G$2),Sheet1!$A$2,\"\"))","v":""},{"$f":"IF($L246=\"\",\"\",IF(AND($L246>=Sheet1!$F$3,'Pupil List'!$L246<Sheet1!$G$3),Sheet1!$A$3,\"\"))","v":""},{"$f":"IF($L246=\"\",\"\",IF(AND($L246>=Sheet1!$F$4,'Pupil List'!$L246<Sheet1!$G$4),Sheet1!$A$4,\"\"))","v":""},{"$f":"IF($L246=\"\",\"\",IF(AND($L246>=Sheet1!$F$5,'Pupil List'!$L246<Sheet1!$G$5),Sheet1!$A$5,\"\"))","v":""},{"$f":"IF($L246=\"\",\"\",IF(AND($L246>=Sheet1!$F$6,'Pupil List'!$L246<Sheet1!$G$6),Sheet1!$A$6,\"\"))","v":""},{"$f":"IF($L246=\"\",\"\",IF(AND($L246>=Sheet1!$F$7,'Pupil List'!$L246<Sheet1!$G$7),Sheet1!$A$7,\"\"))","v":""},{"$f":"IF($L246=\"\",\"\",IF(AND($L246>=Sheet1!$F$8,'Pupil List'!$L246<Sheet1!$G$8),Sheet1!$A$8,\"\"))","v":""},{"$f":"IF($L246=\"\",\"\",IF(AND($L246>=Sheet1!$F$9,'Pupil List'!$L246<Sheet1!$G$9),Sheet1!$A$9,\"\"))","v":""},{"$f":"IF($L246=\"\",\"\",IF(AND($L246>=Sheet1!$F$10,'Pupil List'!$L246<Sheet1!$G$10),Sheet1!$A$10,\"\"))","v":""},{"$f":"IF($L246=\"\",\"\",IF(AND($L246>=Sheet1!$F$11,'Pupil List'!$L246<Sheet1!$G$11),Sheet1!$A$11,\"\"))","v":""},{"$f":"IF($L246=\"\",\"\",IF(AND($L246>=Sheet1!$F$12,'Pupil List'!$L246<Sheet1!$G$12),Sheet1!$A$12,\"\"))","v":""},{"$f":"IF($L246=\"\",\"\",IF(AND($L246>=Sheet1!$F$13,'Pupil List'!$L246<Sheet1!$G$13),Sheet1!$A$13,\"\"))","v":""},{"$f":"IF($L246=\"\",\"\",IF(AND($L246>=Sheet1!$F$14,'Pupil List'!$L246<Sheet1!$G$14),Sheet1!$A$14,\"\"))","v":""},{"$f":"IF($L246=\"\",\"\",IF(AND($L246>=Sheet1!$F$15,'Pupil List'!$L246<Sheet1!$G$15),Sheet1!$A$15,\"\"))","v":""},{"$f":"IF($L246=\"\",\"\",IF(AND($L246>=Sheet1!$F$16,'Pupil List'!$L246<Sheet1!$G$16),Sheet1!$A$16,\"\"))","v":""},{"$f":"IF($L246=\"\",\"\",IF(AND($L246>=Sheet1!$F$17,'Pupil List'!$L246<Sheet1!$G$17),Sheet1!$A$17,\"\"))","v":""},{"$f":"IF($L246=\"\",\"\",IF(AND($L246>=Sheet1!$F$18,'Pupil List'!$L246<Sheet1!$G$18),Sheet1!$A$18,\"\"))","v":""},{"$f":"IF($L246=\"\",\"\",IF(AND($L246>=Sheet1!$F$19,'Pupil List'!$L246<Sheet1!$G$19),Sheet1!$A$19,\"\"))","v":""},{"$f":"IF($L246=\"\",\"\",IF(AND($L246>=Sheet1!$F$20,'Pupil List'!$L246<Sheet1!$G$20),Sheet1!$A$20,\"\"))","v":""},{"$f":"IF($L246=\"\",\"\",IF(AND($L246>=Sheet1!$F$21,'Pupil List'!$L246<Sheet1!$G$21),Sheet1!$A$21,\"\"))","v":""},{"$f":"IF($L246=\"\",\"\",IF(AND($L246>=Sheet1!$F$22,'Pupil List'!$L246<Sheet1!$G$22),Sheet1!$A$22,\"\"))","v":""},{"$f":"IF($L246=\"\",\"\",IF(AND($L246>=Sheet1!$F$23,'Pupil List'!$L246<Sheet1!$G$23),Sheet1!$A$23,\"\"))","v":""},{"$f":"IF($L246=\"\",\"\",IF(AND($L246>=Sheet1!$F$24,'Pupil List'!$L246<Sheet1!$G$24),Sheet1!$A$24,\"\"))","v":""},{"$f":"IF($L246=\"\",\"\",IF(AND($L246>=Sheet1!$F$25,'Pupil List'!$L246<Sheet1!$G$25),Sheet1!$A$25,\"\"))","v":""},{"$error":"#N/A"},{"$f":"IFERROR(VLOOKUP(BK246,Sheet1!$A$2:$E$25,3,FALSE),\"\")","v":""},{"$f":"IFERROR(VLOOKUP(BK246,Sheet1!$A$2:$E$25,4,FALSE),\"\")","v":""},{"$f":"IFERROR(VLOOKUP(BK246,Sheet1!$A$2:$E$25,5,FALSE),\"\")","v":""},{"$f":"IFERROR(VLOOKUP(N246,Sheet1!$A$29:$B$38,2,FALSE),\"\")","v":""}]
["","","",null,null,null,null,null,"","","",null,"",null,"","","","","","","","","","","","","","","","","","","","","","","","",{"$f":"IF($L247=\"\",\"\",IF(AND($L247>=Sheet1!$F$2,'Pupil List'!$L247<Sheet1!$G$2),Sheet1!$A$2,\"\"))","v":""},{"$f":"IF($L247=\"\",\"\",IF(AND($L247>=Sheet1!$F$3,'Pupil List'!$L247<Sheet1!$G$3),Sheet1!$A$3,\"\"))","v":""},{"$f":"IF($L247=\"\",\"\",IF(AND($L247>=Sheet1!$F$4,'Pupil List'!$L247<Sheet1!$G$4),Sheet1!$A$4,\"\"))","v":""},{"$f":"IF($L247=\"\",\"\",IF(AND($L247>=Sheet1!$F$5,'Pupil List'!$L247<Sheet1!$G$5),Sheet1!$A$5,\"\"))","v":""},{"$f":"IF($L247=\"\",\"\",IF(AND($L247>=Sheet1!$F$6,'Pupil List'!$L247<Sheet1!$G$6),Sheet1!$A$6,\"\"))","v":""},{"$f":"IF($L247=\"\",\"\",IF(AND($L247>=Sheet1!$F$7,'Pupil List'!$L247<Sheet1!$G$7),Sheet1!$A$7,\"\"))","v":""},{"$f":"IF($L247=\"\",\"\",IF(AND($L247>=Sheet1!$F$8,'Pupil List'!$L247<Sheet1!$G$8),Sheet1!$A$8,\"\"))","v":""},{"$f":"IF($L247=\"\",\"\",IF(AND($L247>=Sheet1!$F$9,'Pupil List'!$L247<Sheet1!$G$9),Sheet1!$A$9,\"\"))","v":""},{"$f":"IF($L247=\"\",\"\",IF(AND($L247>=Sheet1!$F$10,'Pupil List'!$L247<Sheet1!$G$10),Sheet1!$A$10,\"\"))","v":""},{"$f":"IF($L247=\"\",\"\",IF(AND($L247>=Sheet1!$F$11,'Pupil List'!$L247<Sheet1!$G$11),Sheet1!$A$11,\"\"))","v":""},{"$f":"IF($L247=\"\",\"\",IF(AND($L247>=Sheet1!$F$12,'Pupil List'!$L247<Sheet1!$G$12),Sheet1!$A$12,\"\"))","v":""},{"$f":"IF($L247=\"\",\"\",IF(AND($L247>=Sheet1!$F$13,'Pupil List'!$L247<Sheet1!$G$13),Sheet1!$A$13,\"\"))","v":""},{"$f":"IF($L247=\"\",\"\",IF(AND($L247>=Sheet1!$F$14,'Pupil List'!$L247<Sheet1!$G$14),Sheet1!$A$14,\"\"))","v":""},{"$f":"IF($L247=\"\",\"\",IF(AND($L247>=Sheet1!$F$15,'Pupil List'!$L247<Sheet1!$G$15),Sheet1!$A$15,\"\"))","v":""},{"$f":"IF($L247=\"\",\"\",IF(AND($L247>=Sheet1!$F$16,'Pupil List'!$L247<Sheet1!$G$16),Sheet1!$A$16,\"\"))","v":""},{"$f":"IF($L247=\"\",\"\",IF(AND($L247>=Sheet1!$F$17,'Pupil List'!$L247<Sheet1!$G$17),Sheet1!$A$17,\"\"))","v":""},{"$f":"IF($L247=\"\",\"\",IF(AND($L247>=Sheet1!$F$18,'Pupil List'!$L247<Sheet1!$G$18),Sheet1!$A$18,\"\"))","v":""},{"$f":"IF($L247=\"\",\"\",IF(AND($L247>=Sheet1!$F$19,'Pupil List'!$L247<Sheet1!$G$19),Sheet1!$A$19,\"\"))","v":""},{"$f":"IF($L247=\"\",\"\",IF(AND($L247>=Sheet1!$F$20,'Pupil List'!$L247<Sheet1!$G$20),Sheet1!$A$20,\"\"))","v":""},{"$f":"IF($L247=\"\",\"\",IF(AND($L247>=Sheet1!$F$21,'Pupil List'!$L247<Sheet1!$G$21),Sheet1!$A$21,\"\"))","v":""},{"$f":"IF($L247=\"\",\"\",IF(AND($L247>=Sheet1!$F$22,'Pupil List'!$L247<Sheet1!$G$22),Sheet1!$A$22,\"\"))","v":""},{"$f":"IF($L247=\"\",\"\",IF(AND($L247>=Sheet1!$F$23,'Pupil List'!$L247<Sheet1!$G$23),Sheet1!$A$23,\"\"))","v":""},{"$f":"IF($L247=\"\",\"\",IF(AND($L247>=Sheet1!$F$24,'Pupil List'!$L247<Sheet1!$G$24),Sheet1!$A$24,\"\"))","v":""},{"$f":"IF($L247=\"\",\"\",IF(AND($L247>=Sheet1!$F$25,'Pupil List'!$L247<Sheet1!$G$25),Sheet1!$A$25,\"\"))","v":""},{"$error":"#N/A"},{"$f":"IFERROR(VLOOKUP(BK247,Sheet1!$A$2:$E$25,3,FALSE),\"\")","v":""},{"$f":"IFERROR(VLOOKUP(BK247,Sheet1!$A$2:$E$25,4,FALSE),\"\")","v":""},{"$f":"IFERROR(VLOOKUP(BK247,Sheet1!$A$2:$E$25,5,FALSE),\"\")","v":""},{"$f":"IFERROR(VLOOKUP(N247,Sheet1!$A$29:$B$38,2,FALSE),\"\")","v":""}]
["","","",null,null,null,null,null,"","","",null,"",null,"","","","","","","","","","","","","","","","","","","","","","","","",{"$f":"IF($L248=\"\",\"\",IF(AND($L248>=Sheet1!$F$2,'Pupil List'!$L248<Sheet1!$G$2),Sheet1!$A$2,\"\"))","v":""},{"$f":"IF($L248=\"\",\"\",IF(AND($L248>=Sheet1!$F$3,'Pupil List'!$L248<Sheet1!$G$3),Sheet1!$A$3,\"\"))","v":""},{"$f":"IF($L248=\"\",\"\",IF(AND($L248>=Sheet1!$F$4,'Pupil List'!$L248<Sheet1!$G$4),Sheet1!$A$4,\"\"))","v":""},{"$f":"IF($L248=\"\",\"\",IF(AND($L248>=Sheet1!$F$5,'Pupil List'!$L248<Sheet1!$G$5),Sheet1!$A$5,\"\"))","v":""},{"$f":"IF($L248=\"\",\"\",IF(AND($L248>=Sheet1!$F$6,'Pupil List'!$L248<Sheet1!$G$6),Sheet1!$A$6,\"\"))","v":""},{"$f":"IF($L248=\"\",\"\",IF(AND($L248>=Sheet1!$F$7,'Pupil List'!$L248<Sheet1!$G$7),Sheet1!$A$7,\"\"))","v":""},{"$f":"IF($L248=\"\",\"\",IF(AND($L248>=Sheet1!$F$8,'Pupil List'!$L248<Sheet1!$G$8),Sheet1!$A$8,\"\"))","v":""},{"$f":"IF($L248=\"\",\"\",IF(AND($L248>=Sheet1!$F$9,'Pupil List'!$L248<Sheet1!$G$9),Sheet1!$A$9,\"\"))","v":""},{"$f":"IF($L248=\"\",\"\",IF(AND($L248>=Sheet1!$F$10,'Pupil List'!$L248<Sheet1!$G$10),Sheet1!$A$10,\"\"))","v":""},{"$f":"IF($L248=\"\",\"\",IF(AND($L248>=Sheet1!$F$11,'Pupil List'!$L248<Sheet1!$G$11),Sheet1!$A$11,\"\"))","v":""},{"$f":"IF($L248=\"\",\"\",IF(AND($L248>=Sheet1!$F$12,'Pupil List'!$L248<Sheet1!$G$12),Sheet1!$A$12,\"\"))","v":""},{"$f":"IF($L248=\"\",\"\",IF(AND($L248>=Sheet1!$F$13,'Pupil List'!$L248<Sheet1!$G$13),Sheet1!$A$13,\"\"))","v":""},{"$f":"IF($L248=\"\",\"\",IF(AND($L248>=Sheet1!$F$14,'Pupil List'!$L248<Sheet1!$G$14),Sheet1!$A$14,\"\"))","v":""},{"$f":"IF($L248=\"\",\"\",IF(AND($L248>=Sheet1!$F$15,'Pupil List'!$L248<Sheet1!$G$15),Sheet1!$A$15,\"\"))","v":""},{"$f":"IF($L248=\"\",\"\",IF(AND($L248>=Sheet1!$F$16,'Pupil List'!$L248<Sheet1!$G$16),Sheet1!$A$16,\"\"))","v":""},{"$f":"IF($L248=\"\",\"\",IF(AND($L248>=Sheet1!$F$17,'Pupil List'!$L248<Sheet1!$G$17),Sheet1!$A$17,\"\"))","v":""},{"$f":"IF($L248=\"\",\"\",IF(AND($L248>=Sheet1!$F$18,'Pupil List'!$L248<Sheet1!$G$18),Sheet1!$A$18,\"\"))","v":""},{"$f":"IF($L248=\"\",\"\",IF(AND($L248>=Sheet1!$F$19,'Pupil List'!$L248<Sheet1!$G$19),Sheet1!$A$19,\"\"))","v":""},{"$f":"IF($L248=\"\",\"\",IF(AND($L248>=Sheet1!$F$20,'Pupil List'!$L248<Sheet1!$G$20),Sheet1!$A$20,\"\"))","v":""},{"$f":"IF($L248=\"\",\"\",IF(AND($L248>=Sheet1!$F$21,'Pupil List'!$L248<Sheet1!$G$21),Sheet1!$A$21,\"\"))","v":""},{"$f":"IF($L248=\"\",\"\",IF(AND($L248>=Sheet1!$F$22,'Pupil List'!$L248<Sheet1!$G$22),Sheet1!$A$22,\"\"))","v":""},{"$f":"IF($L248=\"\",\"\",IF(AND($L248>=Sheet1!$F$23,'Pupil List'!$L248<Sheet1!$G$23),Sheet1!$A$23,\"\"))","v":""},{"$f":"IF($L248=\"\",\"\",IF(AND($L248>=Sheet1!$F$24,'Pupil List'!$L248<Sheet1!$G$24),Sheet1!$A$24,\"\"))","v":""},{"$f":"IF($L248=\"\",\"\",IF(AND($L248>=Sheet1!$F$25,'Pupil List'!$L248<Sheet1!$G$25),Sheet1!$A$25,\"\"))","v":""},{"$error":"#N/A"},{"$f":"IFERROR(VLOOKUP(BK248,Sheet1!$A$2:$E$25,3,FALSE),\"\")","v":""},{"$f":"IFERROR(VLOOKUP(BK248,Sheet1!$A$2:$E$25,4,FALSE),\"\")","v":""},{"$f":"IFERROR(VLOOKUP(BK248,Sheet1!$A$2:$E$25,5,FALSE),\"\")","v":""},{"$f":"IFERROR(VLOOKUP(N248,Sheet1!$A$29:$B$38,2,FALSE),\"\")","v":""}]
["","","",null,null,null,null,null,"","","",null,"",null,"","","","","","","","","","","","","","","","","","","","","","","","",{"$f":"IF($L249=\"\",\"\",IF(AND($L249>=Sheet1!$F$2,'Pupil List'!$L249<Sheet1!$G$2),Sheet1!$A$2,\"\"))","v":""},{"$f":"IF($L249=\"\",\"\",IF(AND($L249>=Sheet1!$F$3,'Pupil List'!$L249<Sheet1!$G$3),Sheet1!$A$3,\"\"))","v":""},{"$f":"IF($L249=\"\",\"\",IF(AND($L249>=Sheet1!$F$4,'Pupil List'!$L249<Sheet1!$G$4),Sheet1!$A$4,\"\"))","v":""},{"$f":"IF($L249=\"\",\"\",IF(AND($L249>=Sheet1!$F$5,'Pupil List'!$L249<Sheet1!$G$5),Sheet1!$A$5,\"\"))","v":""},{"$f":"IF($L249=\"\",\"\",IF(AND($L249>=Sheet1!$F$6,'Pupil List'!$L249<Sheet1!$G$6),Sheet1!$A$6,\"\"))","v":""},{"$f":"IF($L249=\"\",\"\",IF(AND($L249>=Sheet1!$F$7,'Pupil List'!$L249<Sheet1!$G$7),Sheet1!$A$7,\"\"))","v":""},{"$f":"IF($L249=\"\",\"\",IF(AND($L249>=Sheet1!$F$8,'Pupil List'!$L249<Sheet1!$G$8),Sheet1!$A$8,\"\"))","v":""},{"$f":"IF($L249=\"\",\"\",IF(AND($L249>=Sheet1!$F$9,'Pupil List'!$L249<Sheet1!$G$9),Sheet1!$A$9,\"\"))","v":""},{"$f":"IF($L249=\"\",\"\",IF(AND($L249>=Sheet1!$F$10,'Pupil List'!$L249<Sheet1!$G$10),Sheet1!$A$10,\"\"))","v":""},{"$f":"IF($L249=\"\",\"\",IF(AND($L249>=Sheet1!$F$11,'Pupil List'!$L249<Sheet1!$G$11),Sheet1!$A$11,\"\"))","v":""},{"$f":"IF($L249=\"\",\"\",IF(AND($L249>=Sheet1!$F$12,'Pupil List'!$L249<Sheet1!$G$12),Sheet1!$A$12,\"\"))","v":""},{"$f":"IF($L249=\"\",\"\",IF(AND($L249>=Sheet1!$F$13,'Pupil List'!$L249<Sheet1!$G$13),Sheet1!$A$13,\"\"))","v":""},{"$f":"IF($L249=\"\",\"\",IF(AND($L249>=Sheet1!$F$14,'Pupil List'!$L249<Sheet1!$G$14),Sheet1!$A$14,\"\"))","v":""},{"$f":"IF($L249=\"\",\"\",IF(AND($L249>=Sheet1!$F$15,'Pupil List'!$L249<Sheet1!$G$15),Sheet1!$A$15,\"\"))","v":""},{"$f":"IF($L249=\"\",\"\",IF(AND($L249>=Sheet1!$F$16,'Pupil List'!$L249<Sheet1!$G$16),Sheet1!$A$16,\"\"))","v":""},{"$f":"IF($L249=\"\",\"\",IF(AND($L249>=Sheet1!$F$17,'Pupil List'!$L249<Sheet1!$G$17),Sheet1!$A$17,\"\"))","v":""},{"$f":"IF($L249=\"\",\"\",IF(AND($L249>=Sheet1!$F$18,'Pupil List'!$L249<Sheet1!$G$18),Sheet1!$A$18,\"\"))","v":""},{"$f":"IF($L249=\"\",\"\",IF(AND($L249>=Sheet1!$F$19,'Pupil List'!$L249<Sheet1!$G$19),Sheet1!$A$19,\"\"))","v":""},{"$f":"IF($L249=\"\",\"\",IF(AND($L249>=Sheet1!$F$20,'Pupil List'!$L249<Sheet1!$G$20),Sheet1!$A$20,\"\"))","v":""},{"$f":"IF($L249=\"\",\"\",IF(AND($L249>=Sheet1!$F$21,'Pupil List'!$L249<Sheet1!$G$21),Sheet1!$A$21,\"\"))","v":""},{"$f":"IF($L249=\"\",\"\",IF(AND($L249>=Sheet1!$F$22,'Pupil List'!$L249<Sheet1!$G$22),Sheet1!$A$22,\"\"))","v":""},{"$f":"IF($L249=\"\",\"\",IF(AND($L249>=Sheet1!$F$23,'Pupil List'!$L249<Sheet1!$G$23),Sheet1!$A$23,\"\"))","v":""},{"$f":"IF($L249=\"\",\"\",IF(AND($L249>=Sheet1!$F$24,'Pupil List'!$L249<Sheet1!$G$24),Sheet1!$A$24,\"\"))","v":""},{"$f":"IF($L249=\"\",\"\",IF(AND($L249>=Sheet1!$F$25,'Pupil List'!$L249<Sheet1!$G$25),Sheet1!$A$25,\"\"))","v":""},{"$error":"#N/A"},{"$f":"IFERROR(VLOOKUP(BK249,Sheet1!$A$2:$E$25,3,FALSE),\"\")","v":""},{"$f":"IFERROR(VLOOKUP(BK249,Sheet1!$A$2:$E$25,4,FALSE),\"\")","v":""},{"$f":"IFERROR(VLOOKUP(BK249,Sheet1!$A$2:$E$25,5,FALSE),\"\")","v":""},{"$f":"IFERROR(VLOOKUP(N249,Sheet1!$A$29:$B$38,2,FALSE),\"\")","v":""}]
["","","",null,null,null,null,null,"","","",null,"",null,"","","","","","","","","","","","","","","","","","","","","","","","",{"$f":"IF($L250=\"\",\"\",IF(AND($L250>=Sheet1!$F$2,'Pupil List'!$L250<Sheet1!$G$2),Sheet1!$A$2,\"\"))","v":""},{"$f":"IF($L250=\"\",\"\",IF(AND($L250>=Sheet1!$F$3,'Pupil List'!$L250<Sheet1!$G$3),Sheet1!$A$3,\"\"))","v":""},{"$f":"IF($L250=\"\",\"\",IF(AND($L250>=Sheet1!$F$4,'Pupil List'!$L250<Sheet1!$G$4),Sheet1!$A$4,\"\"))","v":""},{"$f":"IF($L250=\"\",\"\",IF(AND($L250>=Sheet1!$F$5,'Pupil List'!$L250<Sheet1!$G$5),Sheet1!$A$5,\"\"))","v":""},{"$f":"IF($L250=\"\",\"\",IF(AND($L250>=Sheet1!$F$6,'Pupil List'!$L250<Sheet1!$G$6),Sheet1!$A$6,\"\"))","v":""},{"$f":"IF($L250=\"\",\"\",IF(AND($L250>=Sheet1!$F$7,'Pupil List'!$L250<Sheet1!$G$7),Sheet1!$A$7,\"\"))","v":""},{"$f":"IF($L250=\"\",\"\",IF(AND($L250>=Sheet1!$F$8,'Pupil List'!$L250<Sheet1!$G$8),Sheet1!$A$8,\"\"))","v":""},{"$f":"IF($L250=\"\",\"\",IF(AND($L250>=Sheet1!$F$9,'Pupil List'!$L250<Sheet1!$G$9),Sheet1!$A$9,\"\"))","v":""},{"$f":"IF($L250=\"\",\"\",IF(AND($L250>=Sheet1!$F$10,'Pupil List'!$L250<Sheet1!$G$10),Sheet1!$A$10,\"\"))","v":""},{"$f":"IF($L250=\"\",\"\",IF(AND($L250>=Sheet1!$F$11,'Pupil List'!$L250<Sheet1!$G$11),Sheet1!$A$11,\"\"))","v":""},{"$f":"IF($L250=\"\",\"\",IF(AND($L250>=Sheet1!$F$12,'Pupil List'!$L250<Sheet1!$G$12),Sheet1!$A$12,\"\"))","v":""},{"$f":"IF($L250=\"\",\"\",IF(AND($L250>=Sheet1!$F$13,'Pupil List'!$L250<Sheet1!$G$13),Sheet1!$A$13,\"\"))","v":""},{"$f":"IF($L250=\"\",\"\",IF(AND($L250>=Sheet1!$F$14,'Pupil List'!$L250<Sheet1!$G$14),Sheet1!$A$14,\"\"))","v":""},{"$f":"IF($L250=\"\",\"\",IF(AND($L250>=Sheet1!$F$15,'Pupil List'!$L250<Sheet1!$G$15),Sheet1!$A$15,\"\"))","v":""},{"$f":"IF($L250=\"\",\"\",IF(AND($L250>=Sheet1!$F$16,'Pupil List'!$L250<Sheet1!$G$16),Sheet1!$A$16,\"\"))","v":""},{"$f":"IF($L250=\"\",\"\",IF(AND($L250>=Sheet1!$F$17,'Pupil List'!$L250<Sheet1!$G$17),Sheet1!$A$17,\"\"))","v":""},{"$f":"IF($L250=\"\",\"\",IF(AND($L250>=Sheet1!$F$18,'Pupil List'!$L250<Sheet1!$G$18),Sheet1!$A$18,\"\"))","v":""},{"$f":"IF($L250=\"\",\"\",IF(AND($L250>=Sheet1!$F$19,'Pupil List'!$L250<Sheet1!$G$19),Sheet1!$A$19,\"\"))","v":""},{"$f":"IF($L250=\"\",\"\",IF(AND($L250>=Sheet1!$F$20,'Pupil List'!$L250<Sheet1!$G$20),Sheet1!$A$20,\"\"))","v":""},{"$f":"IF($L250=\"\",\"\",IF(AND($L250>=Sheet1!$F$21,'Pupil List'!$L250<Sheet1!$G$21),Sheet1!$A$21,\"\"))","v":""},{"$f":"IF($L250=\"\",\"\",IF(AND($L250>=Sheet1!$F$22,'Pupil List'!$L250<Sheet1!$G$22),Sheet1!$A$22,\"\"))","v":""},{"$f":"IF($L250=\"\",\"\",IF(AND($L250>=Sheet1!$F$23,'Pupil List'!$L250<Sheet1!$G$23),Sheet1!$A$23,\"\"))","v":""},{"$f":"IF($L250=\"\",\"\",IF(AND($L250>=Sheet1!$F$24,'Pupil List'!$L250<Sheet1!$G$24),Sheet1!$A$24,\"\"))","v":""},{"$f":"IF($L250=\"\",\"\",IF(AND($L250>=Sheet1!$F$25,'Pupil List'!$L250<Sheet1!$G$25),Sheet1!$A$25,\"\"))","v":""},{"$error":"#N/A"},{"$f":"IFERROR(VLOOKUP(BK250,Sheet1!$A$2:$E$25,3,FALSE),\"\")","v":""},{"$f":"IFERROR(VLOOKUP(BK250,Sheet1!$A$2:$E$25,4,FALSE),\"\")","v":""},{"$f":"IFERROR(VLOOKUP(BK250,Sheet1!$A$2:$E$25,5,FALSE),\"\")","v":""},{"$f":"IFERROR(VLOOKUP(N250,Sheet1!$A$29:$B$38,2,FALSE),\"\")","v":""}]
["","","",null,null,null,null,null,"","","",null,"",null,"","","","","","","","","","","","","","","","","","","","","","","","",{"$f":"IF($L251=\"\",\"\",IF(AND($L251>=Sheet1!$F$2,'Pupil List'!$L251<Sheet1!$G$2),Sheet1!$A$2,\"\"))","v":""},{"$f":"IF($L251=\"\",\"\",IF(AND($L251>=Sheet1!$F$3,'Pupil List'!$L251<Sheet1!$G$3),Sheet1!$A$3,\"\"))","v":""},{"$f":"IF($L251=\"\",\"\",IF(AND($L251>=Sheet1!$F$4,'Pupil List'!$L251<Sheet1!$G$4),Sheet1!$A$4,\"\"))","v":""},{"$f":"IF($L251=\"\",\"\",IF(AND($L251>=Sheet1!$F$5,'Pupil List'!$L251<Sheet1!$G$5),Sheet1!$A$5,\"\"))","v":""},{"$f":"IF($L251=\"\",\"\",IF(AND($L251>=Sheet1!$F$6,'Pupil List'!$L251<Sheet1!$G$6),Sheet1!$A$6,\"\"))","v":""},{"$f":"IF($L251=\"\",\"\",IF(AND($L251>=Sheet1!$F$7,'Pupil List'!$L251<Sheet1!$G$7),Sheet1!$A$7,\"\"))","v":""},{"$f":"IF($L251=\"\",\"\",IF(AND($L251>=Sheet1!$F$8,'Pupil List'!$L251<Sheet1!$G$8),Sheet1!$A$8,\"\"))","v":""},{"$f":"IF($L251=\"\",\"\",IF(AND($L251>=Sheet1!$F$9,'Pupil List'!$L251<Sheet1!$G$9),Sheet1!$A$9,\"\"))","v":""},{"$f":"IF($L251=\"\",\"\",IF(AND($L251>=Sheet1!$F$10,'Pupil List'!$L251<Sheet1!$G$10),Sheet1!$A$10,\"\"))","v":""},{"$f":"IF($L251=\"\",\"\",IF(AND($L251>=Sheet1!$F$11,'Pupil List'!$L251<Sheet1!$G$11),Sheet1!$A$11,\"\"))","v":""},{"$f":"IF($L251=\"\",\"\",IF(AND($L251>=Sheet1!$F$12,'Pupil List'!$L251<Sheet1!$G$12),Sheet1!$A$12,\"\"))","v":""},{"$f":"IF($L251=\"\",\"\",IF(AND($L251>=Sheet1!$F$13,'Pupil List'!$L251<Sheet1!$G$13),Sheet1!$A$13,\"\"))","v":""},{"$f":"IF($L251=\"\",\"\",IF(AND($L251>=Sheet1!$F$14,'Pupil List'!$L251<Sheet1!$G$14),Sheet1!$A$14,\"\"))","v":""},{"$f":"IF($L251=\"\",\"\",IF(AND($L251>=Sheet1!$F$15,'Pupil List'!$L251<Sheet1!$G$15),Sheet1!$A$15,\"\"))","v":""},{"$f":"IF($L251=\"\",\"\",IF(AND($L251>=Sheet1!$F$16,'Pupil List'!$L251<Sheet1!$G$16),Sheet1!$A$16,\"\"))","v":""},{"$f":"IF($L251=\"\",\"\",IF(AND($L251>=Sheet1!$F$17,'Pupil List'!$L251<Sheet1!$G$17),Sheet1!$A$17,\"\"))","v":""},{"$f":"IF($L251=\"\",\"\",IF(AND($L251>=Sheet1!$F$18,'Pupil List'!$L251<Sheet1!$G$18),Sheet1!$A$18,\"\"))","v":""},{"$f":"IF($L251=\"\",\"\",IF(AND($L251>=Sheet1!$F$19,'Pupil List'!$L251<Sheet1!$G$19),Sheet1!$A$19,\"\"))","v":""},{"$f":"IF($L251=\"\",\"\",IF(AND($L251>=Sheet1!$F$20,'Pupil List'!$L251<Sheet1!$G$20),Sheet1!$A$20,\"\"))","v":""},{"$f":"IF($L251=\"\",\"\",IF(AND($L251>=Sheet1!$F$21,'Pupil List'!$L251<Sheet1!$G$21),Sheet1!$A$21,\"\"))","v":""},{"$f":"IF($L251=\"\",\"\",IF(AND($L251>=Sheet1!$F$22,'Pupil List'!$L251<Sheet1!$G$22),Sheet1!$A$22,\"\"))","v":""},{"$f":"IF($L251=\"\",\"\",IF(AND($L251>=Sheet1!$F$23,'Pupil List'!$L251<Sheet1!$G$23),Sheet1!$A$23,\"\"))","v":""},{"$f":"IF($L251=\"\",\"\",IF(AND($L251>=Sheet1!$F$24,'Pupil List'!$L251<Sheet1!$G$24),Sheet1!$A$24,\"\"))","v":""},{"$f":"IF($L251=\"\",\"\",IF(AND($L251>=Sheet1!$F$25,'Pupil List'!$L251<Sheet1!$G$25),Sheet1!$A$25,\"\"))","v":""},{"$error":"#N/A"},{"$f":"IFERROR(VLOOKUP(BK251,Sheet1!$A$2:$E$25,3,FALSE),\"\")","v":""},{"$f":"IFERROR(VLOOKUP(BK251,Sheet1!$A$2:$E$25,4,FALSE),\"\")","v":""},{"$f":"IFERROR(VLOOKUP(BK251,Sheet1!$A$2:$E$25,5,FALSE),\"\")","v":""},{"$f":"IFERROR(VLOOKUP(N251,Sheet1!$A$29:$B$38,2,FALSE),\"\")","v":""}]
["","","",null,null,null,null,null,"","","",null,"",null,"","","","","","","","","","","","","","","","","","","","","","","","",{"$f":"IF($L252=\"\",\"\",IF(AND($L252>=Sheet1!$F$2,'Pupil List'!$L252<Sheet1!$G$2),Sheet1!$A$2,\"\"))","v":""},{"$f":"IF($L252=\"\",\"\",IF(AND($L252>=Sheet1!$F$3,'Pupil List'!$L252<Sheet1!$G$3),Sheet1!$A$3,\"\"))","v":""},{"$f":"IF($L252=\"\",\"\",IF(AND($L252>=Sheet1!$F$4,'Pupil List'!$L252<Sheet1!$G$4),Sheet1!$A$4,\"\"))","v":""},{"$f":"IF($L252=\"\",\"\",IF(AND($L252>=Sheet1!$F$5,'Pupil List'!$L252<Sheet1!$G$5),Sheet1!$A$5,\"\"))","v":""},{"$f":"IF($L252=\"\",\"\",IF(AND($L252>=Sheet1!$F$6,'Pupil List'!$L252<Sheet1!$G$6),Sheet1!$A$6,\"\"))","v":""},{"$f":"IF($L252=\"\",\"\",IF(AND($L252>=Sheet1!$F$7,'Pupil List'!$L252<Sheet1!$G$7),Sheet1!$A$7,\"\"))","v":""},{"$f":"IF($L252=\"\",\"\",IF(AND($L252>=Sheet1!$F$8,'Pupil List'!$L252<Sheet1!$G$8),Sheet1!$A$8,\"\"))","v":""},{"$f":"IF($L252=\"\",\"\",IF(AND($L252>=Sheet1!$F$9,'Pupil List'!$L252<Sheet1!$G$9),Sheet1!$A$9,\"\"))","v":""},{"$f":"IF($L252=\"\",\"\",IF(AND($L252>=Sheet1!$F$10,'Pupil List'!$L252<Sheet1!$G$10),Sheet1!$A$10,\"\"))","v":""},{"$f":"IF($L252=\"\",\"\",IF(AND($L252>=Sheet1!$F$11,'Pupil List'!$L252<Sheet1!$G$11),Sheet1!$A$11,\"\"))","v":""},{"$f":"IF($L252=\"\",\"\",IF(AND($L252>=Sheet1!$F$12,'Pupil List'!$L252<Sheet1!$G$12),Sheet1!$A$12,\"\"))","v":""},{"$f":"IF($L252=\"\",\"\",IF(AND($L252>=Sheet1!$F$13,'Pupil List'!$L252<Sheet1!$G$13),Sheet1!$A$13,\"\"))","v":""},{"$f":"IF($L252=\"\",\"\",IF(AND($L252>=Sheet1!$F$14,'Pupil List'!$L252<Sheet1!$G$14),Sheet1!$A$14,\"\"))","v":""},{"$f":"IF($L252=\"\",\"\",IF(AND($L252>=Sheet1!$F$15,'Pupil List'!$L252<Sheet1!$G$15),Sheet1!$A$15,\"\"))","v":""},{"$f":"IF($L252=\"\",\"\",IF(AND($L252>=Sheet1!$F$16,'Pupil List'!$L252<Sheet1!$G$16),Sheet1!$A$16,\"\"))","v":""},{"$f":"IF($L252=\"\",\"\",IF(AND($L252>=Sheet1!$F$17,'Pupil List'!$L252<Sheet1!$G$17),Sheet1!$A$17,\"\"))","v":""},{"$f":"IF($L252=\"\",\"\",IF(AND($L252>=Sheet1!$F$18,'Pupil List'!$L252<Sheet1!$G$18),Sheet1!$A$18,\"\"))","v":""},{"$f":"IF($L252=\"\",\"\",IF(AND($L252>=Sheet1!$F$19,'Pupil List'!$L252<Sheet1!$G$19),Sheet1!$A$19,\"\"))","v":""},{"$f":"IF($L252=\"\",\"\",IF(AND($L252>=Sheet1!$F$20,'Pupil List'!$L252<Sheet1!$G$20),Sheet1!$A$20,\"\"))","v":""},{"$f":"IF($L252=\"\",\"\",IF(AND($L252>=Sheet1!$F$21,'Pupil List'!$L252<Sheet1!$G$21),Sheet1!$A$21,\"\"))","v":""},{"$f":"IF($L252=\"\",\"\",IF(AND($L252>=Sheet1!$F$22,'Pupil List'!$L252<Sheet1!$G$22),Sheet1!$A$22,\"\"))","v":""},{"$f":"IF($L252=\"\",\"\",IF(AND($L252>=Sheet1!$F$23,'Pupil List'!$L252<Sheet1!$G$23),Sheet1!$A$23,\"\"))","v":""},{"$f":"IF($L252=\"\",\"\",IF(AND($L252>=Sheet1!$F$24,'Pupil List'!$L252<Sheet1!$G$24),Sheet1!$A$24,\"\"))","v":""},{"$f":"IF($L252=\"\",\"\",IF(AND($L252>=Sheet1!$F$25,'Pupil List'!$L252<Sheet1!$G$25),Sheet1!$A$25,\"\"))","v":""},{"$error":"#N/A"},{"$f":"IFERROR(VLOOKUP(BK252,Sheet1!$A$2:$E$25,3,FALSE),\"\")","v":""},{"$f":"IFERROR(VLOOKUP(BK252,Sheet1!$A$2:$E$25,4,FALSE),\"\")","v":""},{"$f":"IFERROR(VLOOKUP(BK252,Sheet1!$A$2:$E$25,5,FALSE),\"\")","v":""},{"$f":"IFERROR(VLOOKUP(N252,Sheet1!$A$29:$B$38,2,FALSE),\"\")","v":""}]
["","","",null,null,null,null,null,"","","",null,"",null,"","","","","","","","","","","","","","","","","","","","","","","","",{"$f":"IF($L253=\"\",\"\",IF(AND($L253>=Sheet1!$F$2,'Pupil List'!$L253<Sheet1!$G$2),Sheet1!$A$2,\"\"))","v":""},{"$f":"IF($L253=\"\",\"\",IF(AND($L253>=Sheet1!$F$3,'Pupil List'!$L253<Sheet1!$G$3),Sheet1!$A$3,\"\"))","v":""},{"$f":"IF($L253=\"\",\"\",IF(AND($L253>=Sheet1!$F$4,'Pupil List'!$L253<Sheet1!$G$4),Sheet1!$A$4,\"\"))","v":""},{"$f":"IF($L253=\"\",\"\",IF(AND($L253>=Sheet1!$F$5,'Pupil List'!$L253<Sheet1!$G$5),Sheet1!$A$5,\"\"))","v":""},{"$f":"IF($L253=\"\",\"\",IF(AND($L253>=Sheet1!$F$6,'Pupil List'!$L253<Sheet1!$G$6),Sheet1!$A$6,\"\"))","v":""},{"$f":"IF($L253=\"\",\"\",IF(AND($L253>=Sheet1!$F$7,'Pupil List'!$L253<Sheet1!$G$7),Sheet1!$A$7,\"\"))","v":""},{"$f":"IF($L253=\"\",\"\",IF(AND($L253>=Sheet1!$F$8,'Pupil List'!$L253<Sheet1!$G$8),Sheet1!$A$8,\"\"))","v":""},{"$f":"IF($L253=\"\",\"\",IF(AND($L253>=Sheet1!$F$9,'Pupil List'!$L253<Sheet1!$G$9),Sheet1!$A$9,\"\"))","v":""},{"$f":"IF($L253=\"\",\"\",IF(AND($L253>=Sheet1!$F$10,'Pupil List'!$L253<Sheet1!$G$10),Sheet1!$A$10,\"\"))","v":""},{"$f":"IF($L253=\"\",\"\",IF(AND($L253>=Sheet1!$F$11,'Pupil List'!$L253<Sheet1!$G$11),Sheet1!$A$11,\"\"))","v":""},{"$f":"IF($L253=\"\",\"\",IF(AND($L253>=Sheet1!$F$12,'Pupil List'!$L253<Sheet1!$G$12),Sheet1!$A$12,\"\"))","v":""},{"$f":"IF($L253=\"\",\"\",IF(AND($L253>=Sheet1!$F$13,'Pupil List'!$L253<Sheet1!$G$13),Sheet1!$A$13,\"\"))","v":""},{"$f":"IF($L253=\"\",\"\",IF(AND($L253>=Sheet1!$F$14,'Pupil List'!$L253<Sheet1!$G$14),Sheet1!$A$14,\"\"))","v":""},{"$f":"IF($L253=\"\",\"\",IF(AND($L253>=Sheet1!$F$15,'Pupil List'!$L253<Sheet1!$G$15),Sheet1!$A$15,\"\"))","v":""},{"$f":"IF($L253=\"\",\"\",IF(AND($L253>=Sheet1!$F$16,'Pupil List'!$L253<Sheet1!$G$16),Sheet1!$A$16,\"\"))","v":""},{"$f":"IF($L253=\"\",\"\",IF(AND($L253>=Sheet1!$F$17,'Pupil List'!$L253<Sheet1!$G$17),Sheet1!$A$17,\"\"))","v":""},{"$f":"IF($L253=\"\",\"\",IF(AND($L253>=Sheet1!$F$18,'Pupil List'!$L253<Sheet1!$G$18),Sheet1!$A$18,\"\"))","v":""},{"$f":"IF($L253=\"\",\"\",IF(AND($L253>=Sheet1!$F$19,'Pupil List'!$L253<Sheet1!$G$19),Sheet1!$A$19,\"\"))","v":""},{"$f":"IF($L253=\"\",\"\",IF(AND($L253>=Sheet1!$F$20,'Pupil List'!$L253<Sheet1!$G$20),Sheet1!$A$20,\"\"))","v":""},{"$f":"IF($L253=\"\",\"\",IF(AND($L253>=Sheet1!$F$21,'Pupil List'!$L253<Sheet1!$G$21),Sheet1!$A$21,\"\"))","v":""},{"$f":"IF($L253=\"\",\"\",IF(AND($L253>=Sheet1!$F$22,'Pupil List'!$L253<Sheet1!$G$22),Sheet1!$A$22,\"\"))","v":""},{"$f":"IF($L253=\"\",\"\",IF(AND($L253>=Sheet1!$F$23,'Pupil List'!$L253<Sheet1!$G$23),Sheet1!$A$23,\"\"))","v":""},{"$f":"IF($L253=\"\",\"\",IF(AND($L253>=Sheet1!$F$24,'Pupil List'!$L253<Sheet1!$G$24),Sheet1!$A$24,\"\"))","v":""},{"$f":"IF($L253=\"\",\"\",IF(AND($L253>=Sheet1!$F$25,'Pupil List'!$L253<Sheet1!$G$25),Sheet1!$A$25,\"\"))","v":""},{"$error":"#N/A"},{"$f":"IFERROR(VLOOKUP(BK253,Sheet1!$A$2:$E$25,3,FALSE),\"\")","v":""},{"$f":"IFERROR(VLOOKUP(BK253,Sheet1!$A$2:$E$25,4,FALSE),\"\")","v":""},{"$f":"IFERROR(VLOOKUP(BK253,Sheet1!$A$2:$E$25,5,FALSE),\"\")","v":""},{"$f":"IFERROR(VLOOKUP(N253,Sheet1!$A$29:$B$38,2,FALSE),\"\")","v":""}]
["","","",null,null,null,null,null,"","","",null,"",null,"","","","","","","","","","","","","","","","","","","","","","","","",{"$f":"IF($L254=\"\",\"\",IF(AND($L254>=Sheet1!$F$2,'Pupil List'!$L254<Sheet1!$G$2),Sheet1!$A$2,\"\"))","v":""},{"$f":"IF($L254=\"\",\"\",IF(AND($L254>=Sheet1!$F$3,'Pupil List'!$L254<Sheet1!$G$3),Sheet1!$A$3,\"\"))","v":""},{"$f":"IF($L254=\"\",\"\",IF(AND($L254>=Sheet1!$F$4,'Pupil List'!$L254<Sheet1!$G$4),Sheet1!$A$4,\"\"))","v":""},{"$f":"IF($L254=\"\",\"\",IF(AND($L254>=Sheet1!$F$5,'Pupil List'!$L254<Sheet1!$G$5),Sheet1!$A$5,\"\"))","v":""},{"$f":"IF($L254=\"\",\"\",IF(AND($L254>=Sheet1!$F$6,'Pupil List'!$L254<Sheet1!$G$6),Sheet1!$A$6,\"\"))","v":""},{"$f":"IF($L254=\"\",\"\",IF(AND($L254>=Sheet1!$F$7,'Pupil List'!$L254<Sheet1!$G$7),Sheet1!$A$7,\"\"))","v":""},{"$f":"IF($L254=\"\",\"\",IF(AND($L254>=Sheet1!$F$8,'Pupil List'!$L254<Sheet1!$G$8),Sheet1!$A$8,\"\"))","v":""},{"$f":"IF($L254=\"\",\"\",IF(AND($L254>=Sheet1!$F$9,'Pupil List'!$L254<Sheet1!$G$9),Sheet1!$A$9,\"\"))","v":""},{"$f":"IF($L254=\"\",\"\",IF(AND($L254>=Sheet1!$F$10,'Pupil List'!$L254<Sheet1!$G$10),Sheet1!$A$10,\"\"))","v":""},{"$f":"IF($L254=\"\",\"\",IF(AND($L254>=Sheet1!$F$11,'Pupil List'!$L254<Sheet1!$G$11),Sheet1!$A$11,\"\"))","v":""},{"$f":"IF($L254=\"\",\"\",IF(AND($L254>=Sheet1!$F$12,'Pupil List'!$L254<Sheet1!$G$12),Sheet1!$A$12,\"\"))","v":""},{"$f":"IF($L254=\"\",\"\",IF(AND($L254>=Sheet1!$F$13,'Pupil List'!$L254<Sheet1!$G$13),Sheet1!$A$13,\"\"))","v":""},{"$f":"IF($L254=\"\",\"\",IF(AND($L254>=Sheet1!$F$14,'Pupil List'!$L254<Sheet1!$G$14),Sheet1!$A$14,\"\"))","v":""},{"$f":"IF($L254=\"\",\"\",IF(AND($L254>=Sheet1!$F$15,'Pupil List'!$L254<Sheet1!$G$15),Sheet1!$A$15,\"\"))","v":""},{"$f":"IF($L254=\"\",\"\",IF(AND($L254>=Sheet1!$F$16,'Pupil List'!$L254<Sheet1!$G$16),Sheet1!$A$16,\"\"))","v":""},{"$f":"IF($L254=\"\",\"\",IF(AND($L254>=Sheet1!$F$17,'Pupil List'!$L254<Sheet1!$G$17),Sheet1!$A$17,\"\"))","v":""},{"$f":"IF($L254=\"\",\"\",IF(AND($L254>=Sheet1!$F$18,'Pupil List'!$L254<Sheet1!$G$18),Sheet1!$A$18,\"\"))","v":""},{"$f":"IF($L254=\"\",\"\",IF(AND($L254>=Sheet1!$F$19,'Pupil List'!$L254<Sheet1!$G$19),Sheet1!$A$19,\"\"))","v":""},{"$f":"IF($L254=\"\",\"\",IF(AND($L254>=Sheet1!$F$20,'Pupil List'!$L254<Sheet1!$G$20),Sheet1!$A$20,\"\"))","v":""},{"$f":"IF($L254=\"\",\"\",IF(AND($L254>=Sheet1!$F$21,'Pupil List'!$L254<Sheet1!$G$21),Sheet1!$A$21,\"\"))","v":""},{"$f":"IF($L254=\"\",\"\",IF(AND($L254>=Sheet1!$F$22,'Pupil List'!$L254<Sheet1!$G$22),Sheet1!$A$22,\"\"))","v":""},{"$f":"IF($L254=\"\",\"\",IF(AND($L254>=Sheet1!$F$23,'Pupil List'!$L254<Sheet1!$G$23),Sheet1!$A$23,\"\"))","v":""},{"$f":"IF($L254=\"\",\"\",IF(AND($L254>=Sheet1!$F$24,'Pupil List'!$L254<Sheet1!$G$24),Sheet1!$A$24,\"\"))","v":""},{"$f":"IF($L254=\"\",\"\",IF(AND($L254>=Sheet1!$F$25,'Pupil List'!$L254<Sheet1!$G$25),Sheet1!$A$25,\"\"))","v":""},{"$error":"#N/A"},{"$f":"IFERROR(VLOOKUP(BK254,Sheet1!$A$2:$E$25,3,FALSE),\"\")","v":""},{"$f":"IFERROR(VLOOKUP(BK254,Sheet1!$A$2:$E$25,4,FALSE),\"\")","v":""},{"$f":"IFERROR(VLOOKUP(BK254,Sheet1!$A$2:$E$25,5,FALSE),\"\")","v":""},{"$f":"IFERROR(VLOOKUP(N254,Sheet1!$A$29:$B$38,2,FALSE),\"\")","v":""}]
["","","",null,null,null,null,null,"","","",null,"",null,"","","","","","","","","","","","","","","","","","","","","","","","",{"$f":"IF($L255=\"\",\"\",IF(AND($L255>=Sheet1!$F$2,'Pupil List'!$L255<Sheet1!$G$2),Sheet1!$A$2,\"\"))","v":""},{"$f":"IF($L255=\"\",\"\",IF(AND($L255>=Sheet1!$F$3,'Pupil List'!$L255<Sheet1!$G$3),Sheet1!$A$3,\"\"))","v":""},{"$f":"IF($L255=\"\",\"\",IF(AND($L255>=Sheet1!$F$4,'Pupil List'!$L255<Sheet1!$G$4),Sheet1!$A$4,\"\"))","v":""},{"$f":"IF($L255=\"\",\"\",IF(AND($L255>=Sheet1!$F$5,'Pupil List'!$L255<Sheet1!$G$5),Sheet1!$A$5,\"\"))","v":""},{"$f":"IF($L255=\"\",\"\",IF(AND($L255>=Sheet1!$F$6,'Pupil List'!$L255<Sheet1!$G$6),Sheet1!$A$6,\"\"))","v":""},{"$f":"IF($L255=\"\",\"\",IF(AND($L255>=Sheet1!$F$7,'Pupil List'!$L255<Sheet1!$G$7),Sheet1!$A$7,\"\"))","v":""},{"$f":"IF($L255=\"\",\"\",IF(AND($L255>=Sheet1!$F$8,'Pupil List'!$L255<Sheet1!$G$8),Sheet1!$A$8,\"\"))","v":""},{"$f":"IF($L255=\"\",\"\",IF(AND($L255>=Sheet1!$F$9,'Pupil List'!$L255<Sheet1!$G$9),Sheet1!$A$9,\"\"))","v":""},{"$f":"IF($L255=\"\",\"\",IF(AND($L255>=Sheet1!$F$10,'Pupil List'!$L255<Sheet1!$G$10),Sheet1!$A$10,\"\"))","v":""},{"$f":"IF($L255=\"\",\"\",IF(AND($L255>=Sheet1!$F$11,'Pupil List'!$L255<Sheet1!$G$11),Sheet1!$A$11,\"\"))","v":""},{"$f":"IF($L255=\"\",\"\",IF(AND($L255>=Sheet1!$F$12,'Pupil List'!$L255<Sheet1!$G$12),Sheet1!$A$12,\"\"))","v":""},{"$f":"IF($L255=\"\",\"\",IF(AND($L255>=Sheet1!$F$13,'Pupil List'!$L255<Sheet1!$G$13),Sheet1!$A$13,\"\"))","v":""},{"$f":"IF($L255=\"\",\"\",IF(AND($L255>=Sheet1!$F$14,'Pupil List'!$L255<Sheet1!$G$14),Sheet1!$A$14,\"\"))","v":""},{"$f":"IF($L255=\"\",\"\",IF(AND($L255>=Sheet1!$F$15,'Pupil List'!$L255<Sheet1!$G$15),Sheet1!$A$15,\"\"))","v":""},{"$f":"IF($L255=\"\",\"\",IF(AND($L255>=Sheet1!$F$16,'Pupil List'!$L255<Sheet1!$G$16),Sheet1!$A$16,\"\"))","v":""},{"$f":"IF($L255=\"\",\"\",IF(AND($L255>=Sheet1!$F$17,'Pupil List'!$L255<Sheet1!$G$17),Sheet1!$A$17,\"\"))","v":""},{"$f":"IF($L255=\"\",\"\",IF(AND($L255>=Sheet1!$F$18,'Pupil List'!$L255<Sheet1!$G$18),Sheet1!$A$18,\"\"))","v":""},{"$f":"IF($L255=\"\",\"\",IF(AND($L255>=Sheet1!$F$19,'Pupil List'!$L255<Sheet1!$G$19),Sheet1!$A$19,\"\"))","v":""},{"$f":"IF($L255=\"\",\"\",IF(AND($L255>=Sheet1!$F$20,'Pupil List'!$L255<Sheet1!$G$20),Sheet1!$A$20,\"\"))","v":""},{"$f":"IF($L255=\"\",\"\",IF(AND($L255>=Sheet1!$F$21,'Pupil List'!$L255<Sheet1!$G$21),Sheet1!$A$21,\"\"))","v":""},{"$f":"IF($L255=\"\",\"\",IF(AND($L255>=Sheet1!$F$22,'Pupil List'!$L255<Sheet1!$G$22),Sheet1!$A$22,\"\"))","v":""},{"$f":"IF($L255=\"\",\"\",IF(AND($L255>=Sheet1!$F$23,'Pupil List'!$L255<Sheet1!$G$23),Sheet1!$A$23,\"\"))","v":""},{"$f":"IF($L255=\"\",\"\",IF(AND($L255>=Sheet1!$F$24,'Pupil List'!$L255<Sheet1!$G$24),Sheet1!$A$24,\"\"))","v":""},{"$f":"IF($L255=\"\",\"\",IF(AND($L255>=Sheet1!$F$25,'Pupil List'!$L255<Sheet1!$G$25),Sheet1!$A$25,\"\"))","v":""},{"$error":"#N/A"},{"$f":"IFERROR(VLOOKUP(BK255,Sheet1!$A$2:$E$25,3,FALSE),\"\")","v":""},{"$f":"IFERROR(VLOOKUP(BK255,Sheet1!$A$2:$E$25,4,FALSE),\"\")","v":""},{"$f":"IFERROR(VLOOKUP(BK255,Sheet1!$A$2:$E$25,5,FALSE),\"\")","v":""},{"$f":"IFERROR(VLOOKUP(N255,Sheet1!$A$29:$B$38,2,FALSE),\"\")","v":""}]
["","","",null,null,null,null,null,"","","",null,"",null,"","","","","","","","","","","","","","","","","","","","","","","","",{"$f":"IF($L256=\"\",\"\",IF(AND($L256>=Sheet1!$F$2,'Pupil List'!$L256<Sheet1!$G$2),Sheet1!$A$2,\"\"))","v":""},{"$f":"IF($L256=\"\",\"\",IF(AND($L256>=Sheet1!$F$3,'Pupil List'!$L256<Sheet1!$G$3),Sheet1!$A$3,\"\"))","v":""},{"$f":"IF($L256=\"\",\"\",IF(AND($L256>=Sheet1!$F$4,'Pupil List'!$L256<Sheet1!$G$4),Sheet1!$A$4,\"\"))","v":""},{"$f":"IF($L256=\"\",\"\",IF(AND($L256>=Sheet1!$F$5,'Pupil List'!$L256<Sheet1!$G$5),Sheet1!$A$5,\"\"))","v":""},{"$f":"IF($L256=\"\",\"\",IF(AND($L256>=Sheet1!$F$6,'Pupil List'!$L256<Sheet1!$G$6),Sheet1!$A$6,\"\"))","v":""},{"$f":"IF($L256=\"\",\"\",IF(AND($L256>=Sheet1!$F$7,'Pupil List'!$L256<Sheet1!$G$7),Sheet1!$A$7,\"\"))","v":""},{"$f":"IF($L256=\"\",\"\",IF(AND($L256>=Sheet1!$F$8,'Pupil List'!$L256<Sheet1!$G$8),Sheet1!$A$8,\"\"))","v":""},{"$f":"IF($L256=\"\",\"\",IF(AND($L256>=Sheet1!$F$9,'Pupil List'!$L256<Sheet1!$G$9),Sheet1!$A$9,\"\"))","v":""},{"$f":"IF($L256=\"\",\"\",IF(AND($L256>=Sheet1!$F$10,'Pupil List'!$L256<Sheet1!$G$10),Sheet1!$A$10,\"\"))","v":""},{"$f":"IF($L256=\"\",\"\",IF(AND($L256>=Sheet1!$F$11,'Pupil List'!$L256<Sheet1!$G$11),Sheet1!$A$11,\"\"))","v":""},{"$f":"IF($L256=\"\",\"\",IF(AND($L256>=Sheet1!$F$12,'Pupil List'!$L256<Sheet1!$G$12),Sheet1!$A$12,\"\"))","v":""},{"$f":"IF($L256=\"\",\"\",IF(AND($L256>=Sheet1!$F$13,'Pupil List'!$L256<Sheet1!$G$13),Sheet1!$A$13,\"\"))","v":""},{"$f":"IF($L256=\"\",\"\",IF(AND($L256>=Sheet1!$F$14,'Pupil List'!$L256<Sheet1!$G$14),Sheet1!$A$14,\"\"))","v":""},{"$f":"IF($L256=\"\",\"\",IF(AND($L256>=Sheet1!$F$15,'Pupil List'!$L256<Sheet1!$G$15),Sheet1!$A$15,\"\"))","v":""},{"$f":"IF($L256=\"\",\"\",IF(AND($L256>=Sheet1!$F$16,'Pupil List'!$L256<Sheet1!$G$16),Sheet1!$A$16,\"\"))","v":""},{"$f":"IF($L256=\"\",\"\",IF(AND($L256>=Sheet1!$F$17,'Pupil List'!$L256<Sheet1!$G$17),Sheet1!$A$17,\"\"))","v":""},{"$f":"IF($L256=\"\",\"\",IF(AND($L256>=Sheet1!$F$18,'Pupil List'!$L256<Sheet1!$G$18),Sheet1!$A$18,\"\"))","v":""},{"$f":"IF($L256=\"\",\"\",IF(AND($L256>=Sheet1!$F$19,'Pupil List'!$L256<Sheet1!$G$19),Sheet1!$A$19,\"\"))","v":""},{"$f":"IF($L256=\"\",\"\",IF(AND($L256>=Sheet1!$F$20,'Pupil List'!$L256<Sheet1!$G$20),Sheet1!$A$20,\"\"))","v":""},{"$f":"IF($L256=\"\",\"\",IF(AND($L256>=Sheet1!$F$21,'Pupil List'!$L256<Sheet1!$G$21),Sheet1!$A$21,\"\"))","v":""},{"$f":"IF($L256=\"\",\"\",IF(AND($L256>=Sheet1!$F$22,'Pupil List'!$L256<Sheet1!$G$22),Sheet1!$A$22,\"\"))","v":""},{"$f":"IF($L256=\"\",\"\",IF(AND($L256>=Sheet1!$F$23,'Pupil List'!$L256<Sheet1!$G$23),Sheet1!$A$23,\"\"))","v":""},{"$f":"IF($L256=\"\",\"\",IF(AND($L256>=Sheet1!$F$24,'Pupil List'!$L256<Sheet1!$G$24),Sheet1!$A$24,\"\"))","v":""},{"$f":"IF($L256=\"\",\"\",IF(AND($L256>=Sheet1!$F$25,'Pupil List'!$L256<Sheet1!$G$25),Sheet1!$A$25,\"\"))","v":""},{"$error":"#N/A"},{"$f":"IFERROR(VLOOKUP(BK256,Sheet1!$A$2:$E$25,3,FALSE),\"\")","v":""},{"$f":"IFERROR(VLOOKUP(BK256,Sheet1!$A$2:$E$25,4,FALSE),\"\")","v":""},{"$f":"IFERROR(VLOOKUP(BK256,Sheet1!$A$2:$E$25,5,FALSE),\"\")","v":""},{"$f":"IFERROR(VLOOKUP(N256,Sheet1!$A$29:$B$38,2,FALSE),\"\")","v":""}]
["","","",null,null,null,null,null,"","","",null,"",null,"","","","","","","","","","","","","","","","","","","","","","","","",{"$f":"IF($L257=\"\",\"\",IF(AND($L257>=Sheet1!$F$2,'Pupil List'!$L257<Sheet1!$G$2),Sheet1!$A$2,\"\"))","v":""},{"$f":"IF($L257=\"\",\"\",IF(AND($L257>=Sheet1!$F$3,'Pupil List'!$L257<Sheet1!$G$3),Sheet1!$A$3,\"\"))","v":""},{"$f":"IF($L257=\"\",\"\",IF(AND($L257>=Sheet1!$F$4,'Pupil List'!$L257<Sheet1!$G$4),Sheet1!$A$4,\"\"))","v":""},{"$f":"IF($L257=\"\",\"\",IF(AND($L257>=Sheet1!$F$5,'Pupil List'!$L257<Sheet1!$G$5),Sheet1!$A$5,\"\"))","v":""},{"$f":"IF($L257=\"\",\"\",IF(AND($L257>=Sheet1!$F$6,'Pupil List'!$L257<Sheet1!$G$6),Sheet1!$A$6,\"\"))","v":""},{"$f":"IF($L257=\"\",\"\",IF(AND($L257>=Sheet1!$F$7,'Pupil List'!$L257<Sheet1!$G$7),Sheet1!$A$7,\"\"))","v":""},{"$f":"IF($L257=\"\",\"\",IF(AND($L257>=Sheet1!$F$8,'Pupil List'!$L257<Sheet1!$G$8),Sheet1!$A$8,\"\"))","v":""},{"$f":"IF($L257=\"\",\"\",IF(AND($L257>=Sheet1!$F$9,'Pupil List'!$L257<Sheet1!$G$9),Sheet1!$A$9,\"\"))","v":""},{"$f":"IF($L257=\"\",\"\",IF(AND($L257>=Sheet1!$F$10,'Pupil List'!$L257<Sheet1!$G$10),Sheet1!$A$10,\"\"))","v":""},{"$f":"IF($L257=\"\",\"\",IF(AND($L257>=Sheet1!$F$11,'Pupil List'!$L257<Sheet1!$G$11),Sheet1!$A$11,\"\"))","v":""},{"$f":"IF($L257=\"\",\"\",IF(AND($L257>=Sheet1!$F$12,'Pupil List'!$L257<Sheet1!$G$12),Sheet1!$A$12,\"\"))","v":""},{"$f":"IF($L257=\"\",\"\",IF(AND($L257>=Sheet1!$F$13,'Pupil List'!$L257<Sheet1!$G$13),Sheet1!$A$13,\"\"))","v":""},{"$f":"IF($L257=\"\",\"\",IF(AND($L257>=Sheet1!$F$14,'Pupil List'!$L257<Sheet1!$G$14),Sheet1!$A$14,\"\"))","v":""},{"$f":"IF($L257=\"\",\"\",IF(AND($L257>=Sheet1!$F$15,'Pupil List'!$L257<Sheet1!$G$15),Sheet1!$A$15,\"\"))","v":""},{"$f":"IF($L257=\"\",\"\",IF(AND($L257>=Sheet1!$F$16,'Pupil List'!$L257<Sheet1!$G$16),Sheet1!$A$16,\"\"))","v":""},{"$f":"IF($L257=\"\",\"\",IF(AND($L257>=Sheet1!$F$17,'Pupil List'!$L257<Sheet1!$G$17),Sheet1!$A$17,\"\"))","v":""},{"$f":"IF($L257=\"\",\"\",IF(AND($L257>=Sheet1!$F$18,'Pupil List'!$L257<Sheet1!$G$18),Sheet1!$A$18,\"\"))","v":""},{"$f":"IF($L257=\"\",\"\",IF(AND($L257>=Sheet1!$F$19,'Pupil List'!$L257<Sheet1!$G$19),Sheet1!$A$19,\"\"))","v":""},{"$f":"IF($L257=\"\",\"\",IF(AND($L257>=Sheet1!$F$20,'Pupil List'!$L257<Sheet1!$G$20),Sheet1!$A$20,\"\"))","v":""},{"$f":"IF($L257=\"\",\"\",IF(AND($L257>=Sheet1!$F$21,'Pupil List'!$L257<Sheet1!$G$21),Sheet1!$A$21,\"\"))","v":""},{"$f":"IF($L257=\"\",\"\",IF(AND($L257>=Sheet1!$F$22,'Pupil List'!$L257<Sheet1!$G$22),Sheet1!$A$22,\"\"))","v":""},{"$f":"IF($L257=\"\",\"\",IF(AND($L257>=Sheet1!$F$23,'Pupil List'!$L257<Sheet1!$G$23),Sheet1!$A$23,\"\"))","v":""},{"$f":"IF($L257=\"\",\"\",IF(AND($L257>=Sheet1!$F$24,'Pupil List'!$L257<Sheet1!$G$24),Sheet1!$A$24,\"\"))","v":""},{"$f":"IF($L257=\"\",\"\",IF(AND($L257>=Sheet1!$F$25,'Pupil List'!$L257<Sheet1!$G$25),Sheet1!$A$25,\"\"))","v":""},{"$error":"#N/A"},{"$f":"IFERROR(VLOOKUP(BK257,Sheet1!$A$2:$E$25,3,FALSE),\"\")","v":""},{"$f":"IFERROR(VLOOKUP(BK257,Sheet1!$A$2:$E$25,4,FALSE),\"\")","v":""},{"$f":"IFERROR(VLOOKUP(BK257,Sheet1!$A$2:$E$25,5,FALSE),\"\")","v":""},{"$f":"IFERROR(VLOOKUP(N257,Sheet1!$A$29:$B$38,2,FALSE),\"\")","v":""}]
["","","",null,null,null,null,null,"","","",null,"",null,"","","","","","","","","","","","","","","","","","","","","","","","",{"$f":"IF($L258=\"\",\"\",IF(AND($L258>=Sheet1!$F$2,'Pupil List'!$L258<Sheet1!$G$2),Sheet1!$A$2,\"\"))","v":""},{"$f":"IF($L258=\"\",\"\",IF(AND($L258>=Sheet1!$F$3,'Pupil List'!$L258<Sheet1!$G$3),Sheet1!$A$3,\"\"))","v":""},{"$f":"IF($L258=\"\",\"\",IF(AND($L258>=Sheet1!$F$4,'Pupil List'!$L258<Sheet1!$G$4),Sheet1!$A$4,\"\"))","v":""},{"$f":"IF($L258=\"\",\"\",IF(AND($L258>=Sheet1!$F$5,'Pupil List'!$L258<Sheet1!$G$5),Sheet1!$A$5,\"\"))","v":""},{"$f":"IF($L258=\"\",\"\",IF(AND($L258>=Sheet1!$F$6,'Pupil List'!$L258<Sheet1!$G$6),Sheet1!$A$6,\"\"))","v":""},{"$f":"IF($L258=\"\",\"\",IF(AND($L258>=Sheet1!$F$7,'Pupil List'!$L258<Sheet1!$G$7),Sheet1!$A$7,\"\"))","v":""},{"$f":"IF($L258=\"\",\"\",IF(AND($L258>=Sheet1!$F$8,'Pupil List'!$L258<Sheet1!$G$8),Sheet1!$A$8,\"\"))","v":""},{"$f":"IF($L258=\"\",\"\",IF(AND($L258>=Sheet1!$F$9,'Pupil List'!$L258<Sheet1!$G$9),Sheet1!$A$9,\"\"))","v":""},{"$f":"IF($L258=\"\",\"\",IF(AND($L258>=Sheet1!$F$10,'Pupil List'!$L258<Sheet1!$G$10),Sheet1!$A$10,\"\"))","v":""},{"$f":"IF($L258=\"\",\"\",IF(AND($L258>=Sheet1!$F$11,'Pupil List'!$L258<Sheet1!$G$11),Sheet1!$A$11,\"\"))","v":""},{"$f":"IF($L258=\"\",\"\",IF(AND($L258>=Sheet1!$F$12,'Pupil List'!$L258<Sheet1!$G$12),Sheet1!$A$12,\"\"))","v":""},{"$f":"IF($L258=\"\",\"\",IF(AND($L258>=Sheet1!$F$13,'Pupil List'!$L258<Sheet1!$G$13),Sheet1!$A$13,\"\"))","v":""},{"$f":"IF($L258=\"\",\"\",IF(AND($L258>=Sheet1!$F$14,'Pupil List'!$L258<Sheet1!$G$14),Sheet1!$A$14,\"\"))","v":""},{"$f":"IF($L258=\"\",\"\",IF(AND($L258>=Sheet1!$F$15,'Pupil List'!$L258<Sheet1!$G$15),Sheet1!$A$15,\"\"))","v":""},{"$f":"IF($L258=\"\",\"\",IF(AND($L258>=Sheet1!$F$16,'Pupil List'!$L258<Sheet1!$G$16),Sheet1!$A$16,\"\"))","v":""},{"$f":"IF($L258=\"\",\"\",IF(AND($L258>=Sheet1!$F$17,'Pupil List'!$L258<Sheet1!$G$17),Sheet1!$A$17,\"\"))","v":""},{"$f":"IF($L258=\"\",\"\",IF(AND($L258>=Sheet1!$F$18,'Pupil List'!$L258<Sheet1!$G$18),Sheet1!$A$18,\"\"))","v":""},{"$f":"IF($L258=\"\",\"\",IF(AND($L258>=Sheet1!$F$19,'Pupil List'!$L258<Sheet1!$G$19),Sheet1!$A$19,\"\"))","v":""},{"$f":"IF($L258=\"\",\"\",IF(AND($L258>=Sheet1!$F$20,'Pupil List'!$L258<Sheet1!$G$20),Sheet1!$A$20,\"\"))","v":""},{"$f":"IF($L258=\"\",\"\",IF(AND($L258>=Sheet1!$F$21,'Pupil List'!$L258<Sheet1!$G$21),Sheet1!$A$21,\"\"))","v":""},{"$f":"IF($L258=\"\",\"\",IF(AND($L258>=Sheet1!$F$22,'Pupil List'!$L258<Sheet1!$G$22),Sheet1!$A$22,\"\"))","v":""},{"$f":"IF($L258=\"\",\"\",IF(AND($L258>=Sheet1!$F$23,'Pupil List'!$L258<Sheet1!$G$23),Sheet1!$A$23,\"\"))","v":""},{"$f":"IF($L258=\"\",\"\",IF(AND($L258>=Sheet1!$F$24,'Pupil List'!$L258<Sheet1!$G$24),Sheet1!$A$24,\"\"))","v":""},{"$f":"IF($L258=\"\",\"\",IF(AND($L258>=Sheet1!$F$25,'Pupil List'!$L258<Sheet1!$G$25),Sheet1!$A$25,\"\"))","v":""},{"$error":"#N/A"},{"$f":"IFERROR(VLOOKUP(BK258,Sheet1!$A$2:$E$25,3,FALSE),\"\")","v":""},{"$f":"IFERROR(VLOOKUP(BK258,Sheet1!$A$2:$E$25,4,FALSE),\"\")","v":""},{"$f":"IFERROR(VLOOKUP(BK258,Sheet1!$A$2:$E$25,5,FALSE),\"\")","v":""},{"$f":"IFERROR(VLOOKUP(N258,Sheet1!$A$29:$B$38,2,FALSE),\"\")","v":""}]
["","","",null,null,null,null,null,"","","",null,"",null,"","","","","","","","","","","","","","","","","","","","","","","","",{"$f":"IF($L259=\"\",\"\",IF(AND($L259>=Sheet1!$F$2,'Pupil List'!$L259<Sheet1!$G$2),Sheet1!$A$2,\"\"))","v":""},{"$f":"IF($L259=\"\",\"\",IF(AND($L259>=Sheet1!$F$3,'Pupil List'!$L259<Sheet1!$G$3),Sheet1!$A$3,\"\"))","v":""},{"$f":"IF($L259=\"\",\"\",IF(AND($L259>=Sheet1!$F$4,'Pupil List'!$L259<Sheet1!$G$4),Sheet1!$A$4,\"\"))","v":""},{"$f":"IF($L259=\"\",\"\",IF(AND($L259>=Sheet1!$F$5,'Pupil List'!$L259<Sheet1!$G$5),Sheet1!$A$5,\"\"))","v":""},{"$f":"IF($L259=\"\",\"\",IF(AND($L259>=Sheet1!$F$6,'Pupil List'!$L259<Sheet1!$G$6),Sheet1!$A$6,\"\"))","v":""},{"$f":"IF($L259=\"\",\"\",IF(AND($L259>=Sheet1!$F$7,'Pupil List'!$L259<Sheet1!$G$7),Sheet1!$A$7,\"\"))","v":""},{"$f":"IF($L259=\"\",\"\",IF(AND($L259>=Sheet1!$F$8,'Pupil List'!$L259<Sheet1!$G$8),Sheet1!$A$8,\"\"))","v":""},{"$f":"IF($L259=\"\",\"\",IF(AND($L259>=Sheet1!$F$9,'Pupil List'!$L259<Sheet1!$G$9),Sheet1!$A$9,\"\"))","v":""},{"$f":"IF($L259=\"\",\"\",IF(AND($L259>=Sheet1!$F$10,'Pupil List'!$L259<Sheet1!$G$10),Sheet1!$A$10,\"\"))","v":""},{"$f":"IF($L259=\"\",\"\",IF(AND($L259>=Sheet1!$F$11,'Pupil List'!$L259<Sheet1!$G$11),Sheet1!$A$11,\"\"))","v":""},{"$f":"IF($L259=\"\",\"\",IF(AND($L259>=Sheet1!$F$12,'Pupil List'!$L259<Sheet1!$G$12),Sheet1!$A$12,\"\"))","v":""},{"$f":"IF($L259=\"\",\"\",IF(AND($L259>=Sheet1!$F$13,'Pupil List'!$L259<Sheet1!$G$13),Sheet1!$A$13,\"\"))","v":""},{"$f":"IF($L259=\"\",\"\",IF(AND($L259>=Sheet1!$F$14,'Pupil List'!$L259<Sheet1!$G$14),Sheet1!$A$14,\"\"))","v":""},{"$f":"IF($L259=\"\",\"\",IF(AND($L259>=Sheet1!$F$15,'Pupil List'!$L259<Sheet1!$G$15),Sheet1!$A$15,\"\"))","v":""},{"$f":"IF($L259=\"\",\"\",IF(AND($L259>=Sheet1!$F$16,'Pupil List'!$L259<Sheet1!$G$16),Sheet1!$A$16,\"\"))","v":""},{"$f":"IF($L259=\"\",\"\",IF(AND($L259>=Sheet1!$F$17,'Pupil List'!$L259<Sheet1!$G$17),Sheet1!$A$17,\"\"))","v":""},{"$f":"IF($L259=\"\",\"\",IF(AND($L259>=Sheet1!$F$18,'Pupil List'!$L259<Sheet1!$G$18),Sheet1!$A$18,\"\"))","v":""},{"$f":"IF($L259=\"\",\"\",IF(AND($L259>=Sheet1!$F$19,'Pupil List'!$L259<Sheet1!$G$19),Sheet1!$A$19,\"\"))","v":""},{"$f":"IF($L259=\"\",\"\",IF(AND($L259>=Sheet1!$F$20,'Pupil List'!$L259<Sheet1!$G$20),Sheet1!$A$20,\"\"))","v":""},{"$f":"IF($L259=\"\",\"\",IF(AND($L259>=Sheet1!$F$21,'Pupil List'!$L259<Sheet1!$G$21),Sheet1!$A$21,\"\"))","v":""},{"$f":"IF($L259=\"\",\"\",IF(AND($L259>=Sheet1!$F$22,'Pupil List'!$L259<Sheet1!$G$22),Sheet1!$A$22,\"\"))","v":""},{"$f":"IF($L259=\"\",\"\",IF(AND($L259>=Sheet1!$F$23,'Pupil List'!$L259<Sheet1!$G$23),Sheet1!$A$23,\"\"))","v":""},{"$f":"IF($L259=\"\",\"\",IF(AND($L259>=Sheet1!$F$24,'Pupil List'!$L259<Sheet1!$G$24),Sheet1!$A$24,\"\"))","v":""},{"$f":"IF($L259=\"\",\"\",IF(AND($L259>=Sheet1!$F$25,'Pupil List'!$L259<Sheet1!$G$25),Sheet1!$A$25,\"\"))","v":""},{"$error":"#N/A"},{"$f":"IFERROR(VLOOKUP(BK259,Sheet1!$A$2:$E$25,3,FALSE),\"\")","v":""},{"$f":"IFERROR(VLOOKUP(BK259,Sheet1!$A$2:$E$25,4,FALSE),\"\")","v":""},{"$f":"IFERROR(VLOOKUP(BK259,Sheet1!$A$2:$E$25,5,FALSE),\"\")","v":""},{"$f":"IFERROR(VLOOKUP(N259,Sheet1!$A$29:$B$38,2,FALSE),\"\")","v":""}]
["","","",null,null,null,null,null,"","","",null,"",null,"",{"$f":"IFERROR((M260-BL260),\"\")","v":""},"","",{"$f":"IF(A260=\"\",\"\",IF(C260=\"No\",\"\",IF((AND(M260>=100,M260<110)),1,0)))","v":""},{"$f":"IF(A260=\"\",\"\",IF(C260=\"No\",\"\",IF((AND(M260>=100,M260<130)),1,0)))","v":""},{"$f":"IF(A260=\"\",\"\",IF(C260=\"No\",\"\",IF((AND(M260>=110,M260<130)),1,0)))","v":""},{"$f":"IF(A260=\"\",\"\",IF(C260=\"No\",\"\",IF((AND(O260>=100,O260<110)),1,0)))","v":""},{"$f":"IF(A260=\"\",\"\",IF(C260=\"No\",\"\",IF((AND(O260>=100,O260<130)),1,0)))","v":""},{"$f":"IF(A260=\"\",\"\",IF(C260=\"No\",\"\",IF((AND(O260>=110,O260<130)),1,0)))","v":""},{"$f":"IF(A260=\"\",\"\",IF(C260=\"No\",\"\",IF(N260=\"EXS\",1,0)))","v":""},{"$f":"IF(A260=\"\",\"\",IF(C260=\"No\",\"\",IF((OR(N260=\"GDS\",N260=\"EXS\")),1,0)))","v":""},{"$f":"IF(A260=\"\",\"\",IF(C260=\"No\",\"\",IF(N260=\"GDS\",1,0)))","v":""},{"$f":"IF(A260=\"\",\"\",IF(C260=\"No\",\"\",SUM(S260+V260+Y260)))","v":""},{"$f":"IF(A260=\"\",\"\",IF(C260=\"No\",\"\",IF(AB260=3,1,0)))","v":""},{"$f":"IF(A260=\"\",\"\",IF(C260=\"No\",\"\",SUM(T260+W260+Z260)))","v":""},{"$f":"IF(A260=\"\",\"\",IF(C260=\"No\",\"\",IF(AD260=3,1,0)))","v":""},{"$f":"IF(A260=\"\",\"\",IF(C260=\"No\",\"\",SUM(U260+X260+AA260)))","v":""},{"$f":"IF(A260=\"\",\"\",IF(C260=\"No\",\"\",IF(AF260=3,1,0)))","v":""},{"$f":"IF(P260=\"\",\"\",\"Y\")","v":""},{"$f":"IF(Q260=\"\",\"\",\"Y\")","v":""},{"$f":"IF(R260=\"\",\"\",\"Y\")","v":""},{"$f":"IF(M260=\"\",\"\",\"Y\")","v":""},{"$f":"IF(O260=\"\",\"\",\"Y\")","v":""},{"$f":"IF($L260=\"\",\"\",IF(AND($L260>=Sheet1!$F$2,'Pupil List'!$L260<Sheet1!$G$2),Sheet1!$A$2,\"\"))","v":""},{"$f":"IF($L260=\"\",\"\",IF(AND($L260>=Sheet1!$F$3,'Pupil List'!$L260<Sheet1!$G$3),Sheet1!$A$3,\"\"))","v":""},{"$f":"IF($L260=\"\",\"\",IF(AND($L260>=Sheet1!$F$4,'Pupil List'!$L260<Sheet1!$G$4),Sheet1!$A$4,\"\"))","v":""},{"$f":"IF($L260=\"\",\"\",IF(AND($L260>=Sheet1!$F$5,'Pupil List'!$L260<Sheet1!$G$5),Sheet1!$A$5,\"\"))","v":""},{"$f":"IF($L260=\"\",\"\",IF(AND($L260>=Sheet1!$F$6,'Pupil List'!$L260<Sheet1!$G$6),Sheet1!$A$6,\"\"))","v":""},{"$f":"IF($L260=\"\",\"\",IF(AND($L260>=Sheet1!$F$7,'Pupil List'!$L260<Sheet1!$G$7),Sheet1!$A$7,\"\"))","v":""},{"$f":"IF($L260=\"\",\"\",IF(AND($L260>=Sheet1!$F$8,'Pupil List'!$L260<Sheet1!$G$8),Sheet1!$A$8,\"\"))","v":""},{"$f":"IF($L260=\"\",\"\",IF(AND($L260>=Sheet1!$F$9,'Pupil List'!$L260<Sheet1!$G$9),Sheet1!$A$9,\"\"))","v":""},{"$f":"IF($L260=\"\",\"\",IF(AND($L260>=Sheet1!$F$10,'Pupil List'!$L260<Sheet1!$G$10),Sheet1!$A$10,\"\"))","v":""},{"$f":"IF($L260=\"\",\"\",IF(AND($L260>=Sheet1!$F$11,'Pupil List'!$L260<Sheet1!$G$11),Sheet1!$A$11,\"\"))","v":""},{"$f":"IF($L260=\"\",\"\",IF(AND($L260>=Sheet1!$F$12,'Pupil List'!$L260<Sheet1!$G$12),Sheet1!$A$12,\"\"))","v":""},{"$f":"IF($L260=\"\",\"\",IF(AND($L260>=Sheet1!$F$13,'Pupil List'!$L260<Sheet1!$G$13),Sheet1!$A$13,\"\"))","v":""},{"$f":"IF($L260=\"\",\"\",IF(AND($L260>=Sheet1!$F$14,'Pupil List'!$L260<Sheet1!$G$14),Sheet1!$A$14,\"\"))","v":""},{"$f":"IF($L260=\"\",\"\",IF(AND($L260>=Sheet1!$F$15,'Pupil List'!$L260<Sheet1!$G$15),Sheet1!$A$15,\"\"))","v":""},{"$f":"IF($L260=\"\",\"\",IF(AND($L260>=Sheet1!$F$16,'Pupil List'!$L260<Sheet1!$G$16),Sheet1!$A$16,\"\"))","v":""},{"$f":"IF($L260=\"\",\"\",IF(AND($L260>=Sheet1!$F$17,'Pupil List'!$L260<Sheet1!$G$17),Sheet1!$A$17,\"\"))","v":""},{"$f":"IF($L260=\"\",\"\",IF(AND($L260>=Sheet1!$F$18,'Pupil List'!$L260<Sheet1!$G$18),Sheet1!$A$18,\"\"))","v":""},{"$f":"IF($L260=\"\",\"\",IF(AND($L260>=Sheet1!$F$19,'Pupil List'!$L260<Sheet1!$G$19),Sheet1!$A$19,\"\"))","v":""},{"$f":"IF($L260=\"\",\"\",IF(AND($L260>=Sheet1!$F$20,'Pupil List'!$L260<Sheet1!$G$20),Sheet1!$A$20,\"\"))","v":""},{"$f":"IF($L260=\"\",\"\",IF(AND($L260>=Sheet1!$F$21,'Pupil List'!$L260<Sheet1!$G$21),Sheet1!$A$21,\"\"))","v":""},{"$f":"IF($L260=\"\",\"\",IF(AND($L260>=Sheet1!$F$22,'Pupil List'!$L260<Sheet1!$G$22),Sheet1!$A$22,\"\"))","v":""},{"$f":"IF($L260=\"\",\"\",IF(AND($L260>=Sheet1!$F$23,'Pupil List'!$L260<Sheet1!$G$23),Sheet1!$A$23,\"\"))","v":""},{"$f":"IF($L260=\"\",\"\",IF(AND($L260>=Sheet1!$F$24,'Pupil List'!$L260<Sheet1!$G$24),Sheet1!$A$24,\"\"))","v":""},{"$f":"IF($L260=\"\",\"\",IF(AND($L260>=Sheet1!$F$25,'Pupil List'!$L260<Sheet1!$G$25),Sheet1!$A$25,\"\"))","v":""},{"$error":"#N/A"},{"$f":"IFERROR(VLOOKUP(BK260,Sheet1!$A$2:$E$25,3,FALSE),\"\")","v":""},{"$f":"IFERROR(VLOOKUP(BK260,Sheet1!$A$2:$E$25,4,FALSE),\"\")","v":""},{"$f":"IFERROR(VLOOKUP(BK260,Sheet1!$A$2:$E$25,5,FALSE),\"\")","v":""},{"$f":"IFERROR(VLOOKUP(N260,Sheet1!$A$29:$B$38,2,FALSE),\"\")","v":""}]
["","",{"$f":"IF(A261=\"\",\"\",\"Yes\")","v":""},null,null,null,null,null,"","","",null,"",null,"","",{"$f":"IFERROR((BO261-BM261),\"\")","v":""},{"$f":"IFERROR((O261-BN261),\"\")","v":""},"","","","","","","","","","","","","","","","","","","","",{"$f":"IF($L261=\"\",\"\",IF(AND($L261>=Sheet1!$F$2,'Pupil List'!$L261<Sheet1!$G$2),Sheet1!$A$2,\"\"))","v":""},{"$f":"IF($L261=\"\",\"\",IF(AND($L261>=Sheet1!$F$3,'Pupil List'!$L261<Sheet1!$G$3),Sheet1!$A$3,\"\"))","v":""},{"$f":"IF($L261=\"\",\"\",IF(AND($L261>=Sheet1!$F$4,'Pupil List'!$L261<Sheet1!$G$4),Sheet1!$A$4,\"\"))","v":""},{"$f":"IF($L261=\"\",\"\",IF(AND($L261>=Sheet1!$F$5,'Pupil List'!$L261<Sheet1!$G$5),Sheet1!$A$5,\"\"))","v":""},{"$f":"IF($L261=\"\",\"\",IF(AND($L261>=Sheet1!$F$6,'Pupil List'!$L261<Sheet1!$G$6),Sheet1!$A$6,\"\"))","v":""},{"$f":"IF($L261=\"\",\"\",IF(AND($L261>=Sheet1!$F$7,'Pupil List'!$L261<Sheet1!$G$7),Sheet1!$A$7,\"\"))","v":""},{"$f":"IF($L261=\"\",\"\",IF(AND($L261>=Sheet1!$F$8,'Pupil List'!$L261<Sheet1!$G$8),Sheet1!$A$8,\"\"))","v":""},{"$f":"IF($L261=\"\",\"\",IF(AND($L261>=Sheet1!$F$9,'Pupil List'!$L261<Sheet1!$G$9),Sheet1!$A$9,\"\"))","v":""},{"$f":"IF($L261=\"\",\"\",IF(AND($L261>=Sheet1!$F$10,'Pupil List'!$L261<Sheet1!$G$10),Sheet1!$A$10,\"\"))","v":""},{"$f":"IF($L261=\"\",\"\",IF(AND($L261>=Sheet1!$F$11,'Pupil List'!$L261<Sheet1!$G$11),Sheet1!$A$11,\"\"))","v":""},{"$f":"IF($L261=\"\",\"\",IF(AND($L261>=Sheet1!$F$12,'Pupil List'!$L261<Sheet1!$G$12),Sheet1!$A$12,\"\"))","v":""},{"$f":"IF($L261=\"\",\"\",IF(AND($L261>=Sheet1!$F$13,'Pupil List'!$L261<Sheet1!$G$13),Sheet1!$A$13,\"\"))","v":""},{"$f":"IF($L261=\"\",\"\",IF(AND($L261>=Sheet1!$F$14,'Pupil List'!$L261<Sheet1!$G$14),Sheet1!$A$14,\"\"))","v":""},{"$f":"IF($L261=\"\",\"\",IF(AND($L261>=Sheet1!$F$15,'Pupil List'!$L261<Sheet1!$G$15),Sheet1!$A$15,\"\"))","v":""},{"$f":"IF($L261=\"\",\"\",IF(AND($L261>=Sheet1!$F$16,'Pupil List'!$L261<Sheet1!$G$16),Sheet1!$A$16,\"\"))","v":""},{"$f":"IF($L261=\"\",\"\",IF(AND($L261>=Sheet1!$F$17,'Pupil List'!$L261<Sheet1!$G$17),Sheet1!$A$17,\"\"))","v":""},{"$f":"IF($L261=\"\",\"\",IF(AND($L261>=Sheet1!$F$18,'Pupil List'!$L261<Sheet1!$G$18),Sheet1!$A$18,\"\"))","v":""},{"$f":"IF($L261=\"\",\"\",IF(AND($L261>=Sheet1!$F$19,'Pupil List'!$L261<Sheet1!$G$19),Sheet1!$A$19,\"\"))","v":""},{"$f":"IF($L261=\"\",\"\",IF(AND($L261>=Sheet1!$F$20,'Pupil List'!$L261<Sheet1!$G$20),Sheet1!$A$20,\"\"))","v":""},{"$f":"IF($L261=\"\",\"\",IF(AND($L261>=Sheet1!$F$21,'Pupil List'!$L261<Sheet1!$G$21),Sheet1!$A$21,\"\"))","v":""},{"$f":"IF($L261=\"\",\"\",IF(AND($L261>=Sheet1!$F$22,'Pupil List'!$L261<Sheet1!$G$22),Sheet1!$A$22,\"\"))","v":""},{"$f":"IF($L261=\"\",\"\",IF(AND($L261>=Sheet1!$F$23,'Pupil List'!$L261<Sheet1!$G$23),Sheet1!$A$23,\"\"))","v":""},{"$f":"IF($L261=\"\",\"\",IF(AND($L261>=Sheet1!$F$24,'Pupil List'!$L261<Sheet1!$G$24),Sheet1!$A$24,\"\"))","v":""},{"$f":"IF($L261=\"\",\"\",IF(AND($L261>=Sheet1!$F$25,'Pupil List'!$L261<Sheet1!$G$25),Sheet1!$A$25,\"\"))","v":""},{"$f":"INDEX(AM261:BJ261,MATCH(TRUE,INDEX((AM261:BJ261<>\"\"),0),0))","v":{"$error":"#N/A"}},{"$f":"IFERROR(VLOOKUP(BK261,Sheet1!$A$2:$E$25,3,FALSE),\"\")","v":""},{"$f":"IFERROR(VLOOKUP(BK261,Sheet1!$A$2:$E$25,4,FALSE),\"\")","v":""},{"$f":"IFERROR(VLOOKUP(BK261,Sheet1!$A$2:$E$25,5,FALSE),\"\")","v":""},{"$f":"IFERROR(VLOOKUP(N261,Sheet1!$A$29:$B$38,2,FALSE),\"\")","v":""}]
["","","",null,null,null,null,null,{"$f":"IF(A262=\"\",\"\",\"Yes\")","v":""},{"$f":"IF(A262=\"\",\"\",\"Yes\")","v":""},{"$f":"IF(A262=\"\",\"\",\"Yes\")","v":""},null,"",null,"","","","","","","","","","","","","","","","","","","","","","","","",{"$f":"IF($L262=\"\",\"\",IF(AND($L262>=Sheet1!$F$2,'Pupil List'!$L262<Sheet1!$G$2),Sheet1!$A$2,\"\"))","v":""},{"$f":"IF($L262=\"\",\"\",IF(AND($L262>=Sheet1!$F$3,'Pupil List'!$L262<Sheet1!$G$3),Sheet1!$A$3,\"\"))","v":""},{"$f":"IF($L262=\"\",\"\",IF(AND($L262>=Sheet1!$F$4,'Pupil List'!$L262<Sheet1!$G$4),Sheet1!$A$4,\"\"))","v":""},{"$f":"IF($L262=\"\",\"\",IF(AND($L262>=Sheet1!$F$5,'Pupil List'!$L262<Sheet1!$G$5),Sheet1!$A$5,\"\"))","v":""},{"$f":"IF($L262=\"\",\"\",IF(AND($L262>=Sheet1!$F$6,'Pupil List'!$L262<Sheet1!$G$6),Sheet1!$A$6,\"\"))","v":""},{"$f":"IF($L262=\"\",\"\",IF(AND($L262>=Sheet1!$F$7,'Pupil List'!$L262<Sheet1!$G$7),Sheet1!$A$7,\"\"))","v":""},{"$f":"IF($L262=\"\",\"\",IF(AND($L262>=Sheet1!$F$8,'Pupil List'!$L262<Sheet1!$G$8),Sheet1!$A$8,\"\"))","v":""},{"$f":"IF($L262=\"\",\"\",IF(AND($L262>=Sheet1!$F$9,'Pupil List'!$L262<Sheet1!$G$9),Sheet1!$A$9,\"\"))","v":""},{"$f":"IF($L262=\"\",\"\",IF(AND($L262>=Sheet1!$F$10,'Pupil List'!$L262<Sheet1!$G$10),Sheet1!$A$10,\"\"))","v":""},{"$f":"IF($L262=\"\",\"\",IF(AND($L262>=Sheet1!$F$11,'Pupil List'!$L262<Sheet1!$G$11),Sheet1!$A$11,\"\"))","v":""},{"$f":"IF($L262=\"\",\"\",IF(AND($L262>=Sheet1!$F$12,'Pupil List'!$L262<Sheet1!$G$12),Sheet1!$A$12,\"\"))","v":""},{"$f":"IF($L262=\"\",\"\",IF(AND($L262>=Sheet1!$F$13,'Pupil List'!$L262<Sheet1!$G$13),Sheet1!$A$13,\"\"))","v":""},{"$f":"IF($L262=\"\",\"\",IF(AND($L262>=Sheet1!$F$14,'Pupil List'!$L262<Sheet1!$G$14),Sheet1!$A$14,\"\"))","v":""},{"$f":"IF($L262=\"\",\"\",IF(AND($L262>=Sheet1!$F$15,'Pupil List'!$L262<Sheet1!$G$15),Sheet1!$A$15,\"\"))","v":""},{"$f":"IF($L262=\"\",\"\",IF(AND($L262>=Sheet1!$F$16,'Pupil List'!$L262<Sheet1!$G$16),Sheet1!$A$16,\"\"))","v":""},{"$f":"IF($L262=\"\",\"\",IF(AND($L262>=Sheet1!$F$17,'Pupil List'!$L262<Sheet1!$G$17),Sheet1!$A$17,\"\"))","v":""},{"$f":"IF($L262=\"\",\"\",IF(AND($L262>=Sheet1!$F$18,'Pupil List'!$L262<Sheet1!$G$18),Sheet1!$A$18,\"\"))","v":""},{"$f":"IF($L262=\"\",\"\",IF(AND($L262>=Sheet1!$F$19,'Pupil List'!$L262<Sheet1!$G$19),Sheet1!$A$19,\"\"))","v":""},{"$f":"IF($L262=\"\",\"\",IF(AND($L262>=Sheet1!$F$20,'Pupil List'!$L262<Sheet1!$G$20),Sheet1!$A$20,\"\"))","v":""},{"$f":"IF($L262=\"\",\"\",IF(AND($L262>=Sheet1!$F$21,'Pupil List'!$L262<Sheet1!$G$21),Sheet1!$A$21,\"\"))","v":""},{"$f":"IF($L262=\"\",\"\",IF(AND($L262>=Sheet1!$F$22,'Pupil List'!$L262<Sheet1!$G$22),Sheet1!$A$22,\"\"))","v":""},{"$f":"IF($L262=\"\",\"\",IF(AND($L262>=Sheet1!$F$23,'Pupil List'!$L262<Sheet1!$G$23),Sheet1!$A$23,\"\"))","v":""},{"$f":"IF($L262=\"\",\"\",IF(AND($L262>=Sheet1!$F$24,'Pupil List'!$L262<Sheet1!$G$24),Sheet1!$A$24,\"\"))","v":""},{"$f":"IF($L262=\"\",\"\",IF(AND($L262>=Sheet1!$F$25,'Pupil List'!$L262<Sheet1!$G$25),Sheet1!$A$25,\"\"))","v":""},{"$error":"#N/A"},{"$f":"IFERROR(VLOOKUP(BK262,Sheet1!$A$2:$E$25,3,FALSE),\"\")","v":""},{"$f":"IFERROR(VLOOKUP(BK262,Sheet1!$A$2:$E$25,4,FALSE),\"\")","v":""},{"$f":"IFERROR(VLOOKUP(BK262,Sheet1!$A$2:$E$25,5,FALSE),\"\")","v":""},{"$f":"IFERROR(VLOOKUP(N262,Sheet1!$A$29:$B$38,2,FALSE),\"\")","v":""}]
["","","",null,null,null,null,null,"","","",null,"",null,"","","","","","","","","","","","","","","","","","","","","","","","",{"$f":"IF($L263=\"\",\"\",IF(AND($L263>=Sheet1!$F$2,'Pupil List'!$L263<Sheet1!$G$2),Sheet1!$A$2,\"\"))","v":""},{"$f":"IF($L263=\"\",\"\",IF(AND($L263>=Sheet1!$F$3,'Pupil List'!$L263<Sheet1!$G$3),Sheet1!$A$3,\"\"))","v":""},{"$f":"IF($L263=\"\",\"\",IF(AND($L263>=Sheet1!$F$4,'Pupil List'!$L263<Sheet1!$G$4),Sheet1!$A$4,\"\"))","v":""},{"$f":"IF($L263=\"\",\"\",IF(AND($L263>=Sheet1!$F$5,'Pupil List'!$L263<Sheet1!$G$5),Sheet1!$A$5,\"\"))","v":""},{"$f":"IF($L263=\"\",\"\",IF(AND($L263>=Sheet1!$F$6,'Pupil List'!$L263<Sheet1!$G$6),Sheet1!$A$6,\"\"))","v":""},{"$f":"IF($L263=\"\",\"\",IF(AND($L263>=Sheet1!$F$7,'Pupil List'!$L263<Sheet1!$G$7),Sheet1!$A$7,\"\"))","v":""},{"$f":"IF($L263=\"\",\"\",IF(AND($L263>=Sheet1!$F$8,'Pupil List'!$L263<Sheet1!$G$8),Sheet1!$A$8,\"\"))","v":""},{"$f":"IF($L263=\"\",\"\",IF(AND($L263>=Sheet1!$F$9,'Pupil List'!$L263<Sheet1!$G$9),Sheet1!$A$9,\"\"))","v":""},{"$f":"IF($L263=\"\",\"\",IF(AND($L263>=Sheet1!$F$10,'Pupil List'!$L263<Sheet1!$G$10),Sheet1!$A$10,\"\"))","v":""},{"$f":"IF($L263=\"\",\"\",IF(AND($L263>=Sheet1!$F$11,'Pupil List'!$L263<Sheet1!$G$11),Sheet1!$A$11,\"\"))","v":""},{"$f":"IF($L263=\"\",\"\",IF(AND($L263>=Sheet1!$F$12,'Pupil List'!$L263<Sheet1!$G$12),Sheet1!$A$12,\"\"))","v":""},{"$f":"IF($L263=\"\",\"\",IF(AND($L263>=Sheet1!$F$13,'Pupil List'!$L263<Sheet1!$G$13),Sheet1!$A$13,\"\"))","v":""},{"$f":"IF($L263=\"\",\"\",IF(AND($L263>=Sheet1!$F$14,'Pupil List'!$L263<Sheet1!$G$14),Sheet1!$A$14,\"\"))","v":""},{"$f":"IF($L263=\"\",\"\",IF(AND($L263>=Sheet1!$F$15,'Pupil List'!$L263<Sheet1!$G$15),Sheet1!$A$15,\"\"))","v":""},{"$f":"IF($L263=\"\",\"\",IF(AND($L263>=Sheet1!$F$16,'Pupil List'!$L263<Sheet1!$G$16),Sheet1!$A$16,\"\"))","v":""},{"$f":"IF($L263=\"\",\"\",IF(AND($L263>=Sheet1!$F$17,'Pupil List'!$L263<Sheet1!$G$17),Sheet1!$A$17,\"\"))","v":""},{"$f":"IF($L263=\"\",\"\",IF(AND($L263>=Sheet1!$F$18,'Pupil List'!$L263<Sheet1!$G$18),Sheet1!$A$18,\"\"))","v":""},{"$f":"IF($L263=\"\",\"\",IF(AND($L263>=Sheet1!$F$19,'Pupil List'!$L263<Sheet1!$G$19),Sheet1!$A$19,\"\"))","v":""},{"$f":"IF($L263=\"\",\"\",IF(AND($L263>=Sheet1!$F$20,'Pupil List'!$L263<Sheet1!$G$20),Sheet1!$A$20,\"\"))","v":""},{"$f":"IF($L263=\"\",\"\",IF(AND($L263>=Sheet1!$F$21,'Pupil List'!$L263<Sheet1!$G$21),Sheet1!$A$21,\"\"))","v":""},{"$f":"IF($L263=\"\",\"\",IF(AND($L263>=Sheet1!$F$22,'Pupil List'!$L263<Sheet1!$G$22),Sheet1!$A$22,\"\"))","v":""},{"$f":"IF($L263=\"\",\"\",IF(AND($L263>=Sheet1!$F$23,'Pupil List'!$L263<Sheet1!$G$23),Sheet1!$A$23,\"\"))","v":""},{"$f":"IF($L263=\"\",\"\",IF(AND($L263>=Sheet1!$F$24,'Pupil List'!$L263<Sheet1!$G$24),Sheet1!$A$24,\"\"))","v":""},{"$f":"IF($L263=\"\",\"\",IF(AND($L263>=Sheet1!$F$25,'Pupil List'!$L263<Sheet1!$G$25),Sheet1!$A$25,\"\"))","v":""},{"$error":"#N/A"},{"$f":"IFERROR(VLOOKUP(BK263,Sheet1!$A$2:$E$25,3,FALSE),\"\")","v":""},{"$f":"IFERROR(VLOOKUP(BK263,Sheet1!$A$2:$E$25,4,FALSE),\"\")","v":""},{"$f":"IFERROR(VLOOKUP(BK263,Sheet1!$A$2:$E$25,5,FALSE),\"\")","v":""},{"$f":"IFERROR(VLOOKUP(N263,Sheet1!$A$29:$B$38,2,FALSE),\"\")","v":""}]
["","","",null,null,null,null,null,"","","",null,"",null,"","","","","","","","","","","","","","","","","","","","","","","","",{"$f":"IF($L264=\"\",\"\",IF(AND($L264>=Sheet1!$F$2,'Pupil List'!$L264<Sheet1!$G$2),Sheet1!$A$2,\"\"))","v":""},{"$f":"IF($L264=\"\",\"\",IF(AND($L264>=Sheet1!$F$3,'Pupil List'!$L264<Sheet1!$G$3),Sheet1!$A$3,\"\"))","v":""},{"$f":"IF($L264=\"\",\"\",IF(AND($L264>=Sheet1!$F$4,'Pupil List'!$L264<Sheet1!$G$4),Sheet1!$A$4,\"\"))","v":""},{"$f":"IF($L264=\"\",\"\",IF(AND($L264>=Sheet1!$F$5,'Pupil List'!$L264<Sheet1!$G$5),Sheet1!$A$5,\"\"))","v":""},{"$f":"IF($L264=\"\",\"\",IF(AND($L264>=Sheet1!$F$6,'Pupil List'!$L264<Sheet1!$G$6),Sheet1!$A$6,\"\"))","v":""},{"$f":"IF($L264=\"\",\"\",IF(AND($L264>=Sheet1!$F$7,'Pupil List'!$L264<Sheet1!$G$7),Sheet1!$A$7,\"\"))","v":""},{"$f":"IF($L264=\"\",\"\",IF(AND($L264>=Sheet1!$F$8,'Pupil List'!$L264<Sheet1!$G$8),Sheet1!$A$8,\"\"))","v":""},{"$f":"IF($L264=\"\",\"\",IF(AND($L264>=Sheet1!$F$9,'Pupil List'!$L264<Sheet1!$G$9),Sheet1!$A$9,\"\"))","v":""},{"$f":"IF($L264=\"\",\"\",IF(AND($L264>=Sheet1!$F$10,'Pupil List'!$L264<Sheet1!$G$10),Sheet1!$A$10,\"\"))","v":""},{"$f":"IF($L264=\"\",\"\",IF(AND($L264>=Sheet1!$F$11,'Pupil List'!$L264<Sheet1!$G$11),Sheet1!$A$11,\"\"))","v":""},{"$f":"IF($L264=\"\",\"\",IF(AND($L264>=Sheet1!$F$12,'Pupil List'!$L264<Sheet1!$G$12),Sheet1!$A$12,\"\"))","v":""},{"$f":"IF($L264=\"\",\"\",IF(AND($L264>=Sheet1!$F$13,'Pupil List'!$L264<Sheet1!$G$13),Sheet1!$A$13,\"\"))","v":""},{"$f":"IF($L264=\"\",\"\",IF(AND($L264>=Sheet1!$F$14,'Pupil List'!$L264<Sheet1!$G$14),Sheet1!$A$14,\"\"))","v":""},{"$f":"IF($L264=\"\",\"\",IF(AND($L264>=Sheet1!$F$15,'Pupil List'!$L264<Sheet1!$G$15),Sheet1!$A$15,\"\"))","v":""},{"$f":"IF($L264=\"\",\"\",IF(AND($L264>=Sheet1!$F$16,'Pupil List'!$L264<Sheet1!$G$16),Sheet1!$A$16,\"\"))","v":""},{"$f":"IF($L264=\"\",\"\",IF(AND($L264>=Sheet1!$F$17,'Pupil List'!$L264<Sheet1!$G$17),Sheet1!$A$17,\"\"))","v":""},{"$f":"IF($L264=\"\",\"\",IF(AND($L264>=Sheet1!$F$18,'Pupil List'!$L264<Sheet1!$G$18),Sheet1!$A$18,\"\"))","v":""},{"$f":"IF($L264=\"\",\"\",IF(AND($L264>=Sheet1!$F$19,'Pupil List'!$L264<Sheet1!$G$19),Sheet1!$A$19,\"\"))","v":""},{"$f":"IF($L264=\"\",\"\",IF(AND($L264>=Sheet1!$F$20,'Pupil List'!$L264<Sheet1!$G$20),Sheet1!$A$20,\"\"))","v":""},{"$f":"IF($L264=\"\",\"\",IF(AND($L264>=Sheet1!$F$21,'Pupil List'!$L264<Sheet1!$G$21),Sheet1!$A$21,\"\"))","v":""},{"$f":"IF($L264=\"\",\"\",IF(AND($L264>=Sheet1!$F$22,'Pupil List'!$L264<Sheet1!$G$22),Sheet1!$A$22,\"\"))","v":""},{"$f":"IF($L264=\"\",\"\",IF(AND($L264>=Sheet1!$F$23,'Pupil List'!$L264<Sheet1!$G$23),Sheet1!$A$23,\"\"))","v":""},{"$f":"IF($L264=\"\",\"\",IF(AND($L264>=Sheet1!$F$24,'Pupil List'!$L264<Sheet1!$G$24),Sheet1!$A$24,\"\"))","v":""},{"$f":"IF($L264=\"\",\"\",IF(AND($L264>=Sheet1!$F$25,'Pupil List'!$L264<Sheet1!$G$25),Sheet1!$A$25,\"\"))","v":""},{"$error":"#N/A"},{"$f":"IFERROR(VLOOKUP(BK264,Sheet1!$A$2:$E$25,3,FALSE),\"\")","v":""},{"$f":"IFERROR(VLOOKUP(BK264,Sheet1!$A$2:$E$25,4,FALSE),\"\")","v":""},{"$f":"IFERROR(VLOOKUP(BK264,Sheet1!$A$2:$E$25,5,FALSE),\"\")","v":""},{"$f":"IFERROR(VLOOKUP(N264,Sheet1!$A$29:$B$38,2,FALSE),\"\")","v":""}]
["","","",null,null,null,null,null,"","","",null,"",null,"","","","","","","","","","","","","","","","","","","","","","","","",{"$f":"IF($L265=\"\",\"\",IF(AND($L265>=Sheet1!$F$2,'Pupil List'!$L265<Sheet1!$G$2),Sheet1!$A$2,\"\"))","v":""},{"$f":"IF($L265=\"\",\"\",IF(AND($L265>=Sheet1!$F$3,'Pupil List'!$L265<Sheet1!$G$3),Sheet1!$A$3,\"\"))","v":""},{"$f":"IF($L265=\"\",\"\",IF(AND($L265>=Sheet1!$F$4,'Pupil List'!$L265<Sheet1!$G$4),Sheet1!$A$4,\"\"))","v":""},{"$f":"IF($L265=\"\",\"\",IF(AND($L265>=Sheet1!$F$5,'Pupil List'!$L265<Sheet1!$G$5),Sheet1!$A$5,\"\"))","v":""},{"$f":"IF($L265=\"\",\"\",IF(AND($L265>=Sheet1!$F$6,'Pupil List'!$L265<Sheet1!$G$6),Sheet1!$A$6,\"\"))","v":""},{"$f":"IF($L265=\"\",\"\",IF(AND($L265>=Sheet1!$F$7,'Pupil List'!$L265<Sheet1!$G$7),Sheet1!$A$7,\"\"))","v":""},{"$f":"IF($L265=\"\",\"\",IF(AND($L265>=Sheet1!$F$8,'Pupil List'!$L265<Sheet1!$G$8),Sheet1!$A$8,\"\"))","v":""},{"$f":"IF($L265=\"\",\"\",IF(AND($L265>=Sheet1!$F$9,'Pupil List'!$L265<Sheet1!$G$9),Sheet1!$A$9,\"\"))","v":""},{"$f":"IF($L265=\"\",\"\",IF(AND($L265>=Sheet1!$F$10,'Pupil List'!$L265<Sheet1!$G$10),Sheet1!$A$10,\"\"))","v":""},{"$f":"IF($L265=\"\",\"\",IF(AND($L265>=Sheet1!$F$11,'Pupil List'!$L265<Sheet1!$G$11),Sheet1!$A$11,\"\"))","v":""},{"$f":"IF($L265=\"\",\"\",IF(AND($L265>=Sheet1!$F$12,'Pupil List'!$L265<Sheet1!$G$12),Sheet1!$A$12,\"\"))","v":""},{"$f":"IF($L265=\"\",\"\",IF(AND($L265>=Sheet1!$F$13,'Pupil List'!$L265<Sheet1!$G$13),Sheet1!$A$13,\"\"))","v":""},{"$f":"IF($L265=\"\",\"\",IF(AND($L265>=Sheet1!$F$14,'Pupil List'!$L265<Sheet1!$G$14),Sheet1!$A$14,\"\"))","v":""},{"$f":"IF($L265=\"\",\"\",IF(AND($L265>=Sheet1!$F$15,'Pupil List'!$L265<Sheet1!$G$15),Sheet1!$A$15,\"\"))","v":""},{"$f":"IF($L265=\"\",\"\",IF(AND($L265>=Sheet1!$F$16,'Pupil List'!$L265<Sheet1!$G$16),Sheet1!$A$16,\"\"))","v":""},{"$f":"IF($L265=\"\",\"\",IF(AND($L265>=Sheet1!$F$17,'Pupil List'!$L265<Sheet1!$G$17),Sheet1!$A$17,\"\"))","v":""},{"$f":"IF($L265=\"\",\"\",IF(AND($L265>=Sheet1!$F$18,'Pupil List'!$L265<Sheet1!$G$18),Sheet1!$A$18,\"\"))","v":""},{"$f":"IF($L265=\"\",\"\",IF(AND($L265>=Sheet1!$F$19,'Pupil List'!$L265<Sheet1!$G$19),Sheet1!$A$19,\"\"))","v":""},{"$f":"IF($L265=\"\",\"\",IF(AND($L265>=Sheet1!$F$20,'Pupil List'!$L265<Sheet1!$G$20),Sheet1!$A$20,\"\"))","v":""},{"$f":"IF($L265=\"\",\"\",IF(AND($L265>=Sheet1!$F$21,'Pupil List'!$L265<Sheet1!$G$21),Sheet1!$A$21,\"\"))","v":""},{"$f":"IF($L265=\"\",\"\",IF(AND($L265>=Sheet1!$F$22,'Pupil List'!$L265<Sheet1!$G$22),Sheet1!$A$22,\"\"))","v":""},{"$f":"IF($L265=\"\",\"\",IF(AND($L265>=Sheet1!$F$23,'Pupil List'!$L265<Sheet1!$G$23),Sheet1!$A$23,\"\"))","v":""},{"$f":"IF($L265=\"\",\"\",IF(AND($L265>=Sheet1!$F$24,'Pupil List'!$L265<Sheet1!$G$24),Sheet1!$A$24,\"\"))","v":""},{"$f":"IF($L265=\"\",\"\",IF(AND($L265>=Sheet1!$F$25,'Pupil List'!$L265<Sheet1!$G$25),Sheet1!$A$25,\"\"))","v":""},{"$error":"#N/A"},{"$f":"IFERROR(VLOOKUP(BK265,Sheet1!$A$2:$E$25,3,FALSE),\"\")","v":""},{"$f":"IFERROR(VLOOKUP(BK265,Sheet1!$A$2:$E$25,4,FALSE),\"\")","v":""},{"$f":"IFERROR(VLOOKUP(BK265,Sheet1!$A$2:$E$25,5,FALSE),\"\")","v":""},{"$f":"IFERROR(VLOOKUP(N265,Sheet1!$A$29:$B$38,2,FALSE),\"\")","v":""}]
["","","",null,null,null,null,null,"","","",null,"",null,"","","","","","","","","","","","","","","","","","","","","","","","",{"$f":"IF($L266=\"\",\"\",IF(AND($L266>=Sheet1!$F$2,'Pupil List'!$L266<Sheet1!$G$2),Sheet1!$A$2,\"\"))","v":""},{"$f":"IF($L266=\"\",\"\",IF(AND($L266>=Sheet1!$F$3,'Pupil List'!$L266<Sheet1!$G$3),Sheet1!$A$3,\"\"))","v":""},{"$f":"IF($L266=\"\",\"\",IF(AND($L266>=Sheet1!$F$4,'Pupil List'!$L266<Sheet1!$G$4),Sheet1!$A$4,\"\"))","v":""},{"$f":"IF($L266=\"\",\"\",IF(AND($L266>=Sheet1!$F$5,'Pupil List'!$L266<Sheet1!$G$5),Sheet1!$A$5,\"\"))","v":""},{"$f":"IF($L266=\"\",\"\",IF(AND($L266>=Sheet1!$F$6,'Pupil List'!$L266<Sheet1!$G$6),Sheet1!$A$6,\"\"))","v":""},{"$f":"IF($L266=\"\",\"\",IF(AND($L266>=Sheet1!$F$7,'Pupil List'!$L266<Sheet1!$G$7),Sheet1!$A$7,\"\"))","v":""},{"$f":"IF($L266=\"\",\"\",IF(AND($L266>=Sheet1!$F$8,'Pupil List'!$L266<Sheet1!$G$8),Sheet1!$A$8,\"\"))","v":""},{"$f":"IF($L266=\"\",\"\",IF(AND($L266>=Sheet1!$F$9,'Pupil List'!$L266<Sheet1!$G$9),Sheet1!$A$9,\"\"))","v":""},{"$f":"IF($L266=\"\",\"\",IF(AND($L266>=Sheet1!$F$10,'Pupil List'!$L266<Sheet1!$G$10),Sheet1!$A$10,\"\"))","v":""},{"$f":"IF($L266=\"\",\"\",IF(AND($L266>=Sheet1!$F$11,'Pupil List'!$L266<Sheet1!$G$11),Sheet1!$A$11,\"\"))","v":""},{"$f":"IF($L266=\"\",\"\",IF(AND($L266>=Sheet1!$F$12,'Pupil List'!$L266<Sheet1!$G$12),Sheet1!$A$12,\"\"))","v":""},{"$f":"IF($L266=\"\",\"\",IF(AND($L266>=Sheet1!$F$13,'Pupil List'!$L266<Sheet1!$G$13),Sheet1!$A$13,\"\"))","v":""},{"$f":"IF($L266=\"\",\"\",IF(AND($L266>=Sheet1!$F$14,'Pupil List'!$L266<Sheet1!$G$14),Sheet1!$A$14,\"\"))","v":""},{"$f":"IF($L266=\"\",\"\",IF(AND($L266>=Sheet1!$F$15,'Pupil List'!$L266<Sheet1!$G$15),Sheet1!$A$15,\"\"))","v":""},{"$f":"IF($L266=\"\",\"\",IF(AND($L266>=Sheet1!$F$16,'Pupil List'!$L266<Sheet1!$G$16),Sheet1!$A$16,\"\"))","v":""},{"$f":"IF($L266=\"\",\"\",IF(AND($L266>=Sheet1!$F$17,'Pupil List'!$L266<Sheet1!$G$17),Sheet1!$A$17,\"\"))","v":""},{"$f":"IF($L266=\"\",\"\",IF(AND($L266>=Sheet1!$F$18,'Pupil List'!$L266<Sheet1!$G$18),Sheet1!$A$18,\"\"))","v":""},{"$f":"IF($L266=\"\",\"\",IF(AND($L266>=Sheet1!$F$19,'Pupil List'!$L266<Sheet1!$G$19),Sheet1!$A$19,\"\"))","v":""},{"$f":"IF($L266=\"\",\"\",IF(AND($L266>=Sheet1!$F$20,'Pupil List'!$L266<Sheet1!$G$20),Sheet1!$A$20,\"\"))","v":""},{"$f":"IF($L266=\"\",\"\",IF(AND($L266>=Sheet1!$F$21,'Pupil List'!$L266<Sheet1!$G$21),Sheet1!$A$21,\"\"))","v":""},{"$f":"IF($L266=\"\",\"\",IF(AND($L266>=Sheet1!$F$22,'Pupil List'!$L266<Sheet1!$G$22),Sheet1!$A$22,\"\"))","v":""},{"$f":"IF($L266=\"\",\"\",IF(AND($L266>=Sheet1!$F$23,'Pupil List'!$L266<Sheet1!$G$23),Sheet1!$A$23,\"\"))","v":""},{"$f":"IF($L266=\"\",\"\",IF(AND($L266>=Sheet1!$F$24,'Pupil List'!$L266<Sheet1!$G$24),Sheet1!$A$24,\"\"))","v":""},{"$f":"IF($L266=\"\",\"\",IF(AND($L266>=Sheet1!$F$25,'Pupil List'!$L266<Sheet1!$G$25),Sheet1!$A$25,\"\"))","v":""},{"$error":"#N/A"},{"$f":"IFERROR(VLOOKUP(BK266,Sheet1!$A$2:$E$25,3,FALSE),\"\")","v":""},{"$f":"IFERROR(VLOOKUP(BK266,Sheet1!$A$2:$E$25,4,FALSE),\"\")","v":""},{"$f":"IFERROR(VLOOKUP(BK266,Sheet1!$A$2:$E$25,5,FALSE),\"\")","v":""},{"$f":"IFERROR(VLOOKUP(N266,Sheet1!$A$29:$B$38,2,FALSE),\"\")","v":""}]
["","","",null,null,null,null,null,"","","",null,"",null,"","","","","","","","","","","","","","","","","","","","","","","","",{"$f":"IF($L267=\"\",\"\",IF(AND($L267>=Sheet1!$F$2,'Pupil List'!$L267<Sheet1!$G$2),Sheet1!$A$2,\"\"))","v":""},{"$f":"IF($L267=\"\",\"\",IF(AND($L267>=Sheet1!$F$3,'Pupil List'!$L267<Sheet1!$G$3),Sheet1!$A$3,\"\"))","v":""},{"$f":"IF($L267=\"\",\"\",IF(AND($L267>=Sheet1!$F$4,'Pupil List'!$L267<Sheet1!$G$4),Sheet1!$A$4,\"\"))","v":""},{"$f":"IF($L267=\"\",\"\",IF(AND($L267>=Sheet1!$F$5,'Pupil List'!$L267<Sheet1!$G$5),Sheet1!$A$5,\"\"))","v":""},{"$f":"IF($L267=\"\",\"\",IF(AND($L267>=Sheet1!$F$6,'Pupil List'!$L267<Sheet1!$G$6),Sheet1!$A$6,\"\"))","v":""},{"$f":"IF($L267=\"\",\"\",IF(AND($L267>=Sheet1!$F$7,'Pupil List'!$L267<Sheet1!$G$7),Sheet1!$A$7,\"\"))","v":""},{"$f":"IF($L267=\"\",\"\",IF(AND($L267>=Sheet1!$F$8,'Pupil List'!$L267<Sheet1!$G$8),Sheet1!$A$8,\"\"))","v":""},{"$f":"IF($L267=\"\",\"\",IF(AND($L267>=Sheet1!$F$9,'Pupil List'!$L267<Sheet1!$G$9),Sheet1!$A$9,\"\"))","v":""},{"$f":"IF($L267=\"\",\"\",IF(AND($L267>=Sheet1!$F$10,'Pupil List'!$L267<Sheet1!$G$10),Sheet1!$A$10,\"\"))","v":""},{"$f":"IF($L267=\"\",\"\",IF(AND($L267>=Sheet1!$F$11,'Pupil List'!$L267<Sheet1!$G$11),Sheet1!$A$11,\"\"))","v":""},{"$f":"IF($L267=\"\",\"\",IF(AND($L267>=Sheet1!$F$12,'Pupil List'!$L267<Sheet1!$G$12),Sheet1!$A$12,\"\"))","v":""},{"$f":"IF($L267=\"\",\"\",IF(AND($L267>=Sheet1!$F$13,'Pupil List'!$L267<Sheet1!$G$13),Sheet1!$A$13,\"\"))","v":""},{"$f":"IF($L267=\"\",\"\",IF(AND($L267>=Sheet1!$F$14,'Pupil List'!$L267<Sheet1!$G$14),Sheet1!$A$14,\"\"))","v":""},{"$f":"IF($L267=\"\",\"\",IF(AND($L267>=Sheet1!$F$15,'Pupil List'!$L267<Sheet1!$G$15),Sheet1!$A$15,\"\"))","v":""},{"$f":"IF($L267=\"\",\"\",IF(AND($L267>=Sheet1!$F$16,'Pupil List'!$L267<Sheet1!$G$16),Sheet1!$A$16,\"\"))","v":""},{"$f":"IF($L267=\"\",\"\",IF(AND($L267>=Sheet1!$F$17,'Pupil List'!$L267<Sheet1!$G$17),Sheet1!$A$17,\"\"))","v":""},{"$f":"IF($L267=\"\",\"\",IF(AND($L267>=Sheet1!$F$18,'Pupil List'!$L267<Sheet1!$G$18),Sheet1!$A$18,\"\"))","v":""},{"$f":"IF($L267=\"\",\"\",IF(AND($L267>=Sheet1!$F$19,'Pupil List'!$L267<Sheet1!$G$19),Sheet1!$A$19,\"\"))","v":""},{"$f":"IF($L267=\"\",\"\",IF(AND($L267>=Sheet1!$F$20,'Pupil List'!$L267<Sheet1!$G$20),Sheet1!$A$20,\"\"))","v":""},{"$f":"IF($L267=\"\",\"\",IF(AND($L267>=Sheet1!$F$21,'Pupil List'!$L267<Sheet1!$G$21),Sheet1!$A$21,\"\"))","v":""},{"$f":"IF($L267=\"\",\"\",IF(AND($L267>=Sheet1!$F$22,'Pupil List'!$L267<Sheet1!$G$22),Sheet1!$A$22,\"\"))","v":""},{"$f":"IF($L267=\"\",\"\",IF(AND($L267>=Sheet1!$F$23,'Pupil List'!$L267<Sheet1!$G$23),Sheet1!$A$23,\"\"))","v":""},{"$f":"IF($L267=\"\",\"\",IF(AND($L267>=Sheet1!$F$24,'Pupil List'!$L267<Sheet1!$G$24),Sheet1!$A$24,\"\"))","v":""},{"$f":"IF($L267=\"\",\"\",IF(AND($L267>=Sheet1!$F$25,'Pupil List'!$L267<Sheet1!$G$25),Sheet1!$A$25,\"\"))","v":""},{"$error":"#N/A"},{"$f":"IFERROR(VLOOKUP(BK267,Sheet1!$A$2:$E$25,3,FALSE),\"\")","v":""},{"$f":"IFERROR(VLOOKUP(BK267,Sheet1!$A$2:$E$25,4,FALSE),\"\")","v":""},{"$f":"IFERROR(VLOOKUP(BK267,Sheet1!$A$2:$E$25,5,FALSE),\"\")","v":""},{"$f":"IFERROR(VLOOKUP(N267,Sheet1!$A$29:$B$38,2,FALSE),\"\")","v":""}]
["","","",null,null,null,null,null,"","","",null,"",null,"","","","","","","","","","","","","","","","","","","","","","","","",{"$f":"IF($L268=\"\",\"\",IF(AND($L268>=Sheet1!$F$2,'Pupil List'!$L268<Sheet1!$G$2),Sheet1!$A$2,\"\"))","v":""},{"$f":"IF($L268=\"\",\"\",IF(AND($L268>=Sheet1!$F$3,'Pupil List'!$L268<Sheet1!$G$3),Sheet1!$A$3,\"\"))","v":""},{"$f":"IF($L268=\"\",\"\",IF(AND($L268>=Sheet1!$F$4,'Pupil List'!$L268<Sheet1!$G$4),Sheet1!$A$4,\"\"))","v":""},{"$f":"IF($L268=\"\",\"\",IF(AND($L268>=Sheet1!$F$5,'Pupil List'!$L268<Sheet1!$G$5),Sheet1!$A$5,\"\"))","v":""},{"$f":"IF($L268=\"\",\"\",IF(AND($L268>=Sheet1!$F$6,'Pupil List'!$L268<Sheet1!$G$6),Sheet1!$A$6,\"\"))","v":""},{"$f":"IF($L268=\"\",\"\",IF(AND($L268>=Sheet1!$F$7,'Pupil List'!$L268<Sheet1!$G$7),Sheet1!$A$7,\"\"))","v":""},{"$f":"IF($L268=\"\",\"\",IF(AND($L268>=Sheet1!$F$8,'Pupil List'!$L268<Sheet1!$G$8),Sheet1!$A$8,\"\"))","v":""},{"$f":"IF($L268=\"\",\"\",IF(AND($L268>=Sheet1!$F$9,'Pupil List'!$L268<Sheet1!$G$9),Sheet1!$A$9,\"\"))","v":""},{"$f":"IF($L268=\"\",\"\",IF(AND($L268>=Sheet1!$F$10,'Pupil List'!$L268<Sheet1!$G$10),Sheet1!$A$10,\"\"))","v":""},{"$f":"IF($L268=\"\",\"\",IF(AND($L268>=Sheet1!$F$11,'Pupil List'!$L268<Sheet1!$G$11),Sheet1!$A$11,\"\"))","v":""},{"$f":"IF($L268=\"\",\"\",IF(AND($L268>=Sheet1!$F$12,'Pupil List'!$L268<Sheet1!$G$12),Sheet1!$A$12,\"\"))","v":""},{"$f":"IF($L268=\"\",\"\",IF(AND($L268>=Sheet1!$F$13,'Pupil List'!$L268<Sheet1!$G$13),Sheet1!$A$13,\"\"))","v":""},{"$f":"IF($L268=\"\",\"\",IF(AND($L268>=Sheet1!$F$14,'Pupil List'!$L268<Sheet1!$G$14),Sheet1!$A$14,\"\"))","v":""},{"$f":"IF($L268=\"\",\"\",IF(AND($L268>=Sheet1!$F$15,'Pupil List'!$L268<Sheet1!$G$15),Sheet1!$A$15,\"\"))","v":""},{"$f":"IF($L268=\"\",\"\",IF(AND($L268>=Sheet1!$F$16,'Pupil List'!$L268<Sheet1!$G$16),Sheet1!$A$16,\"\"))","v":""},{"$f":"IF($L268=\"\",\"\",IF(AND($L268>=Sheet1!$F$17,'Pupil List'!$L268<Sheet1!$G$17),Sheet1!$A$17,\"\"))","v":""},{"$f":"IF($L268=\"\",\"\",IF(AND($L268>=Sheet1!$F$18,'Pupil List'!$L268<Sheet1!$G$18),Sheet1!$A$18,\"\"))","v":""},{"$f":"IF($L268=\"\",\"\",IF(AND($L268>=Sheet1!$F$19,'Pupil List'!$L268<Sheet1!$G$19),Sheet1!$A$19,\"\"))","v":""},{"$f":"IF($L268=\"\",\"\",IF(AND($L268>=Sheet1!$F$20,'Pupil List'!$L268<Sheet1!$G$20),Sheet1!$A$20,\"\"))","v":""},{"$f":"IF($L268=\"\",\"\",IF(AND($L268>=Sheet1!$F$21,'Pupil List'!$L268<Sheet1!$G$21),Sheet1!$A$21,\"\"))","v":""},{"$f":"IF($L268=\"\",\"\",IF(AND($L268>=Sheet1!$F$22,'Pupil List'!$L268<Sheet1!$G$22),Sheet1!$A$22,\"\"))","v":""},{"$f":"IF($L268=\"\",\"\",IF(AND($L268>=Sheet1!$F$23,'Pupil List'!$L268<Sheet1!$G$23),Sheet1!$A$23,\"\"))","v":""},{"$f":"IF($L268=\"\",\"\",IF(AND($L268>=Sheet1!$F$24,'Pupil List'!$L268<Sheet1!$G$24),Sheet1!$A$24,\"\"))","v":""},{"$f":"IF($L268=\"\",\"\",IF(AND($L268>=Sheet1!$F$25,'Pupil List'!$L268<Sheet1!$G$25),Sheet1!$A$25,\"\"))","v":""},{"$error":"#N/A"},{"$f":"IFERROR(VLOOKUP(BK268,Sheet1!$A$2:$E$25,3,FALSE),\"\")","v":""},{"$f":"IFERROR(VLOOKUP(BK268,Sheet1!$A$2:$E$25,4,FALSE),\"\")","v":""},{"$f":"IFERROR(VLOOKUP(BK268,Sheet1!$A$2:$E$25,5,FALSE),\"\")","v":""},{"$f":"IFERROR(VLOOKUP(N268,Sheet1!$A$29:$B$38,2,FALSE),\"\")","v":""}]
["","","",null,null,null,null,null,"","","",null,"",null,"","","","","","","","","","","","","","","","","","","","","","","","",{"$f":"IF($L269=\"\",\"\",IF(AND($L269>=Sheet1!$F$2,'Pupil List'!$L269<Sheet1!$G$2),Sheet1!$A$2,\"\"))","v":""},{"$f":"IF($L269=\"\",\"\",IF(AND($L269>=Sheet1!$F$3,'Pupil List'!$L269<Sheet1!$G$3),Sheet1!$A$3,\"\"))","v":""},{"$f":"IF($L269=\"\",\"\",IF(AND($L269>=Sheet1!$F$4,'Pupil List'!$L269<Sheet1!$G$4),Sheet1!$A$4,\"\"))","v":""},{"$f":"IF($L269=\"\",\"\",IF(AND($L269>=Sheet1!$F$5,'Pupil List'!$L269<Sheet1!$G$5),Sheet1!$A$5,\"\"))","v":""},{"$f":"IF($L269=\"\",\"\",IF(AND($L269>=Sheet1!$F$6,'Pupil List'!$L269<Sheet1!$G$6),Sheet1!$A$6,\"\"))","v":""},{"$f":"IF($L269=\"\",\"\",IF(AND($L269>=Sheet1!$F$7,'Pupil List'!$L269<Sheet1!$G$7),Sheet1!$A$7,\"\"))","v":""},{"$f":"IF($L269=\"\",\"\",IF(AND($L269>=Sheet1!$F$8,'Pupil List'!$L269<Sheet1!$G$8),Sheet1!$A$8,\"\"))","v":""},{"$f":"IF($L269=\"\",\"\",IF(AND($L269>=Sheet1!$F$9,'Pupil List'!$L269<Sheet1!$G$9),Sheet1!$A$9,\"\"))","v":""},{"$f":"IF($L269=\"\",\"\",IF(AND($L269>=Sheet1!$F$10,'Pupil List'!$L269<Sheet1!$G$10),Sheet1!$A$10,\"\"))","v":""},{"$f":"IF($L269=\"\",\"\",IF(AND($L269>=Sheet1!$F$11,'Pupil List'!$L269<Sheet1!$G$11),Sheet1!$A$11,\"\"))","v":""},{"$f":"IF($L269=\"\",\"\",IF(AND($L269>=Sheet1!$F$12,'Pupil List'!$L269<Sheet1!$G$12),Sheet1!$A$12,\"\"))","v":""},{"$f":"IF($L269=\"\",\"\",IF(AND($L269>=Sheet1!$F$13,'Pupil List'!$L269<Sheet1!$G$13),Sheet1!$A$13,\"\"))","v":""},{"$f":"IF($L269=\"\",\"\",IF(AND($L269>=Sheet1!$F$14,'Pupil List'!$L269<Sheet1!$G$14),Sheet1!$A$14,\"\"))","v":""},{"$f":"IF($L269=\"\",\"\",IF(AND($L269>=Sheet1!$F$15,'Pupil List'!$L269<Sheet1!$G$15),Sheet1!$A$15,\"\"))","v":""},{"$f":"IF($L269=\"\",\"\",IF(AND($L269>=Sheet1!$F$16,'Pupil List'!$L269<Sheet1!$G$16),Sheet1!$A$16,\"\"))","v":""},{"$f":"IF($L269=\"\",\"\",IF(AND($L269>=Sheet1!$F$17,'Pupil List'!$L269<Sheet1!$G$17),Sheet1!$A$17,\"\"))","v":""},{"$f":"IF($L269=\"\",\"\",IF(AND($L269>=Sheet1!$F$18,'Pupil List'!$L269<Sheet1!$G$18),Sheet1!$A$18,\"\"))","v":""},{"$f":"IF($L269=\"\",\"\",IF(AND($L269>=Sheet1!$F$19,'Pupil List'!$L269<Sheet1!$G$19),Sheet1!$A$19,\"\"))","v":""},{"$f":"IF($L269=\"\",\"\",IF(AND($L269>=Sheet1!$F$20,'Pupil List'!$L269<Sheet1!$G$20),Sheet1!$A$20,\"\"))","v":""},{"$f":"IF($L269=\"\",\"\",IF(AND($L269>=Sheet1!$F$21,'Pupil List'!$L269<Sheet1!$G$21),Sheet1!$A$21,\"\"))","v":""},{"$f":"IF($L269=\"\",\"\",IF(AND($L269>=Sheet1!$F$22,'Pupil List'!$L269<Sheet1!$G$22),Sheet1!$A$22,\"\"))","v":""},{"$f":"IF($L269=\"\",\"\",IF(AND($L269>=Sheet1!$F$23,'Pupil List'!$L269<Sheet1!$G$23),Sheet1!$A$23,\"\"))","v":""},{"$f":"IF($L269=\"\",\"\",IF(AND($L269>=Sheet1!$F$24,'Pupil List'!$L269<Sheet1!$G$24),Sheet1!$A$24,\"\"))","v":""},{"$f":"IF($L269=\"\",\"\",IF(AND($L269>=Sheet1!$F$25,'Pupil List'!$L269<Sheet1!$G$25),Sheet1!$A$25,\"\"))","v":""},{"$error":"#N/A"},{"$f":"IFERROR(VLOOKUP(BK269,Sheet1!$A$2:$E$25,3,FALSE),\"\")","v":""},{"$f":"IFERROR(VLOOKUP(BK269,Sheet1!$A$2:$E$25,4,FALSE),\"\")","v":""},{"$f":"IFERROR(VLOOKUP(BK269,Sheet1!$A$2:$E$25,5,FALSE),\"\")","v":""},{"$f":"IFERROR(VLOOKUP(N269,Sheet1!$A$29:$B$38,2,FALSE),\"\")","v":""}]
["","","",null,null,null,null,null,"","","",null,"",null,"","","","","","","","","","","","","","","","","","","","","","","","",{"$f":"IF($L270=\"\",\"\",IF(AND($L270>=Sheet1!$F$2,'Pupil List'!$L270<Sheet1!$G$2),Sheet1!$A$2,\"\"))","v":""},{"$f":"IF($L270=\"\",\"\",IF(AND($L270>=Sheet1!$F$3,'Pupil List'!$L270<Sheet1!$G$3),Sheet1!$A$3,\"\"))","v":""},{"$f":"IF($L270=\"\",\"\",IF(AND($L270>=Sheet1!$F$4,'Pupil List'!$L270<Sheet1!$G$4),Sheet1!$A$4,\"\"))","v":""},{"$f":"IF($L270=\"\",\"\",IF(AND($L270>=Sheet1!$F$5,'Pupil List'!$L270<Sheet1!$G$5),Sheet1!$A$5,\"\"))","v":""},{"$f":"IF($L270=\"\",\"\",IF(AND($L270>=Sheet1!$F$6,'Pupil List'!$L270<Sheet1!$G$6),Sheet1!$A$6,\"\"))","v":""},{"$f":"IF($L270=\"\",\"\",IF(AND($L270>=Sheet1!$F$7,'Pupil List'!$L270<Sheet1!$G$7),Sheet1!$A$7,\"\"))","v":""},{"$f":"IF($L270=\"\",\"\",IF(AND($L270>=Sheet1!$F$8,'Pupil List'!$L270<Sheet1!$G$8),Sheet1!$A$8,\"\"))","v":""},{"$f":"IF($L270=\"\",\"\",IF(AND($L270>=Sheet1!$F$9,'Pupil List'!$L270<Sheet1!$G$9),Sheet1!$A$9,\"\"))","v":""},{"$f":"IF($L270=\"\",\"\",IF(AND($L270>=Sheet1!$F$10,'Pupil List'!$L270<Sheet1!$G$10),Sheet1!$A$10,\"\"))","v":""},{"$f":"IF($L270=\"\",\"\",IF(AND($L270>=Sheet1!$F$11,'Pupil List'!$L270<Sheet1!$G$11),Sheet1!$A$11,\"\"))","v":""},{"$f":"IF($L270=\"\",\"\",IF(AND($L270>=Sheet1!$F$12,'Pupil List'!$L270<Sheet1!$G$12),Sheet1!$A$12,\"\"))","v":""},{"$f":"IF($L270=\"\",\"\",IF(AND($L270>=Sheet1!$F$13,'Pupil List'!$L270<Sheet1!$G$13),Sheet1!$A$13,\"\"))","v":""},{"$f":"IF($L270=\"\",\"\",IF(AND($L270>=Sheet1!$F$14,'Pupil List'!$L270<Sheet1!$G$14),Sheet1!$A$14,\"\"))","v":""},{"$f":"IF($L270=\"\",\"\",IF(AND($L270>=Sheet1!$F$15,'Pupil List'!$L270<Sheet1!$G$15),Sheet1!$A$15,\"\"))","v":""},{"$f":"IF($L270=\"\",\"\",IF(AND($L270>=Sheet1!$F$16,'Pupil List'!$L270<Sheet1!$G$16),Sheet1!$A$16,\"\"))","v":""},{"$f":"IF($L270=\"\",\"\",IF(AND($L270>=Sheet1!$F$17,'Pupil List'!$L270<Sheet1!$G$17),Sheet1!$A$17,\"\"))","v":""},{"$f":"IF($L270=\"\",\"\",IF(AND($L270>=Sheet1!$F$18,'Pupil List'!$L270<Sheet1!$G$18),Sheet1!$A$18,\"\"))","v":""},{"$f":"IF($L270=\"\",\"\",IF(AND($L270>=Sheet1!$F$19,'Pupil List'!$L270<Sheet1!$G$19),Sheet1!$A$19,\"\"))","v":""},{"$f":"IF($L270=\"\",\"\",IF(AND($L270>=Sheet1!$F$20,'Pupil List'!$L270<Sheet1!$G$20),Sheet1!$A$20,\"\"))","v":""},{"$f":"IF($L270=\"\",\"\",IF(AND($L270>=Sheet1!$F$21,'Pupil List'!$L270<Sheet1!$G$21),Sheet1!$A$21,\"\"))","v":""},{"$f":"IF($L270=\"\",\"\",IF(AND($L270>=Sheet1!$F$22,'Pupil List'!$L270<Sheet1!$G$22),Sheet1!$A$22,\"\"))","v":""},{"$f":"IF($L270=\"\",\"\",IF(AND($L270>=Sheet1!$F$23,'Pupil List'!$L270<Sheet1!$G$23),Sheet1!$A$23,\"\"))","v":""},{"$f":"IF($L270=\"\",\"\",IF(AND($L270>=Sheet1!$F$24,'Pupil List'!$L270<Sheet1!$G$24),Sheet1!$A$24,\"\"))","v":""},{"$f":"IF($L270=\"\",\"\",IF(AND($L270>=Sheet1!$F$25,'Pupil List'!$L270<Sheet1!$G$25),Sheet1!$A$25,\"\"))","v":""},{"$error":"#N/A"},{"$f":"IFERROR(VLOOKUP(BK270,Sheet1!$A$2:$E$25,3,FALSE),\"\")","v":""},{"$f":"IFERROR(VLOOKUP(BK270,Sheet1!$A$2:$E$25,4,FALSE),\"\")","v":""},{"$f":"IFERROR(VLOOKUP(BK270,Sheet1!$A$2:$E$25,5,FALSE),\"\")","v":""},{"$f":"IFERROR(VLOOKUP(N270,Sheet1!$A$29:$B$38,2,FALSE),\"\")","v":""}]
["","","",null,null,null,null,null,"","","",null,"",null,"","","","","","","","","","","","","","","","","","","","","","","","",{"$f":"IF($L271=\"\",\"\",IF(AND($L271>=Sheet1!$F$2,'Pupil List'!$L271<Sheet1!$G$2),Sheet1!$A$2,\"\"))","v":""},{"$f":"IF($L271=\"\",\"\",IF(AND($L271>=Sheet1!$F$3,'Pupil List'!$L271<Sheet1!$G$3),Sheet1!$A$3,\"\"))","v":""},{"$f":"IF($L271=\"\",\"\",IF(AND($L271>=Sheet1!$F$4,'Pupil List'!$L271<Sheet1!$G$4),Sheet1!$A$4,\"\"))","v":""},{"$f":"IF($L271=\"\",\"\",IF(AND($L271>=Sheet1!$F$5,'Pupil List'!$L271<Sheet1!$G$5),Sheet1!$A$5,\"\"))","v":""},{"$f":"IF($L271=\"\",\"\",IF(AND($L271>=Sheet1!$F$6,'Pupil List'!$L271<Sheet1!$G$6),Sheet1!$A$6,\"\"))","v":""},{"$f":"IF($L271=\"\",\"\",IF(AND($L271>=Sheet1!$F$7,'Pupil List'!$L271<Sheet1!$G$7),Sheet1!$A$7,\"\"))","v":""},{"$f":"IF($L271=\"\",\"\",IF(AND($L271>=Sheet1!$F$8,'Pupil List'!$L271<Sheet1!$G$8),Sheet1!$A$8,\"\"))","v":""},{"$f":"IF($L271=\"\",\"\",IF(AND($L271>=Sheet1!$F$9,'Pupil List'!$L271<Sheet1!$G$9),Sheet1!$A$9,\"\"))","v":""},{"$f":"IF($L271=\"\",\"\",IF(AND($L271>=Sheet1!$F$10,'Pupil List'!$L271<Sheet1!$G$10),Sheet1!$A$10,\"\"))","v":""},{"$f":"IF($L271=\"\",\"\",IF(AND($L271>=Sheet1!$F$11,'Pupil List'!$L271<Sheet1!$G$11),Sheet1!$A$11,\"\"))","v":""},{"$f":"IF($L271=\"\",\"\",IF(AND($L271>=Sheet1!$F$12,'Pupil List'!$L271<Sheet1!$G$12),Sheet1!$A$12,\"\"))","v":""},{"$f":"IF($L271=\"\",\"\",IF(AND($L271>=Sheet1!$F$13,'Pupil List'!$L271<Sheet1!$G$13),Sheet1!$A$13,\"\"))","v":""},{"$f":"IF($L271=\"\",\"\",IF(AND($L271>=Sheet1!$F$14,'Pupil List'!$L271<Sheet1!$G$14),Sheet1!$A$14,\"\"))","v":""},{"$f":"IF($L271=\"\",\"\",IF(AND($L271>=Sheet1!$F$15,'Pupil List'!$L271<Sheet1!$G$15),Sheet1!$A$15,\"\"))","v":""},{"$f":"IF($L271=\"\",\"\",IF(AND($L271>=Sheet1!$F$16,'Pupil List'!$L271<Sheet1!$G$16),Sheet1!$A$16,\"\"))","v":""},{"$f":"IF($L271=\"\",\"\",IF(AND($L271>=Sheet1!$F$17,'Pupil List'!$L271<Sheet1!$G$17),Sheet1!$A$17,\"\"))","v":""},{"$f":"IF($L271=\"\",\"\",IF(AND($L271>=Sheet1!$F$18,'Pupil List'!$L271<Sheet1!$G$18),Sheet1!$A$18,\"\"))","v":""},{"$f":"IF($L271=\"\",\"\",IF(AND($L271>=Sheet1!$F$19,'Pupil List'!$L271<Sheet1!$G$19),Sheet1!$A$19,\"\"))","v":""},{"$f":"IF($L271=\"\",\"\",IF(AND($L271>=Sheet1!$F$20,'Pupil List'!$L271<Sheet1!$G$20),Sheet1!$A$20,\"\"))","v":""},{"$f":"IF($L271=\"\",\"\",IF(AND($L271>=Sheet1!$F$21,'Pupil List'!$L271<Sheet1!$G$21),Sheet1!$A$21,\"\"))","v":""},{"$f":"IF($L271=\"\",\"\",IF(AND($L271>=Sheet1!$F$22,'Pupil List'!$L271<Sheet1!$G$22),Sheet1!$A$22,\"\"))","v":""},{"$f":"IF($L271=\"\",\"\",IF(AND($L271>=Sheet1!$F$23,'Pupil List'!$L271<Sheet1!$G$23),Sheet1!$A$23,\"\"))","v":""},{"$f":"IF($L271=\"\",\"\",IF(AND($L271>=Sheet1!$F$24,'Pupil List'!$L271<Sheet1!$G$24),Sheet1!$A$24,\"\"))","v":""},{"$f":"IF($L271=\"\",\"\",IF(AND($L271>=Sheet1!$F$25,'Pupil List'!$L271<Sheet1!$G$25),Sheet1!$A$25,\"\"))","v":""},{"$error":"#N/A"},{"$f":"IFERROR(VLOOKUP(BK271,Sheet1!$A$2:$E$25,3,FALSE),\"\")","v":""},{"$f":"IFERROR(VLOOKUP(BK271,Sheet1!$A$2:$E$25,4,FALSE),\"\")","v":""},{"$f":"IFERROR(VLOOKUP(BK271,Sheet1!$A$2:$E$25,5,FALSE),\"\")","v":""},{"$f":"IFERROR(VLOOKUP(N271,Sheet1!$A$29:$B$38,2,FALSE),\"\")","v":""}]
["","","",null,null,null,null,null,"","","",null,"",null,"","","","","","","","","","","","","","","","","","","","","","","","",{"$f":"IF($L272=\"\",\"\",IF(AND($L272>=Sheet1!$F$2,'Pupil List'!$L272<Sheet1!$G$2),Sheet1!$A$2,\"\"))","v":""},{"$f":"IF($L272=\"\",\"\",IF(AND($L272>=Sheet1!$F$3,'Pupil List'!$L272<Sheet1!$G$3),Sheet1!$A$3,\"\"))","v":""},{"$f":"IF($L272=\"\",\"\",IF(AND($L272>=Sheet1!$F$4,'Pupil List'!$L272<Sheet1!$G$4),Sheet1!$A$4,\"\"))","v":""},{"$f":"IF($L272=\"\",\"\",IF(AND($L272>=Sheet1!$F$5,'Pupil List'!$L272<Sheet1!$G$5),Sheet1!$A$5,\"\"))","v":""},{"$f":"IF($L272=\"\",\"\",IF(AND($L272>=Sheet1!$F$6,'Pupil List'!$L272<Sheet1!$G$6),Sheet1!$A$6,\"\"))","v":""},{"$f":"IF($L272=\"\",\"\",IF(AND($L272>=Sheet1!$F$7,'Pupil List'!$L272<Sheet1!$G$7),Sheet1!$A$7,\"\"))","v":""},{"$f":"IF($L272=\"\",\"\",IF(AND($L272>=Sheet1!$F$8,'Pupil List'!$L272<Sheet1!$G$8),Sheet1!$A$8,\"\"))","v":""},{"$f":"IF($L272=\"\",\"\",IF(AND($L272>=Sheet1!$F$9,'Pupil List'!$L272<Sheet1!$G$9),Sheet1!$A$9,\"\"))","v":""},{"$f":"IF($L272=\"\",\"\",IF(AND($L272>=Sheet1!$F$10,'Pupil List'!$L272<Sheet1!$G$10),Sheet1!$A$10,\"\"))","v":""},{"$f":"IF($L272=\"\",\"\",IF(AND($L272>=Sheet1!$F$11,'Pupil List'!$L272<Sheet1!$G$11),Sheet1!$A$11,\"\"))","v":""},{"$f":"IF($L272=\"\",\"\",IF(AND($L272>=Sheet1!$F$12,'Pupil List'!$L272<Sheet1!$G$12),Sheet1!$A$12,\"\"))","v":""},{"$f":"IF($L272=\"\",\"\",IF(AND($L272>=Sheet1!$F$13,'Pupil List'!$L272<Sheet1!$G$13),Sheet1!$A$13,\"\"))","v":""},{"$f":"IF($L272=\"\",\"\",IF(AND($L272>=Sheet1!$F$14,'Pupil List'!$L272<Sheet1!$G$14),Sheet1!$A$14,\"\"))","v":""},{"$f":"IF($L272=\"\",\"\",IF(AND($L272>=Sheet1!$F$15,'Pupil List'!$L272<Sheet1!$G$15),Sheet1!$A$15,\"\"))","v":""},{"$f":"IF($L272=\"\",\"\",IF(AND($L272>=Sheet1!$F$16,'Pupil List'!$L272<Sheet1!$G$16),Sheet1!$A$16,\"\"))","v":""},{"$f":"IF($L272=\"\",\"\",IF(AND($L272>=Sheet1!$F$17,'Pupil List'!$L272<Sheet1!$G$17),Sheet1!$A$17,\"\"))","v":""},{"$f":"IF($L272=\"\",\"\",IF(AND($L272>=Sheet1!$F$18,'Pupil List'!$L272<Sheet1!$G$18),Sheet1!$A$18,\"\"))","v":""},{"$f":"IF($L272=\"\",\"\",IF(AND($L272>=Sheet1!$F$19,'Pupil List'!$L272<Sheet1!$G$19),Sheet1!$A$19,\"\"))","v":""},{"$f":"IF($L272=\"\",\"\",IF(AND($L272>=Sheet1!$F$20,'Pupil List'!$L272<Sheet1!$G$20),Sheet1!$A$20,\"\"))","v":""},{"$f":"IF($L272=\"\",\"\",IF(AND($L272>=Sheet1!$F$21,'Pupil List'!$L272<Sheet1!$G$21),Sheet1!$A$21,\"\"))","v":""},{"$f":"IF($L272=\"\",\"\",IF(AND($L272>=Sheet1!$F$22,'Pupil List'!$L272<Sheet1!$G$22),Sheet1!$A$22,\"\"))","v":""},{"$f":"IF($L272=\"\",\"\",IF(AND($L272>=Sheet1!$F$23,'Pupil List'!$L272<Sheet1!$G$23),Sheet1!$A$23,\"\"))","v":""},{"$f":"IF($L272=\"\",\"\",IF(AND($L272>=Sheet1!$F$24,'Pupil List'!$L272<Sheet1!$G$24),Sheet1!$A$24,\"\"))","v":""},{"$f":"IF($L272=\"\",\"\",IF(AND($L272>=Sheet1!$F$25,'Pupil List'!$L272<Sheet1!$G$25),Sheet1!$A$25,\"\"))","v":""},{"$error":"#N/A"},{"$f":"IFERROR(VLOOKUP(BK272,Sheet1!$A$2:$E$25,3,FALSE),\"\")","v":""},{"$f":"IFERROR(VLOOKUP(BK272,Sheet1!$A$2:$E$25,4,FALSE),\"\")","v":""},{"$f":"IFERROR(VLOOKUP(BK272,Sheet1!$A$2:$E$25,5,FALSE),\"\")","v":""},{"$f":"IFERROR(VLOOKUP(N272,Sheet1!$A$29:$B$38,2,FALSE),\"\")","v":""}]
["","","",null,null,null,null,null,"","","",null,"",null,"","","","","","","","","","","","","","","","","","","","","","","","",{"$f":"IF($L273=\"\",\"\",IF(AND($L273>=Sheet1!$F$2,'Pupil List'!$L273<Sheet1!$G$2),Sheet1!$A$2,\"\"))","v":""},{"$f":"IF($L273=\"\",\"\",IF(AND($L273>=Sheet1!$F$3,'Pupil List'!$L273<Sheet1!$G$3),Sheet1!$A$3,\"\"))","v":""},{"$f":"IF($L273=\"\",\"\",IF(AND($L273>=Sheet1!$F$4,'Pupil List'!$L273<Sheet1!$G$4),Sheet1!$A$4,\"\"))","v":""},{"$f":"IF($L273=\"\",\"\",IF(AND($L273>=Sheet1!$F$5,'Pupil List'!$L273<Sheet1!$G$5),Sheet1!$A$5,\"\"))","v":""},{"$f":"IF($L273=\"\",\"\",IF(AND($L273>=Sheet1!$F$6,'Pupil List'!$L273<Sheet1!$G$6),Sheet1!$A$6,\"\"))","v":""},{"$f":"IF($L273=\"\",\"\",IF(AND($L273>=Sheet1!$F$7,'Pupil List'!$L273<Sheet1!$G$7),Sheet1!$A$7,\"\"))","v":""},{"$f":"IF($L273=\"\",\"\",IF(AND($L273>=Sheet1!$F$8,'Pupil List'!$L273<Sheet1!$G$8),Sheet1!$A$8,\"\"))","v":""},{"$f":"IF($L273=\"\",\"\",IF(AND($L273>=Sheet1!$F$9,'Pupil List'!$L273<Sheet1!$G$9),Sheet1!$A$9,\"\"))","v":""},{"$f":"IF($L273=\"\",\"\",IF(AND($L273>=Sheet1!$F$10,'Pupil List'!$L273<Sheet1!$G$10),Sheet1!$A$10,\"\"))","v":""},{"$f":"IF($L273=\"\",\"\",IF(AND($L273>=Sheet1!$F$11,'Pupil List'!$L273<Sheet1!$G$11),Sheet1!$A$11,\"\"))","v":""},{"$f":"IF($L273=\"\",\"\",IF(AND($L273>=Sheet1!$F$12,'Pupil List'!$L273<Sheet1!$G$12),Sheet1!$A$12,\"\"))","v":""},{"$f":"IF($L273=\"\",\"\",IF(AND($L273>=Sheet1!$F$13,'Pupil List'!$L273<Sheet1!$G$13),Sheet1!$A$13,\"\"))","v":""},{"$f":"IF($L273=\"\",\"\",IF(AND($L273>=Sheet1!$F$14,'Pupil List'!$L273<Sheet1!$G$14),Sheet1!$A$14,\"\"))","v":""},{"$f":"IF($L273=\"\",\"\",IF(AND($L273>=Sheet1!$F$15,'Pupil List'!$L273<Sheet1!$G$15),Sheet1!$A$15,\"\"))","v":""},{"$f":"IF($L273=\"\",\"\",IF(AND($L273>=Sheet1!$F$16,'Pupil List'!$L273<Sheet1!$G$16),Sheet1!$A$16,\"\"))","v":""},{"$f":"IF($L273=\"\",\"\",IF(AND($L273>=Sheet1!$F$17,'Pupil List'!$L273<Sheet1!$G$17),Sheet1!$A$17,\"\"))","v":""},{"$f":"IF($L273=\"\",\"\",IF(AND($L273>=Sheet1!$F$18,'Pupil List'!$L273<Sheet1!$G$18),Sheet1!$A$18,\"\"))","v":""},{"$f":"IF($L273=\"\",\"\",IF(AND($L273>=Sheet1!$F$19,'Pupil List'!$L273<Sheet1!$G$19),Sheet1!$A$19,\"\"))","v":""},{"$f":"IF($L273=\"\",\"\",IF(AND($L273>=Sheet1!$F$20,'Pupil List'!$L273<Sheet1!$G$20),Sheet1!$A$20,\"\"))","v":""},{"$f":"IF($L273=\"\",\"\",IF(AND($L273>=Sheet1!$F$21,'Pupil List'!$L273<Sheet1!$G$21),Sheet1!$A$21,\"\"))","v":""},{"$f":"IF($L273=\"\",\"\",IF(AND($L273>=Sheet1!$F$22,'Pupil List'!$L273<Sheet1!$G$22),Sheet1!$A$22,\"\"))","v":""},{"$f":"IF($L273=\"\",\"\",IF(AND($L273>=Sheet1!$F$23,'Pupil List'!$L273<Sheet1!$G$23),Sheet1!$A$23,\"\"))","v":""},{"$f":"IF($L273=\"\",\"\",IF(AND($L273>=Sheet1!$F$24,'Pupil List'!$L273<Sheet1!$G$24),Sheet1!$A$24,\"\"))","v":""},{"$f":"IF($L273=\"\",\"\",IF(AND($L273>=Sheet1!$F$25,'Pupil List'!$L273<Sheet1!$G$25),Sheet1!$A$25,\"\"))","v":""},{"$error":"#N/A"},{"$f":"IFERROR(VLOOKUP(BK273,Sheet1!$A$2:$E$25,3,FALSE),\"\")","v":""},{"$f":"IFERROR(VLOOKUP(BK273,Sheet1!$A$2:$E$25,4,FALSE),\"\")","v":""},{"$f":"IFERROR(VLOOKUP(BK273,Sheet1!$A$2:$E$25,5,FALSE),\"\")","v":""},{"$f":"IFERROR(VLOOKUP(N273,Sheet1!$A$29:$B$38,2,FALSE),\"\")","v":""}]
["","","",null,null,null,null,null,"","","",null,"",null,"","","","","","","","","","","","","","","","","","","","","","","","",{"$f":"IF($L274=\"\",\"\",IF(AND($L274>=Sheet1!$F$2,'Pupil List'!$L274<Sheet1!$G$2),Sheet1!$A$2,\"\"))","v":""},{"$f":"IF($L274=\"\",\"\",IF(AND($L274>=Sheet1!$F$3,'Pupil List'!$L274<Sheet1!$G$3),Sheet1!$A$3,\"\"))","v":""},{"$f":"IF($L274=\"\",\"\",IF(AND($L274>=Sheet1!$F$4,'Pupil List'!$L274<Sheet1!$G$4),Sheet1!$A$4,\"\"))","v":""},{"$f":"IF($L274=\"\",\"\",IF(AND($L274>=Sheet1!$F$5,'Pupil List'!$L274<Sheet1!$G$5),Sheet1!$A$5,\"\"))","v":""},{"$f":"IF($L274=\"\",\"\",IF(AND($L274>=Sheet1!$F$6,'Pupil List'!$L274<Sheet1!$G$6),Sheet1!$A$6,\"\"))","v":""},{"$f":"IF($L274=\"\",\"\",IF(AND($L274>=Sheet1!$F$7,'Pupil List'!$L274<Sheet1!$G$7),Sheet1!$A$7,\"\"))","v":""},{"$f":"IF($L274=\"\",\"\",IF(AND($L274>=Sheet1!$F$8,'Pupil List'!$L274<Sheet1!$G$8),Sheet1!$A$8,\"\"))","v":""},{"$f":"IF($L274=\"\",\"\",IF(AND($L274>=Sheet1!$F$9,'Pupil List'!$L274<Sheet1!$G$9),Sheet1!$A$9,\"\"))","v":""},{"$f":"IF($L274=\"\",\"\",IF(AND($L274>=Sheet1!$F$10,'Pupil List'!$L274<Sheet1!$G$10),Sheet1!$A$10,\"\"))","v":""},{"$f":"IF($L274=\"\",\"\",IF(AND($L274>=Sheet1!$F$11,'Pupil List'!$L274<Sheet1!$G$11),Sheet1!$A$11,\"\"))","v":""},{"$f":"IF($L274=\"\",\"\",IF(AND($L274>=Sheet1!$F$12,'Pupil List'!$L274<Sheet1!$G$12),Sheet1!$A$12,\"\"))","v":""},{"$f":"IF($L274=\"\",\"\",IF(AND($L274>=Sheet1!$F$13,'Pupil List'!$L274<Sheet1!$G$13),Sheet1!$A$13,\"\"))","v":""},{"$f":"IF($L274=\"\",\"\",IF(AND($L274>=Sheet1!$F$14,'Pupil List'!$L274<Sheet1!$G$14),Sheet1!$A$14,\"\"))","v":""},{"$f":"IF($L274=\"\",\"\",IF(AND($L274>=Sheet1!$F$15,'Pupil List'!$L274<Sheet1!$G$15),Sheet1!$A$15,\"\"))","v":""},{"$f":"IF($L274=\"\",\"\",IF(AND($L274>=Sheet1!$F$16,'Pupil List'!$L274<Sheet1!$G$16),Sheet1!$A$16,\"\"))","v":""},{"$f":"IF($L274=\"\",\"\",IF(AND($L274>=Sheet1!$F$17,'Pupil List'!$L274<Sheet1!$G$17),Sheet1!$A$17,\"\"))","v":""},{"$f":"IF($L274=\"\",\"\",IF(AND($L274>=Sheet1!$F$18,'Pupil List'!$L274<Sheet1!$G$18),Sheet1!$A$18,\"\"))","v":""},{"$f":"IF($L274=\"\",\"\",IF(AND($L274>=Sheet1!$F$19,'Pupil List'!$L274<Sheet1!$G$19),Sheet1!$A$19,\"\"))","v":""},{"$f":"IF($L274=\"\",\"\",IF(AND($L274>=Sheet1!$F$20,'Pupil List'!$L274<Sheet1!$G$20),Sheet1!$A$20,\"\"))","v":""},{"$f":"IF($L274=\"\",\"\",IF(AND($L274>=Sheet1!$F$21,'Pupil List'!$L274<Sheet1!$G$21),Sheet1!$A$21,\"\"))","v":""},{"$f":"IF($L274=\"\",\"\",IF(AND($L274>=Sheet1!$F$22,'Pupil List'!$L274<Sheet1!$G$22),Sheet1!$A$22,\"\"))","v":""},{"$f":"IF($L274=\"\",\"\",IF(AND($L274>=Sheet1!$F$23,'Pupil List'!$L274<Sheet1!$G$23),Sheet1!$A$23,\"\"))","v":""},{"$f":"IF($L274=\"\",\"\",IF(AND($L274>=Sheet1!$F$24,'Pupil List'!$L274<Sheet1!$G$24),Sheet1!$A$24,\"\"))","v":""},{"$f":"IF($L274=\"\",\"\",IF(AND($L274>=Sheet1!$F$25,'Pupil List'!$L274<Sheet1!$G$25),Sheet1!$A$25,\"\"))","v":""},{"$error":"#N/A"},{"$f":"IFERROR(VLOOKUP(BK274,Sheet1!$A$2:$E$25,3,FALSE),\"\")","v":""},{"$f":"IFERROR(VLOOKUP(BK274,Sheet1!$A$2:$E$25,4,FALSE),\"\")","v":""},{"$f":"IFERROR(VLOOKUP(BK274,Sheet1!$A$2:$E$25,5,FALSE),\"\")","v":""},{"$f":"IFERROR(VLOOKUP(N274,Sheet1!$A$29:$B$38,2,FALSE),\"\")","v":""}]
["","","",null,null,null,null,null,"","","",null,"",null,"","","","","","","","","","","","","","","","","","","","","","","","",{"$f":"IF($L275=\"\",\"\",IF(AND($L275>=Sheet1!$F$2,'Pupil List'!$L275<Sheet1!$G$2),Sheet1!$A$2,\"\"))","v":""},{"$f":"IF($L275=\"\",\"\",IF(AND($L275>=Sheet1!$F$3,'Pupil List'!$L275<Sheet1!$G$3),Sheet1!$A$3,\"\"))","v":""},{"$f":"IF($L275=\"\",\"\",IF(AND($L275>=Sheet1!$F$4,'Pupil List'!$L275<Sheet1!$G$4),Sheet1!$A$4,\"\"))","v":""},{"$f":"IF($L275=\"\",\"\",IF(AND($L275>=Sheet1!$F$5,'Pupil List'!$L275<Sheet1!$G$5),Sheet1!$A$5,\"\"))","v":""},{"$f":"IF($L275=\"\",\"\",IF(AND($L275>=Sheet1!$F$6,'Pupil List'!$L275<Sheet1!$G$6),Sheet1!$A$6,\"\"))","v":""},{"$f":"IF($L275=\"\",\"\",IF(AND($L275>=Sheet1!$F$7,'Pupil List'!$L275<Sheet1!$G$7),Sheet1!$A$7,\"\"))","v":""},{"$f":"IF($L275=\"\",\"\",IF(AND($L275>=Sheet1!$F$8,'Pupil List'!$L275<Sheet1!$G$8),Sheet1!$A$8,\"\"))","v":""},{"$f":"IF($L275=\"\",\"\",IF(AND($L275>=Sheet1!$F$9,'Pupil List'!$L275<Sheet1!$G$9),Sheet1!$A$9,\"\"))","v":""},{"$f":"IF($L275=\"\",\"\",IF(AND($L275>=Sheet1!$F$10,'Pupil List'!$L275<Sheet1!$G$10),Sheet1!$A$10,\"\"))","v":""},{"$f":"IF($L275=\"\",\"\",IF(AND($L275>=Sheet1!$F$11,'Pupil List'!$L275<Sheet1!$G$11),Sheet1!$A$11,\"\"))","v":""},{"$f":"IF($L275=\"\",\"\",IF(AND($L275>=Sheet1!$F$12,'Pupil List'!$L275<Sheet1!$G$12),Sheet1!$A$12,\"\"))","v":""},{"$f":"IF($L275=\"\",\"\",IF(AND($L275>=Sheet1!$F$13,'Pupil List'!$L275<Sheet1!$G$13),Sheet1!$A$13,\"\"))","v":""},{"$f":"IF($L275=\"\",\"\",IF(AND($L275>=Sheet1!$F$14,'Pupil List'!$L275<Sheet1!$G$14),Sheet1!$A$14,\"\"))","v":""},{"$f":"IF($L275=\"\",\"\",IF(AND($L275>=Sheet1!$F$15,'Pupil List'!$L275<Sheet1!$G$15),Sheet1!$A$15,\"\"))","v":""},{"$f":"IF($L275=\"\",\"\",IF(AND($L275>=Sheet1!$F$16,'Pupil List'!$L275<Sheet1!$G$16),Sheet1!$A$16,\"\"))","v":""},{"$f":"IF($L275=\"\",\"\",IF(AND($L275>=Sheet1!$F$17,'Pupil List'!$L275<Sheet1!$G$17),Sheet1!$A$17,\"\"))","v":""},{"$f":"IF($L275=\"\",\"\",IF(AND($L275>=Sheet1!$F$18,'Pupil List'!$L275<Sheet1!$G$18),Sheet1!$A$18,\"\"))","v":""},{"$f":"IF($L275=\"\",\"\",IF(AND($L275>=Sheet1!$F$19,'Pupil List'!$L275<Sheet1!$G$19),Sheet1!$A$19,\"\"))","v":""},{"$f":"IF($L275=\"\",\"\",IF(AND($L275>=Sheet1!$F$20,'Pupil List'!$L275<Sheet1!$G$20),Sheet1!$A$20,\"\"))","v":""},{"$f":"IF($L275=\"\",\"\",IF(AND($L275>=Sheet1!$F$21,'Pupil List'!$L275<Sheet1!$G$21),Sheet1!$A$21,\"\"))","v":""},{"$f":"IF($L275=\"\",\"\",IF(AND($L275>=Sheet1!$F$22,'Pupil List'!$L275<Sheet1!$G$22),Sheet1!$A$22,\"\"))","v":""},{"$f":"IF($L275=\"\",\"\",IF(AND($L275>=Sheet1!$F$23,'Pupil List'!$L275<Sheet1!$G$23),Sheet1!$A$23,\"\"))","v":""},{"$f":"IF($L275=\"\",\"\",IF(AND($L275>=Sheet1!$F$24,'Pupil List'!$L275<Sheet1!$G$24),Sheet1!$A$24,\"\"))","v":""},{"$f":"IF($L275=\"\",\"\",IF(AND($L275>=Sheet1!$F$25,'Pupil List'!$L275<Sheet1!$G$25),Sheet1!$A$25,\"\"))","v":""},{"$error":"#N/A"},{"$f":"IFERROR(VLOOKUP(BK275,Sheet1!$A$2:$E$25,3,FALSE),\"\")","v":""},{"$f":"IFERROR(VLOOKUP(BK275,Sheet1!$A$2:$E$25,4,FALSE),\"\")","v":""},{"$f":"IFERROR(VLOOKUP(BK275,Sheet1!$A$2:$E$25,5,FALSE),\"\")","v":""},{"$f":"IFERROR(VLOOKUP(N275,Sheet1!$A$29:$B$38,2,FALSE),\"\")","v":""}]
["","","",null,null,null,null,null,"","","",null,"",null,"","","","","","","","","","","","","","","","","","","","","","","","",{"$f":"IF($L276=\"\",\"\",IF(AND($L276>=Sheet1!$F$2,'Pupil List'!$L276<Sheet1!$G$2),Sheet1!$A$2,\"\"))","v":""},{"$f":"IF($L276=\"\",\"\",IF(AND($L276>=Sheet1!$F$3,'Pupil List'!$L276<Sheet1!$G$3),Sheet1!$A$3,\"\"))","v":""},{"$f":"IF($L276=\"\",\"\",IF(AND($L276>=Sheet1!$F$4,'Pupil List'!$L276<Sheet1!$G$4),Sheet1!$A$4,\"\"))","v":""},{"$f":"IF($L276=\"\",\"\",IF(AND($L276>=Sheet1!$F$5,'Pupil List'!$L276<Sheet1!$G$5),Sheet1!$A$5,\"\"))","v":""},{"$f":"IF($L276=\"\",\"\",IF(AND($L276>=Sheet1!$F$6,'Pupil List'!$L276<Sheet1!$G$6),Sheet1!$A$6,\"\"))","v":""},{"$f":"IF($L276=\"\",\"\",IF(AND($L276>=Sheet1!$F$7,'Pupil List'!$L276<Sheet1!$G$7),Sheet1!$A$7,\"\"))","v":""},{"$f":"IF($L276=\"\",\"\",IF(AND($L276>=Sheet1!$F$8,'Pupil List'!$L276<Sheet1!$G$8),Sheet1!$A$8,\"\"))","v":""},{"$f":"IF($L276=\"\",\"\",IF(AND($L276>=Sheet1!$F$9,'Pupil List'!$L276<Sheet1!$G$9),Sheet1!$A$9,\"\"))","v":""},{"$f":"IF($L276=\"\",\"\",IF(AND($L276>=Sheet1!$F$10,'Pupil List'!$L276<Sheet1!$G$10),Sheet1!$A$10,\"\"))","v":""},{"$f":"IF($L276=\"\",\"\",IF(AND($L276>=Sheet1!$F$11,'Pupil List'!$L276<Sheet1!$G$11),Sheet1!$A$11,\"\"))","v":""},{"$f":"IF($L276=\"\",\"\",IF(AND($L276>=Sheet1!$F$12,'Pupil List'!$L276<Sheet1!$G$12),Sheet1!$A$12,\"\"))","v":""},{"$f":"IF($L276=\"\",\"\",IF(AND($L276>=Sheet1!$F$13,'Pupil List'!$L276<Sheet1!$G$13),Sheet1!$A$13,\"\"))","v":""},{"$f":"IF($L276=\"\",\"\",IF(AND($L276>=Sheet1!$F$14,'Pupil List'!$L276<Sheet1!$G$14),Sheet1!$A$14,\"\"))","v":""},{"$f":"IF($L276=\"\",\"\",IF(AND($L276>=Sheet1!$F$15,'Pupil List'!$L276<Sheet1!$G$15),Sheet1!$A$15,\"\"))","v":""},{"$f":"IF($L276=\"\",\"\",IF(AND($L276>=Sheet1!$F$16,'Pupil List'!$L276<Sheet1!$G$16),Sheet1!$A$16,\"\"))","v":""},{"$f":"IF($L276=\"\",\"\",IF(AND($L276>=Sheet1!$F$17,'Pupil List'!$L276<Sheet1!$G$17),Sheet1!$A$17,\"\"))","v":""},{"$f":"IF($L276=\"\",\"\",IF(AND($L276>=Sheet1!$F$18,'Pupil List'!$L276<Sheet1!$G$18),Sheet1!$A$18,\"\"))","v":""},{"$f":"IF($L276=\"\",\"\",IF(AND($L276>=Sheet1!$F$19,'Pupil List'!$L276<Sheet1!$G$19),Sheet1!$A$19,\"\"))","v":""},{"$f":"IF($L276=\"\",\"\",IF(AND($L276>=Sheet1!$F$20,'Pupil List'!$L276<Sheet1!$G$20),Sheet1!$A$20,\"\"))","v":""},{"$f":"IF($L276=\"\",\"\",IF(AND($L276>=Sheet1!$F$21,'Pupil List'!$L276<Sheet1!$G$21),Sheet1!$A$21,\"\"))","v":""},{"$f":"IF($L276=\"\",\"\",IF(AND($L276>=Sheet1!$F$22,'Pupil List'!$L276<Sheet1!$G$22),Sheet1!$A$22,\"\"))","v":""},{"$f":"IF($L276=\"\",\"\",IF(AND($L276>=Sheet1!$F$23,'Pupil List'!$L276<Sheet1!$G$23),Sheet1!$A$23,\"\"))","v":""},{"$f":"IF($L276=\"\",\"\",IF(AND($L276>=Sheet1!$F$24,'Pupil List'!$L276<Sheet1!$G$24),Sheet1!$A$24,\"\"))","v":""},{"$f":"IF($L276=\"\",\"\",IF(AND($L276>=Sheet1!$F$25,'Pupil List'!$L276<Sheet1!$G$25),Sheet1!$A$25,\"\"))","v":""},{"$error":"#N/A"},{"$f":"IFERROR(VLOOKUP(BK276,Sheet1!$A$2:$E$25,3,FALSE),\"\")","v":""},{"$f":"IFERROR(VLOOKUP(BK276,Sheet1!$A$2:$E$25,4,FALSE),\"\")","v":""},{"$f":"IFERROR(VLOOKUP(BK276,Sheet1!$A$2:$E$25,5,FALSE),\"\")","v":""},{"$f":"IFERROR(VLOOKUP(N276,Sheet1!$A$29:$B$38,2,FALSE),\"\")","v":""}]
["","","",null,null,null,null,null,"","","",null,"",null,"","","","","","","","","","","","","","","","","","","","","","","","",{"$f":"IF($L277=\"\",\"\",IF(AND($L277>=Sheet1!$F$2,'Pupil List'!$L277<Sheet1!$G$2),Sheet1!$A$2,\"\"))","v":""},{"$f":"IF($L277=\"\",\"\",IF(AND($L277>=Sheet1!$F$3,'Pupil List'!$L277<Sheet1!$G$3),Sheet1!$A$3,\"\"))","v":""},{"$f":"IF($L277=\"\",\"\",IF(AND($L277>=Sheet1!$F$4,'Pupil List'!$L277<Sheet1!$G$4),Sheet1!$A$4,\"\"))","v":""},{"$f":"IF($L277=\"\",\"\",IF(AND($L277>=Sheet1!$F$5,'Pupil List'!$L277<Sheet1!$G$5),Sheet1!$A$5,\"\"))","v":""},{"$f":"IF($L277=\"\",\"\",IF(AND($L277>=Sheet1!$F$6,'Pupil List'!$L277<Sheet1!$G$6),Sheet1!$A$6,\"\"))","v":""},{"$f":"IF($L277=\"\",\"\",IF(AND($L277>=Sheet1!$F$7,'Pupil List'!$L277<Sheet1!$G$7),Sheet1!$A$7,\"\"))","v":""},{"$f":"IF($L277=\"\",\"\",IF(AND($L277>=Sheet1!$F$8,'Pupil List'!$L277<Sheet1!$G$8),Sheet1!$A$8,\"\"))","v":""},{"$f":"IF($L277=\"\",\"\",IF(AND($L277>=Sheet1!$F$9,'Pupil List'!$L277<Sheet1!$G$9),Sheet1!$A$9,\"\"))","v":""},{"$f":"IF($L277=\"\",\"\",IF(AND($L277>=Sheet1!$F$10,'Pupil List'!$L277<Sheet1!$G$10),Sheet1!$A$10,\"\"))","v":""},{"$f":"IF($L277=\"\",\"\",IF(AND($L277>=Sheet1!$F$11,'Pupil List'!$L277<Sheet1!$G$11),Sheet1!$A$11,\"\"))","v":""},{"$f":"IF($L277=\"\",\"\",IF(AND($L277>=Sheet1!$F$12,'Pupil List'!$L277<Sheet1!$G$12),Sheet1!$A$12,\"\"))","v":""},{"$f":"IF($L277=\"\",\"\",IF(AND($L277>=Sheet1!$F$13,'Pupil List'!$L277<Sheet1!$G$13),Sheet1!$A$13,\"\"))","v":""},{"$f":"IF($L277=\"\",\"\",IF(AND($L277>=Sheet1!$F$14,'Pupil List'!$L277<Sheet1!$G$14),Sheet1!$A$14,\"\"))","v":""},{"$f":"IF($L277=\"\",\"\",IF(AND($L277>=Sheet1!$F$15,'Pupil List'!$L277<Sheet1!$G$15),Sheet1!$A$15,\"\"))","v":""},{"$f":"IF($L277=\"\",\"\",IF(AND($L277>=Sheet1!$F$16,'Pupil List'!$L277<Sheet1!$G$16),Sheet1!$A$16,\"\"))","v":""},{"$f":"IF($L277=\"\",\"\",IF(AND($L277>=Sheet1!$F$17,'Pupil List'!$L277<Sheet1!$G$17),Sheet1!$A$17,\"\"))","v":""},{"$f":"IF($L277=\"\",\"\",IF(AND($L277>=Sheet1!$F$18,'Pupil List'!$L277<Sheet1!$G$18),Sheet1!$A$18,\"\"))","v":""},{"$f":"IF($L277=\"\",\"\",IF(AND($L277>=Sheet1!$F$19,'Pupil List'!$L277<Sheet1!$G$19),Sheet1!$A$19,\"\"))","v":""},{"$f":"IF($L277=\"\",\"\",IF(AND($L277>=Sheet1!$F$20,'Pupil List'!$L277<Sheet1!$G$20),Sheet1!$A$20,\"\"))","v":""},{"$f":"IF($L277=\"\",\"\",IF(AND($L277>=Sheet1!$F$21,'Pupil List'!$L277<Sheet1!$G$21),Sheet1!$A$21,\"\"))","v":""},{"$f":"IF($L277=\"\",\"\",IF(AND($L277>=Sheet1!$F$22,'Pupil List'!$L277<Sheet1!$G$22),Sheet1!$A$22,\"\"))","v":""},{"$f":"IF($L277=\"\",\"\",IF(AND($L277>=Sheet1!$F$23,'Pupil List'!$L277<Sheet1!$G$23),Sheet1!$A$23,\"\"))","v":""},{"$f":"IF($L277=\"\",\"\",IF(AND($L277>=Sheet1!$F$24,'Pupil List'!$L277<Sheet1!$G$24),Sheet1!$A$24,\"\"))","v":""},{"$f":"IF($L277=\"\",\"\",IF(AND($L277>=Sheet1!$F$25,'Pupil List'!$L277<Sheet1!$G$25),Sheet1!$A$25,\"\"))","v":""},{"$error":"#N/A"},{"$f":"IFERROR(VLOOKUP(BK277,Sheet1!$A$2:$E$25,3,FALSE),\"\")","v":""},{"$f":"IFERROR(VLOOKUP(BK277,Sheet1!$A$2:$E$25,4,FALSE),\"\")","v":""},{"$f":"IFERROR(VLOOKUP(BK277,Sheet1!$A$2:$E$25,5,FALSE),\"\")","v":""},{"$f":"IFERROR(VLOOKUP(N277,Sheet1!$A$29:$B$38,2,FALSE),\"\")","v":""}]
["","","",null,null,null,null,null,"","","",null,"",null,"","","","","","","","","","","","","","","","","","","","","","","","",{"$f":"IF($L278=\"\",\"\",IF(AND($L278>=Sheet1!$F$2,'Pupil List'!$L278<Sheet1!$G$2),Sheet1!$A$2,\"\"))","v":""},{"$f":"IF($L278=\"\",\"\",IF(AND($L278>=Sheet1!$F$3,'Pupil List'!$L278<Sheet1!$G$3),Sheet1!$A$3,\"\"))","v":""},{"$f":"IF($L278=\"\",\"\",IF(AND($L278>=Sheet1!$F$4,'Pupil List'!$L278<Sheet1!$G$4),Sheet1!$A$4,\"\"))","v":""},{"$f":"IF($L278=\"\",\"\",IF(AND($L278>=Sheet1!$F$5,'Pupil List'!$L278<Sheet1!$G$5),Sheet1!$A$5,\"\"))","v":""},{"$f":"IF($L278=\"\",\"\",IF(AND($L278>=Sheet1!$F$6,'Pupil List'!$L278<Sheet1!$G$6),Sheet1!$A$6,\"\"))","v":""},{"$f":"IF($L278=\"\",\"\",IF(AND($L278>=Sheet1!$F$7,'Pupil List'!$L278<Sheet1!$G$7),Sheet1!$A$7,\"\"))","v":""},{"$f":"IF($L278=\"\",\"\",IF(AND($L278>=Sheet1!$F$8,'Pupil List'!$L278<Sheet1!$G$8),Sheet1!$A$8,\"\"))","v":""},{"$f":"IF($L278=\"\",\"\",IF(AND($L278>=Sheet1!$F$9,'Pupil List'!$L278<Sheet1!$G$9),Sheet1!$A$9,\"\"))","v":""},{"$f":"IF($L278=\"\",\"\",IF(AND($L278>=Sheet1!$F$10,'Pupil List'!$L278<Sheet1!$G$10),Sheet1!$A$10,\"\"))","v":""},{"$f":"IF($L278=\"\",\"\",IF(AND($L278>=Sheet1!$F$11,'Pupil List'!$L278<Sheet1!$G$11),Sheet1!$A$11,\"\"))","v":""},{"$f":"IF($L278=\"\",\"\",IF(AND($L278>=Sheet1!$F$12,'Pupil List'!$L278<Sheet1!$G$12),Sheet1!$A$12,\"\"))","v":""},{"$f":"IF($L278=\"\",\"\",IF(AND($L278>=Sheet1!$F$13,'Pupil List'!$L278<Sheet1!$G$13),Sheet1!$A$13,\"\"))","v":""},{"$f":"IF($L278=\"\",\"\",IF(AND($L278>=Sheet1!$F$14,'Pupil List'!$L278<Sheet1!$G$14),Sheet1!$A$14,\"\"))","v":""},{"$f":"IF($L278=\"\",\"\",IF(AND($L278>=Sheet1!$F$15,'Pupil List'!$L278<Sheet1!$G$15),Sheet1!$A$15,\"\"))","v":""},{"$f":"IF($L278=\"\",\"\",IF(AND($L278>=Sheet1!$F$16,'Pupil List'!$L278<Sheet1!$G$16),Sheet1!$A$16,\"\"))","v":""},{"$f":"IF($L278=\"\",\"\",IF(AND($L278>=Sheet1!$F$17,'Pupil List'!$L278<Sheet1!$G$17),Sheet1!$A$17,\"\"))","v":""},{"$f":"IF($L278=\"\",\"\",IF(AND($L278>=Sheet1!$F$18,'Pupil List'!$L278<Sheet1!$G$18),Sheet1!$A$18,\"\"))","v":""},{"$f":"IF($L278=\"\",\"\",IF(AND($L278>=Sheet1!$F$19,'Pupil List'!$L278<Sheet1!$G$19),Sheet1!$A$19,\"\"))","v":""},{"$f":"IF($L278=\"\",\"\",IF(AND($L278>=Sheet1!$F$20,'Pupil List'!$L278<Sheet1!$G$20),Sheet1!$A$20,\"\"))","v":""},{"$f":"IF($L278=\"\",\"\",IF(AND($L278>=Sheet1!$F$21,'Pupil List'!$L278<Sheet1!$G$21),Sheet1!$A$21,\"\"))","v":""},{"$f":"IF($L278=\"\",\"\",IF(AND($L278>=Sheet1!$F$22,'Pupil List'!$L278<Sheet1!$G$22),Sheet1!$A$22,\"\"))","v":""},{"$f":"IF($L278=\"\",\"\",IF(AND($L278>=Sheet1!$F$23,'Pupil List'!$L278<Sheet1!$G$23),Sheet1!$A$23,\"\"))","v":""},{"$f":"IF($L278=\"\",\"\",IF(AND($L278>=Sheet1!$F$24,'Pupil List'!$L278<Sheet1!$G$24),Sheet1!$A$24,\"\"))","v":""},{"$f":"IF($L278=\"\",\"\",IF(AND($L278>=Sheet1!$F$25,'Pupil List'!$L278<Sheet1!$G$25),Sheet1!$A$25,\"\"))","v":""},{"$error":"#N/A"},{"$f":"IFERROR(VLOOKUP(BK278,Sheet1!$A$2:$E$25,3,FALSE),\"\")","v":""},{"$f":"IFERROR(VLOOKUP(BK278,Sheet1!$A$2:$E$25,4,FALSE),\"\")","v":""},{"$f":"IFERROR(VLOOKUP(BK278,Sheet1!$A$2:$E$25,5,FALSE),\"\")","v":""},{"$f":"IFERROR(VLOOKUP(N278,Sheet1!$A$29:$B$38,2,FALSE),\"\")","v":""}]
["","","",null,null,null,null,null,"","","",null,"",null,"","","","","","","","","","","","","","","","","","","","","","","","",{"$f":"IF($L279=\"\",\"\",IF(AND($L279>=Sheet1!$F$2,'Pupil List'!$L279<Sheet1!$G$2),Sheet1!$A$2,\"\"))","v":""},{"$f":"IF($L279=\"\",\"\",IF(AND($L279>=Sheet1!$F$3,'Pupil List'!$L279<Sheet1!$G$3),Sheet1!$A$3,\"\"))","v":""},{"$f":"IF($L279=\"\",\"\",IF(AND($L279>=Sheet1!$F$4,'Pupil List'!$L279<Sheet1!$G$4),Sheet1!$A$4,\"\"))","v":""},{"$f":"IF($L279=\"\",\"\",IF(AND($L279>=Sheet1!$F$5,'Pupil List'!$L279<Sheet1!$G$5),Sheet1!$A$5,\"\"))","v":""},{"$f":"IF($L279=\"\",\"\",IF(AND($L279>=Sheet1!$F$6,'Pupil List'!$L279<Sheet1!$G$6),Sheet1!$A$6,\"\"))","v":""},{"$f":"IF($L279=\"\",\"\",IF(AND($L279>=Sheet1!$F$7,'Pupil List'!$L279<Sheet1!$G$7),Sheet1!$A$7,\"\"))","v":""},{"$f":"IF($L279=\"\",\"\",IF(AND($L279>=Sheet1!$F$8,'Pupil List'!$L279<Sheet1!$G$8),Sheet1!$A$8,\"\"))","v":""},{"$f":"IF($L279=\"\",\"\",IF(AND($L279>=Sheet1!$F$9,'Pupil List'!$L279<Sheet1!$G$9),Sheet1!$A$9,\"\"))","v":""},{"$f":"IF($L279=\"\",\"\",IF(AND($L279>=Sheet1!$F$10,'Pupil List'!$L279<Sheet1!$G$10),Sheet1!$A$10,\"\"))","v":""},{"$f":"IF($L279=\"\",\"\",IF(AND($L279>=Sheet1!$F$11,'Pupil List'!$L279<Sheet1!$G$11),Sheet1!$A$11,\"\"))","v":""},{"$f":"IF($L279=\"\",\"\",IF(AND($L279>=Sheet1!$F$12,'Pupil List'!$L279<Sheet1!$G$12),Sheet1!$A$12,\"\"))","v":""},{"$f":"IF($L279=\"\",\"\",IF(AND($L279>=Sheet1!$F$13,'Pupil List'!$L279<Sheet1!$G$13),Sheet1!$A$13,\"\"))","v":""},{"$f":"IF($L279=\"\",\"\",IF(AND($L279>=Sheet1!$F$14,'Pupil List'!$L279<Sheet1!$G$14),Sheet1!$A$14,\"\"))","v":""},{"$f":"IF($L279=\"\",\"\",IF(AND($L279>=Sheet1!$F$15,'Pupil List'!$L279<Sheet1!$G$15),Sheet1!$A$15,\"\"))","v":""},{"$f":"IF($L279=\"\",\"\",IF(AND($L279>=Sheet1!$F$16,'Pupil List'!$L279<Sheet1!$G$16),Sheet1!$A$16,\"\"))","v":""},{"$f":"IF($L279=\"\",\"\",IF(AND($L279>=Sheet1!$F$17,'Pupil List'!$L279<Sheet1!$G$17),Sheet1!$A$17,\"\"))","v":""},{"$f":"IF($L279=\"\",\"\",IF(AND($L279>=Sheet1!$F$18,'Pupil List'!$L279<Sheet1!$G$18),Sheet1!$A$18,\"\"))","v":""},{"$f":"IF($L279=\"\",\"\",IF(AND($L279>=Sheet1!$F$19,'Pupil List'!$L279<Sheet1!$G$19),Sheet1!$A$19,\"\"))","v":""},{"$f":"IF($L279=\"\",\"\",IF(AND($L279>=Sheet1!$F$20,'Pupil List'!$L279<Sheet1!$G$20),Sheet1!$A$20,\"\"))","v":""},{"$f":"IF($L279=\"\",\"\",IF(AND($L279>=Sheet1!$F$21,'Pupil List'!$L279<Sheet1!$G$21),Sheet1!$A$21,\"\"))","v":""},{"$f":"IF($L279=\"\",\"\",IF(AND($L279>=Sheet1!$F$22,'Pupil List'!$L279<Sheet1!$G$22),Sheet1!$A$22,\"\"))","v":""},{"$f":"IF($L279=\"\",\"\",IF(AND($L279>=Sheet1!$F$23,'Pupil List'!$L279<Sheet1!$G$23),Sheet1!$A$23,\"\"))","v":""},{"$f":"IF($L279=\"\",\"\",IF(AND($L279>=Sheet1!$F$24,'Pupil List'!$L279<Sheet1!$G$24),Sheet1!$A$24,\"\"))","v":""},{"$f":"IF($L279=\"\",\"\",IF(AND($L279>=Sheet1!$F$25,'Pupil List'!$L279<Sheet1!$G$25),Sheet1!$A$25,\"\"))","v":""},{"$error":"#N/A"},{"$f":"IFERROR(VLOOKUP(BK279,Sheet1!$A$2:$E$25,3,FALSE),\"\")","v":""},{"$f":"IFERROR(VLOOKUP(BK279,Sheet1!$A$2:$E$25,4,FALSE),\"\")","v":""},{"$f":"IFERROR(VLOOKUP(BK279,Sheet1!$A$2:$E$25,5,FALSE),\"\")","v":""},{"$f":"IFERROR(VLOOKUP(N279,Sheet1!$A$29:$B$38,2,FALSE),\"\")","v":""}]
["","","",null,null,null,null,null,"","","",null,"",null,"","","","","","","","","","","","","","","","","","","","","","","","",{"$f":"IF($L280=\"\",\"\",IF(AND($L280>=Sheet1!$F$2,'Pupil List'!$L280<Sheet1!$G$2),Sheet1!$A$2,\"\"))","v":""},{"$f":"IF($L280=\"\",\"\",IF(AND($L280>=Sheet1!$F$3,'Pupil List'!$L280<Sheet1!$G$3),Sheet1!$A$3,\"\"))","v":""},{"$f":"IF($L280=\"\",\"\",IF(AND($L280>=Sheet1!$F$4,'Pupil List'!$L280<Sheet1!$G$4),Sheet1!$A$4,\"\"))","v":""},{"$f":"IF($L280=\"\",\"\",IF(AND($L280>=Sheet1!$F$5,'Pupil List'!$L280<Sheet1!$G$5),Sheet1!$A$5,\"\"))","v":""},{"$f":"IF($L280=\"\",\"\",IF(AND($L280>=Sheet1!$F$6,'Pupil List'!$L280<Sheet1!$G$6),Sheet1!$A$6,\"\"))","v":""},{"$f":"IF($L280=\"\",\"\",IF(AND($L280>=Sheet1!$F$7,'Pupil List'!$L280<Sheet1!$G$7),Sheet1!$A$7,\"\"))","v":""},{"$f":"IF($L280=\"\",\"\",IF(AND($L280>=Sheet1!$F$8,'Pupil List'!$L280<Sheet1!$G$8),Sheet1!$A$8,\"\"))","v":""},{"$f":"IF($L280=\"\",\"\",IF(AND($L280>=Sheet1!$F$9,'Pupil List'!$L280<Sheet1!$G$9),Sheet1!$A$9,\"\"))","v":""},{"$f":"IF($L280=\"\",\"\",IF(AND($L280>=Sheet1!$F$10,'Pupil List'!$L280<Sheet1!$G$10),Sheet1!$A$10,\"\"))","v":""},{"$f":"IF($L280=\"\",\"\",IF(AND($L280>=Sheet1!$F$11,'Pupil List'!$L280<Sheet1!$G$11),Sheet1!$A$11,\"\"))","v":""},{"$f":"IF($L280=\"\",\"\",IF(AND($L280>=Sheet1!$F$12,'Pupil List'!$L280<Sheet1!$G$12),Sheet1!$A$12,\"\"))","v":""},{"$f":"IF($L280=\"\",\"\",IF(AND($L280>=Sheet1!$F$13,'Pupil List'!$L280<Sheet1!$G$13),Sheet1!$A$13,\"\"))","v":""},{"$f":"IF($L280=\"\",\"\",IF(AND($L280>=Sheet1!$F$14,'Pupil List'!$L280<Sheet1!$G$14),Sheet1!$A$14,\"\"))","v":""},{"$f":"IF($L280=\"\",\"\",IF(AND($L280>=Sheet1!$F$15,'Pupil List'!$L280<Sheet1!$G$15),Sheet1!$A$15,\"\"))","v":""},{"$f":"IF($L280=\"\",\"\",IF(AND($L280>=Sheet1!$F$16,'Pupil List'!$L280<Sheet1!$G$16),Sheet1!$A$16,\"\"))","v":""},{"$f":"IF($L280=\"\",\"\",IF(AND($L280>=Sheet1!$F$17,'Pupil List'!$L280<Sheet1!$G$17),Sheet1!$A$17,\"\"))","v":""},{"$f":"IF($L280=\"\",\"\",IF(AND($L280>=Sheet1!$F$18,'Pupil List'!$L280<Sheet1!$G$18),Sheet1!$A$18,\"\"))","v":""},{"$f":"IF($L280=\"\",\"\",IF(AND($L280>=Sheet1!$F$19,'Pupil List'!$L280<Sheet1!$G$19),Sheet1!$A$19,\"\"))","v":""},{"$f":"IF($L280=\"\",\"\",IF(AND($L280>=Sheet1!$F$20,'Pupil List'!$L280<Sheet1!$G$20),Sheet1!$A$20,\"\"))","v":""},{"$f":"IF($L280=\"\",\"\",IF(AND($L280>=Sheet1!$F$21,'Pupil List'!$L280<Sheet1!$G$21),Sheet1!$A$21,\"\"))","v":""},{"$f":"IF($L280=\"\",\"\",IF(AND($L280>=Sheet1!$F$22,'Pupil List'!$L280<Sheet1!$G$22),Sheet1!$A$22,\"\"))","v":""},{"$f":"IF($L280=\"\",\"\",IF(AND($L280>=Sheet1!$F$23,'Pupil List'!$L280<Sheet1!$G$23),Sheet1!$A$23,\"\"))","v":""},{"$f":"IF($L280=\"\",\"\",IF(AND($L280>=Sheet1!$F$24,'Pupil List'!$L280<Sheet1!$G$24),Sheet1!$A$24,\"\"))","v":""},{"$f":"IF($L280=\"\",\"\",IF(AND($L280>=Sheet1!$F$25,'Pupil List'!$L280<Sheet1!$G$25),Sheet1!$A$25,\"\"))","v":""},{"$error":"#N/A"},{"$f":"IFERROR(VLOOKUP(BK280,Sheet1!$A$2:$E$25,3,FALSE),\"\")","v":""},{"$f":"IFERROR(VLOOKUP(BK280,Sheet1!$A$2:$E$25,4,FALSE),\"\")","v":""},{"$f":"IFERROR(VLOOKUP(BK280,Sheet1!$A$2:$E$25,5,FALSE),\"\")","v":""},{"$f":"IFERROR(VLOOKUP(N280,Sheet1!$A$29:$B$38,2,FALSE),\"\")","v":""}]
["","","",null,null,null,null,null,"","","",null,"",null,"","","","","","","","","","","","","","","","","","","","","","","","",{"$f":"IF($L281=\"\",\"\",IF(AND($L281>=Sheet1!$F$2,'Pupil List'!$L281<Sheet1!$G$2),Sheet1!$A$2,\"\"))","v":""},{"$f":"IF($L281=\"\",\"\",IF(AND($L281>=Sheet1!$F$3,'Pupil List'!$L281<Sheet1!$G$3),Sheet1!$A$3,\"\"))","v":""},{"$f":"IF($L281=\"\",\"\",IF(AND($L281>=Sheet1!$F$4,'Pupil List'!$L281<Sheet1!$G$4),Sheet1!$A$4,\"\"))","v":""},{"$f":"IF($L281=\"\",\"\",IF(AND($L281>=Sheet1!$F$5,'Pupil List'!$L281<Sheet1!$G$5),Sheet1!$A$5,\"\"))","v":""},{"$f":"IF($L281=\"\",\"\",IF(AND($L281>=Sheet1!$F$6,'Pupil List'!$L281<Sheet1!$G$6),Sheet1!$A$6,\"\"))","v":""},{"$f":"IF($L281=\"\",\"\",IF(AND($L281>=Sheet1!$F$7,'Pupil List'!$L281<Sheet1!$G$7),Sheet1!$A$7,\"\"))","v":""},{"$f":"IF($L281=\"\",\"\",IF(AND($L281>=Sheet1!$F$8,'Pupil List'!$L281<Sheet1!$G$8),Sheet1!$A$8,\"\"))","v":""},{"$f":"IF($L281=\"\",\"\",IF(AND($L281>=Sheet1!$F$9,'Pupil List'!$L281<Sheet1!$G$9),Sheet1!$A$9,\"\"))","v":""},{"$f":"IF($L281=\"\",\"\",IF(AND($L281>=Sheet1!$F$10,'Pupil List'!$L281<Sheet1!$G$10),Sheet1!$A$10,\"\"))","v":""},{"$f":"IF($L281=\"\",\"\",IF(AND($L281>=Sheet1!$F$11,'Pupil List'!$L281<Sheet1!$G$11),Sheet1!$A$11,\"\"))","v":""},{"$f":"IF($L281=\"\",\"\",IF(AND($L281>=Sheet1!$F$12,'Pupil List'!$L281<Sheet1!$G$12),Sheet1!$A$12,\"\"))","v":""},{"$f":"IF($L281=\"\",\"\",IF(AND($L281>=Sheet1!$F$13,'Pupil List'!$L281<Sheet1!$G$13),Sheet1!$A$13,\"\"))","v":""},{"$f":"IF($L281=\"\",\"\",IF(AND($L281>=Sheet1!$F$14,'Pupil List'!$L281<Sheet1!$G$14),Sheet1!$A$14,\"\"))","v":""},{"$f":"IF($L281=\"\",\"\",IF(AND($L281>=Sheet1!$F$15,'Pupil List'!$L281<Sheet1!$G$15),Sheet1!$A$15,\"\"))","v":""},{"$f":"IF($L281=\"\",\"\",IF(AND($L281>=Sheet1!$F$16,'Pupil List'!$L281<Sheet1!$G$16),Sheet1!$A$16,\"\"))","v":""},{"$f":"IF($L281=\"\",\"\",IF(AND($L281>=Sheet1!$F$17,'Pupil List'!$L281<Sheet1!$G$17),Sheet1!$A$17,\"\"))","v":""},{"$f":"IF($L281=\"\",\"\",IF(AND($L281>=Sheet1!$F$18,'Pupil List'!$L281<Sheet1!$G$18),Sheet1!$A$18,\"\"))","v":""},{"$f":"IF($L281=\"\",\"\",IF(AND($L281>=Sheet1!$F$19,'Pupil List'!$L281<Sheet1!$G$19),Sheet1!$A$19,\"\"))","v":""},{"$f":"IF($L281=\"\",\"\",IF(AND($L281>=Sheet1!$F$20,'Pupil List'!$L281<Sheet1!$G$20),Sheet1!$A$20,\"\"))","v":""},{"$f":"IF($L281=\"\",\"\",IF(AND($L281>=Sheet1!$F$21,'Pupil List'!$L281<Sheet1!$G$21),Sheet1!$A$21,\"\"))","v":""},{"$f":"IF($L281=\"\",\"\",IF(AND($L281>=Sheet1!$F$22,'Pupil List'!$L281<Sheet1!$G$22),Sheet1!$A$22,\"\"))","v":""},{"$f":"IF($L281=\"\",\"\",IF(AND($L281>=Sheet1!$F$23,'Pupil List'!$L281<Sheet1!$G$23),Sheet1!$A$23,\"\"))","v":""},{"$f":"IF($L281=\"\",\"\",IF(AND($L281>=Sheet1!$F$24,'Pupil List'!$L281<Sheet1!$G$24),Sheet1!$A$24,\"\"))","v":""},{"$f":"IF($L281=\"\",\"\",IF(AND($L281>=Sheet1!$F$25,'Pupil List'!$L281<Sheet1!$G$25),Sheet1!$A$25,\"\"))","v":""},{"$error":"#N/A"},{"$f":"IFERROR(VLOOKUP(BK281,Sheet1!$A$2:$E$25,3,FALSE),\"\")","v":""},{"$f":"IFERROR(VLOOKUP(BK281,Sheet1!$A$2:$E$25,4,FALSE),\"\")","v":""},{"$f":"IFERROR(VLOOKUP(BK281,Sheet1!$A$2:$E$25,5,FALSE),\"\")","v":""},{"$f":"IFERROR(VLOOKUP(N281,Sheet1!$A$29:$B$38,2,FALSE),\"\")","v":""}]
["","","",null,null,null,null,null,"","","",null,"",null,"","","","","","","","","","","","","","","","","","","","","","","","",{"$f":"IF($L282=\"\",\"\",IF(AND($L282>=Sheet1!$F$2,'Pupil List'!$L282<Sheet1!$G$2),Sheet1!$A$2,\"\"))","v":""},{"$f":"IF($L282=\"\",\"\",IF(AND($L282>=Sheet1!$F$3,'Pupil List'!$L282<Sheet1!$G$3),Sheet1!$A$3,\"\"))","v":""},{"$f":"IF($L282=\"\",\"\",IF(AND($L282>=Sheet1!$F$4,'Pupil List'!$L282<Sheet1!$G$4),Sheet1!$A$4,\"\"))","v":""},{"$f":"IF($L282=\"\",\"\",IF(AND($L282>=Sheet1!$F$5,'Pupil List'!$L282<Sheet1!$G$5),Sheet1!$A$5,\"\"))","v":""},{"$f":"IF($L282=\"\",\"\",IF(AND($L282>=Sheet1!$F$6,'Pupil List'!$L282<Sheet1!$G$6),Sheet1!$A$6,\"\"))","v":""},{"$f":"IF($L282=\"\",\"\",IF(AND($L282>=Sheet1!$F$7,'Pupil List'!$L282<Sheet1!$G$7),Sheet1!$A$7,\"\"))","v":""},{"$f":"IF($L282=\"\",\"\",IF(AND($L282>=Sheet1!$F$8,'Pupil List'!$L282<Sheet1!$G$8),Sheet1!$A$8,\"\"))","v":""},{"$f":"IF($L282=\"\",\"\",IF(AND($L282>=Sheet1!$F$9,'Pupil List'!$L282<Sheet1!$G$9),Sheet1!$A$9,\"\"))","v":""},{"$f":"IF($L282=\"\",\"\",IF(AND($L282>=Sheet1!$F$10,'Pupil List'!$L282<Sheet1!$G$10),Sheet1!$A$10,\"\"))","v":""},{"$f":"IF($L282=\"\",\"\",IF(AND($L282>=Sheet1!$F$11,'Pupil List'!$L282<Sheet1!$G$11),Sheet1!$A$11,\"\"))","v":""},{"$f":"IF($L282=\"\",\"\",IF(AND($L282>=Sheet1!$F$12,'Pupil List'!$L282<Sheet1!$G$12),Sheet1!$A$12,\"\"))","v":""},{"$f":"IF($L282=\"\",\"\",IF(AND($L282>=Sheet1!$F$13,'Pupil List'!$L282<Sheet1!$G$13),Sheet1!$A$13,\"\"))","v":""},{"$f":"IF($L282=\"\",\"\",IF(AND($L282>=Sheet1!$F$14,'Pupil List'!$L282<Sheet1!$G$14),Sheet1!$A$14,\"\"))","v":""},{"$f":"IF($L282=\"\",\"\",IF(AND($L282>=Sheet1!$F$15,'Pupil List'!$L282<Sheet1!$G$15),Sheet1!$A$15,\"\"))","v":""},{"$f":"IF($L282=\"\",\"\",IF(AND($L282>=Sheet1!$F$16,'Pupil List'!$L282<Sheet1!$G$16),Sheet1!$A$16,\"\"))","v":""},{"$f":"IF($L282=\"\",\"\",IF(AND($L282>=Sheet1!$F$17,'Pupil List'!$L282<Sheet1!$G$17),Sheet1!$A$17,\"\"))","v":""},{"$f":"IF($L282=\"\",\"\",IF(AND($L282>=Sheet1!$F$18,'Pupil List'!$L282<Sheet1!$G$18),Sheet1!$A$18,\"\"))","v":""},{"$f":"IF($L282=\"\",\"\",IF(AND($L282>=Sheet1!$F$19,'Pupil List'!$L282<Sheet1!$G$19),Sheet1!$A$19,\"\"))","v":""},{"$f":"IF($L282=\"\",\"\",IF(AND($L282>=Sheet1!$F$20,'Pupil List'!$L282<Sheet1!$G$20),Sheet1!$A$20,\"\"))","v":""},{"$f":"IF($L282=\"\",\"\",IF(AND($L282>=Sheet1!$F$21,'Pupil List'!$L282<Sheet1!$G$21),Sheet1!$A$21,\"\"))","v":""},{"$f":"IF($L282=\"\",\"\",IF(AND($L282>=Sheet1!$F$22,'Pupil List'!$L282<Sheet1!$G$22),Sheet1!$A$22,\"\"))","v":""},{"$f":"IF($L282=\"\",\"\",IF(AND($L282>=Sheet1!$F$23,'Pupil List'!$L282<Sheet1!$G$23),Sheet1!$A$23,\"\"))","v":""},{"$f":"IF($L282=\"\",\"\",IF(AND($L282>=Sheet1!$F$24,'Pupil List'!$L282<Sheet1!$G$24),Sheet1!$A$24,\"\"))","v":""},{"$f":"IF($L282=\"\",\"\",IF(AND($L282>=Sheet1!$F$25,'Pupil List'!$L282<Sheet1!$G$25),Sheet1!$A$25,\"\"))","v":""},{"$error":"#N/A"},{"$f":"IFERROR(VLOOKUP(BK282,Sheet1!$A$2:$E$25,3,FALSE),\"\")","v":""},{"$f":"IFERROR(VLOOKUP(BK282,Sheet1!$A$2:$E$25,4,FALSE),\"\")","v":""},{"$f":"IFERROR(VLOOKUP(BK282,Sheet1!$A$2:$E$25,5,FALSE),\"\")","v":""},{"$f":"IFERROR(VLOOKUP(N282,Sheet1!$A$29:$B$38,2,FALSE),\"\")","v":""}]
["","","",null,null,null,null,null,"","","",null,"",null,"","","","","","","","","","","","","","","","","","","","","","","","",{"$f":"IF($L283=\"\",\"\",IF(AND($L283>=Sheet1!$F$2,'Pupil List'!$L283<Sheet1!$G$2),Sheet1!$A$2,\"\"))","v":""},{"$f":"IF($L283=\"\",\"\",IF(AND($L283>=Sheet1!$F$3,'Pupil List'!$L283<Sheet1!$G$3),Sheet1!$A$3,\"\"))","v":""},{"$f":"IF($L283=\"\",\"\",IF(AND($L283>=Sheet1!$F$4,'Pupil List'!$L283<Sheet1!$G$4),Sheet1!$A$4,\"\"))","v":""},{"$f":"IF($L283=\"\",\"\",IF(AND($L283>=Sheet1!$F$5,'Pupil List'!$L283<Sheet1!$G$5),Sheet1!$A$5,\"\"))","v":""},{"$f":"IF($L283=\"\",\"\",IF(AND($L283>=Sheet1!$F$6,'Pupil List'!$L283<Sheet1!$G$6),Sheet1!$A$6,\"\"))","v":""},{"$f":"IF($L283=\"\",\"\",IF(AND($L283>=Sheet1!$F$7,'Pupil List'!$L283<Sheet1!$G$7),Sheet1!$A$7,\"\"))","v":""},{"$f":"IF($L283=\"\",\"\",IF(AND($L283>=Sheet1!$F$8,'Pupil List'!$L283<Sheet1!$G$8),Sheet1!$A$8,\"\"))","v":""},{"$f":"IF($L283=\"\",\"\",IF(AND($L283>=Sheet1!$F$9,'Pupil List'!$L283<Sheet1!$G$9),Sheet1!$A$9,\"\"))","v":""},{"$f":"IF($L283=\"\",\"\",IF(AND($L283>=Sheet1!$F$10,'Pupil List'!$L283<Sheet1!$G$10),Sheet1!$A$10,\"\"))","v":""},{"$f":"IF($L283=\"\",\"\",IF(AND($L283>=Sheet1!$F$11,'Pupil List'!$L283<Sheet1!$G$11),Sheet1!$A$11,\"\"))","v":""},{"$f":"IF($L283=\"\",\"\",IF(AND($L283>=Sheet1!$F$12,'Pupil List'!$L283<Sheet1!$G$12),Sheet1!$A$12,\"\"))","v":""},{"$f":"IF($L283=\"\",\"\",IF(AND($L283>=Sheet1!$F$13,'Pupil List'!$L283<Sheet1!$G$13),Sheet1!$A$13,\"\"))","v":""},{"$f":"IF($L283=\"\",\"\",IF(AND($L283>=Sheet1!$F$14,'Pupil List'!$L283<Sheet1!$G$14),Sheet1!$A$14,\"\"))","v":""},{"$f":"IF($L283=\"\",\"\",IF(AND($L283>=Sheet1!$F$15,'Pupil List'!$L283<Sheet1!$G$15),Sheet1!$A$15,\"\"))","v":""},{"$f":"IF($L283=\"\",\"\",IF(AND($L283>=Sheet1!$F$16,'Pupil List'!$L283<Sheet1!$G$16),Sheet1!$A$16,\"\"))","v":""},{"$f":"IF($L283=\"\",\"\",IF(AND($L283>=Sheet1!$F$17,'Pupil List'!$L283<Sheet1!$G$17),Sheet1!$A$17,\"\"))","v":""},{"$f":"IF($L283=\"\",\"\",IF(AND($L283>=Sheet1!$F$18,'Pupil List'!$L283<Sheet1!$G$18),Sheet1!$A$18,\"\"))","v":""},{"$f":"IF($L283=\"\",\"\",IF(AND($L283>=Sheet1!$F$19,'Pupil List'!$L283<Sheet1!$G$19),Sheet1!$A$19,\"\"))","v":""},{"$f":"IF($L283=\"\",\"\",IF(AND($L283>=Sheet1!$F$20,'Pupil List'!$L283<Sheet1!$G$20),Sheet1!$A$20,\"\"))","v":""},{"$f":"IF($L283=\"\",\"\",IF(AND($L283>=Sheet1!$F$21,'Pupil List'!$L283<Sheet1!$G$21),Sheet1!$A$21,\"\"))","v":""},{"$f":"IF($L283=\"\",\"\",IF(AND($L283>=Sheet1!$F$22,'Pupil List'!$L283<Sheet1!$G$22),Sheet1!$A$22,\"\"))","v":""},{"$f":"IF($L283=\"\",\"\",IF(AND($L283>=Sheet1!$F$23,'Pupil List'!$L283<Sheet1!$G$23),Sheet1!$A$23,\"\"))","v":""},{"$f":"IF($L283=\"\",\"\",IF(AND($L283>=Sheet1!$F$24,'Pupil List'!$L283<Sheet1!$G$24),Sheet1!$A$24,\"\"))","v":""},{"$f":"IF($L283=\"\",\"\",IF(AND($L283>=Sheet1!$F$25,'Pupil List'!$L283<Sheet1!$G$25),Sheet1!$A$25,\"\"))","v":""},{"$error":"#N/A"},{"$f":"IFERROR(VLOOKUP(BK283,Sheet1!$A$2:$E$25,3,FALSE),\"\")","v":""},{"$f":"IFERROR(VLOOKUP(BK283,Sheet1!$A$2:$E$25,4,FALSE),\"\")","v":""},{"$f":"IFERROR(VLOOKUP(BK283,Sheet1!$A$2:$E$25,5,FALSE),\"\")","v":""},{"$f":"IFERROR(VLOOKUP(N283,Sheet1!$A$29:$B$38,2,FALSE),\"\")","v":""}]
["","","",null,null,null,null,null,"","","",null,"",null,"","","","","","","","","","","","","","","","","","","","","","","","",{"$f":"IF($L284=\"\",\"\",IF(AND($L284>=Sheet1!$F$2,'Pupil List'!$L284<Sheet1!$G$2),Sheet1!$A$2,\"\"))","v":""},{"$f":"IF($L284=\"\",\"\",IF(AND($L284>=Sheet1!$F$3,'Pupil List'!$L284<Sheet1!$G$3),Sheet1!$A$3,\"\"))","v":""},{"$f":"IF($L284=\"\",\"\",IF(AND($L284>=Sheet1!$F$4,'Pupil List'!$L284<Sheet1!$G$4),Sheet1!$A$4,\"\"))","v":""},{"$f":"IF($L284=\"\",\"\",IF(AND($L284>=Sheet1!$F$5,'Pupil List'!$L284<Sheet1!$G$5),Sheet1!$A$5,\"\"))","v":""},{"$f":"IF($L284=\"\",\"\",IF(AND($L284>=Sheet1!$F$6,'Pupil List'!$L284<Sheet1!$G$6),Sheet1!$A$6,\"\"))","v":""},{"$f":"IF($L284=\"\",\"\",IF(AND($L284>=Sheet1!$F$7,'Pupil List'!$L284<Sheet1!$G$7),Sheet1!$A$7,\"\"))","v":""},{"$f":"IF($L284=\"\",\"\",IF(AND($L284>=Sheet1!$F$8,'Pupil List'!$L284<Sheet1!$G$8),Sheet1!$A$8,\"\"))","v":""},{"$f":"IF($L284=\"\",\"\",IF(AND($L284>=Sheet1!$F$9,'Pupil List'!$L284<Sheet1!$G$9),Sheet1!$A$9,\"\"))","v":""},{"$f":"IF($L284=\"\",\"\",IF(AND($L284>=Sheet1!$F$10,'Pupil List'!$L284<Sheet1!$G$10),Sheet1!$A$10,\"\"))","v":""},{"$f":"IF($L284=\"\",\"\",IF(AND($L284>=Sheet1!$F$11,'Pupil List'!$L284<Sheet1!$G$11),Sheet1!$A$11,\"\"))","v":""},{"$f":"IF($L284=\"\",\"\",IF(AND($L284>=Sheet1!$F$12,'Pupil List'!$L284<Sheet1!$G$12),Sheet1!$A$12,\"\"))","v":""},{"$f":"IF($L284=\"\",\"\",IF(AND($L284>=Sheet1!$F$13,'Pupil List'!$L284<Sheet1!$G$13),Sheet1!$A$13,\"\"))","v":""},{"$f":"IF($L284=\"\",\"\",IF(AND($L284>=Sheet1!$F$14,'Pupil List'!$L284<Sheet1!$G$14),Sheet1!$A$14,\"\"))","v":""},{"$f":"IF($L284=\"\",\"\",IF(AND($L284>=Sheet1!$F$15,'Pupil List'!$L284<Sheet1!$G$15),Sheet1!$A$15,\"\"))","v":""},{"$f":"IF($L284=\"\",\"\",IF(AND($L284>=Sheet1!$F$16,'Pupil List'!$L284<Sheet1!$G$16),Sheet1!$A$16,\"\"))","v":""},{"$f":"IF($L284=\"\",\"\",IF(AND($L284>=Sheet1!$F$17,'Pupil List'!$L284<Sheet1!$G$17),Sheet1!$A$17,\"\"))","v":""},{"$f":"IF($L284=\"\",\"\",IF(AND($L284>=Sheet1!$F$18,'Pupil List'!$L284<Sheet1!$G$18),Sheet1!$A$18,\"\"))","v":""},{"$f":"IF($L284=\"\",\"\",IF(AND($L284>=Sheet1!$F$19,'Pupil List'!$L284<Sheet1!$G$19),Sheet1!$A$19,\"\"))","v":""},{"$f":"IF($L284=\"\",\"\",IF(AND($L284>=Sheet1!$F$20,'Pupil List'!$L284<Sheet1!$G$20),Sheet1!$A$20,\"\"))","v":""},{"$f":"IF($L284=\"\",\"\",IF(AND($L284>=Sheet1!$F$21,'Pupil List'!$L284<Sheet1!$G$21),Sheet1!$A$21,\"\"))","v":""},{"$f":"IF($L284=\"\",\"\",IF(AND($L284>=Sheet1!$F$22,'Pupil List'!$L284<Sheet1!$G$22),Sheet1!$A$22,\"\"))","v":""},{"$f":"IF($L284=\"\",\"\",IF(AND($L284>=Sheet1!$F$23,'Pupil List'!$L284<Sheet1!$G$23),Sheet1!$A$23,\"\"))","v":""},{"$f":"IF($L284=\"\",\"\",IF(AND($L284>=Sheet1!$F$24,'Pupil List'!$L284<Sheet1!$G$24),Sheet1!$A$24,\"\"))","v":""},{"$f":"IF($L284=\"\",\"\",IF(AND($L284>=Sheet1!$F$25,'Pupil List'!$L284<Sheet1!$G$25),Sheet1!$A$25,\"\"))","v":""},{"$error":"#N/A"},{"$f":"IFERROR(VLOOKUP(BK284,Sheet1!$A$2:$E$25,3,FALSE),\"\")","v":""},{"$f":"IFERROR(VLOOKUP(BK284,Sheet1!$A$2:$E$25,4,FALSE),\"\")","v":""},{"$f":"IFERROR(VLOOKUP(BK284,Sheet1!$A$2:$E$25,5,FALSE),\"\")","v":""},{"$f":"IFERROR(VLOOKUP(N284,Sheet1!$A$29:$B$38,2,FALSE),\"\")","v":""}]
["","","",null,null,null,null,null,"","","",null,"",null,"","","","","","","","","","","","","","","","","","","","","","","","",{"$f":"IF($L285=\"\",\"\",IF(AND($L285>=Sheet1!$F$2,'Pupil List'!$L285<Sheet1!$G$2),Sheet1!$A$2,\"\"))","v":""},{"$f":"IF($L285=\"\",\"\",IF(AND($L285>=Sheet1!$F$3,'Pupil List'!$L285<Sheet1!$G$3),Sheet1!$A$3,\"\"))","v":""},{"$f":"IF($L285=\"\",\"\",IF(AND($L285>=Sheet1!$F$4,'Pupil List'!$L285<Sheet1!$G$4),Sheet1!$A$4,\"\"))","v":""},{"$f":"IF($L285=\"\",\"\",IF(AND($L285>=Sheet1!$F$5,'Pupil List'!$L285<Sheet1!$G$5),Sheet1!$A$5,\"\"))","v":""},{"$f":"IF($L285=\"\",\"\",IF(AND($L285>=Sheet1!$F$6,'Pupil List'!$L285<Sheet1!$G$6),Sheet1!$A$6,\"\"))","v":""},{"$f":"IF($L285=\"\",\"\",IF(AND($L285>=Sheet1!$F$7,'Pupil List'!$L285<Sheet1!$G$7),Sheet1!$A$7,\"\"))","v":""},{"$f":"IF($L285=\"\",\"\",IF(AND($L285>=Sheet1!$F$8,'Pupil List'!$L285<Sheet1!$G$8),Sheet1!$A$8,\"\"))","v":""},{"$f":"IF($L285=\"\",\"\",IF(AND($L285>=Sheet1!$F$9,'Pupil List'!$L285<Sheet1!$G$9),Sheet1!$A$9,\"\"))","v":""},{"$f":"IF($L285=\"\",\"\",IF(AND($L285>=Sheet1!$F$10,'Pupil List'!$L285<Sheet1!$G$10),Sheet1!$A$10,\"\"))","v":""},{"$f":"IF($L285=\"\",\"\",IF(AND($L285>=Sheet1!$F$11,'Pupil List'!$L285<Sheet1!$G$11),Sheet1!$A$11,\"\"))","v":""},{"$f":"IF($L285=\"\",\"\",IF(AND($L285>=Sheet1!$F$12,'Pupil List'!$L285<Sheet1!$G$12),Sheet1!$A$12,\"\"))","v":""},{"$f":"IF($L285=\"\",\"\",IF(AND($L285>=Sheet1!$F$13,'Pupil List'!$L285<Sheet1!$G$13),Sheet1!$A$13,\"\"))","v":""},{"$f":"IF($L285=\"\",\"\",IF(AND($L285>=Sheet1!$F$14,'Pupil List'!$L285<Sheet1!$G$14),Sheet1!$A$14,\"\"))","v":""},{"$f":"IF($L285=\"\",\"\",IF(AND($L285>=Sheet1!$F$15,'Pupil List'!$L285<Sheet1!$G$15),Sheet1!$A$15,\"\"))","v":""},{"$f":"IF($L285=\"\",\"\",IF(AND($L285>=Sheet1!$F$16,'Pupil List'!$L285<Sheet1!$G$16),Sheet1!$A$16,\"\"))","v":""},{"$f":"IF($L285=\"\",\"\",IF(AND($L285>=Sheet1!$F$17,'Pupil List'!$L285<Sheet1!$G$17),Sheet1!$A$17,\"\"))","v":""},{"$f":"IF($L285=\"\",\"\",IF(AND($L285>=Sheet1!$F$18,'Pupil List'!$L285<Sheet1!$G$18),Sheet1!$A$18,\"\"))","v":""},{"$f":"IF($L285=\"\",\"\",IF(AND($L285>=Sheet1!$F$19,'Pupil List'!$L285<Sheet1!$G$19),Sheet1!$A$19,\"\"))","v":""},{"$f":"IF($L285=\"\",\"\",IF(AND($L285>=Sheet1!$F$20,'Pupil List'!$L285<Sheet1!$G$20),Sheet1!$A$20,\"\"))","v":""},{"$f":"IF($L285=\"\",\"\",IF(AND($L285>=Sheet1!$F$21,'Pupil List'!$L285<Sheet1!$G$21),Sheet1!$A$21,\"\"))","v":""},{"$f":"IF($L285=\"\",\"\",IF(AND($L285>=Sheet1!$F$22,'Pupil List'!$L285<Sheet1!$G$22),Sheet1!$A$22,\"\"))","v":""},{"$f":"IF($L285=\"\",\"\",IF(AND($L285>=Sheet1!$F$23,'Pupil List'!$L285<Sheet1!$G$23),Sheet1!$A$23,\"\"))","v":""},{"$f":"IF($L285=\"\",\"\",IF(AND($L285>=Sheet1!$F$24,'Pupil List'!$L285<Sheet1!$G$24),Sheet1!$A$24,\"\"))","v":""},{"$f":"IF($L285=\"\",\"\",IF(AND($L285>=Sheet1!$F$25,'Pupil List'!$L285<Sheet1!$G$25),Sheet1!$A$25,\"\"))","v":""},{"$error":"#N/A"},{"$f":"IFERROR(VLOOKUP(BK285,Sheet1!$A$2:$E$25,3,FALSE),\"\")","v":""},{"$f":"IFERROR(VLOOKUP(BK285,Sheet1!$A$2:$E$25,4,FALSE),\"\")","v":""},{"$f":"IFERROR(VLOOKUP(BK285,Sheet1!$A$2:$E$25,5,FALSE),\"\")","v":""},{"$f":"IFERROR(VLOOKUP(N285,Sheet1!$A$29:$B$38,2,FALSE),\"\")","v":""}]
["","","",null,null,null,null,null,"","","",null,"",null,"","","","","","","","","","","","","","","","","","","","","","","","",{"$f":"IF($L286=\"\",\"\",IF(AND($L286>=Sheet1!$F$2,'Pupil List'!$L286<Sheet1!$G$2),Sheet1!$A$2,\"\"))","v":""},{"$f":"IF($L286=\"\",\"\",IF(AND($L286>=Sheet1!$F$3,'Pupil List'!$L286<Sheet1!$G$3),Sheet1!$A$3,\"\"))","v":""},{"$f":"IF($L286=\"\",\"\",IF(AND($L286>=Sheet1!$F$4,'Pupil List'!$L286<Sheet1!$G$4),Sheet1!$A$4,\"\"))","v":""},{"$f":"IF($L286=\"\",\"\",IF(AND($L286>=Sheet1!$F$5,'Pupil List'!$L286<Sheet1!$G$5),Sheet1!$A$5,\"\"))","v":""},{"$f":"IF($L286=\"\",\"\",IF(AND($L286>=Sheet1!$F$6,'Pupil List'!$L286<Sheet1!$G$6),Sheet1!$A$6,\"\"))","v":""},{"$f":"IF($L286=\"\",\"\",IF(AND($L286>=Sheet1!$F$7,'Pupil List'!$L286<Sheet1!$G$7),Sheet1!$A$7,\"\"))","v":""},{"$f":"IF($L286=\"\",\"\",IF(AND($L286>=Sheet1!$F$8,'Pupil List'!$L286<Sheet1!$G$8),Sheet1!$A$8,\"\"))","v":""},{"$f":"IF($L286=\"\",\"\",IF(AND($L286>=Sheet1!$F$9,'Pupil List'!$L286<Sheet1!$G$9),Sheet1!$A$9,\"\"))","v":""},{"$f":"IF($L286=\"\",\"\",IF(AND($L286>=Sheet1!$F$10,'Pupil List'!$L286<Sheet1!$G$10),Sheet1!$A$10,\"\"))","v":""},{"$f":"IF($L286=\"\",\"\",IF(AND($L286>=Sheet1!$F$11,'Pupil List'!$L286<Sheet1!$G$11),Sheet1!$A$11,\"\"))","v":""},{"$f":"IF($L286=\"\",\"\",IF(AND($L286>=Sheet1!$F$12,'Pupil List'!$L286<Sheet1!$G$12),Sheet1!$A$12,\"\"))","v":""},{"$f":"IF($L286=\"\",\"\",IF(AND($L286>=Sheet1!$F$13,'Pupil List'!$L286<Sheet1!$G$13),Sheet1!$A$13,\"\"))","v":""},{"$f":"IF($L286=\"\",\"\",IF(AND($L286>=Sheet1!$F$14,'Pupil List'!$L286<Sheet1!$G$14),Sheet1!$A$14,\"\"))","v":""},{"$f":"IF($L286=\"\",\"\",IF(AND($L286>=Sheet1!$F$15,'Pupil List'!$L286<Sheet1!$G$15),Sheet1!$A$15,\"\"))","v":""},{"$f":"IF($L286=\"\",\"\",IF(AND($L286>=Sheet1!$F$16,'Pupil List'!$L286<Sheet1!$G$16),Sheet1!$A$16,\"\"))","v":""},{"$f":"IF($L286=\"\",\"\",IF(AND($L286>=Sheet1!$F$17,'Pupil List'!$L286<Sheet1!$G$17),Sheet1!$A$17,\"\"))","v":""},{"$f":"IF($L286=\"\",\"\",IF(AND($L286>=Sheet1!$F$18,'Pupil List'!$L286<Sheet1!$G$18),Sheet1!$A$18,\"\"))","v":""},{"$f":"IF($L286=\"\",\"\",IF(AND($L286>=Sheet1!$F$19,'Pupil List'!$L286<Sheet1!$G$19),Sheet1!$A$19,\"\"))","v":""},{"$f":"IF($L286=\"\",\"\",IF(AND($L286>=Sheet1!$F$20,'Pupil List'!$L286<Sheet1!$G$20),Sheet1!$A$20,\"\"))","v":""},{"$f":"IF($L286=\"\",\"\",IF(AND($L286>=Sheet1!$F$21,'Pupil List'!$L286<Sheet1!$G$21),Sheet1!$A$21,\"\"))","v":""},{"$f":"IF($L286=\"\",\"\",IF(AND($L286>=Sheet1!$F$22,'Pupil List'!$L286<Sheet1!$G$22),Sheet1!$A$22,\"\"))","v":""},{"$f":"IF($L286=\"\",\"\",IF(AND($L286>=Sheet1!$F$23,'Pupil List'!$L286<Sheet1!$G$23),Sheet1!$A$23,\"\"))","v":""},{"$f":"IF($L286=\"\",\"\",IF(AND($L286>=Sheet1!$F$24,'Pupil List'!$L286<Sheet1!$G$24),Sheet1!$A$24,\"\"))","v":""},{"$f":"IF($L286=\"\",\"\",IF(AND($L286>=Sheet1!$F$25,'Pupil List'!$L286<Sheet1!$G$25),Sheet1!$A$25,\"\"))","v":""},{"$error":"#N/A"},{"$f":"IFERROR(VLOOKUP(BK286,Sheet1!$A$2:$E$25,3,FALSE),\"\")","v":""},{"$f":"IFERROR(VLOOKUP(BK286,Sheet1!$A$2:$E$25,4,FALSE),\"\")","v":""},{"$f":"IFERROR(VLOOKUP(BK286,Sheet1!$A$2:$E$25,5,FALSE),\"\")","v":""},{"$f":"IFERROR(VLOOKUP(N286,Sheet1!$A$29:$B$38,2,FALSE),\"\")","v":""}]
["","","",null,null,null,null,null,"","","",null,"",null,"","","","","","","","","","","","","","","","","","","","","","","","",{"$f":"IF($L287=\"\",\"\",IF(AND($L287>=Sheet1!$F$2,'Pupil List'!$L287<Sheet1!$G$2),Sheet1!$A$2,\"\"))","v":""},{"$f":"IF($L287=\"\",\"\",IF(AND($L287>=Sheet1!$F$3,'Pupil List'!$L287<Sheet1!$G$3),Sheet1!$A$3,\"\"))","v":""},{"$f":"IF($L287=\"\",\"\",IF(AND($L287>=Sheet1!$F$4,'Pupil List'!$L287<Sheet1!$G$4),Sheet1!$A$4,\"\"))","v":""},{"$f":"IF($L287=\"\",\"\",IF(AND($L287>=Sheet1!$F$5,'Pupil List'!$L287<Sheet1!$G$5),Sheet1!$A$5,\"\"))","v":""},{"$f":"IF($L287=\"\",\"\",IF(AND($L287>=Sheet1!$F$6,'Pupil List'!$L287<Sheet1!$G$6),Sheet1!$A$6,\"\"))","v":""},{"$f":"IF($L287=\"\",\"\",IF(AND($L287>=Sheet1!$F$7,'Pupil List'!$L287<Sheet1!$G$7),Sheet1!$A$7,\"\"))","v":""},{"$f":"IF($L287=\"\",\"\",IF(AND($L287>=Sheet1!$F$8,'Pupil List'!$L287<Sheet1!$G$8),Sheet1!$A$8,\"\"))","v":""},{"$f":"IF($L287=\"\",\"\",IF(AND($L287>=Sheet1!$F$9,'Pupil List'!$L287<Sheet1!$G$9),Sheet1!$A$9,\"\"))","v":""},{"$f":"IF($L287=\"\",\"\",IF(AND($L287>=Sheet1!$F$10,'Pupil List'!$L287<Sheet1!$G$10),Sheet1!$A$10,\"\"))","v":""},{"$f":"IF($L287=\"\",\"\",IF(AND($L287>=Sheet1!$F$11,'Pupil List'!$L287<Sheet1!$G$11),Sheet1!$A$11,\"\"))","v":""},{"$f":"IF($L287=\"\",\"\",IF(AND($L287>=Sheet1!$F$12,'Pupil List'!$L287<Sheet1!$G$12),Sheet1!$A$12,\"\"))","v":""},{"$f":"IF($L287=\"\",\"\",IF(AND($L287>=Sheet1!$F$13,'Pupil List'!$L287<Sheet1!$G$13),Sheet1!$A$13,\"\"))","v":""},{"$f":"IF($L287=\"\",\"\",IF(AND($L287>=Sheet1!$F$14,'Pupil List'!$L287<Sheet1!$G$14),Sheet1!$A$14,\"\"))","v":""},{"$f":"IF($L287=\"\",\"\",IF(AND($L287>=Sheet1!$F$15,'Pupil List'!$L287<Sheet1!$G$15),Sheet1!$A$15,\"\"))","v":""},{"$f":"IF($L287=\"\",\"\",IF(AND($L287>=Sheet1!$F$16,'Pupil List'!$L287<Sheet1!$G$16),Sheet1!$A$16,\"\"))","v":""},{"$f":"IF($L287=\"\",\"\",IF(AND($L287>=Sheet1!$F$17,'Pupil List'!$L287<Sheet1!$G$17),Sheet1!$A$17,\"\"))","v":""},{"$f":"IF($L287=\"\",\"\",IF(AND($L287>=Sheet1!$F$18,'Pupil List'!$L287<Sheet1!$G$18),Sheet1!$A$18,\"\"))","v":""},{"$f":"IF($L287=\"\",\"\",IF(AND($L287>=Sheet1!$F$19,'Pupil List'!$L287<Sheet1!$G$19),Sheet1!$A$19,\"\"))","v":""},{"$f":"IF($L287=\"\",\"\",IF(AND($L287>=Sheet1!$F$20,'Pupil List'!$L287<Sheet1!$G$20),Sheet1!$A$20,\"\"))","v":""},{"$f":"IF($L287=\"\",\"\",IF(AND($L287>=Sheet1!$F$21,'Pupil List'!$L287<Sheet1!$G$21),Sheet1!$A$21,\"\"))","v":""},{"$f":"IF($L287=\"\",\"\",IF(AND($L287>=Sheet1!$F$22,'Pupil List'!$L287<Sheet1!$G$22),Sheet1!$A$22,\"\"))","v":""},{"$f":"IF($L287=\"\",\"\",IF(AND($L287>=Sheet1!$F$23,'Pupil List'!$L287<Sheet1!$G$23),Sheet1!$A$23,\"\"))","v":""},{"$f":"IF($L287=\"\",\"\",IF(AND($L287>=Sheet1!$F$24,'Pupil List'!$L287<Sheet1!$G$24),Sheet1!$A$24,\"\"))","v":""},{"$f":"IF($L287=\"\",\"\",IF(AND($L287>=Sheet1!$F$25,'Pupil List'!$L287<Sheet1!$G$25),Sheet1!$A$25,\"\"))","v":""},{"$error":"#N/A"},{"$f":"IFERROR(VLOOKUP(BK287,Sheet1!$A$2:$E$25,3,FALSE),\"\")","v":""},{"$f":"IFERROR(VLOOKUP(BK287,Sheet1!$A$2:$E$25,4,FALSE),\"\")","v":""},{"$f":"IFERROR(VLOOKUP(BK287,Sheet1!$A$2:$E$25,5,FALSE),\"\")","v":""},{"$f":"IFERROR(VLOOKUP(N287,Sheet1!$A$29:$B$38,2,FALSE),\"\")","v":""}]
["","","",null,null,null,null,null,"","","",null,"",null,"","","","","","","","","","","","","","","","","","","","","","","","",{"$f":"IF($L288=\"\",\"\",IF(AND($L288>=Sheet1!$F$2,'Pupil List'!$L288<Sheet1!$G$2),Sheet1!$A$2,\"\"))","v":""},{"$f":"IF($L288=\"\",\"\",IF(AND($L288>=Sheet1!$F$3,'Pupil List'!$L288<Sheet1!$G$3),Sheet1!$A$3,\"\"))","v":""},{"$f":"IF($L288=\"\",\"\",IF(AND($L288>=Sheet1!$F$4,'Pupil List'!$L288<Sheet1!$G$4),Sheet1!$A$4,\"\"))","v":""},{"$f":"IF($L288=\"\",\"\",IF(AND($L288>=Sheet1!$F$5,'Pupil List'!$L288<Sheet1!$G$5),Sheet1!$A$5,\"\"))","v":""},{"$f":"IF($L288=\"\",\"\",IF(AND($L288>=Sheet1!$F$6,'Pupil List'!$L288<Sheet1!$G$6),Sheet1!$A$6,\"\"))","v":""},{"$f":"IF($L288=\"\",\"\",IF(AND($L288>=Sheet1!$F$7,'Pupil List'!$L288<Sheet1!$G$7),Sheet1!$A$7,\"\"))","v":""},{"$f":"IF($L288=\"\",\"\",IF(AND($L288>=Sheet1!$F$8,'Pupil List'!$L288<Sheet1!$G$8),Sheet1!$A$8,\"\"))","v":""},{"$f":"IF($L288=\"\",\"\",IF(AND($L288>=Sheet1!$F$9,'Pupil List'!$L288<Sheet1!$G$9),Sheet1!$A$9,\"\"))","v":""},{"$f":"IF($L288=\"\",\"\",IF(AND($L288>=Sheet1!$F$10,'Pupil List'!$L288<Sheet1!$G$10),Sheet1!$A$10,\"\"))","v":""},{"$f":"IF($L288=\"\",\"\",IF(AND($L288>=Sheet1!$F$11,'Pupil List'!$L288<Sheet1!$G$11),Sheet1!$A$11,\"\"))","v":""},{"$f":"IF($L288=\"\",\"\",IF(AND($L288>=Sheet1!$F$12,'Pupil List'!$L288<Sheet1!$G$12),Sheet1!$A$12,\"\"))","v":""},{"$f":"IF($L288=\"\",\"\",IF(AND($L288>=Sheet1!$F$13,'Pupil List'!$L288<Sheet1!$G$13),Sheet1!$A$13,\"\"))","v":""},{"$f":"IF($L288=\"\",\"\",IF(AND($L288>=Sheet1!$F$14,'Pupil List'!$L288<Sheet1!$G$14),Sheet1!$A$14,\"\"))","v":""},{"$f":"IF($L288=\"\",\"\",IF(AND($L288>=Sheet1!$F$15,'Pupil List'!$L288<Sheet1!$G$15),Sheet1!$A$15,\"\"))","v":""},{"$f":"IF($L288=\"\",\"\",IF(AND($L288>=Sheet1!$F$16,'Pupil List'!$L288<Sheet1!$G$16),Sheet1!$A$16,\"\"))","v":""},{"$f":"IF($L288=\"\",\"\",IF(AND($L288>=Sheet1!$F$17,'Pupil List'!$L288<Sheet1!$G$17),Sheet1!$A$17,\"\"))","v":""},{"$f":"IF($L288=\"\",\"\",IF(AND($L288>=Sheet1!$F$18,'Pupil List'!$L288<Sheet1!$G$18),Sheet1!$A$18,\"\"))","v":""},{"$f":"IF($L288=\"\",\"\",IF(AND($L288>=Sheet1!$F$19,'Pupil List'!$L288<Sheet1!$G$19),Sheet1!$A$19,\"\"))","v":""},{"$f":"IF($L288=\"\",\"\",IF(AND($L288>=Sheet1!$F$20,'Pupil List'!$L288<Sheet1!$G$20),Sheet1!$A$20,\"\"))","v":""},{"$f":"IF($L288=\"\",\"\",IF(AND($L288>=Sheet1!$F$21,'Pupil List'!$L288<Sheet1!$G$21),Sheet1!$A$21,\"\"))","v":""},{"$f":"IF($L288=\"\",\"\",IF(AND($L288>=Sheet1!$F$22,'Pupil List'!$L288<Sheet1!$G$22),Sheet1!$A$22,\"\"))","v":""},{"$f":"IF($L288=\"\",\"\",IF(AND($L288>=Sheet1!$F$23,'Pupil List'!$L288<Sheet1!$G$23),Sheet1!$A$23,\"\"))","v":""},{"$f":"IF($L288=\"\",\"\",IF(AND($L288>=Sheet1!$F$24,'Pupil List'!$L288<Sheet1!$G$24),Sheet1!$A$24,\"\"))","v":""},{"$f":"IF($L288=\"\",\"\",IF(AND($L288>=Sheet1!$F$25,'Pupil List'!$L288<Sheet1!$G$25),Sheet1!$A$25,\"\"))","v":""},{"$error":"#N/A"},{"$f":"IFERROR(VLOOKUP(BK288,Sheet1!$A$2:$E$25,3,FALSE),\"\")","v":""},{"$f":"IFERROR(VLOOKUP(BK288,Sheet1!$A$2:$E$25,4,FALSE),\"\")","v":""},{"$f":"IFERROR(VLOOKUP(BK288,Sheet1!$A$2:$E$25,5,FALSE),\"\")","v":""},{"$f":"IFERROR(VLOOKUP(N288,Sheet1!$A$29:$B$38,2,FALSE),\"\")","v":""}]
["","","",null,null,null,null,null,"","","",null,"",null,"","","","","","","","","","","","","","","","","","","","","","","","",{"$f":"IF($L289=\"\",\"\",IF(AND($L289>=Sheet1!$F$2,'Pupil List'!$L289<Sheet1!$G$2),Sheet1!$A$2,\"\"))","v":""},{"$f":"IF($L289=\"\",\"\",IF(AND($L289>=Sheet1!$F$3,'Pupil List'!$L289<Sheet1!$G$3),Sheet1!$A$3,\"\"))","v":""},{"$f":"IF($L289=\"\",\"\",IF(AND($L289>=Sheet1!$F$4,'Pupil List'!$L289<Sheet1!$G$4),Sheet1!$A$4,\"\"))","v":""},{"$f":"IF($L289=\"\",\"\",IF(AND($L289>=Sheet1!$F$5,'Pupil List'!$L289<Sheet1!$G$5),Sheet1!$A$5,\"\"))","v":""},{"$f":"IF($L289=\"\",\"\",IF(AND($L289>=Sheet1!$F$6,'Pupil List'!$L289<Sheet1!$G$6),Sheet1!$A$6,\"\"))","v":""},{"$f":"IF($L289=\"\",\"\",IF(AND($L289>=Sheet1!$F$7,'Pupil List'!$L289<Sheet1!$G$7),Sheet1!$A$7,\"\"))","v":""},{"$f":"IF($L289=\"\",\"\",IF(AND($L289>=Sheet1!$F$8,'Pupil List'!$L289<Sheet1!$G$8),Sheet1!$A$8,\"\"))","v":""},{"$f":"IF($L289=\"\",\"\",IF(AND($L289>=Sheet1!$F$9,'Pupil List'!$L289<Sheet1!$G$9),Sheet1!$A$9,\"\"))","v":""},{"$f":"IF($L289=\"\",\"\",IF(AND($L289>=Sheet1!$F$10,'Pupil List'!$L289<Sheet1!$G$10),Sheet1!$A$10,\"\"))","v":""},{"$f":"IF($L289=\"\",\"\",IF(AND($L289>=Sheet1!$F$11,'Pupil List'!$L289<Sheet1!$G$11),Sheet1!$A$11,\"\"))","v":""},{"$f":"IF($L289=\"\",\"\",IF(AND($L289>=Sheet1!$F$12,'Pupil List'!$L289<Sheet1!$G$12),Sheet1!$A$12,\"\"))","v":""},{"$f":"IF($L289=\"\",\"\",IF(AND($L289>=Sheet1!$F$13,'Pupil List'!$L289<Sheet1!$G$13),Sheet1!$A$13,\"\"))","v":""},{"$f":"IF($L289=\"\",\"\",IF(AND($L289>=Sheet1!$F$14,'Pupil List'!$L289<Sheet1!$G$14),Sheet1!$A$14,\"\"))","v":""},{"$f":"IF($L289=\"\",\"\",IF(AND($L289>=Sheet1!$F$15,'Pupil List'!$L289<Sheet1!$G$15),Sheet1!$A$15,\"\"))","v":""},{"$f":"IF($L289=\"\",\"\",IF(AND($L289>=Sheet1!$F$16,'Pupil List'!$L289<Sheet1!$G$16),Sheet1!$A$16,\"\"))","v":""},{"$f":"IF($L289=\"\",\"\",IF(AND($L289>=Sheet1!$F$17,'Pupil List'!$L289<Sheet1!$G$17),Sheet1!$A$17,\"\"))","v":""},{"$f":"IF($L289=\"\",\"\",IF(AND($L289>=Sheet1!$F$18,'Pupil List'!$L289<Sheet1!$G$18),Sheet1!$A$18,\"\"))","v":""},{"$f":"IF($L289=\"\",\"\",IF(AND($L289>=Sheet1!$F$19,'Pupil List'!$L289<Sheet1!$G$19),Sheet1!$A$19,\"\"))","v":""},{"$f":"IF($L289=\"\",\"\",IF(AND($L289>=Sheet1!$F$20,'Pupil List'!$L289<Sheet1!$G$20),Sheet1!$A$20,\"\"))","v":""},{"$f":"IF($L289=\"\",\"\",IF(AND($L289>=Sheet1!$F$21,'Pupil List'!$L289<Sheet1!$G$21),Sheet1!$A$21,\"\"))","v":""},{"$f":"IF($L289=\"\",\"\",IF(AND($L289>=Sheet1!$F$22,'Pupil List'!$L289<Sheet1!$G$22),Sheet1!$A$22,\"\"))","v":""},{"$f":"IF($L289=\"\",\"\",IF(AND($L289>=Sheet1!$F$23,'Pupil List'!$L289<Sheet1!$G$23),Sheet1!$A$23,\"\"))","v":""},{"$f":"IF($L289=\"\",\"\",IF(AND($L289>=Sheet1!$F$24,'Pupil List'!$L289<Sheet1!$G$24),Sheet1!$A$24,\"\"))","v":""},{"$f":"IF($L289=\"\",\"\",IF(AND($L289>=Sheet1!$F$25,'Pupil List'!$L289<Sheet1!$G$25),Sheet1!$A$25,\"\"))","v":""},{"$error":"#N/A"},{"$f":"IFERROR(VLOOKUP(BK289,Sheet1!$A$2:$E$25,3,FALSE),\"\")","v":""},{"$f":"IFERROR(VLOOKUP(BK289,Sheet1!$A$2:$E$25,4,FALSE),\"\")","v":""},{"$f":"IFERROR(VLOOKUP(BK289,Sheet1!$A$2:$E$25,5,FALSE),\"\")","v":""},{"$f":"IFERROR(VLOOKUP(N289,Sheet1!$A$29:$B$38,2,FALSE),\"\")","v":""}]
["","","",null,null,null,null,null,"","","",null,"",null,"","","","","","","","","","","","","","","","","","","","","","","","",{"$f":"IF($L290=\"\",\"\",IF(AND($L290>=Sheet1!$F$2,'Pupil List'!$L290<Sheet1!$G$2),Sheet1!$A$2,\"\"))","v":""},{"$f":"IF($L290=\"\",\"\",IF(AND($L290>=Sheet1!$F$3,'Pupil List'!$L290<Sheet1!$G$3),Sheet1!$A$3,\"\"))","v":""},{"$f":"IF($L290=\"\",\"\",IF(AND($L290>=Sheet1!$F$4,'Pupil List'!$L290<Sheet1!$G$4),Sheet1!$A$4,\"\"))","v":""},{"$f":"IF($L290=\"\",\"\",IF(AND($L290>=Sheet1!$F$5,'Pupil List'!$L290<Sheet1!$G$5),Sheet1!$A$5,\"\"))","v":""},{"$f":"IF($L290=\"\",\"\",IF(AND($L290>=Sheet1!$F$6,'Pupil List'!$L290<Sheet1!$G$6),Sheet1!$A$6,\"\"))","v":""},{"$f":"IF($L290=\"\",\"\",IF(AND($L290>=Sheet1!$F$7,'Pupil List'!$L290<Sheet1!$G$7),Sheet1!$A$7,\"\"))","v":""},{"$f":"IF($L290=\"\",\"\",IF(AND($L290>=Sheet1!$F$8,'Pupil List'!$L290<Sheet1!$G$8),Sheet1!$A$8,\"\"))","v":""},{"$f":"IF($L290=\"\",\"\",IF(AND($L290>=Sheet1!$F$9,'Pupil List'!$L290<Sheet1!$G$9),Sheet1!$A$9,\"\"))","v":""},{"$f":"IF($L290=\"\",\"\",IF(AND($L290>=Sheet1!$F$10,'Pupil List'!$L290<Sheet1!$G$10),Sheet1!$A$10,\"\"))","v":""},{"$f":"IF($L290=\"\",\"\",IF(AND($L290>=Sheet1!$F$11,'Pupil List'!$L290<Sheet1!$G$11),Sheet1!$A$11,\"\"))","v":""},{"$f":"IF($L290=\"\",\"\",IF(AND($L290>=Sheet1!$F$12,'Pupil List'!$L290<Sheet1!$G$12),Sheet1!$A$12,\"\"))","v":""},{"$f":"IF($L290=\"\",\"\",IF(AND($L290>=Sheet1!$F$13,'Pupil List'!$L290<Sheet1!$G$13),Sheet1!$A$13,\"\"))","v":""},{"$f":"IF($L290=\"\",\"\",IF(AND($L290>=Sheet1!$F$14,'Pupil List'!$L290<Sheet1!$G$14),Sheet1!$A$14,\"\"))","v":""},{"$f":"IF($L290=\"\",\"\",IF(AND($L290>=Sheet1!$F$15,'Pupil List'!$L290<Sheet1!$G$15),Sheet1!$A$15,\"\"))","v":""},{"$f":"IF($L290=\"\",\"\",IF(AND($L290>=Sheet1!$F$16,'Pupil List'!$L290<Sheet1!$G$16),Sheet1!$A$16,\"\"))","v":""},{"$f":"IF($L290=\"\",\"\",IF(AND($L290>=Sheet1!$F$17,'Pupil List'!$L290<Sheet1!$G$17),Sheet1!$A$17,\"\"))","v":""},{"$f":"IF($L290=\"\",\"\",IF(AND($L290>=Sheet1!$F$18,'Pupil List'!$L290<Sheet1!$G$18),Sheet1!$A$18,\"\"))","v":""},{"$f":"IF($L290=\"\",\"\",IF(AND($L290>=Sheet1!$F$19,'Pupil List'!$L290<Sheet1!$G$19),Sheet1!$A$19,\"\"))","v":""},{"$f":"IF($L290=\"\",\"\",IF(AND($L290>=Sheet1!$F$20,'Pupil List'!$L290<Sheet1!$G$20),Sheet1!$A$20,\"\"))","v":""},{"$f":"IF($L290=\"\",\"\",IF(AND($L290>=Sheet1!$F$21,'Pupil List'!$L290<Sheet1!$G$21),Sheet1!$A$21,\"\"))","v":""},{"$f":"IF($L290=\"\",\"\",IF(AND($L290>=Sheet1!$F$22,'Pupil List'!$L290<Sheet1!$G$22),Sheet1!$A$22,\"\"))","v":""},{"$f":"IF($L290=\"\",\"\",IF(AND($L290>=Sheet1!$F$23,'Pupil List'!$L290<Sheet1!$G$23),Sheet1!$A$23,\"\"))","v":""},{"$f":"IF($L290=\"\",\"\",IF(AND($L290>=Sheet1!$F$24,'Pupil List'!$L290<Sheet1!$G$24),Sheet1!$A$24,\"\"))","v":""},{"$f":"IF($L290=\"\",\"\",IF(AND($L290>=Sheet1!$F$25,'Pupil List'!$L290<Sheet1!$G$25),Sheet1!$A$25,\"\"))","v":""},{"$error":"#N/A"},{"$f":"IFERROR(VLOOKUP(BK290,Sheet1!$A$2:$E$25,3,FALSE),\"\")","v":""},{"$f":"IFERROR(VLOOKUP(BK290,Sheet1!$A$2:$E$25,4,FALSE),\"\")","v":""},{"$f":"IFERROR(VLOOKUP(BK290,Sheet1!$A$2:$E$25,5,FALSE),\"\")","v":""},{"$f":"IFERROR(VLOOKUP(N290,Sheet1!$A$29:$B$38,2,FALSE),\"\")","v":""}]
["","","",null,null,null,null,null,"","","",null,"",null,"","","","","","","","","","","","","","","","","","","","","","","","",{"$f":"IF($L291=\"\",\"\",IF(AND($L291>=Sheet1!$F$2,'Pupil List'!$L291<Sheet1!$G$2),Sheet1!$A$2,\"\"))","v":""},{"$f":"IF($L291=\"\",\"\",IF(AND($L291>=Sheet1!$F$3,'Pupil List'!$L291<Sheet1!$G$3),Sheet1!$A$3,\"\"))","v":""},{"$f":"IF($L291=\"\",\"\",IF(AND($L291>=Sheet1!$F$4,'Pupil List'!$L291<Sheet1!$G$4),Sheet1!$A$4,\"\"))","v":""},{"$f":"IF($L291=\"\",\"\",IF(AND($L291>=Sheet1!$F$5,'Pupil List'!$L291<Sheet1!$G$5),Sheet1!$A$5,\"\"))","v":""},{"$f":"IF($L291=\"\",\"\",IF(AND($L291>=Sheet1!$F$6,'Pupil List'!$L291<Sheet1!$G$6),Sheet1!$A$6,\"\"))","v":""},{"$f":"IF($L291=\"\",\"\",IF(AND($L291>=Sheet1!$F$7,'Pupil List'!$L291<Sheet1!$G$7),Sheet1!$A$7,\"\"))","v":""},{"$f":"IF($L291=\"\",\"\",IF(AND($L291>=Sheet1!$F$8,'Pupil List'!$L291<Sheet1!$G$8),Sheet1!$A$8,\"\"))","v":""},{"$f":"IF($L291=\"\",\"\",IF(AND($L291>=Sheet1!$F$9,'Pupil List'!$L291<Sheet1!$G$9),Sheet1!$A$9,\"\"))","v":""},{"$f":"IF($L291=\"\",\"\",IF(AND($L291>=Sheet1!$F$10,'Pupil List'!$L291<Sheet1!$G$10),Sheet1!$A$10,\"\"))","v":""},{"$f":"IF($L291=\"\",\"\",IF(AND($L291>=Sheet1!$F$11,'Pupil List'!$L291<Sheet1!$G$11),Sheet1!$A$11,\"\"))","v":""},{"$f":"IF($L291=\"\",\"\",IF(AND($L291>=Sheet1!$F$12,'Pupil List'!$L291<Sheet1!$G$12),Sheet1!$A$12,\"\"))","v":""},{"$f":"IF($L291=\"\",\"\",IF(AND($L291>=Sheet1!$F$13,'Pupil List'!$L291<Sheet1!$G$13),Sheet1!$A$13,\"\"))","v":""},{"$f":"IF($L291=\"\",\"\",IF(AND($L291>=Sheet1!$F$14,'Pupil List'!$L291<Sheet1!$G$14),Sheet1!$A$14,\"\"))","v":""},{"$f":"IF($L291=\"\",\"\",IF(AND($L291>=Sheet1!$F$15,'Pupil List'!$L291<Sheet1!$G$15),Sheet1!$A$15,\"\"))","v":""},{"$f":"IF($L291=\"\",\"\",IF(AND($L291>=Sheet1!$F$16,'Pupil List'!$L291<Sheet1!$G$16),Sheet1!$A$16,\"\"))","v":""},{"$f":"IF($L291=\"\",\"\",IF(AND($L291>=Sheet1!$F$17,'Pupil List'!$L291<Sheet1!$G$17),Sheet1!$A$17,\"\"))","v":""},{"$f":"IF($L291=\"\",\"\",IF(AND($L291>=Sheet1!$F$18,'Pupil List'!$L291<Sheet1!$G$18),Sheet1!$A$18,\"\"))","v":""},{"$f":"IF($L291=\"\",\"\",IF(AND($L291>=Sheet1!$F$19,'Pupil List'!$L291<Sheet1!$G$19),Sheet1!$A$19,\"\"))","v":""},{"$f":"IF($L291=\"\",\"\",IF(AND($L291>=Sheet1!$F$20,'Pupil List'!$L291<Sheet1!$G$20),Sheet1!$A$20,\"\"))","v":""},{"$f":"IF($L291=\"\",\"\",IF(AND($L291>=Sheet1!$F$21,'Pupil List'!$L291<Sheet1!$G$21),Sheet1!$A$21,\"\"))","v":""},{"$f":"IF($L291=\"\",\"\",IF(AND($L291>=Sheet1!$F$22,'Pupil List'!$L291<Sheet1!$G$22),Sheet1!$A$22,\"\"))","v":""},{"$f":"IF($L291=\"\",\"\",IF(AND($L291>=Sheet1!$F$23,'Pupil List'!$L291<Sheet1!$G$23),Sheet1!$A$23,\"\"))","v":""},{"$f":"IF($L291=\"\",\"\",IF(AND($L291>=Sheet1!$F$24,'Pupil List'!$L291<Sheet1!$G$24),Sheet1!$A$24,\"\"))","v":""},{"$f":"IF($L291=\"\",\"\",IF(AND($L291>=Sheet1!$F$25,'Pupil List'!$L291<Sheet1!$G$25),Sheet1!$A$25,\"\"))","v":""},{"$error":"#N/A"},{"$f":"IFERROR(VLOOKUP(BK291,Sheet1!$A$2:$E$25,3,FALSE),\"\")","v":""},{"$f":"IFERROR(VLOOKUP(BK291,Sheet1!$A$2:$E$25,4,FALSE),\"\")","v":""},{"$f":"IFERROR(VLOOKUP(BK291,Sheet1!$A$2:$E$25,5,FALSE),\"\")","v":""},{"$f":"IFERROR(VLOOKUP(N291,Sheet1!$A$29:$B$38,2,FALSE),\"\")","v":""}]
["","","",null,null,null,null,null,"","","",null,"",null,"","","","","","","","","","","","","","","","","","","","","","","","",{"$f":"IF($L292=\"\",\"\",IF(AND($L292>=Sheet1!$F$2,'Pupil List'!$L292<Sheet1!$G$2),Sheet1!$A$2,\"\"))","v":""},{"$f":"IF($L292=\"\",\"\",IF(AND($L292>=Sheet1!$F$3,'Pupil List'!$L292<Sheet1!$G$3),Sheet1!$A$3,\"\"))","v":""},{"$f":"IF($L292=\"\",\"\",IF(AND($L292>=Sheet1!$F$4,'Pupil List'!$L292<Sheet1!$G$4),Sheet1!$A$4,\"\"))","v":""},{"$f":"IF($L292=\"\",\"\",IF(AND($L292>=Sheet1!$F$5,'Pupil List'!$L292<Sheet1!$G$5),Sheet1!$A$5,\"\"))","v":""},{"$f":"IF($L292=\"\",\"\",IF(AND($L292>=Sheet1!$F$6,'Pupil List'!$L292<Sheet1!$G$6),Sheet1!$A$6,\"\"))","v":""},{"$f":"IF($L292=\"\",\"\",IF(AND($L292>=Sheet1!$F$7,'Pupil List'!$L292<Sheet1!$G$7),Sheet1!$A$7,\"\"))","v":""},{"$f":"IF($L292=\"\",\"\",IF(AND($L292>=Sheet1!$F$8,'Pupil List'!$L292<Sheet1!$G$8),Sheet1!$A$8,\"\"))","v":""},{"$f":"IF($L292=\"\",\"\",IF(AND($L292>=Sheet1!$F$9,'Pupil List'!$L292<Sheet1!$G$9),Sheet1!$A$9,\"\"))","v":""},{"$f":"IF($L292=\"\",\"\",IF(AND($L292>=Sheet1!$F$10,'Pupil List'!$L292<Sheet1!$G$10),Sheet1!$A$10,\"\"))","v":""},{"$f":"IF($L292=\"\",\"\",IF(AND($L292>=Sheet1!$F$11,'Pupil List'!$L292<Sheet1!$G$11),Sheet1!$A$11,\"\"))","v":""},{"$f":"IF($L292=\"\",\"\",IF(AND($L292>=Sheet1!$F$12,'Pupil List'!$L292<Sheet1!$G$12),Sheet1!$A$12,\"\"))","v":""},{"$f":"IF($L292=\"\",\"\",IF(AND($L292>=Sheet1!$F$13,'Pupil List'!$L292<Sheet1!$G$13),Sheet1!$A$13,\"\"))","v":""},{"$f":"IF($L292=\"\",\"\",IF(AND($L292>=Sheet1!$F$14,'Pupil List'!$L292<Sheet1!$G$14),Sheet1!$A$14,\"\"))","v":""},{"$f":"IF($L292=\"\",\"\",IF(AND($L292>=Sheet1!$F$15,'Pupil List'!$L292<Sheet1!$G$15),Sheet1!$A$15,\"\"))","v":""},{"$f":"IF($L292=\"\",\"\",IF(AND($L292>=Sheet1!$F$16,'Pupil List'!$L292<Sheet1!$G$16),Sheet1!$A$16,\"\"))","v":""},{"$f":"IF($L292=\"\",\"\",IF(AND($L292>=Sheet1!$F$17,'Pupil List'!$L292<Sheet1!$G$17),Sheet1!$A$17,\"\"))","v":""},{"$f":"IF($L292=\"\",\"\",IF(AND($L292>=Sheet1!$F$18,'Pupil List'!$L292<Sheet1!$G$18),Sheet1!$A$18,\"\"))","v":""},{"$f":"IF($L292=\"\",\"\",IF(AND($L292>=Sheet1!$F$19,'Pupil List'!$L292<Sheet1!$G$19),Sheet1!$A$19,\"\"))","v":""},{"$f":"IF($L292=\"\",\"\",IF(AND($L292>=Sheet1!$F$20,'Pupil List'!$L292<Sheet1!$G$20),Sheet1!$A$20,\"\"))","v":""},{"$f":"IF($L292=\"\",\"\",IF(AND($L292>=Sheet1!$F$21,'Pupil List'!$L292<Sheet1!$G$21),Sheet1!$A$21,\"\"))","v":""},{"$f":"IF($L292=\"\",\"\",IF(AND($L292>=Sheet1!$F$22,'Pupil List'!$L292<Sheet1!$G$22),Sheet1!$A$22,\"\"))","v":""},{"$f":"IF($L292=\"\",\"\",IF(AND($L292>=Sheet1!$F$23,'Pupil List'!$L292<Sheet1!$G$23),Sheet1!$A$23,\"\"))","v":""},{"$f":"IF($L292=\"\",\"\",IF(AND($L292>=Sheet1!$F$24,'Pupil List'!$L292<Sheet1!$G$24),Sheet1!$A$24,\"\"))","v":""},{"$f":"IF($L292=\"\",\"\",IF(AND($L292>=Sheet1!$F$25,'Pupil List'!$L292<Sheet1!$G$25),Sheet1!$A$25,\"\"))","v":""},{"$error":"#N/A"},{"$f":"IFERROR(VLOOKUP(BK292,Sheet1!$A$2:$E$25,3,FALSE),\"\")","v":""},{"$f":"IFERROR(VLOOKUP(BK292,Sheet1!$A$2:$E$25,4,FALSE),\"\")","v":""},{"$f":"IFERROR(VLOOKUP(BK292,Sheet1!$A$2:$E$25,5,FALSE),\"\")","v":""},{"$f":"IFERROR(VLOOKUP(N292,Sheet1!$A$29:$B$38,2,FALSE),\"\")","v":""}]
["","","",null,null,null,null,null,"","","",null,"",null,"","","","","","","","","","","","","","","","","","","","","","","","",{"$f":"IF($L293=\"\",\"\",IF(AND($L293>=Sheet1!$F$2,'Pupil List'!$L293<Sheet1!$G$2),Sheet1!$A$2,\"\"))","v":""},{"$f":"IF($L293=\"\",\"\",IF(AND($L293>=Sheet1!$F$3,'Pupil List'!$L293<Sheet1!$G$3),Sheet1!$A$3,\"\"))","v":""},{"$f":"IF($L293=\"\",\"\",IF(AND($L293>=Sheet1!$F$4,'Pupil List'!$L293<Sheet1!$G$4),Sheet1!$A$4,\"\"))","v":""},{"$f":"IF($L293=\"\",\"\",IF(AND($L293>=Sheet1!$F$5,'Pupil List'!$L293<Sheet1!$G$5),Sheet1!$A$5,\"\"))","v":""},{"$f":"IF($L293=\"\",\"\",IF(AND($L293>=Sheet1!$F$6,'Pupil List'!$L293<Sheet1!$G$6),Sheet1!$A$6,\"\"))","v":""},{"$f":"IF($L293=\"\",\"\",IF(AND($L293>=Sheet1!$F$7,'Pupil List'!$L293<Sheet1!$G$7),Sheet1!$A$7,\"\"))","v":""},{"$f":"IF($L293=\"\",\"\",IF(AND($L293>=Sheet1!$F$8,'Pupil List'!$L293<Sheet1!$G$8),Sheet1!$A$8,\"\"))","v":""},{"$f":"IF($L293=\"\",\"\",IF(AND($L293>=Sheet1!$F$9,'Pupil List'!$L293<Sheet1!$G$9),Sheet1!$A$9,\"\"))","v":""},{"$f":"IF($L293=\"\",\"\",IF(AND($L293>=Sheet1!$F$10,'Pupil List'!$L293<Sheet1!$G$10),Sheet1!$A$10,\"\"))","v":""},{"$f":"IF($L293=\"\",\"\",IF(AND($L293>=Sheet1!$F$11,'Pupil List'!$L293<Sheet1!$G$11),Sheet1!$A$11,\"\"))","v":""},{"$f":"IF($L293=\"\",\"\",IF(AND($L293>=Sheet1!$F$12,'Pupil List'!$L293<Sheet1!$G$12),Sheet1!$A$12,\"\"))","v":""},{"$f":"IF($L293=\"\",\"\",IF(AND($L293>=Sheet1!$F$13,'Pupil List'!$L293<Sheet1!$G$13),Sheet1!$A$13,\"\"))","v":""},{"$f":"IF($L293=\"\",\"\",IF(AND($L293>=Sheet1!$F$14,'Pupil List'!$L293<Sheet1!$G$14),Sheet1!$A$14,\"\"))","v":""},{"$f":"IF($L293=\"\",\"\",IF(AND($L293>=Sheet1!$F$15,'Pupil List'!$L293<Sheet1!$G$15),Sheet1!$A$15,\"\"))","v":""},{"$f":"IF($L293=\"\",\"\",IF(AND($L293>=Sheet1!$F$16,'Pupil List'!$L293<Sheet1!$G$16),Sheet1!$A$16,\"\"))","v":""},{"$f":"IF($L293=\"\",\"\",IF(AND($L293>=Sheet1!$F$17,'Pupil List'!$L293<Sheet1!$G$17),Sheet1!$A$17,\"\"))","v":""},{"$f":"IF($L293=\"\",\"\",IF(AND($L293>=Sheet1!$F$18,'Pupil List'!$L293<Sheet1!$G$18),Sheet1!$A$18,\"\"))","v":""},{"$f":"IF($L293=\"\",\"\",IF(AND($L293>=Sheet1!$F$19,'Pupil List'!$L293<Sheet1!$G$19),Sheet1!$A$19,\"\"))","v":""},{"$f":"IF($L293=\"\",\"\",IF(AND($L293>=Sheet1!$F$20,'Pupil List'!$L293<Sheet1!$G$20),Sheet1!$A$20,\"\"))","v":""},{"$f":"IF($L293=\"\",\"\",IF(AND($L293>=Sheet1!$F$21,'Pupil List'!$L293<Sheet1!$G$21),Sheet1!$A$21,\"\"))","v":""},{"$f":"IF($L293=\"\",\"\",IF(AND($L293>=Sheet1!$F$22,'Pupil List'!$L293<Sheet1!$G$22),Sheet1!$A$22,\"\"))","v":""},{"$f":"IF($L293=\"\",\"\",IF(AND($L293>=Sheet1!$F$23,'Pupil List'!$L293<Sheet1!$G$23),Sheet1!$A$23,\"\"))","v":""},{"$f":"IF($L293=\"\",\"\",IF(AND($L293>=Sheet1!$F$24,'Pupil List'!$L293<Sheet1!$G$24),Sheet1!$A$24,\"\"))","v":""},{"$f":"IF($L293=\"\",\"\",IF(AND($L293>=Sheet1!$F$25,'Pupil List'!$L293<Sheet1!$G$25),Sheet1!$A$25,\"\"))","v":""},{"$error":"#N/A"},{"$f":"IFERROR(VLOOKUP(BK293,Sheet1!$A$2:$E$25,3,FALSE),\"\")","v":""},{"$f":"IFERROR(VLOOKUP(BK293,Sheet1!$A$2:$E$25,4,FALSE),\"\")","v":""},{"$f":"IFERROR(VLOOKUP(BK293,Sheet1!$A$2:$E$25,5,FALSE),\"\")","v":""},{"$f":"IFERROR(VLOOKUP(N293,Sheet1!$A$29:$B$38,2,FALSE),\"\")","v":""}]
["","","",null,null,null,null,null,"","","",null,"",null,"","","","","","","","","","","","","","","","","","","","","","","","",{"$f":"IF($L294=\"\",\"\",IF(AND($L294>=Sheet1!$F$2,'Pupil List'!$L294<Sheet1!$G$2),Sheet1!$A$2,\"\"))","v":""},{"$f":"IF($L294=\"\",\"\",IF(AND($L294>=Sheet1!$F$3,'Pupil List'!$L294<Sheet1!$G$3),Sheet1!$A$3,\"\"))","v":""},{"$f":"IF($L294=\"\",\"\",IF(AND($L294>=Sheet1!$F$4,'Pupil List'!$L294<Sheet1!$G$4),Sheet1!$A$4,\"\"))","v":""},{"$f":"IF($L294=\"\",\"\",IF(AND($L294>=Sheet1!$F$5,'Pupil List'!$L294<Sheet1!$G$5),Sheet1!$A$5,\"\"))","v":""},{"$f":"IF($L294=\"\",\"\",IF(AND($L294>=Sheet1!$F$6,'Pupil List'!$L294<Sheet1!$G$6),Sheet1!$A$6,\"\"))","v":""},{"$f":"IF($L294=\"\",\"\",IF(AND($L294>=Sheet1!$F$7,'Pupil List'!$L294<Sheet1!$G$7),Sheet1!$A$7,\"\"))","v":""},{"$f":"IF($L294=\"\",\"\",IF(AND($L294>=Sheet1!$F$8,'Pupil List'!$L294<Sheet1!$G$8),Sheet1!$A$8,\"\"))","v":""},{"$f":"IF($L294=\"\",\"\",IF(AND($L294>=Sheet1!$F$9,'Pupil List'!$L294<Sheet1!$G$9),Sheet1!$A$9,\"\"))","v":""},{"$f":"IF($L294=\"\",\"\",IF(AND($L294>=Sheet1!$F$10,'Pupil List'!$L294<Sheet1!$G$10),Sheet1!$A$10,\"\"))","v":""},{"$f":"IF($L294=\"\",\"\",IF(AND($L294>=Sheet1!$F$11,'Pupil List'!$L294<Sheet1!$G$11),Sheet1!$A$11,\"\"))","v":""},{"$f":"IF($L294=\"\",\"\",IF(AND($L294>=Sheet1!$F$12,'Pupil List'!$L294<Sheet1!$G$12),Sheet1!$A$12,\"\"))","v":""},{"$f":"IF($L294=\"\",\"\",IF(AND($L294>=Sheet1!$F$13,'Pupil List'!$L294<Sheet1!$G$13),Sheet1!$A$13,\"\"))","v":""},{"$f":"IF($L294=\"\",\"\",IF(AND($L294>=Sheet1!$F$14,'Pupil List'!$L294<Sheet1!$G$14),Sheet1!$A$14,\"\"))","v":""},{"$f":"IF($L294=\"\",\"\",IF(AND($L294>=Sheet1!$F$15,'Pupil List'!$L294<Sheet1!$G$15),Sheet1!$A$15,\"\"))","v":""},{"$f":"IF($L294=\"\",\"\",IF(AND($L294>=Sheet1!$F$16,'Pupil List'!$L294<Sheet1!$G$16),Sheet1!$A$16,\"\"))","v":""},{"$f":"IF($L294=\"\",\"\",IF(AND($L294>=Sheet1!$F$17,'Pupil List'!$L294<Sheet1!$G$17),Sheet1!$A$17,\"\"))","v":""},{"$f":"IF($L294=\"\",\"\",IF(AND($L294>=Sheet1!$F$18,'Pupil List'!$L294<Sheet1!$G$18),Sheet1!$A$18,\"\"))","v":""},{"$f":"IF($L294=\"\",\"\",IF(AND($L294>=Sheet1!$F$19,'Pupil List'!$L294<Sheet1!$G$19),Sheet1!$A$19,\"\"))","v":""},{"$f":"IF($L294=\"\",\"\",IF(AND($L294>=Sheet1!$F$20,'Pupil List'!$L294<Sheet1!$G$20),Sheet1!$A$20,\"\"))","v":""},{"$f":"IF($L294=\"\",\"\",IF(AND($L294>=Sheet1!$F$21,'Pupil List'!$L294<Sheet1!$G$21),Sheet1!$A$21,\"\"))","v":""},{"$f":"IF($L294=\"\",\"\",IF(AND($L294>=Sheet1!$F$22,'Pupil List'!$L294<Sheet1!$G$22),Sheet1!$A$22,\"\"))","v":""},{"$f":"IF($L294=\"\",\"\",IF(AND($L294>=Sheet1!$F$23,'Pupil List'!$L294<Sheet1!$G$23),Sheet1!$A$23,\"\"))","v":""},{"$f":"IF($L294=\"\",\"\",IF(AND($L294>=Sheet1!$F$24,'Pupil List'!$L294<Sheet1!$G$24),Sheet1!$A$24,\"\"))","v":""},{"$f":"IF($L294=\"\",\"\",IF(AND($L294>=Sheet1!$F$25,'Pupil List'!$L294<Sheet1!$G$25),Sheet1!$A$25,\"\"))","v":""},{"$error":"#N/A"},{"$f":"IFERROR(VLOOKUP(BK294,Sheet1!$A$2:$E$25,3,FALSE),\"\")","v":""},{"$f":"IFERROR(VLOOKUP(BK294,Sheet1!$A$2:$E$25,4,FALSE),\"\")","v":""},{"$f":"IFERROR(VLOOKUP(BK294,Sheet1!$A$2:$E$25,5,FALSE),\"\")","v":""},{"$f":"IFERROR(VLOOKUP(N294,Sheet1!$A$29:$B$38,2,FALSE),\"\")","v":""}]
["","","",null,"","","","","","","",null,"",null,"","","","","","","","","","","","","","","","","","","","","","","","",{"$f":"IF($L295=\"\",\"\",IF(AND($L295>=Sheet1!$F$2,'Pupil List'!$L295<Sheet1!$G$2),Sheet1!$A$2,\"\"))","v":""},{"$f":"IF($L295=\"\",\"\",IF(AND($L295>=Sheet1!$F$3,'Pupil List'!$L295<Sheet1!$G$3),Sheet1!$A$3,\"\"))","v":""},{"$f":"IF($L295=\"\",\"\",IF(AND($L295>=Sheet1!$F$4,'Pupil List'!$L295<Sheet1!$G$4),Sheet1!$A$4,\"\"))","v":""},{"$f":"IF($L295=\"\",\"\",IF(AND($L295>=Sheet1!$F$5,'Pupil List'!$L295<Sheet1!$G$5),Sheet1!$A$5,\"\"))","v":""},{"$f":"IF($L295=\"\",\"\",IF(AND($L295>=Sheet1!$F$6,'Pupil List'!$L295<Sheet1!$G$6),Sheet1!$A$6,\"\"))","v":""},{"$f":"IF($L295=\"\",\"\",IF(AND($L295>=Sheet1!$F$7,'Pupil List'!$L295<Sheet1!$G$7),Sheet1!$A$7,\"\"))","v":""},{"$f":"IF($L295=\"\",\"\",IF(AND($L295>=Sheet1!$F$8,'Pupil List'!$L295<Sheet1!$G$8),Sheet1!$A$8,\"\"))","v":""},{"$f":"IF($L295=\"\",\"\",IF(AND($L295>=Sheet1!$F$9,'Pupil List'!$L295<Sheet1!$G$9),Sheet1!$A$9,\"\"))","v":""},{"$f":"IF($L295=\"\",\"\",IF(AND($L295>=Sheet1!$F$10,'Pupil List'!$L295<Sheet1!$G$10),Sheet1!$A$10,\"\"))","v":""},{"$f":"IF($L295=\"\",\"\",IF(AND($L295>=Sheet1!$F$11,'Pupil List'!$L295<Sheet1!$G$11),Sheet1!$A$11,\"\"))","v":""},{"$f":"IF($L295=\"\",\"\",IF(AND($L295>=Sheet1!$F$12,'Pupil List'!$L295<Sheet1!$G$12),Sheet1!$A$12,\"\"))","v":""},{"$f":"IF($L295=\"\",\"\",IF(AND($L295>=Sheet1!$F$13,'Pupil List'!$L295<Sheet1!$G$13),Sheet1!$A$13,\"\"))","v":""},{"$f":"IF($L295=\"\",\"\",IF(AND($L295>=Sheet1!$F$14,'Pupil List'!$L295<Sheet1!$G$14),Sheet1!$A$14,\"\"))","v":""},{"$f":"IF($L295=\"\",\"\",IF(AND($L295>=Sheet1!$F$15,'Pupil List'!$L295<Sheet1!$G$15),Sheet1!$A$15,\"\"))","v":""},{"$f":"IF($L295=\"\",\"\",IF(AND($L295>=Sheet1!$F$16,'Pupil List'!$L295<Sheet1!$G$16),Sheet1!$A$16,\"\"))","v":""},{"$f":"IF($L295=\"\",\"\",IF(AND($L295>=Sheet1!$F$17,'Pupil List'!$L295<Sheet1!$G$17),Sheet1!$A$17,\"\"))","v":""},{"$f":"IF($L295=\"\",\"\",IF(AND($L295>=Sheet1!$F$18,'Pupil List'!$L295<Sheet1!$G$18),Sheet1!$A$18,\"\"))","v":""},{"$f":"IF($L295=\"\",\"\",IF(AND($L295>=Sheet1!$F$19,'Pupil List'!$L295<Sheet1!$G$19),Sheet1!$A$19,\"\"))","v":""},{"$f":"IF($L295=\"\",\"\",IF(AND($L295>=Sheet1!$F$20,'Pupil List'!$L295<Sheet1!$G$20),Sheet1!$A$20,\"\"))","v":""},{"$f":"IF($L295=\"\",\"\",IF(AND($L295>=Sheet1!$F$21,'Pupil List'!$L295<Sheet1!$G$21),Sheet1!$A$21,\"\"))","v":""},{"$f":"IF($L295=\"\",\"\",IF(AND($L295>=Sheet1!$F$22,'Pupil List'!$L295<Sheet1!$G$22),Sheet1!$A$22,\"\"))","v":""},{"$f":"IF($L295=\"\",\"\",IF(AND($L295>=Sheet1!$F$23,'Pupil List'!$L295<Sheet1!$G$23),Sheet1!$A$23,\"\"))","v":""},{"$f":"IF($L295=\"\",\"\",IF(AND($L295>=Sheet1!$F$24,'Pupil List'!$L295<Sheet1!$G$24),Sheet1!$A$24,\"\"))","v":""},{"$f":"IF($L295=\"\",\"\",IF(AND($L295>=Sheet1!$F$25,'Pupil List'!$L295<Sheet1!$G$25),Sheet1!$A$25,\"\"))","v":""},{"$error":"#N/A"},{"$f":"IFERROR(VLOOKUP(BK295,Sheet1!$A$2:$E$25,3,FALSE),\"\")","v":""},{"$f":"IFERROR(VLOOKUP(BK295,Sheet1!$A$2:$E$25,4,FALSE),\"\")","v":""},{"$f":"IFERROR(VLOOKUP(BK295,Sheet1!$A$2:$E$25,5,FALSE),\"\")","v":""},{"$f":"IFERROR(VLOOKUP(N295,Sheet1!$A$29:$B$38,2,FALSE),\"\")","v":""}]
["","","",null,"","","","","","","",null,"",null,"","","","","","","","","","","","","","","","","","","","","","","","",{"$f":"IF($L296=\"\",\"\",IF(AND($L296>=Sheet1!$F$2,'Pupil List'!$L296<Sheet1!$G$2),Sheet1!$A$2,\"\"))","v":""},{"$f":"IF($L296=\"\",\"\",IF(AND($L296>=Sheet1!$F$3,'Pupil List'!$L296<Sheet1!$G$3),Sheet1!$A$3,\"\"))","v":""},{"$f":"IF($L296=\"\",\"\",IF(AND($L296>=Sheet1!$F$4,'Pupil List'!$L296<Sheet1!$G$4),Sheet1!$A$4,\"\"))","v":""},{"$f":"IF($L296=\"\",\"\",IF(AND($L296>=Sheet1!$F$5,'Pupil List'!$L296<Sheet1!$G$5),Sheet1!$A$5,\"\"))","v":""},{"$f":"IF($L296=\"\",\"\",IF(AND($L296>=Sheet1!$F$6,'Pupil List'!$L296<Sheet1!$G$6),Sheet1!$A$6,\"\"))","v":""},{"$f":"IF($L296=\"\",\"\",IF(AND($L296>=Sheet1!$F$7,'Pupil List'!$L296<Sheet1!$G$7),Sheet1!$A$7,\"\"))","v":""},{"$f":"IF($L296=\"\",\"\",IF(AND($L296>=Sheet1!$F$8,'Pupil List'!$L296<Sheet1!$G$8),Sheet1!$A$8,\"\"))","v":""},{"$f":"IF($L296=\"\",\"\",IF(AND($L296>=Sheet1!$F$9,'Pupil List'!$L296<Sheet1!$G$9),Sheet1!$A$9,\"\"))","v":""},{"$f":"IF($L296=\"\",\"\",IF(AND($L296>=Sheet1!$F$10,'Pupil List'!$L296<Sheet1!$G$10),Sheet1!$A$10,\"\"))","v":""},{"$f":"IF($L296=\"\",\"\",IF(AND($L296>=Sheet1!$F$11,'Pupil List'!$L296<Sheet1!$G$11),Sheet1!$A$11,\"\"))","v":""},{"$f":"IF($L296=\"\",\"\",IF(AND($L296>=Sheet1!$F$12,'Pupil List'!$L296<Sheet1!$G$12),Sheet1!$A$12,\"\"))","v":""},{"$f":"IF($L296=\"\",\"\",IF(AND($L296>=Sheet1!$F$13,'Pupil List'!$L296<Sheet1!$G$13),Sheet1!$A$13,\"\"))","v":""},{"$f":"IF($L296=\"\",\"\",IF(AND($L296>=Sheet1!$F$14,'Pupil List'!$L296<Sheet1!$G$14),Sheet1!$A$14,\"\"))","v":""},{"$f":"IF($L296=\"\",\"\",IF(AND($L296>=Sheet1!$F$15,'Pupil List'!$L296<Sheet1!$G$15),Sheet1!$A$15,\"\"))","v":""},{"$f":"IF($L296=\"\",\"\",IF(AND($L296>=Sheet1!$F$16,'Pupil List'!$L296<Sheet1!$G$16),Sheet1!$A$16,\"\"))","v":""},{"$f":"IF($L296=\"\",\"\",IF(AND($L296>=Sheet1!$F$17,'Pupil List'!$L296<Sheet1!$G$17),Sheet1!$A$17,\"\"))","v":""},{"$f":"IF($L296=\"\",\"\",IF(AND($L296>=Sheet1!$F$18,'Pupil List'!$L296<Sheet1!$G$18),Sheet1!$A$18,\"\"))","v":""},{"$f":"IF($L296=\"\",\"\",IF(AND($L296>=Sheet1!$F$19,'Pupil List'!$L296<Sheet1!$G$19),Sheet1!$A$19,\"\"))","v":""},{"$f":"IF($L296=\"\",\"\",IF(AND($L296>=Sheet1!$F$20,'Pupil List'!$L296<Sheet1!$G$20),Sheet1!$A$20,\"\"))","v":""},{"$f":"IF($L296=\"\",\"\",IF(AND($L296>=Sheet1!$F$21,'Pupil List'!$L296<Sheet1!$G$21),Sheet1!$A$21,\"\"))","v":""},{"$f":"IF($L296=\"\",\"\",IF(AND($L296>=Sheet1!$F$22,'Pupil List'!$L296<Sheet1!$G$22),Sheet1!$A$22,\"\"))","v":""},{"$f":"IF($L296=\"\",\"\",IF(AND($L296>=Sheet1!$F$23,'Pupil List'!$L296<Sheet1!$G$23),Sheet1!$A$23,\"\"))","v":""},{"$f":"IF($L296=\"\",\"\",IF(AND($L296>=Sheet1!$F$24,'Pupil List'!$L296<Sheet1!$G$24),Sheet1!$A$24,\"\"))","v":""},{"$f":"IF($L296=\"\",\"\",IF(AND($L296>=Sheet1!$F$25,'Pupil List'!$L296<Sheet1!$G$25),Sheet1!$A$25,\"\"))","v":""},{"$error":"#N/A"},{"$f":"IFERROR(VLOOKUP(BK296,Sheet1!$A$2:$E$25,3,FALSE),\"\")","v":""},{"$f":"IFERROR(VLOOKUP(BK296,Sheet1!$A$2:$E$25,4,FALSE),\"\")","v":""},{"$f":"IFERROR(VLOOKUP(BK296,Sheet1!$A$2:$E$25,5,FALSE),\"\")","v":""},{"$f":"IFERROR(VLOOKUP(N296,Sheet1!$A$29:$B$38,2,FALSE),\"\")","v":""}]
["","","",null,"","","","","","","",null,"",null,"","","","","","","","","","","","","","","","","","","","","","","","",{"$f":"IF($L297=\"\",\"\",IF(AND($L297>=Sheet1!$F$2,'Pupil List'!$L297<Sheet1!$G$2),Sheet1!$A$2,\"\"))","v":""},{"$f":"IF($L297=\"\",\"\",IF(AND($L297>=Sheet1!$F$3,'Pupil List'!$L297<Sheet1!$G$3),Sheet1!$A$3,\"\"))","v":""},{"$f":"IF($L297=\"\",\"\",IF(AND($L297>=Sheet1!$F$4,'Pupil List'!$L297<Sheet1!$G$4),Sheet1!$A$4,\"\"))","v":""},{"$f":"IF($L297=\"\",\"\",IF(AND($L297>=Sheet1!$F$5,'Pupil List'!$L297<Sheet1!$G$5),Sheet1!$A$5,\"\"))","v":""},{"$f":"IF($L297=\"\",\"\",IF(AND($L297>=Sheet1!$F$6,'Pupil List'!$L297<Sheet1!$G$6),Sheet1!$A$6,\"\"))","v":""},{"$f":"IF($L297=\"\",\"\",IF(AND($L297>=Sheet1!$F$7,'Pupil List'!$L297<Sheet1!$G$7),Sheet1!$A$7,\"\"))","v":""},{"$f":"IF($L297=\"\",\"\",IF(AND($L297>=Sheet1!$F$8,'Pupil List'!$L297<Sheet1!$G$8),Sheet1!$A$8,\"\"))","v":""},{"$f":"IF($L297=\"\",\"\",IF(AND($L297>=Sheet1!$F$9,'Pupil List'!$L297<Sheet1!$G$9),Sheet1!$A$9,\"\"))","v":""},{"$f":"IF($L297=\"\",\"\",IF(AND($L297>=Sheet1!$F$10,'Pupil List'!$L297<Sheet1!$G$10),Sheet1!$A$10,\"\"))","v":""},{"$f":"IF($L297=\"\",\"\",IF(AND($L297>=Sheet1!$F$11,'Pupil List'!$L297<Sheet1!$G$11),Sheet1!$A$11,\"\"))","v":""},{"$f":"IF($L297=\"\",\"\",IF(AND($L297>=Sheet1!$F$12,'Pupil List'!$L297<Sheet1!$G$12),Sheet1!$A$12,\"\"))","v":""},{"$f":"IF($L297=\"\",\"\",IF(AND($L297>=Sheet1!$F$13,'Pupil List'!$L297<Sheet1!$G$13),Sheet1!$A$13,\"\"))","v":""},{"$f":"IF($L297=\"\",\"\",IF(AND($L297>=Sheet1!$F$14,'Pupil List'!$L297<Sheet1!$G$14),Sheet1!$A$14,\"\"))","v":""},{"$f":"IF($L297=\"\",\"\",IF(AND($L297>=Sheet1!$F$15,'Pupil List'!$L297<Sheet1!$G$15),Sheet1!$A$15,\"\"))","v":""},{"$f":"IF($L297=\"\",\"\",IF(AND($L297>=Sheet1!$F$16,'Pupil List'!$L297<Sheet1!$G$16),Sheet1!$A$16,\"\"))","v":""},{"$f":"IF($L297=\"\",\"\",IF(AND($L297>=Sheet1!$F$17,'Pupil List'!$L297<Sheet1!$G$17),Sheet1!$A$17,\"\"))","v":""},{"$f":"IF($L297=\"\",\"\",IF(AND($L297>=Sheet1!$F$18,'Pupil List'!$L297<Sheet1!$G$18),Sheet1!$A$18,\"\"))","v":""},{"$f":"IF($L297=\"\",\"\",IF(AND($L297>=Sheet1!$F$19,'Pupil List'!$L297<Sheet1!$G$19),Sheet1!$A$19,\"\"))","v":""},{"$f":"IF($L297=\"\",\"\",IF(AND($L297>=Sheet1!$F$20,'Pupil List'!$L297<Sheet1!$G$20),Sheet1!$A$20,\"\"))","v":""},{"$f":"IF($L297=\"\",\"\",IF(AND($L297>=Sheet1!$F$21,'Pupil List'!$L297<Sheet1!$G$21),Sheet1!$A$21,\"\"))","v":""},{"$f":"IF($L297=\"\",\"\",IF(AND($L297>=Sheet1!$F$22,'Pupil List'!$L297<Sheet1!$G$22),Sheet1!$A$22,\"\"))","v":""},{"$f":"IF($L297=\"\",\"\",IF(AND($L297>=Sheet1!$F$23,'Pupil List'!$L297<Sheet1!$G$23),Sheet1!$A$23,\"\"))","v":""},{"$f":"IF($L297=\"\",\"\",IF(AND($L297>=Sheet1!$F$24,'Pupil List'!$L297<Sheet1!$G$24),Sheet1!$A$24,\"\"))","v":""},{"$f":"IF($L297=\"\",\"\",IF(AND($L297>=Sheet1!$F$25,'Pupil List'!$L297<Sheet1!$G$25),Sheet1!$A$25,\"\"))","v":""},{"$error":"#N/A"},{"$f":"IFERROR(VLOOKUP(BK297,Sheet1!$A$2:$E$25,3,FALSE),\"\")","v":""},{"$f":"IFERROR(VLOOKUP(BK297,Sheet1!$A$2:$E$25,4,FALSE),\"\")","v":""},{"$f":"IFERROR(VLOOKUP(BK297,Sheet1!$A$2:$E$25,5,FALSE),\"\")","v":""},{"$f":"IFERROR(VLOOKUP(N297,Sheet1!$A$29:$B$38,2,FALSE),\"\")","v":""}]
["","","",null,"","","","","","","",null,"",null,"","","","","","","","","","","","","","","","","","","","","","","","",{"$f":"IF($L298=\"\",\"\",IF(AND($L298>=Sheet1!$F$2,'Pupil List'!$L298<Sheet1!$G$2),Sheet1!$A$2,\"\"))","v":""},{"$f":"IF($L298=\"\",\"\",IF(AND($L298>=Sheet1!$F$3,'Pupil List'!$L298<Sheet1!$G$3),Sheet1!$A$3,\"\"))","v":""},{"$f":"IF($L298=\"\",\"\",IF(AND($L298>=Sheet1!$F$4,'Pupil List'!$L298<Sheet1!$G$4),Sheet1!$A$4,\"\"))","v":""},{"$f":"IF($L298=\"\",\"\",IF(AND($L298>=Sheet1!$F$5,'Pupil List'!$L298<Sheet1!$G$5),Sheet1!$A$5,\"\"))","v":""},{"$f":"IF($L298=\"\",\"\",IF(AND($L298>=Sheet1!$F$6,'Pupil List'!$L298<Sheet1!$G$6),Sheet1!$A$6,\"\"))","v":""},{"$f":"IF($L298=\"\",\"\",IF(AND($L298>=Sheet1!$F$7,'Pupil List'!$L298<Sheet1!$G$7),Sheet1!$A$7,\"\"))","v":""},{"$f":"IF($L298=\"\",\"\",IF(AND($L298>=Sheet1!$F$8,'Pupil List'!$L298<Sheet1!$G$8),Sheet1!$A$8,\"\"))","v":""},{"$f":"IF($L298=\"\",\"\",IF(AND($L298>=Sheet1!$F$9,'Pupil List'!$L298<Sheet1!$G$9),Sheet1!$A$9,\"\"))","v":""},{"$f":"IF($L298=\"\",\"\",IF(AND($L298>=Sheet1!$F$10,'Pupil List'!$L298<Sheet1!$G$10),Sheet1!$A$10,\"\"))","v":""},{"$f":"IF($L298=\"\",\"\",IF(AND($L298>=Sheet1!$F$11,'Pupil List'!$L298<Sheet1!$G$11),Sheet1!$A$11,\"\"))","v":""},{"$f":"IF($L298=\"\",\"\",IF(AND($L298>=Sheet1!$F$12,'Pupil List'!$L298<Sheet1!$G$12),Sheet1!$A$12,\"\"))","v":""},{"$f":"IF($L298=\"\",\"\",IF(AND($L298>=Sheet1!$F$13,'Pupil List'!$L298<Sheet1!$G$13),Sheet1!$A$13,\"\"))","v":""},{"$f":"IF($L298=\"\",\"\",IF(AND($L298>=Sheet1!$F$14,'Pupil List'!$L298<Sheet1!$G$14),Sheet1!$A$14,\"\"))","v":""},{"$f":"IF($L298=\"\",\"\",IF(AND($L298>=Sheet1!$F$15,'Pupil List'!$L298<Sheet1!$G$15),Sheet1!$A$15,\"\"))","v":""},{"$f":"IF($L298=\"\",\"\",IF(AND($L298>=Sheet1!$F$16,'Pupil List'!$L298<Sheet1!$G$16),Sheet1!$A$16,\"\"))","v":""},{"$f":"IF($L298=\"\",\"\",IF(AND($L298>=Sheet1!$F$17,'Pupil List'!$L298<Sheet1!$G$17),Sheet1!$A$17,\"\"))","v":""},{"$f":"IF($L298=\"\",\"\",IF(AND($L298>=Sheet1!$F$18,'Pupil List'!$L298<Sheet1!$G$18),Sheet1!$A$18,\"\"))","v":""},{"$f":"IF($L298=\"\",\"\",IF(AND($L298>=Sheet1!$F$19,'Pupil List'!$L298<Sheet1!$G$19),Sheet1!$A$19,\"\"))","v":""},{"$f":"IF($L298=\"\",\"\",IF(AND($L298>=Sheet1!$F$20,'Pupil List'!$L298<Sheet1!$G$20),Sheet1!$A$20,\"\"))","v":""},{"$f":"IF($L298=\"\",\"\",IF(AND($L298>=Sheet1!$F$21,'Pupil List'!$L298<Sheet1!$G$21),Sheet1!$A$21,\"\"))","v":""},{"$f":"IF($L298=\"\",\"\",IF(AND($L298>=Sheet1!$F$22,'Pupil List'!$L298<Sheet1!$G$22),Sheet1!$A$22,\"\"))","v":""},{"$f":"IF($L298=\"\",\"\",IF(AND($L298>=Sheet1!$F$23,'Pupil List'!$L298<Sheet1!$G$23),Sheet1!$A$23,\"\"))","v":""},{"$f":"IF($L298=\"\",\"\",IF(AND($L298>=Sheet1!$F$24,'Pupil List'!$L298<Sheet1!$G$24),Sheet1!$A$24,\"\"))","v":""},{"$f":"IF($L298=\"\",\"\",IF(AND($L298>=Sheet1!$F$25,'Pupil List'!$L298<Sheet1!$G$25),Sheet1!$A$25,\"\"))","v":""},{"$error":"#N/A"},{"$f":"IFERROR(VLOOKUP(BK298,Sheet1!$A$2:$E$25,3,FALSE),\"\")","v":""},{"$f":"IFERROR(VLOOKUP(BK298,Sheet1!$A$2:$E$25,4,FALSE),\"\")","v":""},{"$f":"IFERROR(VLOOKUP(BK298,Sheet1!$A$2:$E$25,5,FALSE),\"\")","v":""},{"$f":"IFERROR(VLOOKUP(N298,Sheet1!$A$29:$B$38,2,FALSE),\"\")","v":""}]
["","","",null,"","","","","","","",null,"",null,"","","","","","","","","","","","","","","","","","","","","","","","",{"$f":"IF($L299=\"\",\"\",IF(AND($L299>=Sheet1!$F$2,'Pupil List'!$L299<Sheet1!$G$2),Sheet1!$A$2,\"\"))","v":""},{"$f":"IF($L299=\"\",\"\",IF(AND($L299>=Sheet1!$F$3,'Pupil List'!$L299<Sheet1!$G$3),Sheet1!$A$3,\"\"))","v":""},{"$f":"IF($L299=\"\",\"\",IF(AND($L299>=Sheet1!$F$4,'Pupil List'!$L299<Sheet1!$G$4),Sheet1!$A$4,\"\"))","v":""},{"$f":"IF($L299=\"\",\"\",IF(AND($L299>=Sheet1!$F$5,'Pupil List'!$L299<Sheet1!$G$5),Sheet1!$A$5,\"\"))","v":""},{"$f":"IF($L299=\"\",\"\",IF(AND($L299>=Sheet1!$F$6,'Pupil List'!$L299<Sheet1!$G$6),Sheet1!$A$6,\"\"))","v":""},{"$f":"IF($L299=\"\",\"\",IF(AND($L299>=Sheet1!$F$7,'Pupil List'!$L299<Sheet1!$G$7),Sheet1!$A$7,\"\"))","v":""},{"$f":"IF($L299=\"\",\"\",IF(AND($L299>=Sheet1!$F$8,'Pupil List'!$L299<Sheet1!$G$8),Sheet1!$A$8,\"\"))","v":""},{"$f":"IF($L299=\"\",\"\",IF(AND($L299>=Sheet1!$F$9,'Pupil List'!$L299<Sheet1!$G$9),Sheet1!$A$9,\"\"))","v":""},{"$f":"IF($L299=\"\",\"\",IF(AND($L299>=Sheet1!$F$10,'Pupil List'!$L299<Sheet1!$G$10),Sheet1!$A$10,\"\"))","v":""},{"$f":"IF($L299=\"\",\"\",IF(AND($L299>=Sheet1!$F$11,'Pupil List'!$L299<Sheet1!$G$11),Sheet1!$A$11,\"\"))","v":""},{"$f":"IF($L299=\"\",\"\",IF(AND($L299>=Sheet1!$F$12,'Pupil List'!$L299<Sheet1!$G$12),Sheet1!$A$12,\"\"))","v":""},{"$f":"IF($L299=\"\",\"\",IF(AND($L299>=Sheet1!$F$13,'Pupil List'!$L299<Sheet1!$G$13),Sheet1!$A$13,\"\"))","v":""},{"$f":"IF($L299=\"\",\"\",IF(AND($L299>=Sheet1!$F$14,'Pupil List'!$L299<Sheet1!$G$14),Sheet1!$A$14,\"\"))","v":""},{"$f":"IF($L299=\"\",\"\",IF(AND($L299>=Sheet1!$F$15,'Pupil List'!$L299<Sheet1!$G$15),Sheet1!$A$15,\"\"))","v":""},{"$f":"IF($L299=\"\",\"\",IF(AND($L299>=Sheet1!$F$16,'Pupil List'!$L299<Sheet1!$G$16),Sheet1!$A$16,\"\"))","v":""},{"$f":"IF($L299=\"\",\"\",IF(AND($L299>=Sheet1!$F$17,'Pupil List'!$L299<Sheet1!$G$17),Sheet1!$A$17,\"\"))","v":""},{"$f":"IF($L299=\"\",\"\",IF(AND($L299>=Sheet1!$F$18,'Pupil List'!$L299<Sheet1!$G$18),Sheet1!$A$18,\"\"))","v":""},{"$f":"IF($L299=\"\",\"\",IF(AND($L299>=Sheet1!$F$19,'Pupil List'!$L299<Sheet1!$G$19),Sheet1!$A$19,\"\"))","v":""},{"$f":"IF($L299=\"\",\"\",IF(AND($L299>=Sheet1!$F$20,'Pupil List'!$L299<Sheet1!$G$20),Sheet1!$A$20,\"\"))","v":""},{"$f":"IF($L299=\"\",\"\",IF(AND($L299>=Sheet1!$F$21,'Pupil List'!$L299<Sheet1!$G$21),Sheet1!$A$21,\"\"))","v":""},{"$f":"IF($L299=\"\",\"\",IF(AND($L299>=Sheet1!$F$22,'Pupil List'!$L299<Sheet1!$G$22),Sheet1!$A$22,\"\"))","v":""},{"$f":"IF($L299=\"\",\"\",IF(AND($L299>=Sheet1!$F$23,'Pupil List'!$L299<Sheet1!$G$23),Sheet1!$A$23,\"\"))","v":""},{"$f":"IF($L299=\"\",\"\",IF(AND($L299>=Sheet1!$F$24,'Pupil List'!$L299<Sheet1!$G$24),Sheet1!$A$24,\"\"))","v":""},{"$f":"IF($L299=\"\",\"\",IF(AND($L299>=Sheet1!$F$25,'Pupil List'!$L299<Sheet1!$G$25),Sheet1!$A$25,\"\"))","v":""},{"$error":"#N/A"},{"$f":"IFERROR(VLOOKUP(BK299,Sheet1!$A$2:$E$25,3,FALSE),\"\")","v":""},{"$f":"IFERROR(VLOOKUP(BK299,Sheet1!$A$2:$E$25,4,FALSE),\"\")","v":""},{"$f":"IFERROR(VLOOKUP(BK299,Sheet1!$A$2:$E$25,5,FALSE),\"\")","v":""},{"$f":"IFERROR(VLOOKUP(N299,Sheet1!$A$29:$B$38,2,FALSE),\"\")","v":""}]
["","","",null,"","","","","","","",null,"",null,"","","","","","","","","","","","","","","","","","","","","","","","",{"$f":"IF($L300=\"\",\"\",IF(AND($L300>=Sheet1!$F$2,'Pupil List'!$L300<Sheet1!$G$2),Sheet1!$A$2,\"\"))","v":""},{"$f":"IF($L300=\"\",\"\",IF(AND($L300>=Sheet1!$F$3,'Pupil List'!$L300<Sheet1!$G$3),Sheet1!$A$3,\"\"))","v":""},{"$f":"IF($L300=\"\",\"\",IF(AND($L300>=Sheet1!$F$4,'Pupil List'!$L300<Sheet1!$G$4),Sheet1!$A$4,\"\"))","v":""},{"$f":"IF($L300=\"\",\"\",IF(AND($L300>=Sheet1!$F$5,'Pupil List'!$L300<Sheet1!$G$5),Sheet1!$A$5,\"\"))","v":""},{"$f":"IF($L300=\"\",\"\",IF(AND($L300>=Sheet1!$F$6,'Pupil List'!$L300<Sheet1!$G$6),Sheet1!$A$6,\"\"))","v":""},{"$f":"IF($L300=\"\",\"\",IF(AND($L300>=Sheet1!$F$7,'Pupil List'!$L300<Sheet1!$G$7),Sheet1!$A$7,\"\"))","v":""},{"$f":"IF($L300=\"\",\"\",IF(AND($L300>=Sheet1!$F$8,'Pupil List'!$L300<Sheet1!$G$8),Sheet1!$A$8,\"\"))","v":""},{"$f":"IF($L300=\"\",\"\",IF(AND($L300>=Sheet1!$F$9,'Pupil List'!$L300<Sheet1!$G$9),Sheet1!$A$9,\"\"))","v":""},{"$f":"IF($L300=\"\",\"\",IF(AND($L300>=Sheet1!$F$10,'Pupil List'!$L300<Sheet1!$G$10),Sheet1!$A$10,\"\"))","v":""},{"$f":"IF($L300=\"\",\"\",IF(AND($L300>=Sheet1!$F$11,'Pupil List'!$L300<Sheet1!$G$11),Sheet1!$A$11,\"\"))","v":""},{"$f":"IF($L300=\"\",\"\",IF(AND($L300>=Sheet1!$F$12,'Pupil List'!$L300<Sheet1!$G$12),Sheet1!$A$12,\"\"))","v":""},{"$f":"IF($L300=\"\",\"\",IF(AND($L300>=Sheet1!$F$13,'Pupil List'!$L300<Sheet1!$G$13),Sheet1!$A$13,\"\"))","v":""},{"$f":"IF($L300=\"\",\"\",IF(AND($L300>=Sheet1!$F$14,'Pupil List'!$L300<Sheet1!$G$14),Sheet1!$A$14,\"\"))","v":""},{"$f":"IF($L300=\"\",\"\",IF(AND($L300>=Sheet1!$F$15,'Pupil List'!$L300<Sheet1!$G$15),Sheet1!$A$15,\"\"))","v":""},{"$f":"IF($L300=\"\",\"\",IF(AND($L300>=Sheet1!$F$16,'Pupil List'!$L300<Sheet1!$G$16),Sheet1!$A$16,\"\"))","v":""},{"$f":"IF($L300=\"\",\"\",IF(AND($L300>=Sheet1!$F$17,'Pupil List'!$L300<Sheet1!$G$17),Sheet1!$A$17,\"\"))","v":""},{"$f":"IF($L300=\"\",\"\",IF(AND($L300>=Sheet1!$F$18,'Pupil List'!$L300<Sheet1!$G$18),Sheet1!$A$18,\"\"))","v":""},{"$f":"IF($L300=\"\",\"\",IF(AND($L300>=Sheet1!$F$19,'Pupil List'!$L300<Sheet1!$G$19),Sheet1!$A$19,\"\"))","v":""},{"$f":"IF($L300=\"\",\"\",IF(AND($L300>=Sheet1!$F$20,'Pupil List'!$L300<Sheet1!$G$20),Sheet1!$A$20,\"\"))","v":""},{"$f":"IF($L300=\"\",\"\",IF(AND($L300>=Sheet1!$F$21,'Pupil List'!$L300<Sheet1!$G$21),Sheet1!$A$21,\"\"))","v":""},{"$f":"IF($L300=\"\",\"\",IF(AND($L300>=Sheet1!$F$22,'Pupil List'!$L300<Sheet1!$G$22),Sheet1!$A$22,\"\"))","v":""},{"$f":"IF($L300=\"\",\"\",IF(AND($L300>=Sheet1!$F$23,'Pupil List'!$L300<Sheet1!$G$23),Sheet1!$A$23,\"\"))","v":""},{"$f":"IF($L300=\"\",\"\",IF(AND($L300>=Sheet1!$F$24,'Pupil List'!$L300<Sheet1!$G$24),Sheet1!$A$24,\"\"))","v":""},{"$f":"IF($L300=\"\",\"\",IF(AND($L300>=Sheet1!$F$25,'Pupil List'!$L300<Sheet1!$G$25),Sheet1!$A$25,\"\"))","v":""},{"$error":"#N/A"},{"$f":"IFERROR(VLOOKUP(BK300,Sheet1!$A$2:$E$25,3,FALSE),\"\")","v":""},{"$f":"IFERROR(VLOOKUP(BK300,Sheet1!$A$2:$E$25,4,FALSE),\"\")","v":""},{"$f":"IFERROR(VLOOKUP(BK300,Sheet1!$A$2:$E$25,5,FALSE),\"\")","v":""},{"$f":"IFERROR(VLOOKUP(N300,Sheet1!$A$29:$B$38,2,FALSE),\"\")","v":""}]
["","","",null,"","","","","","","",null,"",null,"","","","","","","","","","","","","","","","","","","","","","","","",{"$f":"IF($L301=\"\",\"\",IF(AND($L301>=Sheet1!$F$2,'Pupil List'!$L301<Sheet1!$G$2),Sheet1!$A$2,\"\"))","v":""},{"$f":"IF($L301=\"\",\"\",IF(AND($L301>=Sheet1!$F$3,'Pupil List'!$L301<Sheet1!$G$3),Sheet1!$A$3,\"\"))","v":""},{"$f":"IF($L301=\"\",\"\",IF(AND($L301>=Sheet1!$F$4,'Pupil List'!$L301<Sheet1!$G$4),Sheet1!$A$4,\"\"))","v":""},{"$f":"IF($L301=\"\",\"\",IF(AND($L301>=Sheet1!$F$5,'Pupil List'!$L301<Sheet1!$G$5),Sheet1!$A$5,\"\"))","v":""},{"$f":"IF($L301=\"\",\"\",IF(AND($L301>=Sheet1!$F$6,'Pupil List'!$L301<Sheet1!$G$6),Sheet1!$A$6,\"\"))","v":""},{"$f":"IF($L301=\"\",\"\",IF(AND($L301>=Sheet1!$F$7,'Pupil List'!$L301<Sheet1!$G$7),Sheet1!$A$7,\"\"))","v":""},{"$f":"IF($L301=\"\",\"\",IF(AND($L301>=Sheet1!$F$8,'Pupil List'!$L301<Sheet1!$G$8),Sheet1!$A$8,\"\"))","v":""},{"$f":"IF($L301=\"\",\"\",IF(AND($L301>=Sheet1!$F$9,'Pupil List'!$L301<Sheet1!$G$9),Sheet1!$A$9,\"\"))","v":""},{"$f":"IF($L301=\"\",\"\",IF(AND($L301>=Sheet1!$F$10,'Pupil List'!$L301<Sheet1!$G$10),Sheet1!$A$10,\"\"))","v":""},{"$f":"IF($L301=\"\",\"\",IF(AND($L301>=Sheet1!$F$11,'Pupil List'!$L301<Sheet1!$G$11),Sheet1!$A$11,\"\"))","v":""},{"$f":"IF($L301=\"\",\"\",IF(AND($L301>=Sheet1!$F$12,'Pupil List'!$L301<Sheet1!$G$12),Sheet1!$A$12,\"\"))","v":""},{"$f":"IF($L301=\"\",\"\",IF(AND($L301>=Sheet1!$F$13,'Pupil List'!$L301<Sheet1!$G$13),Sheet1!$A$13,\"\"))","v":""},{"$f":"IF($L301=\"\",\"\",IF(AND($L301>=Sheet1!$F$14,'Pupil List'!$L301<Sheet1!$G$14),Sheet1!$A$14,\"\"))","v":""},{"$f":"IF($L301=\"\",\"\",IF(AND($L301>=Sheet1!$F$15,'Pupil List'!$L301<Sheet1!$G$15),Sheet1!$A$15,\"\"))","v":""},{"$f":"IF($L301=\"\",\"\",IF(AND($L301>=Sheet1!$F$16,'Pupil List'!$L301<Sheet1!$G$16),Sheet1!$A$16,\"\"))","v":""},{"$f":"IF($L301=\"\",\"\",IF(AND($L301>=Sheet1!$F$17,'Pupil List'!$L301<Sheet1!$G$17),Sheet1!$A$17,\"\"))","v":""},{"$f":"IF($L301=\"\",\"\",IF(AND($L301>=Sheet1!$F$18,'Pupil List'!$L301<Sheet1!$G$18),Sheet1!$A$18,\"\"))","v":""},{"$f":"IF($L301=\"\",\"\",IF(AND($L301>=Sheet1!$F$19,'Pupil List'!$L301<Sheet1!$G$19),Sheet1!$A$19,\"\"))","v":""},{"$f":"IF($L301=\"\",\"\",IF(AND($L301>=Sheet1!$F$20,'Pupil List'!$L301<Sheet1!$G$20),Sheet1!$A$20,\"\"))","v":""},{"$f":"IF($L301=\"\",\"\",IF(AND($L301>=Sheet1!$F$21,'Pupil List'!$L301<Sheet1!$G$21),Sheet1!$A$21,\"\"))","v":""},{"$f":"IF($L301=\"\",\"\",IF(AND($L301>=Sheet1!$F$22,'Pupil List'!$L301<Sheet1!$G$22),Sheet1!$A$22,\"\"))","v":""},{"$f":"IF($L301=\"\",\"\",IF(AND($L301>=Sheet1!$F$23,'Pupil List'!$L301<Sheet1!$G$23),Sheet1!$A$23,\"\"))","v":""},{"$f":"IF($L301=\"\",\"\",IF(AND($L301>=Sheet1!$F$24,'Pupil List'!$L301<Sheet1!$G$24),Sheet1!$A$24,\"\"))","v":""},{"$f":"IF($L301=\"\",\"\",IF(AND($L301>=Sheet1!$F$25,'Pupil List'!$L301<Sheet1!$G$25),Sheet1!$A$25,\"\"))","v":""},{"$error":"#N/A"},{"$f":"IFERROR(VLOOKUP(BK301,Sheet1!$A$2:$E$25,3,FALSE),\"\")","v":""},{"$f":"IFERROR(VLOOKUP(BK301,Sheet1!$A$2:$E$25,4,FALSE),\"\")","v":""},{"$f":"IFERROR(VLOOKUP(BK301,Sheet1!$A$2:$E$25,5,FALSE),\"\")","v":""},{"$f":"IFERROR(VLOOKUP(N301,Sheet1!$A$29:$B$38,2,FALSE),\"\")","v":""}]
["","","",null,"","","","","","","",null,"",null,"","","","","","","","","","","","","","","","","","","","","","","","",{"$f":"IF($L302=\"\",\"\",IF(AND($L302>=Sheet1!$F$2,'Pupil List'!$L302<Sheet1!$G$2),Sheet1!$A$2,\"\"))","v":""},{"$f":"IF($L302=\"\",\"\",IF(AND($L302>=Sheet1!$F$3,'Pupil List'!$L302<Sheet1!$G$3),Sheet1!$A$3,\"\"))","v":""},{"$f":"IF($L302=\"\",\"\",IF(AND($L302>=Sheet1!$F$4,'Pupil List'!$L302<Sheet1!$G$4),Sheet1!$A$4,\"\"))","v":""},{"$f":"IF($L302=\"\",\"\",IF(AND($L302>=Sheet1!$F$5,'Pupil List'!$L302<Sheet1!$G$5),Sheet1!$A$5,\"\"))","v":""},{"$f":"IF($L302=\"\",\"\",IF(AND($L302>=Sheet1!$F$6,'Pupil List'!$L302<Sheet1!$G$6),Sheet1!$A$6,\"\"))","v":""},{"$f":"IF($L302=\"\",\"\",IF(AND($L302>=Sheet1!$F$7,'Pupil List'!$L302<Sheet1!$G$7),Sheet1!$A$7,\"\"))","v":""},{"$f":"IF($L302=\"\",\"\",IF(AND($L302>=Sheet1!$F$8,'Pupil List'!$L302<Sheet1!$G$8),Sheet1!$A$8,\"\"))","v":""},{"$f":"IF($L302=\"\",\"\",IF(AND($L302>=Sheet1!$F$9,'Pupil List'!$L302<Sheet1!$G$9),Sheet1!$A$9,\"\"))","v":""},{"$f":"IF($L302=\"\",\"\",IF(AND($L302>=Sheet1!$F$10,'Pupil List'!$L302<Sheet1!$G$10),Sheet1!$A$10,\"\"))","v":""},{"$f":"IF($L302=\"\",\"\",IF(AND($L302>=Sheet1!$F$11,'Pupil List'!$L302<Sheet1!$G$11),Sheet1!$A$11,\"\"))","v":""},{"$f":"IF($L302=\"\",\"\",IF(AND($L302>=Sheet1!$F$12,'Pupil List'!$L302<Sheet1!$G$12),Sheet1!$A$12,\"\"))","v":""},{"$f":"IF($L302=\"\",\"\",IF(AND($L302>=Sheet1!$F$13,'Pupil List'!$L302<Sheet1!$G$13),Sheet1!$A$13,\"\"))","v":""},{"$f":"IF($L302=\"\",\"\",IF(AND($L302>=Sheet1!$F$14,'Pupil List'!$L302<Sheet1!$G$14),Sheet1!$A$14,\"\"))","v":""},{"$f":"IF($L302=\"\",\"\",IF(AND($L302>=Sheet1!$F$15,'Pupil List'!$L302<Sheet1!$G$15),Sheet1!$A$15,\"\"))","v":""},{"$f":"IF($L302=\"\",\"\",IF(AND($L302>=Sheet1!$F$16,'Pupil List'!$L302<Sheet1!$G$16),Sheet1!$A$16,\"\"))","v":""},{"$f":"IF($L302=\"\",\"\",IF(AND($L302>=Sheet1!$F$17,'Pupil List'!$L302<Sheet1!$G$17),Sheet1!$A$17,\"\"))","v":""},{"$f":"IF($L302=\"\",\"\",IF(AND($L302>=Sheet1!$F$18,'Pupil List'!$L302<Sheet1!$G$18),Sheet1!$A$18,\"\"))","v":""},{"$f":"IF($L302=\"\",\"\",IF(AND($L302>=Sheet1!$F$19,'Pupil List'!$L302<Sheet1!$G$19),Sheet1!$A$19,\"\"))","v":""},{"$f":"IF($L302=\"\",\"\",IF(AND($L302>=Sheet1!$F$20,'Pupil List'!$L302<Sheet1!$G$20),Sheet1!$A$20,\"\"))","v":""},{"$f":"IF($L302=\"\",\"\",IF(AND($L302>=Sheet1!$F$21,'Pupil List'!$L302<Sheet1!$G$21),Sheet1!$A$21,\"\"))","v":""},{"$f":"IF($L302=\"\",\"\",IF(AND($L302>=Sheet1!$F$22,'Pupil List'!$L302<Sheet1!$G$22),Sheet1!$A$22,\"\"))","v":""},{"$f":"IF($L302=\"\",\"\",IF(AND($L302>=Sheet1!$F$23,'Pupil List'!$L302<Sheet1!$G$23),Sheet1!$A$23,\"\"))","v":""},{"$f":"IF($L302=\"\",\"\",IF(AND($L302>=Sheet1!$F$24,'Pupil List'!$L302<Sheet1!$G$24),Sheet1!$A$24,\"\"))","v":""},{"$f":"IF($L302=\"\",\"\",IF(AND($L302>=Sheet1!$F$25,'Pupil List'!$L302<Sheet1!$G$25),Sheet1!$A$25,\"\"))","v":""},{"$error":"#N/A"},{"$f":"IFERROR(VLOOKUP(BK302,Sheet1!$A$2:$E$25,3,FALSE),\"\")","v":""},{"$f":"IFERROR(VLOOKUP(BK302,Sheet1!$A$2:$E$25,4,FALSE),\"\")","v":""},{"$f":"IFERROR(VLOOKUP(BK302,Sheet1!$A$2:$E$25,5,FALSE),\"\")","v":""},{"$f":"IFERROR(VLOOKUP(N302,Sheet1!$A$29:$B$38,2,FALSE),\"\")","v":""}]
["","","",null,"","","","","","","",null,"",null,"","","","","","","","","","","","","","","","","","","","","","","","",{"$f":"IF($L303=\"\",\"\",IF(AND($L303>=Sheet1!$F$2,'Pupil List'!$L303<Sheet1!$G$2),Sheet1!$A$2,\"\"))","v":""},{"$f":"IF($L303=\"\",\"\",IF(AND($L303>=Sheet1!$F$3,'Pupil List'!$L303<Sheet1!$G$3),Sheet1!$A$3,\"\"))","v":""},{"$f":"IF($L303=\"\",\"\",IF(AND($L303>=Sheet1!$F$4,'Pupil List'!$L303<Sheet1!$G$4),Sheet1!$A$4,\"\"))","v":""},{"$f":"IF($L303=\"\",\"\",IF(AND($L303>=Sheet1!$F$5,'Pupil List'!$L303<Sheet1!$G$5),Sheet1!$A$5,\"\"))","v":""},{"$f":"IF($L303=\"\",\"\",IF(AND($L303>=Sheet1!$F$6,'Pupil List'!$L303<Sheet1!$G$6),Sheet1!$A$6,\"\"))","v":""},{"$f":"IF($L303=\"\",\"\",IF(AND($L303>=Sheet1!$F$7,'Pupil List'!$L303<Sheet1!$G$7),Sheet1!$A$7,\"\"))","v":""},{"$f":"IF($L303=\"\",\"\",IF(AND($L303>=Sheet1!$F$8,'Pupil List'!$L303<Sheet1!$G$8),Sheet1!$A$8,\"\"))","v":""},{"$f":"IF($L303=\"\",\"\",IF(AND($L303>=Sheet1!$F$9,'Pupil List'!$L303<Sheet1!$G$9),Sheet1!$A$9,\"\"))","v":""},{"$f":"IF($L303=\"\",\"\",IF(AND($L303>=Sheet1!$F$10,'Pupil List'!$L303<Sheet1!$G$10),Sheet1!$A$10,\"\"))","v":""},{"$f":"IF($L303=\"\",\"\",IF(AND($L303>=Sheet1!$F$11,'Pupil List'!$L303<Sheet1!$G$11),Sheet1!$A$11,\"\"))","v":""},{"$f":"IF($L303=\"\",\"\",IF(AND($L303>=Sheet1!$F$12,'Pupil List'!$L303<Sheet1!$G$12),Sheet1!$A$12,\"\"))","v":""},{"$f":"IF($L303=\"\",\"\",IF(AND($L303>=Sheet1!$F$13,'Pupil List'!$L303<Sheet1!$G$13),Sheet1!$A$13,\"\"))","v":""},{"$f":"IF($L303=\"\",\"\",IF(AND($L303>=Sheet1!$F$14,'Pupil List'!$L303<Sheet1!$G$14),Sheet1!$A$14,\"\"))","v":""},{"$f":"IF($L303=\"\",\"\",IF(AND($L303>=Sheet1!$F$15,'Pupil List'!$L303<Sheet1!$G$15),Sheet1!$A$15,\"\"))","v":""},{"$f":"IF($L303=\"\",\"\",IF(AND($L303>=Sheet1!$F$16,'Pupil List'!$L303<Sheet1!$G$16),Sheet1!$A$16,\"\"))","v":""},{"$f":"IF($L303=\"\",\"\",IF(AND($L303>=Sheet1!$F$17,'Pupil List'!$L303<Sheet1!$G$17),Sheet1!$A$17,\"\"))","v":""},{"$f":"IF($L303=\"\",\"\",IF(AND($L303>=Sheet1!$F$18,'Pupil List'!$L303<Sheet1!$G$18),Sheet1!$A$18,\"\"))","v":""},{"$f":"IF($L303=\"\",\"\",IF(AND($L303>=Sheet1!$F$19,'Pupil List'!$L303<Sheet1!$G$19),Sheet1!$A$19,\"\"))","v":""},{"$f":"IF($L303=\"\",\"\",IF(AND($L303>=Sheet1!$F$20,'Pupil List'!$L303<Sheet1!$G$20),Sheet1!$A$20,\"\"))","v":""},{"$f":"IF($L303=\"\",\"\",IF(AND($L303>=Sheet1!$F$21,'Pupil List'!$L303<Sheet1!$G$21),Sheet1!$A$21,\"\"))","v":""},{"$f":"IF($L303=\"\",\"\",IF(AND($L303>=Sheet1!$F$22,'Pupil List'!$L303<Sheet1!$G$22),Sheet1!$A$22,\"\"))","v":""},{"$f":"IF($L303=\"\",\"\",IF(AND($L303>=Sheet1!$F$23,'Pupil List'!$L303<Sheet1!$G$23),Sheet1!$A$23,\"\"))","v":""},{"$f":"IF($L303=\"\",\"\",IF(AND($L303>=Sheet1!$F$24,'Pupil List'!$L303<Sheet1!$G$24),Sheet1!$A$24,\"\"))","v":""},{"$f":"IF($L303=\"\",\"\",IF(AND($L303>=Sheet1!$F$25,'Pupil List'!$L303<Sheet1!$G$25),Sheet1!$A$25,\"\"))","v":""},{"$error":"#N/A"},{"$f":"IFERROR(VLOOKUP(BK303,Sheet1!$A$2:$E$25,3,FALSE),\"\")","v":""},{"$f":"IFERROR(VLOOKUP(BK303,Sheet1!$A$2:$E$25,4,FALSE),\"\")","v":""},{"$f":"IFERROR(VLOOKUP(BK303,Sheet1!$A$2:$E$25,5,FALSE),\"\")","v":""},{"$f":"IFERROR(VLOOKUP(N303,Sheet1!$A$29:$B$38,2,FALSE),\"\")","v":""}]
["","","",null,"","","","","","","",null,"",null,"","","","","","","","","","","","","","","","","","","","","","","","",{"$f":"IF($L304=\"\",\"\",IF(AND($L304>=Sheet1!$F$2,'Pupil List'!$L304<Sheet1!$G$2),Sheet1!$A$2,\"\"))","v":""},{"$f":"IF($L304=\"\",\"\",IF(AND($L304>=Sheet1!$F$3,'Pupil List'!$L304<Sheet1!$G$3),Sheet1!$A$3,\"\"))","v":""},{"$f":"IF($L304=\"\",\"\",IF(AND($L304>=Sheet1!$F$4,'Pupil List'!$L304<Sheet1!$G$4),Sheet1!$A$4,\"\"))","v":""},{"$f":"IF($L304=\"\",\"\",IF(AND($L304>=Sheet1!$F$5,'Pupil List'!$L304<Sheet1!$G$5),Sheet1!$A$5,\"\"))","v":""},{"$f":"IF($L304=\"\",\"\",IF(AND($L304>=Sheet1!$F$6,'Pupil List'!$L304<Sheet1!$G$6),Sheet1!$A$6,\"\"))","v":""},{"$f":"IF($L304=\"\",\"\",IF(AND($L304>=Sheet1!$F$7,'Pupil List'!$L304<Sheet1!$G$7),Sheet1!$A$7,\"\"))","v":""},{"$f":"IF($L304=\"\",\"\",IF(AND($L304>=Sheet1!$F$8,'Pupil List'!$L304<Sheet1!$G$8),Sheet1!$A$8,\"\"))","v":""},{"$f":"IF($L304=\"\",\"\",IF(AND($L304>=Sheet1!$F$9,'Pupil List'!$L304<Sheet1!$G$9),Sheet1!$A$9,\"\"))","v":""},{"$f":"IF($L304=\"\",\"\",IF(AND($L304>=Sheet1!$F$10,'Pupil List'!$L304<Sheet1!$G$10),Sheet1!$A$10,\"\"))","v":""},{"$f":"IF($L304=\"\",\"\",IF(AND($L304>=Sheet1!$F$11,'Pupil List'!$L304<Sheet1!$G$11),Sheet1!$A$11,\"\"))","v":""},{"$f":"IF($L304=\"\",\"\",IF(AND($L304>=Sheet1!$F$12,'Pupil List'!$L304<Sheet1!$G$12),Sheet1!$A$12,\"\"))","v":""},{"$f":"IF($L304=\"\",\"\",IF(AND($L304>=Sheet1!$F$13,'Pupil List'!$L304<Sheet1!$G$13),Sheet1!$A$13,\"\"))","v":""},{"$f":"IF($L304=\"\",\"\",IF(AND($L304>=Sheet1!$F$14,'Pupil List'!$L304<Sheet1!$G$14),Sheet1!$A$14,\"\"))","v":""},{"$f":"IF($L304=\"\",\"\",IF(AND($L304>=Sheet1!$F$15,'Pupil List'!$L304<Sheet1!$G$15),Sheet1!$A$15,\"\"))","v":""},{"$f":"IF($L304=\"\",\"\",IF(AND($L304>=Sheet1!$F$16,'Pupil List'!$L304<Sheet1!$G$16),Sheet1!$A$16,\"\"))","v":""},{"$f":"IF($L304=\"\",\"\",IF(AND($L304>=Sheet1!$F$17,'Pupil List'!$L304<Sheet1!$G$17),Sheet1!$A$17,\"\"))","v":""},{"$f":"IF($L304=\"\",\"\",IF(AND($L304>=Sheet1!$F$18,'Pupil List'!$L304<Sheet1!$G$18),Sheet1!$A$18,\"\"))","v":""},{"$f":"IF($L304=\"\",\"\",IF(AND($L304>=Sheet1!$F$19,'Pupil List'!$L304<Sheet1!$G$19),Sheet1!$A$19,\"\"))","v":""},{"$f":"IF($L304=\"\",\"\",IF(AND($L304>=Sheet1!$F$20,'Pupil List'!$L304<Sheet1!$G$20),Sheet1!$A$20,\"\"))","v":""},{"$f":"IF($L304=\"\",\"\",IF(AND($L304>=Sheet1!$F$21,'Pupil List'!$L304<Sheet1!$G$21),Sheet1!$A$21,\"\"))","v":""},{"$f":"IF($L304=\"\",\"\",IF(AND($L304>=Sheet1!$F$22,'Pupil List'!$L304<Sheet1!$G$22),Sheet1!$A$22,\"\"))","v":""},{"$f":"IF($L304=\"\",\"\",IF(AND($L304>=Sheet1!$F$23,'Pupil List'!$L304<Sheet1!$G$23),Sheet1!$A$23,\"\"))","v":""},{"$f":"IF($L304=\"\",\"\",IF(AND($L304>=Sheet1!$F$24,'Pupil List'!$L304<Sheet1!$G$24),Sheet1!$A$24,\"\"))","v":""},{"$f":"IF($L304=\"\",\"\",IF(AND($L304>=Sheet1!$F$25,'Pupil List'!$L304<Sheet1!$G$25),Sheet1!$A$25,\"\"))","v":""},{"$error":"#N/A"},{"$f":"IFERROR(VLOOKUP(BK304,Sheet1!$A$2:$E$25,3,FALSE),\"\")","v":""},{"$f":"IFERROR(VLOOKUP(BK304,Sheet1!$A$2:$E$25,4,FALSE),\"\")","v":""},{"$f":"IFERROR(VLOOKUP(BK304,Sheet1!$A$2:$E$25,5,FALSE),\"\")","v":""},{"$f":"IFERROR(VLOOKUP(N304,Sheet1!$A$29:$B$38,2,FALSE),\"\")","v":""}]
["","","",null,"","","","","","","",null,"",null,"","","","","","","","","","","","","","","","","","","","","","","","",{"$f":"IF($L305=\"\",\"\",IF(AND($L305>=Sheet1!$F$2,'Pupil List'!$L305<Sheet1!$G$2),Sheet1!$A$2,\"\"))","v":""},{"$f":"IF($L305=\"\",\"\",IF(AND($L305>=Sheet1!$F$3,'Pupil List'!$L305<Sheet1!$G$3),Sheet1!$A$3,\"\"))","v":""},{"$f":"IF($L305=\"\",\"\",IF(AND($L305>=Sheet1!$F$4,'Pupil List'!$L305<Sheet1!$G$4),Sheet1!$A$4,\"\"))","v":""},{"$f":"IF($L305=\"\",\"\",IF(AND($L305>=Sheet1!$F$5,'Pupil List'!$L305<Sheet1!$G$5),Sheet1!$A$5,\"\"))","v":""},{"$f":"IF($L305=\"\",\"\",IF(AND($L305>=Sheet1!$F$6,'Pupil List'!$L305<Sheet1!$G$6),Sheet1!$A$6,\"\"))","v":""},{"$f":"IF($L305=\"\",\"\",IF(AND($L305>=Sheet1!$F$7,'Pupil List'!$L305<Sheet1!$G$7),Sheet1!$A$7,\"\"))","v":""},{"$f":"IF($L305=\"\",\"\",IF(AND($L305>=Sheet1!$F$8,'Pupil List'!$L305<Sheet1!$G$8),Sheet1!$A$8,\"\"))","v":""},{"$f":"IF($L305=\"\",\"\",IF(AND($L305>=Sheet1!$F$9,'Pupil List'!$L305<Sheet1!$G$9),Sheet1!$A$9,\"\"))","v":""},{"$f":"IF($L305=\"\",\"\",IF(AND($L305>=Sheet1!$F$10,'Pupil List'!$L305<Sheet1!$G$10),Sheet1!$A$10,\"\"))","v":""},{"$f":"IF($L305=\"\",\"\",IF(AND($L305>=Sheet1!$F$11,'Pupil List'!$L305<Sheet1!$G$11),Sheet1!$A$11,\"\"))","v":""},{"$f":"IF($L305=\"\",\"\",IF(AND($L305>=Sheet1!$F$12,'Pupil List'!$L305<Sheet1!$G$12),Sheet1!$A$12,\"\"))","v":""},{"$f":"IF($L305=\"\",\"\",IF(AND($L305>=Sheet1!$F$13,'Pupil List'!$L305<Sheet1!$G$13),Sheet1!$A$13,\"\"))","v":""},{"$f":"IF($L305=\"\",\"\",IF(AND($L305>=Sheet1!$F$14,'Pupil List'!$L305<Sheet1!$G$14),Sheet1!$A$14,\"\"))","v":""},{"$f":"IF($L305=\"\",\"\",IF(AND($L305>=Sheet1!$F$15,'Pupil List'!$L305<Sheet1!$G$15),Sheet1!$A$15,\"\"))","v":""},{"$f":"IF($L305=\"\",\"\",IF(AND($L305>=Sheet1!$F$16,'Pupil List'!$L305<Sheet1!$G$16),Sheet1!$A$16,\"\"))","v":""},{"$f":"IF($L305=\"\",\"\",IF(AND($L305>=Sheet1!$F$17,'Pupil List'!$L305<Sheet1!$G$17),Sheet1!$A$17,\"\"))","v":""},{"$f":"IF($L305=\"\",\"\",IF(AND($L305>=Sheet1!$F$18,'Pupil List'!$L305<Sheet1!$G$18),Sheet1!$A$18,\"\"))","v":""},{"$f":"IF($L305=\"\",\"\",IF(AND($L305>=Sheet1!$F$19,'Pupil List'!$L305<Sheet1!$G$19),Sheet1!$A$19,\"\"))","v":""},{"$f":"IF($L305=\"\",\"\",IF(AND($L305>=Sheet1!$F$20,'Pupil List'!$L305<Sheet1!$G$20),Sheet1!$A$20,\"\"))","v":""},{"$f":"IF($L305=\"\",\"\",IF(AND($L305>=Sheet1!$F$21,'Pupil List'!$L305<Sheet1!$G$21),Sheet1!$A$21,\"\"))","v":""},{"$f":"IF($L305=\"\",\"\",IF(AND($L305>=Sheet1!$F$22,'Pupil List'!$L305<Sheet1!$G$22),Sheet1!$A$22,\"\"))","v":""},{"$f":"IF($L305=\"\",\"\",IF(AND($L305>=Sheet1!$F$23,'Pupil List'!$L305<Sheet1!$G$23),Sheet1!$A$23,\"\"))","v":""},{"$f":"IF($L305=\"\",\"\",IF(AND($L305>=Sheet1!$F$24,'Pupil List'!$L305<Sheet1!$G$24),Sheet1!$A$24,\"\"))","v":""},{"$f":"IF($L305=\"\",\"\",IF(AND($L305>=Sheet1!$F$25,'Pupil List'!$L305<Sheet1!$G$25),Sheet1!$A$25,\"\"))","v":""},{"$error":"#N/A"},{"$f":"IFERROR(VLOOKUP(BK305,Sheet1!$A$2:$E$25,3,FALSE),\"\")","v":""},{"$f":"IFERROR(VLOOKUP(BK305,Sheet1!$A$2:$E$25,4,FALSE),\"\")","v":""},{"$f":"IFERROR(VLOOKUP(BK305,Sheet1!$A$2:$E$25,5,FALSE),\"\")","v":""},{"$f":"IFERROR(VLOOKUP(N305,Sheet1!$A$29:$B$38,2,FALSE),\"\")","v":""}]
["","","",null,"","","","","","","",null,"",null,"","","","","","","","","","","","","","","","","","","","","","","","",{"$f":"IF($L306=\"\",\"\",IF(AND($L306>=Sheet1!$F$2,'Pupil List'!$L306<Sheet1!$G$2),Sheet1!$A$2,\"\"))","v":""},{"$f":"IF($L306=\"\",\"\",IF(AND($L306>=Sheet1!$F$3,'Pupil List'!$L306<Sheet1!$G$3),Sheet1!$A$3,\"\"))","v":""},{"$f":"IF($L306=\"\",\"\",IF(AND($L306>=Sheet1!$F$4,'Pupil List'!$L306<Sheet1!$G$4),Sheet1!$A$4,\"\"))","v":""},{"$f":"IF($L306=\"\",\"\",IF(AND($L306>=Sheet1!$F$5,'Pupil List'!$L306<Sheet1!$G$5),Sheet1!$A$5,\"\"))","v":""},{"$f":"IF($L306=\"\",\"\",IF(AND($L306>=Sheet1!$F$6,'Pupil List'!$L306<Sheet1!$G$6),Sheet1!$A$6,\"\"))","v":""},{"$f":"IF($L306=\"\",\"\",IF(AND($L306>=Sheet1!$F$7,'Pupil List'!$L306<Sheet1!$G$7),Sheet1!$A$7,\"\"))","v":""},{"$f":"IF($L306=\"\",\"\",IF(AND($L306>=Sheet1!$F$8,'Pupil List'!$L306<Sheet1!$G$8),Sheet1!$A$8,\"\"))","v":""},{"$f":"IF($L306=\"\",\"\",IF(AND($L306>=Sheet1!$F$9,'Pupil List'!$L306<Sheet1!$G$9),Sheet1!$A$9,\"\"))","v":""},{"$f":"IF($L306=\"\",\"\",IF(AND($L306>=Sheet1!$F$10,'Pupil List'!$L306<Sheet1!$G$10),Sheet1!$A$10,\"\"))","v":""},{"$f":"IF($L306=\"\",\"\",IF(AND($L306>=Sheet1!$F$11,'Pupil List'!$L306<Sheet1!$G$11),Sheet1!$A$11,\"\"))","v":""},{"$f":"IF($L306=\"\",\"\",IF(AND($L306>=Sheet1!$F$12,'Pupil List'!$L306<Sheet1!$G$12),Sheet1!$A$12,\"\"))","v":""},{"$f":"IF($L306=\"\",\"\",IF(AND($L306>=Sheet1!$F$13,'Pupil List'!$L306<Sheet1!$G$13),Sheet1!$A$13,\"\"))","v":""},{"$f":"IF($L306=\"\",\"\",IF(AND($L306>=Sheet1!$F$14,'Pupil List'!$L306<Sheet1!$G$14),Sheet1!$A$14,\"\"))","v":""},{"$f":"IF($L306=\"\",\"\",IF(AND($L306>=Sheet1!$F$15,'Pupil List'!$L306<Sheet1!$G$15),Sheet1!$A$15,\"\"))","v":""},{"$f":"IF($L306=\"\",\"\",IF(AND($L306>=Sheet1!$F$16,'Pupil List'!$L306<Sheet1!$G$16),Sheet1!$A$16,\"\"))","v":""},{"$f":"IF($L306=\"\",\"\",IF(AND($L306>=Sheet1!$F$17,'Pupil List'!$L306<Sheet1!$G$17),Sheet1!$A$17,\"\"))","v":""},{"$f":"IF($L306=\"\",\"\",IF(AND($L306>=Sheet1!$F$18,'Pupil List'!$L306<Sheet1!$G$18),Sheet1!$A$18,\"\"))","v":""},{"$f":"IF($L306=\"\",\"\",IF(AND($L306>=Sheet1!$F$19,'Pupil List'!$L306<Sheet1!$G$19),Sheet1!$A$19,\"\"))","v":""},{"$f":"IF($L306=\"\",\"\",IF(AND($L306>=Sheet1!$F$20,'Pupil List'!$L306<Sheet1!$G$20),Sheet1!$A$20,\"\"))","v":""},{"$f":"IF($L306=\"\",\"\",IF(AND($L306>=Sheet1!$F$21,'Pupil List'!$L306<Sheet1!$G$21),Sheet1!$A$21,\"\"))","v":""},{"$f":"IF($L306=\"\",\"\",IF(AND($L306>=Sheet1!$F$22,'Pupil List'!$L306<Sheet1!$G$22),Sheet1!$A$22,\"\"))","v":""},{"$f":"IF($L306=\"\",\"\",IF(AND($L306>=Sheet1!$F$23,'Pupil List'!$L306<Sheet1!$G$23),Sheet1!$A$23,\"\"))","v":""},{"$f":"IF($L306=\"\",\"\",IF(AND($L306>=Sheet1!$F$24,'Pupil List'!$L306<Sheet1!$G$24),Sheet1!$A$24,\"\"))","v":""},{"$f":"IF($L306=\"\",\"\",IF(AND($L306>=Sheet1!$F$25,'Pupil List'!$L306<Sheet1!$G$25),Sheet1!$A$25,\"\"))","v":""},{"$error":"#N/A"},{"$f":"IFERROR(VLOOKUP(BK306,Sheet1!$A$2:$E$25,3,FALSE),\"\")","v":""},{"$f":"IFERROR(VLOOKUP(BK306,Sheet1!$A$2:$E$25,4,FALSE),\"\")","v":""},{"$f":"IFERROR(VLOOKUP(BK306,Sheet1!$A$2:$E$25,5,FALSE),\"\")","v":""},{"$f":"IFERROR(VLOOKUP(N306,Sheet1!$A$29:$B$38,2,FALSE),\"\")","v":""}]
["","","",null,"","","","","","","",null,"",null,"","","","","","","","","","","","","","","","","","","","","","","","",{"$f":"IF($L307=\"\",\"\",IF(AND($L307>=Sheet1!$F$2,'Pupil List'!$L307<Sheet1!$G$2),Sheet1!$A$2,\"\"))","v":""},{"$f":"IF($L307=\"\",\"\",IF(AND($L307>=Sheet1!$F$3,'Pupil List'!$L307<Sheet1!$G$3),Sheet1!$A$3,\"\"))","v":""},{"$f":"IF($L307=\"\",\"\",IF(AND($L307>=Sheet1!$F$4,'Pupil List'!$L307<Sheet1!$G$4),Sheet1!$A$4,\"\"))","v":""},{"$f":"IF($L307=\"\",\"\",IF(AND($L307>=Sheet1!$F$5,'Pupil List'!$L307<Sheet1!$G$5),Sheet1!$A$5,\"\"))","v":""},{"$f":"IF($L307=\"\",\"\",IF(AND($L307>=Sheet1!$F$6,'Pupil List'!$L307<Sheet1!$G$6),Sheet1!$A$6,\"\"))","v":""},{"$f":"IF($L307=\"\",\"\",IF(AND($L307>=Sheet1!$F$7,'Pupil List'!$L307<Sheet1!$G$7),Sheet1!$A$7,\"\"))","v":""},{"$f":"IF($L307=\"\",\"\",IF(AND($L307>=Sheet1!$F$8,'Pupil List'!$L307<Sheet1!$G$8),Sheet1!$A$8,\"\"))","v":""},{"$f":"IF($L307=\"\",\"\",IF(AND($L307>=Sheet1!$F$9,'Pupil List'!$L307<Sheet1!$G$9),Sheet1!$A$9,\"\"))","v":""},{"$f":"IF($L307=\"\",\"\",IF(AND($L307>=Sheet1!$F$10,'Pupil List'!$L307<Sheet1!$G$10),Sheet1!$A$10,\"\"))","v":""},{"$f":"IF($L307=\"\",\"\",IF(AND($L307>=Sheet1!$F$11,'Pupil List'!$L307<Sheet1!$G$11),Sheet1!$A$11,\"\"))","v":""},{"$f":"IF($L307=\"\",\"\",IF(AND($L307>=Sheet1!$F$12,'Pupil List'!$L307<Sheet1!$G$12),Sheet1!$A$12,\"\"))","v":""},{"$f":"IF($L307=\"\",\"\",IF(AND($L307>=Sheet1!$F$13,'Pupil List'!$L307<Sheet1!$G$13),Sheet1!$A$13,\"\"))","v":""},{"$f":"IF($L307=\"\",\"\",IF(AND($L307>=Sheet1!$F$14,'Pupil List'!$L307<Sheet1!$G$14),Sheet1!$A$14,\"\"))","v":""},{"$f":"IF($L307=\"\",\"\",IF(AND($L307>=Sheet1!$F$15,'Pupil List'!$L307<Sheet1!$G$15),Sheet1!$A$15,\"\"))","v":""},{"$f":"IF($L307=\"\",\"\",IF(AND($L307>=Sheet1!$F$16,'Pupil List'!$L307<Sheet1!$G$16),Sheet1!$A$16,\"\"))","v":""},{"$f":"IF($L307=\"\",\"\",IF(AND($L307>=Sheet1!$F$17,'Pupil List'!$L307<Sheet1!$G$17),Sheet1!$A$17,\"\"))","v":""},{"$f":"IF($L307=\"\",\"\",IF(AND($L307>=Sheet1!$F$18,'Pupil List'!$L307<Sheet1!$G$18),Sheet1!$A$18,\"\"))","v":""},{"$f":"IF($L307=\"\",\"\",IF(AND($L307>=Sheet1!$F$19,'Pupil List'!$L307<Sheet1!$G$19),Sheet1!$A$19,\"\"))","v":""},{"$f":"IF($L307=\"\",\"\",IF(AND($L307>=Sheet1!$F$20,'Pupil List'!$L307<Sheet1!$G$20),Sheet1!$A$20,\"\"))","v":""},{"$f":"IF($L307=\"\",\"\",IF(AND($L307>=Sheet1!$F$21,'Pupil List'!$L307<Sheet1!$G$21),Sheet1!$A$21,\"\"))","v":""},{"$f":"IF($L307=\"\",\"\",IF(AND($L307>=Sheet1!$F$22,'Pupil List'!$L307<Sheet1!$G$22),Sheet1!$A$22,\"\"))","v":""},{"$f":"IF($L307=\"\",\"\",IF(AND($L307>=Sheet1!$F$23,'Pupil List'!$L307<Sheet1!$G$23),Sheet1!$A$23,\"\"))","v":""},{"$f":"IF($L307=\"\",\"\",IF(AND($L307>=Sheet1!$F$24,'Pupil List'!$L307<Sheet1!$G$24),Sheet1!$A$24,\"\"))","v":""},{"$f":"IF($L307=\"\",\"\",IF(AND($L307>=Sheet1!$F$25,'Pupil List'!$L307<Sheet1!$G$25),Sheet1!$A$25,\"\"))","v":""},{"$error":"#N/A"},{"$f":"IFERROR(VLOOKUP(BK307,Sheet1!$A$2:$E$25,3,FALSE),\"\")","v":""},{"$f":"IFERROR(VLOOKUP(BK307,Sheet1!$A$2:$E$25,4,FALSE),\"\")","v":""},{"$f":"IFERROR(VLOOKUP(BK307,Sheet1!$A$2:$E$25,5,FALSE),\"\")","v":""},{"$f":"IFERROR(VLOOKUP(N307,Sheet1!$A$29:$B$38,2,FALSE),\"\")","v":""}]
["","","",null,"","","","","","","",null,"",null,"","","","","","","","","","","","","","","","","","","","","","","","",{"$f":"IF($L308=\"\",\"\",IF(AND($L308>=Sheet1!$F$2,'Pupil List'!$L308<Sheet1!$G$2),Sheet1!$A$2,\"\"))","v":""},{"$f":"IF($L308=\"\",\"\",IF(AND($L308>=Sheet1!$F$3,'Pupil List'!$L308<Sheet1!$G$3),Sheet1!$A$3,\"\"))","v":""},{"$f":"IF($L308=\"\",\"\",IF(AND($L308>=Sheet1!$F$4,'Pupil List'!$L308<Sheet1!$G$4),Sheet1!$A$4,\"\"))","v":""},{"$f":"IF($L308=\"\",\"\",IF(AND($L308>=Sheet1!$F$5,'Pupil List'!$L308<Sheet1!$G$5),Sheet1!$A$5,\"\"))","v":""},{"$f":"IF($L308=\"\",\"\",IF(AND($L308>=Sheet1!$F$6,'Pupil List'!$L308<Sheet1!$G$6),Sheet1!$A$6,\"\"))","v":""},{"$f":"IF($L308=\"\",\"\",IF(AND($L308>=Sheet1!$F$7,'Pupil List'!$L308<Sheet1!$G$7),Sheet1!$A$7,\"\"))","v":""},{"$f":"IF($L308=\"\",\"\",IF(AND($L308>=Sheet1!$F$8,'Pupil List'!$L308<Sheet1!$G$8),Sheet1!$A$8,\"\"))","v":""},{"$f":"IF($L308=\"\",\"\",IF(AND($L308>=Sheet1!$F$9,'Pupil List'!$L308<Sheet1!$G$9),Sheet1!$A$9,\"\"))","v":""},{"$f":"IF($L308=\"\",\"\",IF(AND($L308>=Sheet1!$F$10,'Pupil List'!$L308<Sheet1!$G$10),Sheet1!$A$10,\"\"))","v":""},{"$f":"IF($L308=\"\",\"\",IF(AND($L308>=Sheet1!$F$11,'Pupil List'!$L308<Sheet1!$G$11),Sheet1!$A$11,\"\"))","v":""},{"$f":"IF($L308=\"\",\"\",IF(AND($L308>=Sheet1!$F$12,'Pupil List'!$L308<Sheet1!$G$12),Sheet1!$A$12,\"\"))","v":""},{"$f":"IF($L308=\"\",\"\",IF(AND($L308>=Sheet1!$F$13,'Pupil List'!$L308<Sheet1!$G$13),Sheet1!$A$13,\"\"))","v":""},{"$f":"IF($L308=\"\",\"\",IF(AND($L308>=Sheet1!$F$14,'Pupil List'!$L308<Sheet1!$G$14),Sheet1!$A$14,\"\"))","v":""},{"$f":"IF($L308=\"\",\"\",IF(AND($L308>=Sheet1!$F$15,'Pupil List'!$L308<Sheet1!$G$15),Sheet1!$A$15,\"\"))","v":""},{"$f":"IF($L308=\"\",\"\",IF(AND($L308>=Sheet1!$F$16,'Pupil List'!$L308<Sheet1!$G$16),Sheet1!$A$16,\"\"))","v":""},{"$f":"IF($L308=\"\",\"\",IF(AND($L308>=Sheet1!$F$17,'Pupil List'!$L308<Sheet1!$G$17),Sheet1!$A$17,\"\"))","v":""},{"$f":"IF($L308=\"\",\"\",IF(AND($L308>=Sheet1!$F$18,'Pupil List'!$L308<Sheet1!$G$18),Sheet1!$A$18,\"\"))","v":""},{"$f":"IF($L308=\"\",\"\",IF(AND($L308>=Sheet1!$F$19,'Pupil List'!$L308<Sheet1!$G$19),Sheet1!$A$19,\"\"))","v":""},{"$f":"IF($L308=\"\",\"\",IF(AND($L308>=Sheet1!$F$20,'Pupil List'!$L308<Sheet1!$G$20),Sheet1!$A$20,\"\"))","v":""},{"$f":"IF($L308=\"\",\"\",IF(AND($L308>=Sheet1!$F$21,'Pupil List'!$L308<Sheet1!$G$21),Sheet1!$A$21,\"\"))","v":""},{"$f":"IF($L308=\"\",\"\",IF(AND($L308>=Sheet1!$F$22,'Pupil List'!$L308<Sheet1!$G$22),Sheet1!$A$22,\"\"))","v":""},{"$f":"IF($L308=\"\",\"\",IF(AND($L308>=Sheet1!$F$23,'Pupil List'!$L308<Sheet1!$G$23),Sheet1!$A$23,\"\"))","v":""},{"$f":"IF($L308=\"\",\"\",IF(AND($L308>=Sheet1!$F$24,'Pupil List'!$L308<Sheet1!$G$24),Sheet1!$A$24,\"\"))","v":""},{"$f":"IF($L308=\"\",\"\",IF(AND($L308>=Sheet1!$F$25,'Pupil List'!$L308<Sheet1!$G$25),Sheet1!$A$25,\"\"))","v":""},{"$error":"#N/A"},{"$f":"IFERROR(VLOOKUP(BK308,Sheet1!$A$2:$E$25,3,FALSE),\"\")","v":""},{"$f":"IFERROR(VLOOKUP(BK308,Sheet1!$A$2:$E$25,4,FALSE),\"\")","v":""},{"$f":"IFERROR(VLOOKUP(BK308,Sheet1!$A$2:$E$25,5,FALSE),\"\")","v":""},{"$f":"IFERROR(VLOOKUP(N308,Sheet1!$A$29:$B$38,2,FALSE),\"\")","v":""}]
["","","",null,"","","","","","","",null,"",null,"","","","","","","","","","","","","","","","","","","","","","","","",{"$f":"IF($L309=\"\",\"\",IF(AND($L309>=Sheet1!$F$2,'Pupil List'!$L309<Sheet1!$G$2),Sheet1!$A$2,\"\"))","v":""},{"$f":"IF($L309=\"\",\"\",IF(AND($L309>=Sheet1!$F$3,'Pupil List'!$L309<Sheet1!$G$3),Sheet1!$A$3,\"\"))","v":""},{"$f":"IF($L309=\"\",\"\",IF(AND($L309>=Sheet1!$F$4,'Pupil List'!$L309<Sheet1!$G$4),Sheet1!$A$4,\"\"))","v":""},{"$f":"IF($L309=\"\",\"\",IF(AND($L309>=Sheet1!$F$5,'Pupil List'!$L309<Sheet1!$G$5),Sheet1!$A$5,\"\"))","v":""},{"$f":"IF($L309=\"\",\"\",IF(AND($L309>=Sheet1!$F$6,'Pupil List'!$L309<Sheet1!$G$6),Sheet1!$A$6,\"\"))","v":""},{"$f":"IF($L309=\"\",\"\",IF(AND($L309>=Sheet1!$F$7,'Pupil List'!$L309<Sheet1!$G$7),Sheet1!$A$7,\"\"))","v":""},{"$f":"IF($L309=\"\",\"\",IF(AND($L309>=Sheet1!$F$8,'Pupil List'!$L309<Sheet1!$G$8),Sheet1!$A$8,\"\"))","v":""},{"$f":"IF($L309=\"\",\"\",IF(AND($L309>=Sheet1!$F$9,'Pupil List'!$L309<Sheet1!$G$9),Sheet1!$A$9,\"\"))","v":""},{"$f":"IF($L309=\"\",\"\",IF(AND($L309>=Sheet1!$F$10,'Pupil List'!$L309<Sheet1!$G$10),Sheet1!$A$10,\"\"))","v":""},{"$f":"IF($L309=\"\",\"\",IF(AND($L309>=Sheet1!$F$11,'Pupil List'!$L309<Sheet1!$G$11),Sheet1!$A$11,\"\"))","v":""},{"$f":"IF($L309=\"\",\"\",IF(AND($L309>=Sheet1!$F$12,'Pupil List'!$L309<Sheet1!$G$12),Sheet1!$A$12,\"\"))","v":""},{"$f":"IF($L309=\"\",\"\",IF(AND($L309>=Sheet1!$F$13,'Pupil List'!$L309<Sheet1!$G$13),Sheet1!$A$13,\"\"))","v":""},{"$f":"IF($L309=\"\",\"\",IF(AND($L309>=Sheet1!$F$14,'Pupil List'!$L309<Sheet1!$G$14),Sheet1!$A$14,\"\"))","v":""},{"$f":"IF($L309=\"\",\"\",IF(AND($L309>=Sheet1!$F$15,'Pupil List'!$L309<Sheet1!$G$15),Sheet1!$A$15,\"\"))","v":""},{"$f":"IF($L309=\"\",\"\",IF(AND($L309>=Sheet1!$F$16,'Pupil List'!$L309<Sheet1!$G$16),Sheet1!$A$16,\"\"))","v":""},{"$f":"IF($L309=\"\",\"\",IF(AND($L309>=Sheet1!$F$17,'Pupil List'!$L309<Sheet1!$G$17),Sheet1!$A$17,\"\"))","v":""},{"$f":"IF($L309=\"\",\"\",IF(AND($L309>=Sheet1!$F$18,'Pupil List'!$L309<Sheet1!$G$18),Sheet1!$A$18,\"\"))","v":""},{"$f":"IF($L309=\"\",\"\",IF(AND($L309>=Sheet1!$F$19,'Pupil List'!$L309<Sheet1!$G$19),Sheet1!$A$19,\"\"))","v":""},{"$f":"IF($L309=\"\",\"\",IF(AND($L309>=Sheet1!$F$20,'Pupil List'!$L309<Sheet1!$G$20),Sheet1!$A$20,\"\"))","v":""},{"$f":"IF($L309=\"\",\"\",IF(AND($L309>=Sheet1!$F$21,'Pupil List'!$L309<Sheet1!$G$21),Sheet1!$A$21,\"\"))","v":""},{"$f":"IF($L309=\"\",\"\",IF(AND($L309>=Sheet1!$F$22,'Pupil List'!$L309<Sheet1!$G$22),Sheet1!$A$22,\"\"))","v":""},{"$f":"IF($L309=\"\",\"\",IF(AND($L309>=Sheet1!$F$23,'Pupil List'!$L309<Sheet1!$G$23),Sheet1!$A$23,\"\"))","v":""},{"$f":"IF($L309=\"\",\"\",IF(AND($L309>=Sheet1!$F$24,'Pupil List'!$L309<Sheet1!$G$24),Sheet1!$A$24,\"\"))","v":""},{"$f":"IF($L309=\"\",\"\",IF(AND($L309>=Sheet1!$F$25,'Pupil List'!$L309<Sheet1!$G$25),Sheet1!$A$25,\"\"))","v":""},{"$error":"#N/A"},{"$f":"IFERROR(VLOOKUP(BK309,Sheet1!$A$2:$E$25,3,FALSE),\"\")","v":""},{"$f":"IFERROR(VLOOKUP(BK309,Sheet1!$A$2:$E$25,4,FALSE),\"\")","v":""},{"$f":"IFERROR(VLOOKUP(BK309,Sheet1!$A$2:$E$25,5,FALSE),\"\")","v":""},{"$f":"IFERROR(VLOOKUP(N309,Sheet1!$A$29:$B$38,2,FALSE),\"\")","v":""}]
["","","",null,"","","","","","","",null,"",null,"","","","","","","","","","","","","","","","","","","","","","","","",{"$f":"IF($L310=\"\",\"\",IF(AND($L310>=Sheet1!$F$2,'Pupil List'!$L310<Sheet1!$G$2),Sheet1!$A$2,\"\"))","v":""},{"$f":"IF($L310=\"\",\"\",IF(AND($L310>=Sheet1!$F$3,'Pupil List'!$L310<Sheet1!$G$3),Sheet1!$A$3,\"\"))","v":""},{"$f":"IF($L310=\"\",\"\",IF(AND($L310>=Sheet1!$F$4,'Pupil List'!$L310<Sheet1!$G$4),Sheet1!$A$4,\"\"))","v":""},{"$f":"IF($L310=\"\",\"\",IF(AND($L310>=Sheet1!$F$5,'Pupil List'!$L310<Sheet1!$G$5),Sheet1!$A$5,\"\"))","v":""},{"$f":"IF($L310=\"\",\"\",IF(AND($L310>=Sheet1!$F$6,'Pupil List'!$L310<Sheet1!$G$6),Sheet1!$A$6,\"\"))","v":""},{"$f":"IF($L310=\"\",\"\",IF(AND($L310>=Sheet1!$F$7,'Pupil List'!$L310<Sheet1!$G$7),Sheet1!$A$7,\"\"))","v":""},{"$f":"IF($L310=\"\",\"\",IF(AND($L310>=Sheet1!$F$8,'Pupil List'!$L310<Sheet1!$G$8),Sheet1!$A$8,\"\"))","v":""},{"$f":"IF($L310=\"\",\"\",IF(AND($L310>=Sheet1!$F$9,'Pupil List'!$L310<Sheet1!$G$9),Sheet1!$A$9,\"\"))","v":""},{"$f":"IF($L310=\"\",\"\",IF(AND($L310>=Sheet1!$F$10,'Pupil List'!$L310<Sheet1!$G$10),Sheet1!$A$10,\"\"))","v":""},{"$f":"IF($L310=\"\",\"\",IF(AND($L310>=Sheet1!$F$11,'Pupil List'!$L310<Sheet1!$G$11),Sheet1!$A$11,\"\"))","v":""},{"$f":"IF($L310=\"\",\"\",IF(AND($L310>=Sheet1!$F$12,'Pupil List'!$L310<Sheet1!$G$12),Sheet1!$A$12,\"\"))","v":""},{"$f":"IF($L310=\"\",\"\",IF(AND($L310>=Sheet1!$F$13,'Pupil List'!$L310<Sheet1!$G$13),Sheet1!$A$13,\"\"))","v":""},{"$f":"IF($L310=\"\",\"\",IF(AND($L310>=Sheet1!$F$14,'Pupil List'!$L310<Sheet1!$G$14),Sheet1!$A$14,\"\"))","v":""},{"$f":"IF($L310=\"\",\"\",IF(AND($L310>=Sheet1!$F$15,'Pupil List'!$L310<Sheet1!$G$15),Sheet1!$A$15,\"\"))","v":""},{"$f":"IF($L310=\"\",\"\",IF(AND($L310>=Sheet1!$F$16,'Pupil List'!$L310<Sheet1!$G$16),Sheet1!$A$16,\"\"))","v":""},{"$f":"IF($L310=\"\",\"\",IF(AND($L310>=Sheet1!$F$17,'Pupil List'!$L310<Sheet1!$G$17),Sheet1!$A$17,\"\"))","v":""},{"$f":"IF($L310=\"\",\"\",IF(AND($L310>=Sheet1!$F$18,'Pupil List'!$L310<Sheet1!$G$18),Sheet1!$A$18,\"\"))","v":""},{"$f":"IF($L310=\"\",\"\",IF(AND($L310>=Sheet1!$F$19,'Pupil List'!$L310<Sheet1!$G$19),Sheet1!$A$19,\"\"))","v":""},{"$f":"IF($L310=\"\",\"\",IF(AND($L310>=Sheet1!$F$20,'Pupil List'!$L310<Sheet1!$G$20),Sheet1!$A$20,\"\"))","v":""},{"$f":"IF($L310=\"\",\"\",IF(AND($L310>=Sheet1!$F$21,'Pupil List'!$L310<Sheet1!$G$21),Sheet1!$A$21,\"\"))","v":""},{"$f":"IF($L310=\"\",\"\",IF(AND($L310>=Sheet1!$F$22,'Pupil List'!$L310<Sheet1!$G$22),Sheet1!$A$22,\"\"))","v":""},{"$f":"IF($L310=\"\",\"\",IF(AND($L310>=Sheet1!$F$23,'Pupil List'!$L310<Sheet1!$G$23),Sheet1!$A$23,\"\"))","v":""},{"$f":"IF($L310=\"\",\"\",IF(AND($L310>=Sheet1!$F$24,'Pupil List'!$L310<Sheet1!$G$24),Sheet1!$A$24,\"\"))","v":""},{"$f":"IF($L310=\"\",\"\",IF(AND($L310>=Sheet1!$F$25,'Pupil List'!$L310<Sheet1!$G$25),Sheet1!$A$25,\"\"))","v":""},{"$error":"#N/A"},{"$f":"IFERROR(VLOOKUP(BK310,Sheet1!$A$2:$E$25,3,FALSE),\"\")","v":""},{"$f":"IFERROR(VLOOKUP(BK310,Sheet1!$A$2:$E$25,4,FALSE),\"\")","v":""},{"$f":"IFERROR(VLOOKUP(BK310,Sheet1!$A$2:$E$25,5,FALSE),\"\")","v":""},{"$f":"IFERROR(VLOOKUP(N310,Sheet1!$A$29:$B$38,2,FALSE),\"\")","v":""}]
["","","",null,"","","","","","","",null,"",null,"","","","","","","","","","","","","","","","","","","","","","","","",{"$f":"IF($L311=\"\",\"\",IF(AND($L311>=Sheet1!$F$2,'Pupil List'!$L311<Sheet1!$G$2),Sheet1!$A$2,\"\"))","v":""},{"$f":"IF($L311=\"\",\"\",IF(AND($L311>=Sheet1!$F$3,'Pupil List'!$L311<Sheet1!$G$3),Sheet1!$A$3,\"\"))","v":""},{"$f":"IF($L311=\"\",\"\",IF(AND($L311>=Sheet1!$F$4,'Pupil List'!$L311<Sheet1!$G$4),Sheet1!$A$4,\"\"))","v":""},{"$f":"IF($L311=\"\",\"\",IF(AND($L311>=Sheet1!$F$5,'Pupil List'!$L311<Sheet1!$G$5),Sheet1!$A$5,\"\"))","v":""},{"$f":"IF($L311=\"\",\"\",IF(AND($L311>=Sheet1!$F$6,'Pupil List'!$L311<Sheet1!$G$6),Sheet1!$A$6,\"\"))","v":""},{"$f":"IF($L311=\"\",\"\",IF(AND($L311>=Sheet1!$F$7,'Pupil List'!$L311<Sheet1!$G$7),Sheet1!$A$7,\"\"))","v":""},{"$f":"IF($L311=\"\",\"\",IF(AND($L311>=Sheet1!$F$8,'Pupil List'!$L311<Sheet1!$G$8),Sheet1!$A$8,\"\"))","v":""},{"$f":"IF($L311=\"\",\"\",IF(AND($L311>=Sheet1!$F$9,'Pupil List'!$L311<Sheet1!$G$9),Sheet1!$A$9,\"\"))","v":""},{"$f":"IF($L311=\"\",\"\",IF(AND($L311>=Sheet1!$F$10,'Pupil List'!$L311<Sheet1!$G$10),Sheet1!$A$10,\"\"))","v":""},{"$f":"IF($L311=\"\",\"\",IF(AND($L311>=Sheet1!$F$11,'Pupil List'!$L311<Sheet1!$G$11),Sheet1!$A$11,\"\"))","v":""},{"$f":"IF($L311=\"\",\"\",IF(AND($L311>=Sheet1!$F$12,'Pupil List'!$L311<Sheet1!$G$12),Sheet1!$A$12,\"\"))","v":""},{"$f":"IF($L311=\"\",\"\",IF(AND($L311>=Sheet1!$F$13,'Pupil List'!$L311<Sheet1!$G$13),Sheet1!$A$13,\"\"))","v":""},{"$f":"IF($L311=\"\",\"\",IF(AND($L311>=Sheet1!$F$14,'Pupil List'!$L311<Sheet1!$G$14),Sheet1!$A$14,\"\"))","v":""},{"$f":"IF($L311=\"\",\"\",IF(AND($L311>=Sheet1!$F$15,'Pupil List'!$L311<Sheet1!$G$15),Sheet1!$A$15,\"\"))","v":""},{"$f":"IF($L311=\"\",\"\",IF(AND($L311>=Sheet1!$F$16,'Pupil List'!$L311<Sheet1!$G$16),Sheet1!$A$16,\"\"))","v":""},{"$f":"IF($L311=\"\",\"\",IF(AND($L311>=Sheet1!$F$17,'Pupil List'!$L311<Sheet1!$G$17),Sheet1!$A$17,\"\"))","v":""},{"$f":"IF($L311=\"\",\"\",IF(AND($L311>=Sheet1!$F$18,'Pupil List'!$L311<Sheet1!$G$18),Sheet1!$A$18,\"\"))","v":""},{"$f":"IF($L311=\"\",\"\",IF(AND($L311>=Sheet1!$F$19,'Pupil List'!$L311<Sheet1!$G$19),Sheet1!$A$19,\"\"))","v":""},{"$f":"IF($L311=\"\",\"\",IF(AND($L311>=Sheet1!$F$20,'Pupil List'!$L311<Sheet1!$G$20),Sheet1!$A$20,\"\"))","v":""},{"$f":"IF($L311=\"\",\"\",IF(AND($L311>=Sheet1!$F$21,'Pupil List'!$L311<Sheet1!$G$21),Sheet1!$A$21,\"\"))","v":""},{"$f":"IF($L311=\"\",\"\",IF(AND($L311>=Sheet1!$F$22,'Pupil List'!$L311<Sheet1!$G$22),Sheet1!$A$22,\"\"))","v":""},{"$f":"IF($L311=\"\",\"\",IF(AND($L311>=Sheet1!$F$23,'Pupil List'!$L311<Sheet1!$G$23),Sheet1!$A$23,\"\"))","v":""},{"$f":"IF($L311=\"\",\"\",IF(AND($L311>=Sheet1!$F$24,'Pupil List'!$L311<Sheet1!$G$24),Sheet1!$A$24,\"\"))","v":""},{"$f":"IF($L311=\"\",\"\",IF(AND($L311>=Sheet1!$F$25,'Pupil List'!$L311<Sheet1!$G$25),Sheet1!$A$25,\"\"))","v":""},{"$error":"#N/A"},{"$f":"IFERROR(VLOOKUP(BK311,Sheet1!$A$2:$E$25,3,FALSE),\"\")","v":""},{"$f":"IFERROR(VLOOKUP(BK311,Sheet1!$A$2:$E$25,4,FALSE),\"\")","v":""},{"$f":"IFERROR(VLOOKUP(BK311,Sheet1!$A$2:$E$25,5,FALSE),\"\")","v":""},{"$f":"IFERROR(VLOOKUP(N311,Sheet1!$A$29:$B$38,2,FALSE),\"\")","v":""}]
["","","",null,"","","","","","","",null,"",null,"","","","","","","","","","","","","","","","","","","","","","","","",{"$f":"IF($L312=\"\",\"\",IF(AND($L312>=Sheet1!$F$2,'Pupil List'!$L312<Sheet1!$G$2),Sheet1!$A$2,\"\"))","v":""},{"$f":"IF($L312=\"\",\"\",IF(AND($L312>=Sheet1!$F$3,'Pupil List'!$L312<Sheet1!$G$3),Sheet1!$A$3,\"\"))","v":""},{"$f":"IF($L312=\"\",\"\",IF(AND($L312>=Sheet1!$F$4,'Pupil List'!$L312<Sheet1!$G$4),Sheet1!$A$4,\"\"))","v":""},{"$f":"IF($L312=\"\",\"\",IF(AND($L312>=Sheet1!$F$5,'Pupil List'!$L312<Sheet1!$G$5),Sheet1!$A$5,\"\"))","v":""},{"$f":"IF($L312=\"\",\"\",IF(AND($L312>=Sheet1!$F$6,'Pupil List'!$L312<Sheet1!$G$6),Sheet1!$A$6,\"\"))","v":""},{"$f":"IF($L312=\"\",\"\",IF(AND($L312>=Sheet1!$F$7,'Pupil List'!$L312<Sheet1!$G$7),Sheet1!$A$7,\"\"))","v":""},{"$f":"IF($L312=\"\",\"\",IF(AND($L312>=Sheet1!$F$8,'Pupil List'!$L312<Sheet1!$G$8),Sheet1!$A$8,\"\"))","v":""},{"$f":"IF($L312=\"\",\"\",IF(AND($L312>=Sheet1!$F$9,'Pupil List'!$L312<Sheet1!$G$9),Sheet1!$A$9,\"\"))","v":""},{"$f":"IF($L312=\"\",\"\",IF(AND($L312>=Sheet1!$F$10,'Pupil List'!$L312<Sheet1!$G$10),Sheet1!$A$10,\"\"))","v":""},{"$f":"IF($L312=\"\",\"\",IF(AND($L312>=Sheet1!$F$11,'Pupil List'!$L312<Sheet1!$G$11),Sheet1!$A$11,\"\"))","v":""},{"$f":"IF($L312=\"\",\"\",IF(AND($L312>=Sheet1!$F$12,'Pupil List'!$L312<Sheet1!$G$12),Sheet1!$A$12,\"\"))","v":""},{"$f":"IF($L312=\"\",\"\",IF(AND($L312>=Sheet1!$F$13,'Pupil List'!$L312<Sheet1!$G$13),Sheet1!$A$13,\"\"))","v":""},{"$f":"IF($L312=\"\",\"\",IF(AND($L312>=Sheet1!$F$14,'Pupil List'!$L312<Sheet1!$G$14),Sheet1!$A$14,\"\"))","v":""},{"$f":"IF($L312=\"\",\"\",IF(AND($L312>=Sheet1!$F$15,'Pupil List'!$L312<Sheet1!$G$15),Sheet1!$A$15,\"\"))","v":""},{"$f":"IF($L312=\"\",\"\",IF(AND($L312>=Sheet1!$F$16,'Pupil List'!$L312<Sheet1!$G$16),Sheet1!$A$16,\"\"))","v":""},{"$f":"IF($L312=\"\",\"\",IF(AND($L312>=Sheet1!$F$17,'Pupil List'!$L312<Sheet1!$G$17),Sheet1!$A$17,\"\"))","v":""},{"$f":"IF($L312=\"\",\"\",IF(AND($L312>=Sheet1!$F$18,'Pupil List'!$L312<Sheet1!$G$18),Sheet1!$A$18,\"\"))","v":""},{"$f":"IF($L312=\"\",\"\",IF(AND($L312>=Sheet1!$F$19,'Pupil List'!$L312<Sheet1!$G$19),Sheet1!$A$19,\"\"))","v":""},{"$f":"IF($L312=\"\",\"\",IF(AND($L312>=Sheet1!$F$20,'Pupil List'!$L312<Sheet1!$G$20),Sheet1!$A$20,\"\"))","v":""},{"$f":"IF($L312=\"\",\"\",IF(AND($L312>=Sheet1!$F$21,'Pupil List'!$L312<Sheet1!$G$21),Sheet1!$A$21,\"\"))","v":""},{"$f":"IF($L312=\"\",\"\",IF(AND($L312>=Sheet1!$F$22,'Pupil List'!$L312<Sheet1!$G$22),Sheet1!$A$22,\"\"))","v":""},{"$f":"IF($L312=\"\",\"\",IF(AND($L312>=Sheet1!$F$23,'Pupil List'!$L312<Sheet1!$G$23),Sheet1!$A$23,\"\"))","v":""},{"$f":"IF($L312=\"\",\"\",IF(AND($L312>=Sheet1!$F$24,'Pupil List'!$L312<Sheet1!$G$24),Sheet1!$A$24,\"\"))","v":""},{"$f":"IF($L312=\"\",\"\",IF(AND($L312>=Sheet1!$F$25,'Pupil List'!$L312<Sheet1!$G$25),Sheet1!$A$25,\"\"))","v":""},{"$error":"#N/A"},{"$f":"IFERROR(VLOOKUP(BK312,Sheet1!$A$2:$E$25,3,FALSE),\"\")","v":""},{"$f":"IFERROR(VLOOKUP(BK312,Sheet1!$A$2:$E$25,4,FALSE),\"\")","v":""},{"$f":"IFERROR(VLOOKUP(BK312,Sheet1!$A$2:$E$25,5,FALSE),\"\")","v":""},{"$f":"IFERROR(VLOOKUP(N312,Sheet1!$A$29:$B$38,2,FALSE),\"\")","v":""}]
["","","",null,"","","","","","","",null,"",null,"","","","","","","","","","","","","","","","","","","","","","","","",{"$f":"IF($L313=\"\",\"\",IF(AND($L313>=Sheet1!$F$2,'Pupil List'!$L313<Sheet1!$G$2),Sheet1!$A$2,\"\"))","v":""},{"$f":"IF($L313=\"\",\"\",IF(AND($L313>=Sheet1!$F$3,'Pupil List'!$L313<Sheet1!$G$3),Sheet1!$A$3,\"\"))","v":""},{"$f":"IF($L313=\"\",\"\",IF(AND($L313>=Sheet1!$F$4,'Pupil List'!$L313<Sheet1!$G$4),Sheet1!$A$4,\"\"))","v":""},{"$f":"IF($L313=\"\",\"\",IF(AND($L313>=Sheet1!$F$5,'Pupil List'!$L313<Sheet1!$G$5),Sheet1!$A$5,\"\"))","v":""},{"$f":"IF($L313=\"\",\"\",IF(AND($L313>=Sheet1!$F$6,'Pupil List'!$L313<Sheet1!$G$6),Sheet1!$A$6,\"\"))","v":""},{"$f":"IF($L313=\"\",\"\",IF(AND($L313>=Sheet1!$F$7,'Pupil List'!$L313<Sheet1!$G$7),Sheet1!$A$7,\"\"))","v":""},{"$f":"IF($L313=\"\",\"\",IF(AND($L313>=Sheet1!$F$8,'Pupil List'!$L313<Sheet1!$G$8),Sheet1!$A$8,\"\"))","v":""},{"$f":"IF($L313=\"\",\"\",IF(AND($L313>=Sheet1!$F$9,'Pupil List'!$L313<Sheet1!$G$9),Sheet1!$A$9,\"\"))","v":""},{"$f":"IF($L313=\"\",\"\",IF(AND($L313>=Sheet1!$F$10,'Pupil List'!$L313<Sheet1!$G$10),Sheet1!$A$10,\"\"))","v":""},{"$f":"IF($L313=\"\",\"\",IF(AND($L313>=Sheet1!$F$11,'Pupil List'!$L313<Sheet1!$G$11),Sheet1!$A$11,\"\"))","v":""},{"$f":"IF($L313=\"\",\"\",IF(AND($L313>=Sheet1!$F$12,'Pupil List'!$L313<Sheet1!$G$12),Sheet1!$A$12,\"\"))","v":""},{"$f":"IF($L313=\"\",\"\",IF(AND($L313>=Sheet1!$F$13,'Pupil List'!$L313<Sheet1!$G$13),Sheet1!$A$13,\"\"))","v":""},{"$f":"IF($L313=\"\",\"\",IF(AND($L313>=Sheet1!$F$14,'Pupil List'!$L313<Sheet1!$G$14),Sheet1!$A$14,\"\"))","v":""},{"$f":"IF($L313=\"\",\"\",IF(AND($L313>=Sheet1!$F$15,'Pupil List'!$L313<Sheet1!$G$15),Sheet1!$A$15,\"\"))","v":""},{"$f":"IF($L313=\"\",\"\",IF(AND($L313>=Sheet1!$F$16,'Pupil List'!$L313<Sheet1!$G$16),Sheet1!$A$16,\"\"))","v":""},{"$f":"IF($L313=\"\",\"\",IF(AND($L313>=Sheet1!$F$17,'Pupil List'!$L313<Sheet1!$G$17),Sheet1!$A$17,\"\"))","v":""},{"$f":"IF($L313=\"\",\"\",IF(AND($L313>=Sheet1!$F$18,'Pupil List'!$L313<Sheet1!$G$18),Sheet1!$A$18,\"\"))","v":""},{"$f":"IF($L313=\"\",\"\",IF(AND($L313>=Sheet1!$F$19,'Pupil List'!$L313<Sheet1!$G$19),Sheet1!$A$19,\"\"))","v":""},{"$f":"IF($L313=\"\",\"\",IF(AND($L313>=Sheet1!$F$20,'Pupil List'!$L313<Sheet1!$G$20),Sheet1!$A$20,\"\"))","v":""},{"$f":"IF($L313=\"\",\"\",IF(AND($L313>=Sheet1!$F$21,'Pupil List'!$L313<Sheet1!$G$21),Sheet1!$A$21,\"\"))","v":""},{"$f":"IF($L313=\"\",\"\",IF(AND($L313>=Sheet1!$F$22,'Pupil List'!$L313<Sheet1!$G$22),Sheet1!$A$22,\"\"))","v":""},{"$f":"IF($L313=\"\",\"\",IF(AND($L313>=Sheet1!$F$23,'Pupil List'!$L313<Sheet1!$G$23),Sheet1!$A$23,\"\"))","v":""},{"$f":"IF($L313=\"\",\"\",IF(AND($L313>=Sheet1!$F$24,'Pupil List'!$L313<Sheet1!$G$24),Sheet1!$A$24,\"\"))","v":""},{"$f":"IF($L313=\"\",\"\",IF(AND($L313>=Sheet1!$F$25,'Pupil List'!$L313<Sheet1!$G$25),Sheet1!$A$25,\"\"))","v":""},{"$error":"#N/A"},{"$f":"IFERROR(VLOOKUP(BK313,Sheet1!$A$2:$E$25,3,FALSE),\"\")","v":""},{"$f":"IFERROR(VLOOKUP(BK313,Sheet1!$A$2:$E$25,4,FALSE),\"\")","v":""},{"$f":"IFERROR(VLOOKUP(BK313,Sheet1!$A$2:$E$25,5,FALSE),\"\")","v":""},{"$f":"IFERROR(VLOOKUP(N313,Sheet1!$A$29:$B$38,2,FALSE),\"\")","v":""}]
["","","","","","","","","","","",null,"",null,"","","","","","","","","","","","","","","","","","","","","","","","",{"$f":"IF($L314=\"\",\"\",IF(AND($L314>=Sheet1!$F$2,'Pupil List'!$L314<Sheet1!$G$2),Sheet1!$A$2,\"\"))","v":""},{"$f":"IF($L314=\"\",\"\",IF(AND($L314>=Sheet1!$F$3,'Pupil List'!$L314<Sheet1!$G$3),Sheet1!$A$3,\"\"))","v":""},{"$f":"IF($L314=\"\",\"\",IF(AND($L314>=Sheet1!$F$4,'Pupil List'!$L314<Sheet1!$G$4),Sheet1!$A$4,\"\"))","v":""},{"$f":"IF($L314=\"\",\"\",IF(AND($L314>=Sheet1!$F$5,'Pupil List'!$L314<Sheet1!$G$5),Sheet1!$A$5,\"\"))","v":""},{"$f":"IF($L314=\"\",\"\",IF(AND($L314>=Sheet1!$F$6,'Pupil List'!$L314<Sheet1!$G$6),Sheet1!$A$6,\"\"))","v":""},{"$f":"IF($L314=\"\",\"\",IF(AND($L314>=Sheet1!$F$7,'Pupil List'!$L314<Sheet1!$G$7),Sheet1!$A$7,\"\"))","v":""},{"$f":"IF($L314=\"\",\"\",IF(AND($L314>=Sheet1!$F$8,'Pupil List'!$L314<Sheet1!$G$8),Sheet1!$A$8,\"\"))","v":""},{"$f":"IF($L314=\"\",\"\",IF(AND($L314>=Sheet1!$F$9,'Pupil List'!$L314<Sheet1!$G$9),Sheet1!$A$9,\"\"))","v":""},{"$f":"IF($L314=\"\",\"\",IF(AND($L314>=Sheet1!$F$10,'Pupil List'!$L314<Sheet1!$G$10),Sheet1!$A$10,\"\"))","v":""},{"$f":"IF($L314=\"\",\"\",IF(AND($L314>=Sheet1!$F$11,'Pupil List'!$L314<Sheet1!$G$11),Sheet1!$A$11,\"\"))","v":""},{"$f":"IF($L314=\"\",\"\",IF(AND($L314>=Sheet1!$F$12,'Pupil List'!$L314<Sheet1!$G$12),Sheet1!$A$12,\"\"))","v":""},{"$f":"IF($L314=\"\",\"\",IF(AND($L314>=Sheet1!$F$13,'Pupil List'!$L314<Sheet1!$G$13),Sheet1!$A$13,\"\"))","v":""},{"$f":"IF($L314=\"\",\"\",IF(AND($L314>=Sheet1!$F$14,'Pupil List'!$L314<Sheet1!$G$14),Sheet1!$A$14,\"\"))","v":""},{"$f":"IF($L314=\"\",\"\",IF(AND($L314>=Sheet1!$F$15,'Pupil List'!$L314<Sheet1!$G$15),Sheet1!$A$15,\"\"))","v":""},{"$f":"IF($L314=\"\",\"\",IF(AND($L314>=Sheet1!$F$16,'Pupil List'!$L314<Sheet1!$G$16),Sheet1!$A$16,\"\"))","v":""},{"$f":"IF($L314=\"\",\"\",IF(AND($L314>=Sheet1!$F$17,'Pupil List'!$L314<Sheet1!$G$17),Sheet1!$A$17,\"\"))","v":""},{"$f":"IF($L314=\"\",\"\",IF(AND($L314>=Sheet1!$F$18,'Pupil List'!$L314<Sheet1!$G$18),Sheet1!$A$18,\"\"))","v":""},{"$f":"IF($L314=\"\",\"\",IF(AND($L314>=Sheet1!$F$19,'Pupil List'!$L314<Sheet1!$G$19),Sheet1!$A$19,\"\"))","v":""},{"$f":"IF($L314=\"\",\"\",IF(AND($L314>=Sheet1!$F$20,'Pupil List'!$L314<Sheet1!$G$20),Sheet1!$A$20,\"\"))","v":""},{"$f":"IF($L314=\"\",\"\",IF(AND($L314>=Sheet1!$F$21,'Pupil List'!$L314<Sheet1!$G$21),Sheet1!$A$21,\"\"))","v":""},{"$f":"IF($L314=\"\",\"\",IF(AND($L314>=Sheet1!$F$22,'Pupil List'!$L314<Sheet1!$G$22),Sheet1!$A$22,\"\"))","v":""},{"$f":"IF($L314=\"\",\"\",IF(AND($L314>=Sheet1!$F$23,'Pupil List'!$L314<Sheet1!$G$23),Sheet1!$A$23,\"\"))","v":""},{"$f":"IF($L314=\"\",\"\",IF(AND($L314>=Sheet1!$F$24,'Pupil List'!$L314<Sheet1!$G$24),Sheet1!$A$24,\"\"))","v":""},{"$f":"IF($L314=\"\",\"\",IF(AND($L314>=Sheet1!$F$25,'Pupil List'!$L314<Sheet1!$G$25),Sheet1!$A$25,\"\"))","v":""},{"$error":"#N/A"},{"$f":"IFERROR(VLOOKUP(BK314,Sheet1!$A$2:$E$25,3,FALSE),\"\")","v":""},{"$f":"IFERROR(VLOOKUP(BK314,Sheet1!$A$2:$E$25,4,FALSE),\"\")","v":""},{"$f":"IFERROR(VLOOKUP(BK314,Sheet1!$A$2:$E$25,5,FALSE),\"\")","v":""},{"$f":"IFERROR(VLOOKUP(N314,Sheet1!$A$29:$B$38,2,FALSE),\"\")","v":""}]
["","","","","","","","","","","",null,"",null,"","","","","","","","","","","","","","","","","","","","","","","","",{"$f":"IF($L315=\"\",\"\",IF(AND($L315>=Sheet1!$F$2,'Pupil List'!$L315<Sheet1!$G$2),Sheet1!$A$2,\"\"))","v":""},{"$f":"IF($L315=\"\",\"\",IF(AND($L315>=Sheet1!$F$3,'Pupil List'!$L315<Sheet1!$G$3),Sheet1!$A$3,\"\"))","v":""},{"$f":"IF($L315=\"\",\"\",IF(AND($L315>=Sheet1!$F$4,'Pupil List'!$L315<Sheet1!$G$4),Sheet1!$A$4,\"\"))","v":""},{"$f":"IF($L315=\"\",\"\",IF(AND($L315>=Sheet1!$F$5,'Pupil List'!$L315<Sheet1!$G$5),Sheet1!$A$5,\"\"))","v":""},{"$f":"IF($L315=\"\",\"\",IF(AND($L315>=Sheet1!$F$6,'Pupil List'!$L315<Sheet1!$G$6),Sheet1!$A$6,\"\"))","v":""},{"$f":"IF($L315=\"\",\"\",IF(AND($L315>=Sheet1!$F$7,'Pupil List'!$L315<Sheet1!$G$7),Sheet1!$A$7,\"\"))","v":""},{"$f":"IF($L315=\"\",\"\",IF(AND($L315>=Sheet1!$F$8,'Pupil List'!$L315<Sheet1!$G$8),Sheet1!$A$8,\"\"))","v":""},{"$f":"IF($L315=\"\",\"\",IF(AND($L315>=Sheet1!$F$9,'Pupil List'!$L315<Sheet1!$G$9),Sheet1!$A$9,\"\"))","v":""},{"$f":"IF($L315=\"\",\"\",IF(AND($L315>=Sheet1!$F$10,'Pupil List'!$L315<Sheet1!$G$10),Sheet1!$A$10,\"\"))","v":""},{"$f":"IF($L315=\"\",\"\",IF(AND($L315>=Sheet1!$F$11,'Pupil List'!$L315<Sheet1!$G$11),Sheet1!$A$11,\"\"))","v":""},{"$f":"IF($L315=\"\",\"\",IF(AND($L315>=Sheet1!$F$12,'Pupil List'!$L315<Sheet1!$G$12),Sheet1!$A$12,\"\"))","v":""},{"$f":"IF($L315=\"\",\"\",IF(AND($L315>=Sheet1!$F$13,'Pupil List'!$L315<Sheet1!$G$13),Sheet1!$A$13,\"\"))","v":""},{"$f":"IF($L315=\"\",\"\",IF(AND($L315>=Sheet1!$F$14,'Pupil List'!$L315<Sheet1!$G$14),Sheet1!$A$14,\"\"))","v":""},{"$f":"IF($L315=\"\",\"\",IF(AND($L315>=Sheet1!$F$15,'Pupil List'!$L315<Sheet1!$G$15),Sheet1!$A$15,\"\"))","v":""},{"$f":"IF($L315=\"\",\"\",IF(AND($L315>=Sheet1!$F$16,'Pupil List'!$L315<Sheet1!$G$16),Sheet1!$A$16,\"\"))","v":""},{"$f":"IF($L315=\"\",\"\",IF(AND($L315>=Sheet1!$F$17,'Pupil List'!$L315<Sheet1!$G$17),Sheet1!$A$17,\"\"))","v":""},{"$f":"IF($L315=\"\",\"\",IF(AND($L315>=Sheet1!$F$18,'Pupil List'!$L315<Sheet1!$G$18),Sheet1!$A$18,\"\"))","v":""},{"$f":"IF($L315=\"\",\"\",IF(AND($L315>=Sheet1!$F$19,'Pupil List'!$L315<Sheet1!$G$19),Sheet1!$A$19,\"\"))","v":""},{"$f":"IF($L315=\"\",\"\",IF(AND($L315>=Sheet1!$F$20,'Pupil List'!$L315<Sheet1!$G$20),Sheet1!$A$20,\"\"))","v":""},{"$f":"IF($L315=\"\",\"\",IF(AND($L315>=Sheet1!$F$21,'Pupil List'!$L315<Sheet1!$G$21),Sheet1!$A$21,\"\"))","v":""},{"$f":"IF($L315=\"\",\"\",IF(AND($L315>=Sheet1!$F$22,'Pupil List'!$L315<Sheet1!$G$22),Sheet1!$A$22,\"\"))","v":""},{"$f":"IF($L315=\"\",\"\",IF(AND($L315>=Sheet1!$F$23,'Pupil List'!$L315<Sheet1!$G$23),Sheet1!$A$23,\"\"))","v":""},{"$f":"IF($L315=\"\",\"\",IF(AND($L315>=Sheet1!$F$24,'Pupil List'!$L315<Sheet1!$G$24),Sheet1!$A$24,\"\"))","v":""},{"$f":"IF($L315=\"\",\"\",IF(AND($L315>=Sheet1!$F$25,'Pupil List'!$L315<Sheet1!$G$25),Sheet1!$A$25,\"\"))","v":""},{"$error":"#N/A"},{"$f":"IFERROR(VLOOKUP(BK315,Sheet1!$A$2:$E$25,3,FALSE),\"\")","v":""},{"$f":"IFERROR(VLOOKUP(BK315,Sheet1!$A$2:$E$25,4,FALSE),\"\")","v":""},{"$f":"IFERROR(VLOOKUP(BK315,Sheet1!$A$2:$E$25,5,FALSE),\"\")","v":""},{"$f":"IFERROR(VLOOKUP(N315,Sheet1!$A$29:$B$38,2,FALSE),\"\")","v":""}]
["","","","","","","","","","","",null,"",null,"","","","","","","","","","","","","","","","","","","","","","","","",{"$f":"IF($L316=\"\",\"\",IF(AND($L316>=Sheet1!$F$2,'Pupil List'!$L316<Sheet1!$G$2),Sheet1!$A$2,\"\"))","v":""},{"$f":"IF($L316=\"\",\"\",IF(AND($L316>=Sheet1!$F$3,'Pupil List'!$L316<Sheet1!$G$3),Sheet1!$A$3,\"\"))","v":""},{"$f":"IF($L316=\"\",\"\",IF(AND($L316>=Sheet1!$F$4,'Pupil List'!$L316<Sheet1!$G$4),Sheet1!$A$4,\"\"))","v":""},{"$f":"IF($L316=\"\",\"\",IF(AND($L316>=Sheet1!$F$5,'Pupil List'!$L316<Sheet1!$G$5),Sheet1!$A$5,\"\"))","v":""},{"$f":"IF($L316=\"\",\"\",IF(AND($L316>=Sheet1!$F$6,'Pupil List'!$L316<Sheet1!$G$6),Sheet1!$A$6,\"\"))","v":""},{"$f":"IF($L316=\"\",\"\",IF(AND($L316>=Sheet1!$F$7,'Pupil List'!$L316<Sheet1!$G$7),Sheet1!$A$7,\"\"))","v":""},{"$f":"IF($L316=\"\",\"\",IF(AND($L316>=Sheet1!$F$8,'Pupil List'!$L316<Sheet1!$G$8),Sheet1!$A$8,\"\"))","v":""},{"$f":"IF($L316=\"\",\"\",IF(AND($L316>=Sheet1!$F$9,'Pupil List'!$L316<Sheet1!$G$9),Sheet1!$A$9,\"\"))","v":""},{"$f":"IF($L316=\"\",\"\",IF(AND($L316>=Sheet1!$F$10,'Pupil List'!$L316<Sheet1!$G$10),Sheet1!$A$10,\"\"))","v":""},{"$f":"IF($L316=\"\",\"\",IF(AND($L316>=Sheet1!$F$11,'Pupil List'!$L316<Sheet1!$G$11),Sheet1!$A$11,\"\"))","v":""},{"$f":"IF($L316=\"\",\"\",IF(AND($L316>=Sheet1!$F$12,'Pupil List'!$L316<Sheet1!$G$12),Sheet1!$A$12,\"\"))","v":""},{"$f":"IF($L316=\"\",\"\",IF(AND($L316>=Sheet1!$F$13,'Pupil List'!$L316<Sheet1!$G$13),Sheet1!$A$13,\"\"))","v":""},{"$f":"IF($L316=\"\",\"\",IF(AND($L316>=Sheet1!$F$14,'Pupil List'!$L316<Sheet1!$G$14),Sheet1!$A$14,\"\"))","v":""},{"$f":"IF($L316=\"\",\"\",IF(AND($L316>=Sheet1!$F$15,'Pupil List'!$L316<Sheet1!$G$15),Sheet1!$A$15,\"\"))","v":""},{"$f":"IF($L316=\"\",\"\",IF(AND($L316>=Sheet1!$F$16,'Pupil List'!$L316<Sheet1!$G$16),Sheet1!$A$16,\"\"))","v":""},{"$f":"IF($L316=\"\",\"\",IF(AND($L316>=Sheet1!$F$17,'Pupil List'!$L316<Sheet1!$G$17),Sheet1!$A$17,\"\"))","v":""},{"$f":"IF($L316=\"\",\"\",IF(AND($L316>=Sheet1!$F$18,'Pupil List'!$L316<Sheet1!$G$18),Sheet1!$A$18,\"\"))","v":""},{"$f":"IF($L316=\"\",\"\",IF(AND($L316>=Sheet1!$F$19,'Pupil List'!$L316<Sheet1!$G$19),Sheet1!$A$19,\"\"))","v":""},{"$f":"IF($L316=\"\",\"\",IF(AND($L316>=Sheet1!$F$20,'Pupil List'!$L316<Sheet1!$G$20),Sheet1!$A$20,\"\"))","v":""},{"$f":"IF($L316=\"\",\"\",IF(AND($L316>=Sheet1!$F$21,'Pupil List'!$L316<Sheet1!$G$21),Sheet1!$A$21,\"\"))","v":""},{"$f":"IF($L316=\"\",\"\",IF(AND($L316>=Sheet1!$F$22,'Pupil List'!$L316<Sheet1!$G$22),Sheet1!$A$22,\"\"))","v":""},{"$f":"IF($L316=\"\",\"\",IF(AND($L316>=Sheet1!$F$23,'Pupil List'!$L316<Sheet1!$G$23),Sheet1!$A$23,\"\"))","v":""},{"$f":"IF($L316=\"\",\"\",IF(AND($L316>=Sheet1!$F$24,'Pupil List'!$L316<Sheet1!$G$24),Sheet1!$A$24,\"\"))","v":""},{"$f":"IF($L316=\"\",\"\",IF(AND($L316>=Sheet1!$F$25,'Pupil List'!$L316<Sheet1!$G$25),Sheet1!$A$25,\"\"))","v":""},{"$error":"#N/A"},{"$f":"IFERROR(VLOOKUP(BK316,Sheet1!$A$2:$E$25,3,FALSE),\"\")","v":""},{"$f":"IFERROR(VLOOKUP(BK316,Sheet1!$A$2:$E$25,4,FALSE),\"\")","v":""},{"$f":"IFERROR(VLOOKUP(BK316,Sheet1!$A$2:$E$25,5,FALSE),\"\")","v":""},{"$f":"IFERROR(VLOOKUP(N316,Sheet1!$A$29:$B$38,2,FALSE),\"\")","v":""}]
["","","","","","","","","","","",null,"",null,"","","","","","","","","","","","","","","","","","","","","","","","",{"$f":"IF($L317=\"\",\"\",IF(AND($L317>=Sheet1!$F$2,'Pupil List'!$L317<Sheet1!$G$2),Sheet1!$A$2,\"\"))","v":""},{"$f":"IF($L317=\"\",\"\",IF(AND($L317>=Sheet1!$F$3,'Pupil List'!$L317<Sheet1!$G$3),Sheet1!$A$3,\"\"))","v":""},{"$f":"IF($L317=\"\",\"\",IF(AND($L317>=Sheet1!$F$4,'Pupil List'!$L317<Sheet1!$G$4),Sheet1!$A$4,\"\"))","v":""},{"$f":"IF($L317=\"\",\"\",IF(AND($L317>=Sheet1!$F$5,'Pupil List'!$L317<Sheet1!$G$5),Sheet1!$A$5,\"\"))","v":""},{"$f":"IF($L317=\"\",\"\",IF(AND($L317>=Sheet1!$F$6,'Pupil List'!$L317<Sheet1!$G$6),Sheet1!$A$6,\"\"))","v":""},{"$f":"IF($L317=\"\",\"\",IF(AND($L317>=Sheet1!$F$7,'Pupil List'!$L317<Sheet1!$G$7),Sheet1!$A$7,\"\"))","v":""},{"$f":"IF($L317=\"\",\"\",IF(AND($L317>=Sheet1!$F$8,'Pupil List'!$L317<Sheet1!$G$8),Sheet1!$A$8,\"\"))","v":""},{"$f":"IF($L317=\"\",\"\",IF(AND($L317>=Sheet1!$F$9,'Pupil List'!$L317<Sheet1!$G$9),Sheet1!$A$9,\"\"))","v":""},{"$f":"IF($L317=\"\",\"\",IF(AND($L317>=Sheet1!$F$10,'Pupil List'!$L317<Sheet1!$G$10),Sheet1!$A$10,\"\"))","v":""},{"$f":"IF($L317=\"\",\"\",IF(AND($L317>=Sheet1!$F$11,'Pupil List'!$L317<Sheet1!$G$11),Sheet1!$A$11,\"\"))","v":""},{"$f":"IF($L317=\"\",\"\",IF(AND($L317>=Sheet1!$F$12,'Pupil List'!$L317<Sheet1!$G$12),Sheet1!$A$12,\"\"))","v":""},{"$f":"IF($L317=\"\",\"\",IF(AND($L317>=Sheet1!$F$13,'Pupil List'!$L317<Sheet1!$G$13),Sheet1!$A$13,\"\"))","v":""},{"$f":"IF($L317=\"\",\"\",IF(AND($L317>=Sheet1!$F$14,'Pupil List'!$L317<Sheet1!$G$14),Sheet1!$A$14,\"\"))","v":""},{"$f":"IF($L317=\"\",\"\",IF(AND($L317>=Sheet1!$F$15,'Pupil List'!$L317<Sheet1!$G$15),Sheet1!$A$15,\"\"))","v":""},{"$f":"IF($L317=\"\",\"\",IF(AND($L317>=Sheet1!$F$16,'Pupil List'!$L317<Sheet1!$G$16),Sheet1!$A$16,\"\"))","v":""},{"$f":"IF($L317=\"\",\"\",IF(AND($L317>=Sheet1!$F$17,'Pupil List'!$L317<Sheet1!$G$17),Sheet1!$A$17,\"\"))","v":""},{"$f":"IF($L317=\"\",\"\",IF(AND($L317>=Sheet1!$F$18,'Pupil List'!$L317<Sheet1!$G$18),Sheet1!$A$18,\"\"))","v":""},{"$f":"IF($L317=\"\",\"\",IF(AND($L317>=Sheet1!$F$19,'Pupil List'!$L317<Sheet1!$G$19),Sheet1!$A$19,\"\"))","v":""},{"$f":"IF($L317=\"\",\"\",IF(AND($L317>=Sheet1!$F$20,'Pupil List'!$L317<Sheet1!$G$20),Sheet1!$A$20,\"\"))","v":""},{"$f":"IF($L317=\"\",\"\",IF(AND($L317>=Sheet1!$F$21,'Pupil List'!$L317<Sheet1!$G$21),Sheet1!$A$21,\"\"))","v":""},{"$f":"IF($L317=\"\",\"\",IF(AND($L317>=Sheet1!$F$22,'Pupil List'!$L317<Sheet1!$G$22),Sheet1!$A$22,\"\"))","v":""},{"$f":"IF($L317=\"\",\"\",IF(AND($L317>=Sheet1!$F$23,'Pupil List'!$L317<Sheet1!$G$23),Sheet1!$A$23,\"\"))","v":""},{"$f":"IF($L317=\"\",\"\",IF(AND($L317>=Sheet1!$F$24,'Pupil List'!$L317<Sheet1!$G$24),Sheet1!$A$24,\"\"))","v":""},{"$f":"IF($L317=\"\",\"\",IF(AND($L317>=Sheet1!$F$25,'Pupil List'!$L317<Sheet1!$G$25),Sheet1!$A$25,\"\"))","v":""},{"$error":"#N/A"},{"$f":"IFERROR(VLOOKUP(BK317,Sheet1!$A$2:$E$25,3,FALSE),\"\")","v":""},{"$f":"IFERROR(VLOOKUP(BK317,Sheet1!$A$2:$E$25,4,FALSE),\"\")","v":""},{"$f":"IFERROR(VLOOKUP(BK317,Sheet1!$A$2:$E$25,5,FALSE),\"\")","v":""},{"$f":"IFERROR(VLOOKUP(N317,Sheet1!$A$29:$B$38,2,FALSE),\"\")","v":""}]
["","","","","","","","","","","",null,"",null,"","","","","","","","","","","","","","","","","","","","","","","","",{"$f":"IF($L318=\"\",\"\",IF(AND($L318>=Sheet1!$F$2,'Pupil List'!$L318<Sheet1!$G$2),Sheet1!$A$2,\"\"))","v":""},{"$f":"IF($L318=\"\",\"\",IF(AND($L318>=Sheet1!$F$3,'Pupil List'!$L318<Sheet1!$G$3),Sheet1!$A$3,\"\"))","v":""},{"$f":"IF($L318=\"\",\"\",IF(AND($L318>=Sheet1!$F$4,'Pupil List'!$L318<Sheet1!$G$4),Sheet1!$A$4,\"\"))","v":""},{"$f":"IF($L318=\"\",\"\",IF(AND($L318>=Sheet1!$F$5,'Pupil List'!$L318<Sheet1!$G$5),Sheet1!$A$5,\"\"))","v":""},{"$f":"IF($L318=\"\",\"\",IF(AND($L318>=Sheet1!$F$6,'Pupil List'!$L318<Sheet1!$G$6),Sheet1!$A$6,\"\"))","v":""},{"$f":"IF($L318=\"\",\"\",IF(AND($L318>=Sheet1!$F$7,'Pupil List'!$L318<Sheet1!$G$7),Sheet1!$A$7,\"\"))","v":""},{"$f":"IF($L318=\"\",\"\",IF(AND($L318>=Sheet1!$F$8,'Pupil List'!$L318<Sheet1!$G$8),Sheet1!$A$8,\"\"))","v":""},{"$f":"IF($L318=\"\",\"\",IF(AND($L318>=Sheet1!$F$9,'Pupil List'!$L318<Sheet1!$G$9),Sheet1!$A$9,\"\"))","v":""},{"$f":"IF($L318=\"\",\"\",IF(AND($L318>=Sheet1!$F$10,'Pupil List'!$L318<Sheet1!$G$10),Sheet1!$A$10,\"\"))","v":""},{"$f":"IF($L318=\"\",\"\",IF(AND($L318>=Sheet1!$F$11,'Pupil List'!$L318<Sheet1!$G$11),Sheet1!$A$11,\"\"))","v":""},{"$f":"IF($L318=\"\",\"\",IF(AND($L318>=Sheet1!$F$12,'Pupil List'!$L318<Sheet1!$G$12),Sheet1!$A$12,\"\"))","v":""},{"$f":"IF($L318=\"\",\"\",IF(AND($L318>=Sheet1!$F$13,'Pupil List'!$L318<Sheet1!$G$13),Sheet1!$A$13,\"\"))","v":""},{"$f":"IF($L318=\"\",\"\",IF(AND($L318>=Sheet1!$F$14,'Pupil List'!$L318<Sheet1!$G$14),Sheet1!$A$14,\"\"))","v":""},{"$f":"IF($L318=\"\",\"\",IF(AND($L318>=Sheet1!$F$15,'Pupil List'!$L318<Sheet1!$G$15),Sheet1!$A$15,\"\"))","v":""},{"$f":"IF($L318=\"\",\"\",IF(AND($L318>=Sheet1!$F$16,'Pupil List'!$L318<Sheet1!$G$16),Sheet1!$A$16,\"\"))","v":""},{"$f":"IF($L318=\"\",\"\",IF(AND($L318>=Sheet1!$F$17,'Pupil List'!$L318<Sheet1!$G$17),Sheet1!$A$17,\"\"))","v":""},{"$f":"IF($L318=\"\",\"\",IF(AND($L318>=Sheet1!$F$18,'Pupil List'!$L318<Sheet1!$G$18),Sheet1!$A$18,\"\"))","v":""},{"$f":"IF($L318=\"\",\"\",IF(AND($L318>=Sheet1!$F$19,'Pupil List'!$L318<Sheet1!$G$19),Sheet1!$A$19,\"\"))","v":""},{"$f":"IF($L318=\"\",\"\",IF(AND($L318>=Sheet1!$F$20,'Pupil List'!$L318<Sheet1!$G$20),Sheet1!$A$20,\"\"))","v":""},{"$f":"IF($L318=\"\",\"\",IF(AND($L318>=Sheet1!$F$21,'Pupil List'!$L318<Sheet1!$G$21),Sheet1!$A$21,\"\"))","v":""},{"$f":"IF($L318=\"\",\"\",IF(AND($L318>=Sheet1!$F$22,'Pupil List'!$L318<Sheet1!$G$22),Sheet1!$A$22,\"\"))","v":""},{"$f":"IF($L318=\"\",\"\",IF(AND($L318>=Sheet1!$F$23,'Pupil List'!$L318<Sheet1!$G$23),Sheet1!$A$23,\"\"))","v":""},{"$f":"IF($L318=\"\",\"\",IF(AND($L318>=Sheet1!$F$24,'Pupil List'!$L318<Sheet1!$G$24),Sheet1!$A$24,\"\"))","v":""},{"$f":"IF($L318=\"\",\"\",IF(AND($L318>=Sheet1!$F$25,'Pupil List'!$L318<Sheet1!$G$25),Sheet1!$A$25,\"\"))","v":""},{"$error":"#N/A"},{"$f":"IFERROR(VLOOKUP(BK318,Sheet1!$A$2:$E$25,3,FALSE),\"\")","v":""},{"$f":"IFERROR(VLOOKUP(BK318,Sheet1!$A$2:$E$25,4,FALSE),\"\")","v":""},{"$f":"IFERROR(VLOOKUP(BK318,Sheet1!$A$2:$E$25,5,FALSE),\"\")","v":""},{"$f":"IFERROR(VLOOKUP(N318,Sheet1!$A$29:$B$38,2,FALSE),\"\")","v":""}]
["","","","","","","","","","","",null,"",null,"","","","","","","","","","","","","","","","","","","","","","","","",{"$f":"IF($L319=\"\",\"\",IF(AND($L319>=Sheet1!$F$2,'Pupil List'!$L319<Sheet1!$G$2),Sheet1!$A$2,\"\"))","v":""},{"$f":"IF($L319=\"\",\"\",IF(AND($L319>=Sheet1!$F$3,'Pupil List'!$L319<Sheet1!$G$3),Sheet1!$A$3,\"\"))","v":""},{"$f":"IF($L319=\"\",\"\",IF(AND($L319>=Sheet1!$F$4,'Pupil List'!$L319<Sheet1!$G$4),Sheet1!$A$4,\"\"))","v":""},{"$f":"IF($L319=\"\",\"\",IF(AND($L319>=Sheet1!$F$5,'Pupil List'!$L319<Sheet1!$G$5),Sheet1!$A$5,\"\"))","v":""},{"$f":"IF($L319=\"\",\"\",IF(AND($L319>=Sheet1!$F$6,'Pupil List'!$L319<Sheet1!$G$6),Sheet1!$A$6,\"\"))","v":""},{"$f":"IF($L319=\"\",\"\",IF(AND($L319>=Sheet1!$F$7,'Pupil List'!$L319<Sheet1!$G$7),Sheet1!$A$7,\"\"))","v":""},{"$f":"IF($L319=\"\",\"\",IF(AND($L319>=Sheet1!$F$8,'Pupil List'!$L319<Sheet1!$G$8),Sheet1!$A$8,\"\"))","v":""},{"$f":"IF($L319=\"\",\"\",IF(AND($L319>=Sheet1!$F$9,'Pupil List'!$L319<Sheet1!$G$9),Sheet1!$A$9,\"\"))","v":""},{"$f":"IF($L319=\"\",\"\",IF(AND($L319>=Sheet1!$F$10,'Pupil List'!$L319<Sheet1!$G$10),Sheet1!$A$10,\"\"))","v":""},{"$f":"IF($L319=\"\",\"\",IF(AND($L319>=Sheet1!$F$11,'Pupil List'!$L319<Sheet1!$G$11),Sheet1!$A$11,\"\"))","v":""},{"$f":"IF($L319=\"\",\"\",IF(AND($L319>=Sheet1!$F$12,'Pupil List'!$L319<Sheet1!$G$12),Sheet1!$A$12,\"\"))","v":""},{"$f":"IF($L319=\"\",\"\",IF(AND($L319>=Sheet1!$F$13,'Pupil List'!$L319<Sheet1!$G$13),Sheet1!$A$13,\"\"))","v":""},{"$f":"IF($L319=\"\",\"\",IF(AND($L319>=Sheet1!$F$14,'Pupil List'!$L319<Sheet1!$G$14),Sheet1!$A$14,\"\"))","v":""},{"$f":"IF($L319=\"\",\"\",IF(AND($L319>=Sheet1!$F$15,'Pupil List'!$L319<Sheet1!$G$15),Sheet1!$A$15,\"\"))","v":""},{"$f":"IF($L319=\"\",\"\",IF(AND($L319>=Sheet1!$F$16,'Pupil List'!$L319<Sheet1!$G$16),Sheet1!$A$16,\"\"))","v":""},{"$f":"IF($L319=\"\",\"\",IF(AND($L319>=Sheet1!$F$17,'Pupil List'!$L319<Sheet1!$G$17),Sheet1!$A$17,\"\"))","v":""},{"$f":"IF($L319=\"\",\"\",IF(AND($L319>=Sheet1!$F$18,'Pupil List'!$L319<Sheet1!$G$18),Sheet1!$A$18,\"\"))","v":""},{"$f":"IF($L319=\"\",\"\",IF(AND($L319>=Sheet1!$F$19,'Pupil List'!$L319<Sheet1!$G$19),Sheet1!$A$19,\"\"))","v":""},{"$f":"IF($L319=\"\",\"\",IF(AND($L319>=Sheet1!$F$20,'Pupil List'!$L319<Sheet1!$G$20),Sheet1!$A$20,\"\"))","v":""},{"$f":"IF($L319=\"\",\"\",IF(AND($L319>=Sheet1!$F$21,'Pupil List'!$L319<Sheet1!$G$21),Sheet1!$A$21,\"\"))","v":""},{"$f":"IF($L319=\"\",\"\",IF(AND($L319>=Sheet1!$F$22,'Pupil List'!$L319<Sheet1!$G$22),Sheet1!$A$22,\"\"))","v":""},{"$f":"IF($L319=\"\",\"\",IF(AND($L319>=Sheet1!$F$23,'Pupil List'!$L319<Sheet1!$G$23),Sheet1!$A$23,\"\"))","v":""},{"$f":"IF($L319=\"\",\"\",IF(AND($L319>=Sheet1!$F$24,'Pupil List'!$L319<Sheet1!$G$24),Sheet1!$A$24,\"\"))","v":""},{"$f":"IF($L319=\"\",\"\",IF(AND($L319>=Sheet1!$F$25,'Pupil List'!$L319<Sheet1!$G$25),Sheet1!$A$25,\"\"))","v":""},{"$error":"#N/A"},{"$f":"IFERROR(VLOOKUP(BK319,Sheet1!$A$2:$E$25,3,FALSE),\"\")","v":""},{"$f":"IFERROR(VLOOKUP(BK319,Sheet1!$A$2:$E$25,4,FALSE),\"\")","v":""},{"$f":"IFERROR(VLOOKUP(BK319,Sheet1!$A$2:$E$25,5,FALSE),\"\")","v":""},{"$f":"IFERROR(VLOOKUP(N319,Sheet1!$A$29:$B$38,2,FALSE),\"\")","v":""}]
["","","","","","","","","","","",null,"",null,"","","","","","","","","","","","","","","","","","","","","","","","",{"$f":"IF($L320=\"\",\"\",IF(AND($L320>=Sheet1!$F$2,'Pupil List'!$L320<Sheet1!$G$2),Sheet1!$A$2,\"\"))","v":""},{"$f":"IF($L320=\"\",\"\",IF(AND($L320>=Sheet1!$F$3,'Pupil List'!$L320<Sheet1!$G$3),Sheet1!$A$3,\"\"))","v":""},{"$f":"IF($L320=\"\",\"\",IF(AND($L320>=Sheet1!$F$4,'Pupil List'!$L320<Sheet1!$G$4),Sheet1!$A$4,\"\"))","v":""},{"$f":"IF($L320=\"\",\"\",IF(AND($L320>=Sheet1!$F$5,'Pupil List'!$L320<Sheet1!$G$5),Sheet1!$A$5,\"\"))","v":""},{"$f":"IF($L320=\"\",\"\",IF(AND($L320>=Sheet1!$F$6,'Pupil List'!$L320<Sheet1!$G$6),Sheet1!$A$6,\"\"))","v":""},{"$f":"IF($L320=\"\",\"\",IF(AND($L320>=Sheet1!$F$7,'Pupil List'!$L320<Sheet1!$G$7),Sheet1!$A$7,\"\"))","v":""},{"$f":"IF($L320=\"\",\"\",IF(AND($L320>=Sheet1!$F$8,'Pupil List'!$L320<Sheet1!$G$8),Sheet1!$A$8,\"\"))","v":""},{"$f":"IF($L320=\"\",\"\",IF(AND($L320>=Sheet1!$F$9,'Pupil List'!$L320<Sheet1!$G$9),Sheet1!$A$9,\"\"))","v":""},{"$f":"IF($L320=\"\",\"\",IF(AND($L320>=Sheet1!$F$10,'Pupil List'!$L320<Sheet1!$G$10),Sheet1!$A$10,\"\"))","v":""},{"$f":"IF($L320=\"\",\"\",IF(AND($L320>=Sheet1!$F$11,'Pupil List'!$L320<Sheet1!$G$11),Sheet1!$A$11,\"\"))","v":""},{"$f":"IF($L320=\"\",\"\",IF(AND($L320>=Sheet1!$F$12,'Pupil List'!$L320<Sheet1!$G$12),Sheet1!$A$12,\"\"))","v":""},{"$f":"IF($L320=\"\",\"\",IF(AND($L320>=Sheet1!$F$13,'Pupil List'!$L320<Sheet1!$G$13),Sheet1!$A$13,\"\"))","v":""},{"$f":"IF($L320=\"\",\"\",IF(AND($L320>=Sheet1!$F$14,'Pupil List'!$L320<Sheet1!$G$14),Sheet1!$A$14,\"\"))","v":""},{"$f":"IF($L320=\"\",\"\",IF(AND($L320>=Sheet1!$F$15,'Pupil List'!$L320<Sheet1!$G$15),Sheet1!$A$15,\"\"))","v":""},{"$f":"IF($L320=\"\",\"\",IF(AND($L320>=Sheet1!$F$16,'Pupil List'!$L320<Sheet1!$G$16),Sheet1!$A$16,\"\"))","v":""},{"$f":"IF($L320=\"\",\"\",IF(AND($L320>=Sheet1!$F$17,'Pupil List'!$L320<Sheet1!$G$17),Sheet1!$A$17,\"\"))","v":""},{"$f":"IF($L320=\"\",\"\",IF(AND($L320>=Sheet1!$F$18,'Pupil List'!$L320<Sheet1!$G$18),Sheet1!$A$18,\"\"))","v":""},{"$f":"IF($L320=\"\",\"\",IF(AND($L320>=Sheet1!$F$19,'Pupil List'!$L320<Sheet1!$G$19),Sheet1!$A$19,\"\"))","v":""},{"$f":"IF($L320=\"\",\"\",IF(AND($L320>=Sheet1!$F$20,'Pupil List'!$L320<Sheet1!$G$20),Sheet1!$A$20,\"\"))","v":""},{"$f":"IF($L320=\"\",\"\",IF(AND($L320>=Sheet1!$F$21,'Pupil List'!$L320<Sheet1!$G$21),Sheet1!$A$21,\"\"))","v":""},{"$f":"IF($L320=\"\",\"\",IF(AND($L320>=Sheet1!$F$22,'Pupil List'!$L320<Sheet1!$G$22),Sheet1!$A$22,\"\"))","v":""},{"$f":"IF($L320=\"\",\"\",IF(AND($L320>=Sheet1!$F$23,'Pupil List'!$L320<Sheet1!$G$23),Sheet1!$A$23,\"\"))","v":""},{"$f":"IF($L320=\"\",\"\",IF(AND($L320>=Sheet1!$F$24,'Pupil List'!$L320<Sheet1!$G$24),Sheet1!$A$24,\"\"))","v":""},{"$f":"IF($L320=\"\",\"\",IF(AND($L320>=Sheet1!$F$25,'Pupil List'!$L320<Sheet1!$G$25),Sheet1!$A$25,\"\"))","v":""},{"$error":"#N/A"},{"$f":"IFERROR(VLOOKUP(BK320,Sheet1!$A$2:$E$25,3,FALSE),\"\")","v":""},{"$f":"IFERROR(VLOOKUP(BK320,Sheet1!$A$2:$E$25,4,FALSE),\"\")","v":""},{"$f":"IFERROR(VLOOKUP(BK320,Sheet1!$A$2:$E$25,5,FALSE),\"\")","v":""},{"$f":"IFERROR(VLOOKUP(N320,Sheet1!$A$29:$B$38,2,FALSE),\"\")","v":""}]
["","","","","","","","","","","",null,"",null,"","","","","","","","","","","","","","","","","","","","","","","","",{"$f":"IF($L321=\"\",\"\",IF(AND($L321>=Sheet1!$F$2,'Pupil List'!$L321<Sheet1!$G$2),Sheet1!$A$2,\"\"))","v":""},{"$f":"IF($L321=\"\",\"\",IF(AND($L321>=Sheet1!$F$3,'Pupil List'!$L321<Sheet1!$G$3),Sheet1!$A$3,\"\"))","v":""},{"$f":"IF($L321=\"\",\"\",IF(AND($L321>=Sheet1!$F$4,'Pupil List'!$L321<Sheet1!$G$4),Sheet1!$A$4,\"\"))","v":""},{"$f":"IF($L321=\"\",\"\",IF(AND($L321>=Sheet1!$F$5,'Pupil List'!$L321<Sheet1!$G$5),Sheet1!$A$5,\"\"))","v":""},{"$f":"IF($L321=\"\",\"\",IF(AND($L321>=Sheet1!$F$6,'Pupil List'!$L321<Sheet1!$G$6),Sheet1!$A$6,\"\"))","v":""},{"$f":"IF($L321=\"\",\"\",IF(AND($L321>=Sheet1!$F$7,'Pupil List'!$L321<Sheet1!$G$7),Sheet1!$A$7,\"\"))","v":""},{"$f":"IF($L321=\"\",\"\",IF(AND($L321>=Sheet1!$F$8,'Pupil List'!$L321<Sheet1!$G$8),Sheet1!$A$8,\"\"))","v":""},{"$f":"IF($L321=\"\",\"\",IF(AND($L321>=Sheet1!$F$9,'Pupil List'!$L321<Sheet1!$G$9),Sheet1!$A$9,\"\"))","v":""},{"$f":"IF($L321=\"\",\"\",IF(AND($L321>=Sheet1!$F$10,'Pupil List'!$L321<Sheet1!$G$10),Sheet1!$A$10,\"\"))","v":""},{"$f":"IF($L321=\"\",\"\",IF(AND($L321>=Sheet1!$F$11,'Pupil List'!$L321<Sheet1!$G$11),Sheet1!$A$11,\"\"))","v":""},{"$f":"IF($L321=\"\",\"\",IF(AND($L321>=Sheet1!$F$12,'Pupil List'!$L321<Sheet1!$G$12),Sheet1!$A$12,\"\"))","v":""},{"$f":"IF($L321=\"\",\"\",IF(AND($L321>=Sheet1!$F$13,'Pupil List'!$L321<Sheet1!$G$13),Sheet1!$A$13,\"\"))","v":""},{"$f":"IF($L321=\"\",\"\",IF(AND($L321>=Sheet1!$F$14,'Pupil List'!$L321<Sheet1!$G$14),Sheet1!$A$14,\"\"))","v":""},{"$f":"IF($L321=\"\",\"\",IF(AND($L321>=Sheet1!$F$15,'Pupil List'!$L321<Sheet1!$G$15),Sheet1!$A$15,\"\"))","v":""},{"$f":"IF($L321=\"\",\"\",IF(AND($L321>=Sheet1!$F$16,'Pupil List'!$L321<Sheet1!$G$16),Sheet1!$A$16,\"\"))","v":""},{"$f":"IF($L321=\"\",\"\",IF(AND($L321>=Sheet1!$F$17,'Pupil List'!$L321<Sheet1!$G$17),Sheet1!$A$17,\"\"))","v":""},{"$f":"IF($L321=\"\",\"\",IF(AND($L321>=Sheet1!$F$18,'Pupil List'!$L321<Sheet1!$G$18),Sheet1!$A$18,\"\"))","v":""},{"$f":"IF($L321=\"\",\"\",IF(AND($L321>=Sheet1!$F$19,'Pupil List'!$L321<Sheet1!$G$19),Sheet1!$A$19,\"\"))","v":""},{"$f":"IF($L321=\"\",\"\",IF(AND($L321>=Sheet1!$F$20,'Pupil List'!$L321<Sheet1!$G$20),Sheet1!$A$20,\"\"))","v":""},{"$f":"IF($L321=\"\",\"\",IF(AND($L321>=Sheet1!$F$21,'Pupil List'!$L321<Sheet1!$G$21),Sheet1!$A$21,\"\"))","v":""},{"$f":"IF($L321=\"\",\"\",IF(AND($L321>=Sheet1!$F$22,'Pupil List'!$L321<Sheet1!$G$22),Sheet1!$A$22,\"\"))","v":""},{"$f":"IF($L321=\"\",\"\",IF(AND($L321>=Sheet1!$F$23,'Pupil List'!$L321<Sheet1!$G$23),Sheet1!$A$23,\"\"))","v":""},{"$f":"IF($L321=\"\",\"\",IF(AND($L321>=Sheet1!$F$24,'Pupil List'!$L321<Sheet1!$G$24),Sheet1!$A$24,\"\"))","v":""},{"$f":"IF($L321=\"\",\"\",IF(AND($L321>=Sheet1!$F$25,'Pupil List'!$L321<Sheet1!$G$25),Sheet1!$A$25,\"\"))","v":""},{"$error":"#N/A"},{"$f":"IFERROR(VLOOKUP(BK321,Sheet1!$A$2:$E$25,3,FALSE),\"\")","v":""},{"$f":"IFERROR(VLOOKUP(BK321,Sheet1!$A$2:$E$25,4,FALSE),\"\")","v":""},{"$f":"IFERROR(VLOOKUP(BK321,Sheet1!$A$2:$E$25,5,FALSE),\"\")","v":""},{"$f":"IFERROR(VLOOKUP(N321,Sheet1!$A$29:$B$38,2,FALSE),\"\")","v":""}]
["","","","","","","","","","","",null,"",null,"","","","","","","","","","","","","","","","","","","","","","","","",{"$f":"IF($L322=\"\",\"\",IF(AND($L322>=Sheet1!$F$2,'Pupil List'!$L322<Sheet1!$G$2),Sheet1!$A$2,\"\"))","v":""},{"$f":"IF($L322=\"\",\"\",IF(AND($L322>=Sheet1!$F$3,'Pupil List'!$L322<Sheet1!$G$3),Sheet1!$A$3,\"\"))","v":""},{"$f":"IF($L322=\"\",\"\",IF(AND($L322>=Sheet1!$F$4,'Pupil List'!$L322<Sheet1!$G$4),Sheet1!$A$4,\"\"))","v":""},{"$f":"IF($L322=\"\",\"\",IF(AND($L322>=Sheet1!$F$5,'Pupil List'!$L322<Sheet1!$G$5),Sheet1!$A$5,\"\"))","v":""},{"$f":"IF($L322=\"\",\"\",IF(AND($L322>=Sheet1!$F$6,'Pupil List'!$L322<Sheet1!$G$6),Sheet1!$A$6,\"\"))","v":""},{"$f":"IF($L322=\"\",\"\",IF(AND($L322>=Sheet1!$F$7,'Pupil List'!$L322<Sheet1!$G$7),Sheet1!$A$7,\"\"))","v":""},{"$f":"IF($L322=\"\",\"\",IF(AND($L322>=Sheet1!$F$8,'Pupil List'!$L322<Sheet1!$G$8),Sheet1!$A$8,\"\"))","v":""},{"$f":"IF($L322=\"\",\"\",IF(AND($L322>=Sheet1!$F$9,'Pupil List'!$L322<Sheet1!$G$9),Sheet1!$A$9,\"\"))","v":""},{"$f":"IF($L322=\"\",\"\",IF(AND($L322>=Sheet1!$F$10,'Pupil List'!$L322<Sheet1!$G$10),Sheet1!$A$10,\"\"))","v":""},{"$f":"IF($L322=\"\",\"\",IF(AND($L322>=Sheet1!$F$11,'Pupil List'!$L322<Sheet1!$G$11),Sheet1!$A$11,\"\"))","v":""},{"$f":"IF($L322=\"\",\"\",IF(AND($L322>=Sheet1!$F$12,'Pupil List'!$L322<Sheet1!$G$12),Sheet1!$A$12,\"\"))","v":""},{"$f":"IF($L322=\"\",\"\",IF(AND($L322>=Sheet1!$F$13,'Pupil List'!$L322<Sheet1!$G$13),Sheet1!$A$13,\"\"))","v":""},{"$f":"IF($L322=\"\",\"\",IF(AND($L322>=Sheet1!$F$14,'Pupil List'!$L322<Sheet1!$G$14),Sheet1!$A$14,\"\"))","v":""},{"$f":"IF($L322=\"\",\"\",IF(AND($L322>=Sheet1!$F$15,'Pupil List'!$L322<Sheet1!$G$15),Sheet1!$A$15,\"\"))","v":""},{"$f":"IF($L322=\"\",\"\",IF(AND($L322>=Sheet1!$F$16,'Pupil List'!$L322<Sheet1!$G$16),Sheet1!$A$16,\"\"))","v":""},{"$f":"IF($L322=\"\",\"\",IF(AND($L322>=Sheet1!$F$17,'Pupil List'!$L322<Sheet1!$G$17),Sheet1!$A$17,\"\"))","v":""},{"$f":"IF($L322=\"\",\"\",IF(AND($L322>=Sheet1!$F$18,'Pupil List'!$L322<Sheet1!$G$18),Sheet1!$A$18,\"\"))","v":""},{"$f":"IF($L322=\"\",\"\",IF(AND($L322>=Sheet1!$F$19,'Pupil List'!$L322<Sheet1!$G$19),Sheet1!$A$19,\"\"))","v":""},{"$f":"IF($L322=\"\",\"\",IF(AND($L322>=Sheet1!$F$20,'Pupil List'!$L322<Sheet1!$G$20),Sheet1!$A$20,\"\"))","v":""},{"$f":"IF($L322=\"\",\"\",IF(AND($L322>=Sheet1!$F$21,'Pupil List'!$L322<Sheet1!$G$21),Sheet1!$A$21,\"\"))","v":""},{"$f":"IF($L322=\"\",\"\",IF(AND($L322>=Sheet1!$F$22,'Pupil List'!$L322<Sheet1!$G$22),Sheet1!$A$22,\"\"))","v":""},{"$f":"IF($L322=\"\",\"\",IF(AND($L322>=Sheet1!$F$23,'Pupil List'!$L322<Sheet1!$G$23),Sheet1!$A$23,\"\"))","v":""},{"$f":"IF($L322=\"\",\"\",IF(AND($L322>=Sheet1!$F$24,'Pupil List'!$L322<Sheet1!$G$24),Sheet1!$A$24,\"\"))","v":""},{"$f":"IF($L322=\"\",\"\",IF(AND($L322>=Sheet1!$F$25,'Pupil List'!$L322<Sheet1!$G$25),Sheet1!$A$25,\"\"))","v":""},{"$error":"#N/A"},{"$f":"IFERROR(VLOOKUP(BK322,Sheet1!$A$2:$E$25,3,FALSE),\"\")","v":""},{"$f":"IFERROR(VLOOKUP(BK322,Sheet1!$A$2:$E$25,4,FALSE),\"\")","v":""},{"$f":"IFERROR(VLOOKUP(BK322,Sheet1!$A$2:$E$25,5,FALSE),\"\")","v":""},{"$f":"IFERROR(VLOOKUP(N322,Sheet1!$A$29:$B$38,2,FALSE),\"\")","v":""}]
["","","","","","","","","","","",null,"",null,"","","","","","","","","","","","","","","","","","","","","","","","",{"$f":"IF($L323=\"\",\"\",IF(AND($L323>=Sheet1!$F$2,'Pupil List'!$L323<Sheet1!$G$2),Sheet1!$A$2,\"\"))","v":""},{"$f":"IF($L323=\"\",\"\",IF(AND($L323>=Sheet1!$F$3,'Pupil List'!$L323<Sheet1!$G$3),Sheet1!$A$3,\"\"))","v":""},{"$f":"IF($L323=\"\",\"\",IF(AND($L323>=Sheet1!$F$4,'Pupil List'!$L323<Sheet1!$G$4),Sheet1!$A$4,\"\"))","v":""},{"$f":"IF($L323=\"\",\"\",IF(AND($L323>=Sheet1!$F$5,'Pupil List'!$L323<Sheet1!$G$5),Sheet1!$A$5,\"\"))","v":""},{"$f":"IF($L323=\"\",\"\",IF(AND($L323>=Sheet1!$F$6,'Pupil List'!$L323<Sheet1!$G$6),Sheet1!$A$6,\"\"))","v":""},{"$f":"IF($L323=\"\",\"\",IF(AND($L323>=Sheet1!$F$7,'Pupil List'!$L323<Sheet1!$G$7),Sheet1!$A$7,\"\"))","v":""},{"$f":"IF($L323=\"\",\"\",IF(AND($L323>=Sheet1!$F$8,'Pupil List'!$L323<Sheet1!$G$8),Sheet1!$A$8,\"\"))","v":""},{"$f":"IF($L323=\"\",\"\",IF(AND($L323>=Sheet1!$F$9,'Pupil List'!$L323<Sheet1!$G$9),Sheet1!$A$9,\"\"))","v":""},{"$f":"IF($L323=\"\",\"\",IF(AND($L323>=Sheet1!$F$10,'Pupil List'!$L323<Sheet1!$G$10),Sheet1!$A$10,\"\"))","v":""},{"$f":"IF($L323=\"\",\"\",IF(AND($L323>=Sheet1!$F$11,'Pupil List'!$L323<Sheet1!$G$11),Sheet1!$A$11,\"\"))","v":""},{"$f":"IF($L323=\"\",\"\",IF(AND($L323>=Sheet1!$F$12,'Pupil List'!$L323<Sheet1!$G$12),Sheet1!$A$12,\"\"))","v":""},{"$f":"IF($L323=\"\",\"\",IF(AND($L323>=Sheet1!$F$13,'Pupil List'!$L323<Sheet1!$G$13),Sheet1!$A$13,\"\"))","v":""},{"$f":"IF($L323=\"\",\"\",IF(AND($L323>=Sheet1!$F$14,'Pupil List'!$L323<Sheet1!$G$14),Sheet1!$A$14,\"\"))","v":""},{"$f":"IF($L323=\"\",\"\",IF(AND($L323>=Sheet1!$F$15,'Pupil List'!$L323<Sheet1!$G$15),Sheet1!$A$15,\"\"))","v":""},{"$f":"IF($L323=\"\",\"\",IF(AND($L323>=Sheet1!$F$16,'Pupil List'!$L323<Sheet1!$G$16),Sheet1!$A$16,\"\"))","v":""},{"$f":"IF($L323=\"\",\"\",IF(AND($L323>=Sheet1!$F$17,'Pupil List'!$L323<Sheet1!$G$17),Sheet1!$A$17,\"\"))","v":""},{"$f":"IF($L323=\"\",\"\",IF(AND($L323>=Sheet1!$F$18,'Pupil List'!$L323<Sheet1!$G$18),Sheet1!$A$18,\"\"))","v":""},{"$f":"IF($L323=\"\",\"\",IF(AND($L323>=Sheet1!$F$19,'Pupil List'!$L323<Sheet1!$G$19),Sheet1!$A$19,\"\"))","v":""},{"$f":"IF($L323=\"\",\"\",IF(AND($L323>=Sheet1!$F$20,'Pupil List'!$L323<Sheet1!$G$20),Sheet1!$A$20,\"\"))","v":""},{"$f":"IF($L323=\"\",\"\",IF(AND($L323>=Sheet1!$F$21,'Pupil List'!$L323<Sheet1!$G$21),Sheet1!$A$21,\"\"))","v":""},{"$f":"IF($L323=\"\",\"\",IF(AND($L323>=Sheet1!$F$22,'Pupil List'!$L323<Sheet1!$G$22),Sheet1!$A$22,\"\"))","v":""},{"$f":"IF($L323=\"\",\"\",IF(AND($L323>=Sheet1!$F$23,'Pupil List'!$L323<Sheet1!$G$23),Sheet1!$A$23,\"\"))","v":""},{"$f":"IF($L323=\"\",\"\",IF(AND($L323>=Sheet1!$F$24,'Pupil List'!$L323<Sheet1!$G$24),Sheet1!$A$24,\"\"))","v":""},{"$f":"IF($L323=\"\",\"\",IF(AND($L323>=Sheet1!$F$25,'Pupil List'!$L323<Sheet1!$G$25),Sheet1!$A$25,\"\"))","v":""},{"$error":"#N/A"},{"$f":"IFERROR(VLOOKUP(BK323,Sheet1!$A$2:$E$25,3,FALSE),\"\")","v":""},{"$f":"IFERROR(VLOOKUP(BK323,Sheet1!$A$2:$E$25,4,FALSE),\"\")","v":""},{"$f":"IFERROR(VLOOKUP(BK323,Sheet1!$A$2:$E$25,5,FALSE),\"\")","v":""},{"$f":"IFERROR(VLOOKUP(N323,Sheet1!$A$29:$B$38,2,FALSE),\"\")","v":""}]
["","","","","","","","","","","",null,"",null,"","","","","","","","","","","","","","",{"$f":"IF(A324=\"\",\"\",IF(C324=\"No\",\"\",IF(AB324=3,1,0)))","v":""},"",{"$f":"IF(A324=\"\",\"\",IF(C324=\"No\",\"\",IF(AD324=3,1,0)))","v":""},"",{"$f":"IF(A324=\"\",\"\",IF(C324=\"No\",\"\",IF(AF324=3,1,0)))","v":""},"","","","","",{"$f":"IF($L324=\"\",\"\",IF(AND($L324>=Sheet1!$F$2,'Pupil List'!$L324<Sheet1!$G$2),Sheet1!$A$2,\"\"))","v":""},{"$f":"IF($L324=\"\",\"\",IF(AND($L324>=Sheet1!$F$3,'Pupil List'!$L324<Sheet1!$G$3),Sheet1!$A$3,\"\"))","v":""},{"$f":"IF($L324=\"\",\"\",IF(AND($L324>=Sheet1!$F$4,'Pupil List'!$L324<Sheet1!$G$4),Sheet1!$A$4,\"\"))","v":""},{"$f":"IF($L324=\"\",\"\",IF(AND($L324>=Sheet1!$F$5,'Pupil List'!$L324<Sheet1!$G$5),Sheet1!$A$5,\"\"))","v":""},{"$f":"IF($L324=\"\",\"\",IF(AND($L324>=Sheet1!$F$6,'Pupil List'!$L324<Sheet1!$G$6),Sheet1!$A$6,\"\"))","v":""},{"$f":"IF($L324=\"\",\"\",IF(AND($L324>=Sheet1!$F$7,'Pupil List'!$L324<Sheet1!$G$7),Sheet1!$A$7,\"\"))","v":""},{"$f":"IF($L324=\"\",\"\",IF(AND($L324>=Sheet1!$F$8,'Pupil List'!$L324<Sheet1!$G$8),Sheet1!$A$8,\"\"))","v":""},{"$f":"IF($L324=\"\",\"\",IF(AND($L324>=Sheet1!$F$9,'Pupil List'!$L324<Sheet1!$G$9),Sheet1!$A$9,\"\"))","v":""},{"$f":"IF($L324=\"\",\"\",IF(AND($L324>=Sheet1!$F$10,'Pupil List'!$L324<Sheet1!$G$10),Sheet1!$A$10,\"\"))","v":""},{"$f":"IF($L324=\"\",\"\",IF(AND($L324>=Sheet1!$F$11,'Pupil List'!$L324<Sheet1!$G$11),Sheet1!$A$11,\"\"))","v":""},{"$f":"IF($L324=\"\",\"\",IF(AND($L324>=Sheet1!$F$12,'Pupil List'!$L324<Sheet1!$G$12),Sheet1!$A$12,\"\"))","v":""},{"$f":"IF($L324=\"\",\"\",IF(AND($L324>=Sheet1!$F$13,'Pupil List'!$L324<Sheet1!$G$13),Sheet1!$A$13,\"\"))","v":""},{"$f":"IF($L324=\"\",\"\",IF(AND($L324>=Sheet1!$F$14,'Pupil List'!$L324<Sheet1!$G$14),Sheet1!$A$14,\"\"))","v":""},{"$f":"IF($L324=\"\",\"\",IF(AND($L324>=Sheet1!$F$15,'Pupil List'!$L324<Sheet1!$G$15),Sheet1!$A$15,\"\"))","v":""},{"$f":"IF($L324=\"\",\"\",IF(AND($L324>=Sheet1!$F$16,'Pupil List'!$L324<Sheet1!$G$16),Sheet1!$A$16,\"\"))","v":""},{"$f":"IF($L324=\"\",\"\",IF(AND($L324>=Sheet1!$F$17,'Pupil List'!$L324<Sheet1!$G$17),Sheet1!$A$17,\"\"))","v":""},{"$f":"IF($L324=\"\",\"\",IF(AND($L324>=Sheet1!$F$18,'Pupil List'!$L324<Sheet1!$G$18),Sheet1!$A$18,\"\"))","v":""},{"$f":"IF($L324=\"\",\"\",IF(AND($L324>=Sheet1!$F$19,'Pupil List'!$L324<Sheet1!$G$19),Sheet1!$A$19,\"\"))","v":""},{"$f":"IF($L324=\"\",\"\",IF(AND($L324>=Sheet1!$F$20,'Pupil List'!$L324<Sheet1!$G$20),Sheet1!$A$20,\"\"))","v":""},{"$f":"IF($L324=\"\",\"\",IF(AND($L324>=Sheet1!$F$21,'Pupil List'!$L324<Sheet1!$G$21),Sheet1!$A$21,\"\"))","v":""},{"$f":"IF($L324=\"\",\"\",IF(AND($L324>=Sheet1!$F$22,'Pupil List'!$L324<Sheet1!$G$22),Sheet1!$A$22,\"\"))","v":""},{"$f":"IF($L324=\"\",\"\",IF(AND($L324>=Sheet1!$F$23,'Pupil List'!$L324<Sheet1!$G$23),Sheet1!$A$23,\"\"))","v":""},{"$f":"IF($L324=\"\",\"\",IF(AND($L324>=Sheet1!$F$24,'Pupil List'!$L324<Sheet1!$G$24),Sheet1!$A$24,\"\"))","v":""},{"$f":"IF($L324=\"\",\"\",IF(AND($L324>=Sheet1!$F$25,'Pupil List'!$L324<Sheet1!$G$25),Sheet1!$A$25,\"\"))","v":""},{"$error":"#N/A"},{"$f":"IFERROR(VLOOKUP(BK324,Sheet1!$A$2:$E$25,3,FALSE),\"\")","v":""},{"$f":"IFERROR(VLOOKUP(BK324,Sheet1!$A$2:$E$25,4,FALSE),\"\")","v":""},{"$f":"IFERROR(VLOOKUP(BK324,Sheet1!$A$2:$E$25,5,FALSE),\"\")","v":""},{"$f":"IFERROR(VLOOKUP(N324,Sheet1!$A$29:$B$38,2,FALSE),\"\")","v":""}]

{"sheet":"Results","index":2,"n_rows":36,"n_cols":16,"rows_kept":36,"cut":false,"hidden":false,"merged":[]}
["KS2 Ready Reckoner - Results Summary"]
[]
[null,"Total Pupils","Reading SS","Reading AS+%","Reading HSS%","Writing AS+%","Writing GDS%","Maths SS","Maths AS+%","Maths HSS%","RWM %AS","RWM %AS+","RWM %HSS","Read Prog","Writ Prog","Math Prog"]
["ALL",{"$f":"COUNTIF('Pupil List'!C:C,\"Yes\")","v":1},{"$f":"AVERAGEIF('Pupil List'!C:C,\"Yes\",'Pupil List'!M:M)","v":{"$error":"#DIV/0!"}},{"$f":"SUM('Pupil List'!T:T)/Results!$B$4","v":0},{"$f":"SUM('Pupil List'!U:U)/Results!$B$4","v":0},{"$f":"SUM('Pupil List'!Z:Z)/Results!$B$4","v":0},{"$f":"SUM('Pupil List'!AA:AA)/Results!$B$4","v":0},{"$f":"AVERAGEIF('Pupil List'!C:C,\"Yes\",'Pupil List'!O:O)","v":{"$error":"#DIV/0!"}},{"$f":"SUM('Pupil List'!W:W)/Results!$B$4","v":0},{"$f":"SUM('Pupil List'!X:X)/Results!$B$4","v":0},{"$f":"SUM('Pupil List'!AC:AC)/Results!$B$4","v":0},{"$f":"SUM('Pupil List'!AE:AE)/Results!$B$4","v":0},{"$f":"SUM('Pupil List'!AG:AG)/Results!$B$4","v":0},{"$f":"AVERAGEIF('Pupil List'!C:C,\"Yes\",'Pupil List'!P:P)","v":{"$error":"#DIV/0!"}},{"$f":"AVERAGEIF('Pupil List'!C:C,\"Yes\",'Pupil List'!Q:Q)","v":{"$error":"#DIV/0!"}},{"$f":"AVERAGEIF('Pupil List'!C:C,\"Yes\",'Pupil List'!R:R)","v":{"$error":"#DIV/0!"}}]
["Boys",{"$f":"COUNTIFS('Pupil List'!C:C,\"Yes\",'Pupil List'!D:D,\"M\")","v":0},{"$f":"IF($B5=0,\"\",AVERAGEIFS('Pupil List'!M:M,'Pupil List'!$C:$C,\"Yes\",'Pupil List'!$D:$D,\"M\"))","v":""},{"$f":"IF($B5=0,\"\",SUMIF('Pupil List'!$D:$D,\"M\",'Pupil List'!T:T)/Results!$B5)","v":""},{"$f":"IF($B5=0,\"\",SUMIF('Pupil List'!$D:$D,\"M\",'Pupil List'!U:U)/Results!$B5)","v":""},{"$f":"IF($B5=0,\"\",SUMIF('Pupil List'!$D:$D,\"M\",'Pupil List'!Z:Z)/Results!$B5)","v":""},{"$f":"IF($B5=0,\"\",SUMIF('Pupil List'!$D:$D,\"M\",'Pupil List'!AA:AA)/Results!$B5)","v":""},{"$f":"IF($B5=0,\"\",AVERAGEIFS('Pupil List'!O:O,'Pupil List'!$C:$C,\"Yes\",'Pupil List'!$D:$D,\"M\"))","v":""},{"$f":"IF($B5=0,\"\",SUMIF('Pupil List'!$D:$D,\"M\",'Pupil List'!W:W)/Results!$B5)","v":""},{"$f":"IF($B5=0,\"\",SUMIF('Pupil List'!$D:$D,\"M\",'Pupil List'!X:X)/Results!$B5)","v":""},{"$f":"IF($B5=0,\"\",SUMIF('Pupil List'!$D:$D,\"M\",'Pupil List'!AC:AC)/Results!$B5)","v":""},{"$f":"IF($B5=0,\"\",SUMIF('Pupil List'!$D:$D,\"M\",'Pupil List'!AE:AE)/Results!$B5)","v":""},{"$f":"IF($B5=0,\"\",SUMIF('Pupil List'!$D:$D,\"M\",'Pupil List'!AG:AG)/Results!$B5)","v":""},{"$f":"IF($B5=0,\"\",AVERAGEIFS('Pupil List'!P:P,'Pupil List'!$C:$C,\"Yes\",'Pupil List'!$D:$D,\"M\"))","v":""},{"$f":"IF($B5=0,\"\",AVERAGEIFS('Pupil List'!Q:Q,'Pupil List'!$C:$C,\"Yes\",'Pupil List'!$D:$D,\"M\"))","v":""},{"$f":"IF($B5=0,\"\",AVERAGEIFS('Pupil List'!R:R,'Pupil List'!$C:$C,\"Yes\",'Pupil List'!$D:$D,\"M\"))","v":""}]
["Girls",{"$f":"COUNTIFS('Pupil List'!C:C,\"Yes\",'Pupil List'!D:D,\"F\")","v":0},{"$f":"IF($B6=0,\"\",AVERAGEIFS('Pupil List'!M:M,'Pupil List'!$C:$C,\"Yes\",'Pupil List'!$D:$D,\"F\"))","v":""},{"$f":"IF($B6=0,\"\",SUMIF('Pupil List'!$D:$D,\"F\",'Pupil List'!T:T)/Results!$B6)","v":""},{"$f":"IF($B6=0,\"\",SUMIF('Pupil List'!$D:$D,\"F\",'Pupil List'!U:U)/Results!$B6)","v":""},{"$f":"IF($B6=0,\"\",SUMIF('Pupil List'!$D:$D,\"F\",'Pupil List'!Z:Z)/Results!$B6)","v":""},{"$f":"IF($B6=0,\"\",SUMIF('Pupil List'!$D:$D,\"F\",'Pupil List'!AA:AA)/Results!$B6)","v":""},{"$f":"IF($B6=0,\"\",AVERAGEIFS('Pupil List'!O:O,'Pupil List'!$C:$C,\"Yes\",'Pupil List'!$D:$D,\"F\"))","v":""},{"$f":"IF($B6=0,\"\",SUMIF('Pupil List'!$D:$D,\"F\",'Pupil List'!W:W)/Results!$B6)","v":""},{"$f":"IF($B6=0,\"\",SUMIF('Pupil List'!$D:$D,\"F\",'Pupil List'!X:X)/Results!$B6)","v":""},{"$f":"IF($B6=0,\"\",SUMIF('Pupil List'!$D:$D,\"F\",'Pupil List'!AC:AC)/Results!$B6)","v":""},{"$f":"IF($B6=0,\"\",SUMIF('Pupil List'!$D:$D,\"F\",'Pupil List'!AE:AE)/Results!$B6)","v":""},{"$f":"IF($B6=0,\"\",SUMIF('Pupil List'!$D:$D,\"F\",'Pupil List'!AG:AG)/Results!$B6)","v":""},{"$f":"IF($B6=0,\"\",AVERAGEIFS('Pupil List'!P:P,'Pupil List'!$C:$C,\"Yes\",'Pupil List'!$D:$D,\"F\"))","v":""},{"$f":"IF($B6=0,\"\",AVERAGEIFS('Pupil List'!Q:Q,'Pupil List'!$C:$C,\"Yes\",'Pupil List'!$D:$D,\"F\"))","v":""},{"$f":"IF($B6=0,\"\",AVERAGEIFS('Pupil List'!R:R,'Pupil List'!$C:$C,\"Yes\",'Pupil List'!$D:$D,\"F\"))","v":""}]
["SEN All",{"$f":"COUNTIFS('Pupil List'!C:C,\"Yes\",'Pupil List'!F:F,\"<>N\")","v":1},{"$f":"IF($B7=0,\"\",(SUMIF('Pupil List'!$F:$F,\"K\",'Pupil List'!M:M)+SUMIF('Pupil List'!$F:$F,\"E\",'Pupil List'!M:M))/COUNTIFS('Pupil List'!$C:$C,\"Yes\",'Pupil List'!$F:$F,\"<>N\",'Pupil List'!$AK:$AK,\"Y\"))","v":{"$error":"#DIV/0!"}},{"$f":"IF($B7=0,\"\",(SUMIF('Pupil List'!$F:$F,\"K\",'Pupil List'!T:T)+SUMIF('Pupil List'!$F:$F,\"E\",'Pupil List'!T:T))/Results!$B7)","v":0},{"$f":"IF($B7=0,\"\",(SUMIF('Pupil List'!$F:$F,\"K\",'Pupil List'!U:U)+SUMIF('Pupil List'!$F:$F,\"E\",'Pupil List'!U:U))/Results!$B7)","v":0},{"$f":"IF($B7=0,\"\",(SUMIF('Pupil List'!$F:$F,\"K\",'Pupil List'!Z:Z)+SUMIF('Pupil List'!$F:$F,\"E\",'Pupil List'!Z:Z))/Results!$B7)","v":0},{"$f":"IF($B7=0,\"\",(SUMIF('Pupil List'!$F:$F,\"K\",'Pupil List'!AA:AA)+SUMIF('Pupil List'!$F:$F,\"E\",'Pupil List'!AA:AA))/Results!$B7)","v":0},{"$f":"IF($B7=0,\"\",(SUMIF('Pupil List'!$F:$F,\"K\",'Pupil List'!O:O)+SUMIF('Pupil List'!$F:$F,\"E\",'Pupil List'!O:O))/COUNTIFS('Pupil List'!$C:$C,\"Yes\",'Pupil List'!$F:$F,\"<>N\",'Pupil List'!$AL:$AL,\"Y\"))","v":{"$error":"#DIV/0!"}},{"$f":"IF($B7=0,\"\",(SUMIF('Pupil List'!$F:$F,\"K\",'Pupil List'!W:W)+SUMIF('Pupil List'!$F:$F,\"E\",'Pupil List'!W:W))/Results!$B7)","v":0},{"$f":"IF($B7=0,\"\",(SUMIF('Pupil List'!$F:$F,\"K\",'Pupil List'!X:X)+SUMIF('Pupil List'!$F:$F,\"E\",'Pupil List'!X:X))/Results!$B7)","v":0},{"$f":"IF($B7=0,\"\",(SUMIF('Pupil List'!$F:$F,\"K\",'Pupil List'!AC:AC)+SUMIF('Pupil List'!$F:$F,\"E\",'Pupil List'!AC:AC))/Results!$B7)","v":0},{"$f":"IF($B7=0,\"\",(SUMIF('Pupil List'!$F:$F,\"K\",'Pupil List'!AE:AE)+SUMIF('Pupil List'!$F:$F,\"E\",'Pupil List'!AE:AE))/Results!$B7)","v":0},{"$f":"IF($B7=0,\"\",(SUMIF('Pupil List'!$F:$F,\"K\",'Pupil List'!AG:AG)+SUMIF('Pupil List'!$F:$F,\"E\",'Pupil List'!AG:AG))/Results!$B7)","v":0},{"$f":"IF($B7=0,\"\",(SUMIF('Pupil List'!$F:$F,\"K\",'Pupil List'!P:P)+SUMIF('Pupil List'!$F:$F,\"E\",'Pupil List'!P:P))/COUNTIFS('Pupil List'!$C:$C,\"Yes\",'Pupil List'!$F:$F,\"<>N\",'Pupil List'!$AH:$AH,\"Y\"))","v":{"$error":"#DIV/0!"}},{"$f":"IF($B7=0,\"\",(SUMIF('Pupil List'!$F:$F,\"K\",'Pupil List'!Q:Q)+SUMIF('Pupil List'!$F:$F,\"E\",'Pupil List'!Q:Q))/COUNTIFS('Pupil List'!$C:$C,\"Yes\",'Pupil List'!$F:$F,\"<>N\",'Pupil List'!$AI:$AI,\"Y\"))","v":{"$error":"#DIV/0!"}},{"$f":"IF($B7=0,\"\",(SUMIF('Pupil List'!$F:$F,\"K\",'Pupil List'!R:R)+SUMIF('Pupil List'!$F:$F,\"E\",'Pupil List'!R:R))/COUNTIFS('Pupil List'!$C:$C,\"Yes\",'Pupil List'!$F:$F,\"<>N\",'Pupil List'!$AJ:$AJ,\"Y\"))","v":{"$error":"#DIV/0!"}}]
["SEN K",{"$f":"COUNTIFS('Pupil List'!C:C,\"Yes\",'Pupil List'!F:F,\"K\")","v":0},{"$f":"IF($B8=0,\"\",AVERAGEIFS('Pupil List'!M:M,'Pupil List'!$C:$C,\"Yes\",'Pupil List'!$F:$F,\"K\"))","v":""},{"$f":"IF($B8=0,\"\",SUMIF('Pupil List'!$F:$F,\"K\",'Pupil List'!T:T)/Results!$B8)","v":""},{"$f":"IF($B8=0,\"\",SUMIF('Pupil List'!$F:$F,\"K\",'Pupil List'!U:U)/Results!$B8)","v":""},{"$f":"IF($B8=0,\"\",SUMIF('Pupil List'!$F:$F,\"K\",'Pupil List'!Z:Z)/Results!$B8)","v":""},{"$f":"IF($B8=0,\"\",SUMIF('Pupil List'!$F:$F,\"K\",'Pupil List'!AA:AA)/Results!$B8)","v":""},{"$f":"IF($B8=0,\"\",AVERAGEIFS('Pupil List'!O:O,'Pupil List'!$C:$C,\"Yes\",'Pupil List'!$F:$F,\"K\"))","v":""},{"$f":"IF($B8=0,\"\",SUMIF('Pupil List'!$F:$F,\"K\",'Pupil List'!W:W)/Results!$B8)","v":""},{"$f":"IF($B8=0,\"\",SUMIF('Pupil List'!$F:$F,\"K\",'Pupil List'!X:X)/Results!$B8)","v":""},{"$f":"IF($B8=0,\"\",SUMIF('Pupil List'!$F:$F,\"K\",'Pupil List'!AC:AC)/Results!$B8)","v":""},{"$f":"IF($B8=0,\"\",SUMIF('Pupil List'!$F:$F,\"K\",'Pupil List'!AE:AE)/Results!$B8)","v":""},{"$f":"IF($B8=0,\"\",SUMIF('Pupil List'!$F:$F,\"K\",'Pupil List'!AG:AG)/Results!$B8)","v":""},{"$f":"IF($B8=0,\"\",AVERAGEIFS('Pupil List'!P:P,'Pupil List'!$C:$C,\"Yes\",'Pupil List'!$F:$F,\"K\"))","v":""},{"$f":"IF($B8=0,\"\",AVERAGEIFS('Pupil List'!Q:Q,'Pupil List'!$C:$C,\"Yes\",'Pupil List'!$F:$F,\"K\"))","v":""},{"$f":"IF($B8=0,\"\",AVERAGEIFS('Pupil List'!R:R,'Pupil List'!$C:$C,\"Yes\",'Pupil List'!$F:$F,\"K\"))","v":""}]
["SEN E",{"$f":"COUNTIFS('Pupil List'!C:C,\"Yes\",'Pupil List'!F:F,\"E\")","v":0},{"$f":"IF($B9=0,\"\",AVERAGEIFS('Pupil List'!M:M,'Pupil List'!$C:$C,\"Yes\",'Pupil List'!$F:$F,\"E\"))","v":""},{"$f":"IF($B9=0,\"\",SUMIF('Pupil List'!$F:$F,\"E\",'Pupil List'!T:T)/Results!$B9)","v":""},{"$f":"IF($B9=0,\"\",SUMIF('Pupil List'!$F:$F,\"E\",'Pupil List'!U:U)/Results!$B9)","v":""},{"$f":"IF($B9=0,\"\",SUMIF('Pupil List'!$F:$F,\"E\",'Pupil List'!Z:Z)/Results!$B9)","v":""},{"$f":"IF($B9=0,\"\",SUMIF('Pupil List'!$F:$F,\"E\",'Pupil List'!AA:AA)/Results!$B9)","v":""},{"$f":"IF($B9=0,\"\",AVERAGEIFS('Pupil List'!O:O,'Pupil List'!$C:$C,\"Yes\",'Pupil List'!$F:$F,\"E\"))","v":""},{"$f":"IF($B9=0,\"\",SUMIF('Pupil List'!$F:$F,\"E\",'Pupil List'!W:W)/Results!$B9)","v":""},{"$f":"IF($B9=0,\"\",SUMIF('Pupil List'!$F:$F,\"E\",'Pupil List'!X:X)/Results!$B9)","v":""},{"$f":"IF($B9=0,\"\",SUMIF('Pupil List'!$F:$F,\"E\",'Pupil List'!AC:AC)/Results!$B9)","v":""},{"$f":"IF($B9=0,\"\",SUMIF('Pupil List'!$F:$F,\"E\",'Pupil List'!AE:AE)/Results!$B9)","v":""},{"$f":"IF($B9=0,\"\",SUMIF('Pupil List'!$F:$F,\"E\",'Pupil List'!AG:AG)/Results!$B9)","v":""},{"$f":"IF($B9=0,\"\",AVERAGEIFS('Pupil List'!P:P,'Pupil List'!$C:$C,\"Yes\",'Pupil List'!$F:$F,\"E\"))","v":""},{"$f":"IF($B9=0,\"\",AVERAGEIFS('Pupil List'!Q:Q,'Pupil List'!$C:$C,\"Yes\",'Pupil List'!$F:$F,\"E\"))","v":""},{"$f":"IF($B9=0,\"\",AVERAGEIFS('Pupil List'!R:R,'Pupil List'!$C:$C,\"Yes\",'Pupil List'!$F:$F,\"E\"))","v":""}]
["SEN N",{"$f":"COUNTIFS('Pupil List'!C:C,\"Yes\",'Pupil List'!F:F,\"N\")","v":0},{"$f":"IF($B10=0,\"\",AVERAGEIFS('Pupil List'!M:M,'Pupil List'!$C:$C,\"Yes\",'Pupil List'!$F:$F,\"N\"))","v":""},{"$f":"IF($B10=0,\"\",SUMIF('Pupil List'!$F:$F,\"N\",'Pupil List'!T:T)/Results!$B10)","v":""},{"$f":"IF($B10=0,\"\",SUMIF('Pupil List'!$F:$F,\"N\",'Pupil List'!U:U)/Results!$B10)","v":""},{"$f":"IF($B10=0,\"\",SUMIF('Pupil List'!$F:$F,\"N\",'Pupil List'!Z:Z)/Results!$B10)","v":""},{"$f":"IF($B10=0,\"\",SUMIF('Pupil List'!$F:$F,\"N\",'Pupil List'!AA:AA)/Results!$B10)","v":""},{"$f":"IF($B10=0,\"\",AVERAGEIFS('Pupil List'!O:O,'Pupil List'!$C:$C,\"Yes\",'Pupil List'!$F:$F,\"N\"))","v":""},{"$f":"IF($B10=0,\"\",SUMIF('Pupil List'!$F:$F,\"N\",'Pupil List'!W:W)/Results!$B10)","v":""},{"$f":"IF($B10=0,\"\",SUMIF('Pupil List'!$F:$F,\"N\",'Pupil List'!X:X)/Results!$B10)","v":""},{"$f":"IF($B10=0,\"\",SUMIF('Pupil List'!$F:$F,\"N\",'Pupil List'!AC:AC)/Results!$B10)","v":""},{"$f":"IF($B10=0,\"\",SUMIF('Pupil List'!$F:$F,\"N\",'Pupil List'!AE:AE)/Results!$B10)","v":""},{"$f":"IF($B10=0,\"\",SUMIF('Pupil List'!$F:$F,\"N\",'Pupil List'!AG:AG)/Results!$B10)","v":""},{"$f":"IF($B10=0,\"\",AVERAGEIFS('Pupil List'!P:P,'Pupil List'!$C:$C,\"Yes\",'Pupil List'!$F:$F,\"N\"))","v":""},{"$f":"IF($B10=0,\"\",AVERAGEIFS('Pupil List'!Q:Q,'Pupil List'!$C:$C,\"Yes\",'Pupil List'!$F:$F,\"N\"))","v":""},{"$f":"IF($B10=0,\"\",AVERAGEIFS('Pupil List'!R:R,'Pupil List'!$C:$C,\"Yes\",'Pupil List'!$F:$F,\"N\"))","v":""}]
["FSM True",{"$f":"COUNTIFS('Pupil List'!C:C,\"Yes\",'Pupil List'!G:G,\"T\")","v":0},{"$f":"IF($B11=0,\"\",AVERAGEIFS('Pupil List'!M:M,'Pupil List'!$C:$C,\"Yes\",'Pupil List'!$G:$G,\"T\"))","v":""},{"$f":"IF($B11=0,\"\",SUMIF('Pupil List'!$G:$G,\"T\",'Pupil List'!T:T)/Results!$B11)","v":""},{"$f":"IF($B11=0,\"\",SUMIF('Pupil List'!$G:$G,\"T\",'Pupil List'!U:U)/Results!$B11)","v":""},{"$f":"IF($B11=0,\"\",SUMIF('Pupil List'!$G:$G,\"T\",'Pupil List'!Z:Z)/Results!$B11)","v":""},{"$f":"IF($B11=0,\"\",SUMIF('Pupil List'!$G:$G,\"T\",'Pupil List'!AA:AA)/Results!$B11)","v":""},{"$f":"IF($B11=0,\"\",AVERAGEIFS('Pupil List'!O:O,'Pupil List'!$C:$C,\"Yes\",'Pupil List'!$G:$G,\"T\"))","v":""},{"$f":"IF($B11=0,\"\",SUMIF('Pupil List'!$G:$G,\"T\",'Pupil List'!W:W)/Results!$B11)","v":""},{"$f":"IF($B11=0,\"\",SUMIF('Pupil List'!$G:$G,\"T\",'Pupil List'!X:X)/Results!$B11)","v":""},{"$f":"IF($B11=0,\"\",SUMIF('Pupil List'!$G:$G,\"T\",'Pupil List'!AC:AC)/Results!$B11)","v":""},{"$f":"IF($B11=0,\"\",SUMIF('Pupil List'!$G:$G,\"T\",'Pupil List'!AE:AE)/Results!$B11)","v":""},{"$f":"IF($B11=0,\"\",SUMIF('Pupil List'!$G:$G,\"T\",'Pupil List'!AG:AG)/Results!$B11)","v":""},{"$f":"IF($B11=0,\"\",AVERAGEIFS('Pupil List'!P:P,'Pupil List'!$C:$C,\"Yes\",'Pupil List'!$G:$G,\"T\"))","v":""},{"$f":"IF($B11=0,\"\",AVERAGEIFS('Pupil List'!Q:Q,'Pupil List'!$C:$C,\"Yes\",'Pupil List'!$G:$G,\"T\"))","v":""},{"$f":"IF($B11=0,\"\",AVERAGEIFS('Pupil List'!R:R,'Pupil List'!$C:$C,\"Yes\",'Pupil List'!$G:$G,\"T\"))","v":""}]
["FSM False",{"$f":"COUNTIFS('Pupil List'!C:C,\"Yes\",'Pupil List'!G:G,\"F\")","v":0},{"$f":"IF($B12=0,\"\",AVERAGEIFS('Pupil List'!M:M,'Pupil List'!$C:$C,\"Yes\",'Pupil List'!$G:$G,\"F\"))","v":""},{"$f":"IF($B12=0,\"\",SUMIF('Pupil List'!$G:$G,\"F\",'Pupil List'!T:T)/Results!$B12)","v":""},{"$f":"IF($B12=0,\"\",SUMIF('Pupil List'!$G:$G,\"F\",'Pupil List'!U:U)/Results!$B12)","v":""},{"$f":"IF($B12=0,\"\",SUMIF('Pupil List'!$G:$G,\"F\",'Pupil List'!Z:Z)/Results!$B12)","v":""},{"$f":"IF($B12=0,\"\",SUMIF('Pupil List'!$G:$G,\"F\",'Pupil List'!AA:AA)/Results!$B12)","v":""},{"$f":"IF($B12=0,\"\",AVERAGEIFS('Pupil List'!O:O,'Pupil List'!$C:$C,\"Yes\",'Pupil List'!$G:$G,\"F\"))","v":""},{"$f":"IF($B12=0,\"\",SUMIF('Pupil List'!$G:$G,\"F\",'Pupil List'!W:W)/Results!$B12)","v":""},{"$f":"IF($B12=0,\"\",SUMIF('Pupil List'!$G:$G,\"F\",'Pupil List'!X:X)/Results!$B12)","v":""},{"$f":"IF($B12=0,\"\",SUMIF('Pupil List'!$G:$G,\"F\",'Pupil List'!AC:AC)/Results!$B12)","v":""},{"$f":"IF($B12=0,\"\",SUMIF('Pupil List'!$G:$G,\"F\",'Pupil List'!AE:AE)/Results!$B12)","v":""},{"$f":"IF($B12=0,\"\",SUMIF('Pupil List'!$G:$G,\"F\",'Pupil List'!AG:AG)/Results!$B12)","v":""},{"$f":"IF($B12=0,\"\",AVERAGEIFS('Pupil List'!P:P,'Pupil List'!$C:$C,\"Yes\",'Pupil List'!$G:$G,\"F\"))","v":""},{"$f":"IF($B12=0,\"\",AVERAGEIFS('Pupil List'!Q:Q,'Pupil List'!$C:$C,\"Yes\",'Pupil List'!$G:$G,\"F\"))","v":""},{"$f":"IF($B12=0,\"\",AVERAGEIFS('Pupil List'!R:R,'Pupil List'!$C:$C,\"Yes\",'Pupil List'!$G:$G,\"F\"))","v":""}]
["FSM6 True",{"$f":"COUNTIFS('Pupil List'!C:C,\"Yes\",'Pupil List'!H:H,\"T\")","v":0},{"$f":"IF($B13=0,\"\",AVERAGEIFS('Pupil List'!M:M,'Pupil List'!$C:$C,\"Yes\",'Pupil List'!$H:$H,\"T\"))","v":""},{"$f":"IF($B13=0,\"\",SUMIF('Pupil List'!$H:$H,\"T\",'Pupil List'!T:T)/Results!$B13)","v":""},{"$f":"IF($B13=0,\"\",SUMIF('Pupil List'!$H:$H,\"T\",'Pupil List'!U:U)/Results!$B13)","v":""},{"$f":"IF($B13=0,\"\",SUMIF('Pupil List'!$H:$H,\"T\",'Pupil List'!Z:Z)/Results!$B13)","v":""},{"$f":"IF($B13=0,\"\",SUMIF('Pupil List'!$H:$H,\"T\",'Pupil List'!AA:AA)/Results!$B13)","v":""},{"$f":"IF($B13=0,\"\",AVERAGEIFS('Pupil List'!O:O,'Pupil List'!$C:$C,\"Yes\",'Pupil List'!$H:$H,\"T\"))","v":""},{"$f":"IF($B13=0,\"\",SUMIF('Pupil List'!$H:$H,\"T\",'Pupil List'!W:W)/Results!$B13)","v":""},{"$f":"IF($B13=0,\"\",SUMIF('Pupil List'!$H:$H,\"T\",'Pupil List'!X:X)/Results!$B13)","v":""},{"$f":"IF($B13=0,\"\",SUMIF('Pupil List'!$H:$H,\"T\",'Pupil List'!AC:AC)/Results!$B13)","v":""},{"$f":"IF($B13=0,\"\",SUMIF('Pupil List'!$H:$H,\"T\",'Pupil List'!AE:AE)/Results!$B13)","v":""},{"$f":"IF($B13=0,\"\",SUMIF('Pupil List'!$H:$H,\"T\",'Pupil List'!AG:AG)/Results!$B13)","v":""},{"$f":"IF($B13=0,\"\",AVERAGEIFS('Pupil List'!P:P,'Pupil List'!$C:$C,\"Yes\",'Pupil List'!$H:$H,\"T\"))","v":""},{"$f":"IF($B13=0,\"\",AVERAGEIFS('Pupil List'!Q:Q,'Pupil List'!$C:$C,\"Yes\",'Pupil List'!$H:$H,\"T\"))","v":""},{"$f":"IF($B13=0,\"\",AVERAGEIFS('Pupil List'!R:R,'Pupil List'!$C:$C,\"Yes\",'Pupil List'!$H:$H,\"T\"))","v":""}]
["FSM6 False",{"$f":"COUNTIFS('Pupil List'!C:C,\"Yes\",'Pupil List'!H:H,\"F\")","v":0},{"$f":"IF($B14=0,\"\",AVERAGEIFS('Pupil List'!M:M,'Pupil List'!$C:$C,\"Yes\",'Pupil List'!$H:$H,\"F\"))","v":""},{"$f":"IF($B14=0,\"\",SUMIF('Pupil List'!$H:$H,\"F\",'Pupil List'!T:T)/Results!$B14)","v":""},{"$f":"IF($B14=0,\"\",SUMIF('Pupil List'!$H:$H,\"F\",'Pupil List'!U:U)/Results!$B14)","v":""},{"$f":"IF($B14=0,\"\",SUMIF('Pupil List'!$H:$H,\"F\",'Pupil List'!Z:Z)/Results!$B14)","v":""},{"$f":"IF($B14=0,\"\",SUMIF('Pupil List'!$H:$H,\"F\",'Pupil List'!AA:AA)/Results!$B14)","v":""},{"$f":"IF($B14=0,\"\",AVERAGEIFS('Pupil List'!O:O,'Pupil List'!$C:$C,\"Yes\",'Pupil List'!$H:$H,\"F\"))","v":""},{"$f":"IF($B14=0,\"\",SUMIF('Pupil List'!$H:$H,\"F\",'Pupil List'!W:W)/Results!$B14)","v":""},{"$f":"IF($B14=0,\"\",SUMIF('Pupil List'!$H:$H,\"F\",'Pupil List'!X:X)/Results!$B14)","v":""},{"$f":"IF($B14=0,\"\",SUMIF('Pupil List'!$H:$H,\"F\",'Pupil List'!AC:AC)/Results!$B14)","v":""},{"$f":"IF($B14=0,\"\",SUMIF('Pupil List'!$H:$H,\"F\",'Pupil List'!AE:AE)/Results!$B14)","v":""},{"$f":"IF($B14=0,\"\",SUMIF('Pupil List'!$H:$H,\"F\",'Pupil List'!AG:AG)/Results!$B14)","v":""},{"$f":"IF($B14=0,\"\",AVERAGEIFS('Pupil List'!P:P,'Pupil List'!$C:$C,\"Yes\",'Pupil List'!$H:$H,\"F\"))","v":""},{"$f":"IF($B14=0,\"\",AVERAGEIFS('Pupil List'!Q:Q,'Pupil List'!$C:$C,\"Yes\",'Pupil List'!$H:$H,\"F\"))","v":""},{"$f":"IF($B14=0,\"\",AVERAGEIFS('Pupil List'!R:R,'Pupil List'!$C:$C,\"Yes\",'Pupil List'!$H:$H,\"F\"))","v":""}]
[{"$f":"'Pupil List'!I3&\" - Yes\"","v":"Custom 1 - Yes"},{"$f":"COUNTIFS('Pupil List'!C:C,\"Yes\",'Pupil List'!I:I,\"Yes\")","v":0},{"$f":"IF($B15=0,\"\",AVERAGEIFS('Pupil List'!M:M,'Pupil List'!$C:$C,\"Yes\",'Pupil List'!$I:$I,\"Yes\"))","v":""},{"$f":"IF($B15=0,\"\",SUMIF('Pupil List'!$I:$I,\"Yes\",'Pupil List'!T:T)/Results!$B15)","v":""},{"$f":"IF($B15=0,\"\",SUMIF('Pupil List'!$I:$I,\"Yes\",'Pupil List'!U:U)/Results!$B15)","v":""},{"$f":"IF($B15=0,\"\",SUMIF('Pupil List'!$I:$I,\"Yes\",'Pupil List'!Z:Z)/Results!$B15)","v":""},{"$f":"IF($B15=0,\"\",SUMIF('Pupil List'!$I:$I,\"Yes\",'Pupil List'!AA:AA)/Results!$B15)","v":""},{"$f":"IF($B15=0,\"\",AVERAGEIFS('Pupil List'!O:O,'Pupil List'!$C:$C,\"Yes\",'Pupil List'!$I:$I,\"Yes\"))","v":""},{"$f":"IF($B15=0,\"\",SUMIF('Pupil List'!$I:$I,\"Yes\",'Pupil List'!W:W)/Results!$B15)","v":""},{"$f":"IF($B15=0,\"\",SUMIF('Pupil List'!$I:$I,\"Yes\",'Pupil List'!X:X)/Results!$B15)","v":""},{"$f":"IF($B15=0,\"\",SUMIF('Pupil List'!$I:$I,\"Yes\",'Pupil List'!AC:AC)/Results!$B15)","v":""},{"$f":"IF($B15=0,\"\",SUMIF('Pupil List'!$I:$I,\"Yes\",'Pupil List'!AE:AE)/Results!$B15)","v":""},{"$f":"IF($B15=0,\"\",SUMIF('Pupil List'!$I:$I,\"Yes\",'Pupil List'!AG:AG)/Results!$B15)","v":""},{"$f":"IF($B15=0,\"\",AVERAGEIFS('Pupil List'!P:P,'Pupil List'!$C:$C,\"Yes\",'Pupil List'!$I:$I,\"Yes\"))","v":""},{"$f":"IF($B15=0,\"\",AVERAGEIFS('Pupil List'!Q:Q,'Pupil List'!$C:$C,\"Yes\",'Pupil List'!$I:$I,\"Yes\"))","v":""},{"$f":"IF($B15=0,\"\",AVERAGEIFS('Pupil List'!R:R,'Pupil List'!$C:$C,\"Yes\",'Pupil List'!$I:$I,\"Yes\"))","v":""}]
[{"$f":"'Pupil List'!I3&\" - No\"","v":"Custom 1 - No"},{"$f":"COUNTIFS('Pupil List'!C:C,\"Yes\",'Pupil List'!I:I,\"No\")","v":0},{"$f":"IF($B16=0,\"\",AVERAGEIFS('Pupil List'!M:M,'Pupil List'!$C:$C,\"Yes\",'Pupil List'!$I:$I,\"No\"))","v":""},{"$f":"IF($B16=0,\"\",SUMIF('Pupil List'!$I:$I,\"No\",'Pupil List'!T:T)/Results!$B16)","v":""},{"$f":"IF($B16=0,\"\",SUMIF('Pupil List'!$I:$I,\"No\",'Pupil List'!U:U)/Results!$B16)","v":""},{"$f":"IF($B16=0,\"\",SUMIF('Pupil List'!$I:$I,\"No\",'Pupil List'!Z:Z)/Results!$B16)","v":""},{"$f":"IF($B16=0,\"\",SUMIF('Pupil List'!$I:$I,\"No\",'Pupil List'!AA:AA)/Results!$B16)","v":""},{"$f":"IF($B16=0,\"\",AVERAGEIFS('Pupil List'!O:O,'Pupil List'!$C:$C,\"Yes\",'Pupil List'!$I:$I,\"No\"))","v":""},{"$f":"IF($B16=0,\"\",SUMIF('Pupil List'!$I:$I,\"No\",'Pupil List'!W:W)/Results!$B16)","v":""},{"$f":"IF($B16=0,\"\",SUMIF('Pupil List'!$I:$I,\"No\",'Pupil List'!X:X)/Results!$B16)","v":""},{"$f":"IF($B16=0,\"\",SUMIF('Pupil List'!$I:$I,\"No\",'Pupil List'!AC:AC)/Results!$B16)","v":""},{"$f":"IF($B16=0,\"\",SUMIF('Pupil List'!$I:$I,\"No\",'Pupil List'!AE:AE)/Results!$B16)","v":""},{"$f":"IF($B16=0,\"\",SUMIF('Pupil List'!$I:$I,\"No\",'Pupil List'!AG:AG)/Results!$B16)","v":""},{"$f":"IF($B16=0,\"\",AVERAGEIFS('Pupil List'!P:P,'Pupil List'!$C:$C,\"Yes\",'Pupil List'!$I:$I,\"No\"))","v":""},{"$f":"IF($B16=0,\"\",AVERAGEIFS('Pupil List'!Q:Q,'Pupil List'!$C:$C,\"Yes\",'Pupil List'!$I:$I,\"No\"))","v":""},{"$f":"IF($B16=0,\"\",AVERAGEIFS('Pupil List'!R:R,'Pupil List'!$C:$C,\"Yes\",'Pupil List'!$I:$I,\"No\"))","v":""}]
[{"$f":"'Pupil List'!J3&\" - Yes\"","v":"Custom 2 - Yes"},{"$f":"COUNTIFS('Pupil List'!C:C,\"Yes\",'Pupil List'!J:J,\"Yes\")","v":0},{"$f":"IF($B17=0,\"\",AVERAGEIFS('Pupil List'!M:M,'Pupil List'!$C:$C,\"Yes\",'Pupil List'!$J:$J,\"Yes\"))","v":""},{"$f":"IF($B17=0,\"\",SUMIF('Pupil List'!$J:$J,\"Yes\",'Pupil List'!T:T)/Results!$B17)","v":""},{"$f":"IF($B17=0,\"\",SUMIF('Pupil List'!$J:$J,\"Yes\",'Pupil List'!U:U)/Results!$B17)","v":""},{"$f":"IF($B17=0,\"\",SUMIF('Pupil List'!$J:$J,\"Yes\",'Pupil List'!Z:Z)/Results!$B17)","v":""},{"$f":"IF($B17=0,\"\",SUMIF('Pupil List'!$J:$J,\"Yes\",'Pupil List'!AA:AA)/Results!$B17)","v":""},{"$f":"IF($B17=0,\"\",AVERAGEIFS('Pupil List'!O:O,'Pupil List'!$C:$C,\"Yes\",'Pupil List'!$J:$J,\"Yes\"))","v":""},{"$f":"IF($B17=0,\"\",SUMIF('Pupil List'!$J:$J,\"Yes\",'Pupil List'!W:W)/Results!$B17)","v":""},{"$f":"IF($B17=0,\"\",SUMIF('Pupil List'!$J:$J,\"Yes\",'Pupil List'!X:X)/Results!$B17)","v":""},{"$f":"IF($B17=0,\"\",SUMIF('Pupil List'!$J:$J,\"Yes\",'Pupil List'!AC:AC)/Results!$B17)","v":""},{"$f":"IF($B17=0,\"\",SUMIF('Pupil List'!$J:$J,\"Yes\",'Pupil List'!AE:AE)/Results!$B17)","v":""},{"$f":"IF($B17=0,\"\",SUMIF('Pupil List'!$J:$J,\"Yes\",'Pupil List'!AG:AG)/Results!$B17)","v":""},{"$f":"IF($B17=0,\"\",AVERAGEIFS('Pupil List'!P:P,'Pupil List'!$C:$C,\"Yes\",'Pupil List'!$J:$J,\"Yes\"))","v":""},{"$f":"IF($B17=0,\"\",AVERAGEIFS('Pupil List'!Q:Q,'Pupil List'!$C:$C,\"Yes\",'Pupil List'!$J:$J,\"Yes\"))","v":""},{"$f":"IF($B17=0,\"\",AVERAGEIFS('Pupil List'!R:R,'Pupil List'!$C:$C,\"Yes\",'Pupil List'!$J:$J,\"Yes\"))","v":""}]
[{"$f":"'Pupil List'!J3&\" - No\"","v":"Custom 2 - No"},{"$f":"COUNTIFS('Pupil List'!C:C,\"Yes\",'Pupil List'!J:J,\"No\")","v":0},{"$f":"IF($B18=0,\"\",AVERAGEIFS('Pupil List'!M:M,'Pupil List'!$C:$C,\"Yes\",'Pupil List'!$J:$J,\"No\"))","v":""},{"$f":"IF($B18=0,\"\",SUMIF('Pupil List'!$J:$J,\"No\",'Pupil List'!T:T)/Results!$B18)","v":""},{"$f":"IF($B18=0,\"\",SUMIF('Pupil List'!$J:$J,\"No\",'Pupil List'!U:U)/Results!$B18)","v":""},{"$f":"IF($B18=0,\"\",SUMIF('Pupil List'!$J:$J,\"No\",'Pupil List'!Z:Z)/Results!$B18)","v":""},{"$f":"IF($B18=0,\"\",SUMIF('Pupil List'!$J:$J,\"No\",'Pupil List'!AA:AA)/Results!$B18)","v":""},{"$f":"IF($B18=0,\"\",AVERAGEIFS('Pupil List'!O:O,'Pupil List'!$C:$C,\"Yes\",'Pupil List'!$J:$J,\"No\"))","v":""},{"$f":"IF($B18=0,\"\",SUMIF('Pupil List'!$J:$J,\"No\",'Pupil List'!W:W)/Results!$B18)","v":""},{"$f":"IF($B18=0,\"\",SUMIF('Pupil List'!$J:$J,\"No\",'Pupil List'!X:X)/Results!$B18)","v":""},{"$f":"IF($B18=0,\"\",SUMIF('Pupil List'!$J:$J,\"No\",'Pupil List'!AC:AC)/Results!$B18)","v":""},{"$f":"IF($B18=0,\"\",SUMIF('Pupil List'!$J:$J,\"No\",'Pupil List'!AE:AE)/Results!$B18)","v":""},{"$f":"IF($B18=0,\"\",SUMIF('Pupil List'!$J:$J,\"No\",'Pupil List'!AG:AG)/Results!$B18)","v":""},{"$f":"IF($B18=0,\"\",AVERAGEIFS('Pupil List'!P:P,'Pupil List'!$C:$C,\"Yes\",'Pupil List'!$J:$J,\"No\"))","v":""},{"$f":"IF($B18=0,\"\",AVERAGEIFS('Pupil List'!Q:Q,'Pupil List'!$C:$C,\"Yes\",'Pupil List'!$J:$J,\"No\"))","v":""},{"$f":"IF($B18=0,\"\",AVERAGEIFS('Pupil List'!R:R,'Pupil List'!$C:$C,\"Yes\",'Pupil List'!$J:$J,\"No\"))","v":""}]
[{"$f":"'Pupil List'!K3&\" - Yes\"","v":"Custom 3 - Yes"},{"$f":"COUNTIFS('Pupil List'!C:C,\"Yes\",'Pupil List'!K:K,\"Yes\")","v":0},{"$f":"IF($B19=0,\"\",AVERAGEIFS('Pupil List'!M:M,'Pupil List'!$C:$C,\"Yes\",'Pupil List'!$K:$K,\"Yes\"))","v":""},{"$f":"IF($B19=0,\"\",SUMIF('Pupil List'!$K:$K,\"Yes\",'Pupil List'!T:T)/Results!$B19)","v":""},{"$f":"IF($B19=0,\"\",SUMIF('Pupil List'!$K:$K,\"Yes\",'Pupil List'!U:U)/Results!$B19)","v":""},{"$f":"IF($B19=0,\"\",SUMIF('Pupil List'!$K:$K,\"Yes\",'Pupil List'!Z:Z)/Results!$B19)","v":""},{"$f":"IF($B19=0,\"\",SUMIF('Pupil List'!$K:$K,\"Yes\",'Pupil List'!AA:AA)/Results!$B19)","v":""},{"$f":"IF($B19=0,\"\",AVERAGEIFS('Pupil List'!O:O,'Pupil List'!$C:$C,\"Yes\",'Pupil List'!$K:$K,\"Yes\"))","v":""},{"$f":"IF($B19=0,\"\",SUMIF('Pupil List'!$K:$K,\"Yes\",'Pupil List'!W:W)/Results!$B19)","v":""},{"$f":"IF($B19=0,\"\",SUMIF('Pupil List'!$K:$K,\"Yes\",'Pupil List'!X:X)/Results!$B19)","v":""},{"$f":"IF($B19=0,\"\",SUMIF('Pupil List'!$K:$K,\"Yes\",'Pupil List'!AC:AC)/Results!$B19)","v":""},{"$f":"IF($B19=0,\"\",SUMIF('Pupil List'!$K:$K,\"Yes\",'Pupil List'!AE:AE)/Results!$B19)","v":""},{"$f":"IF($B19=0,\"\",SUMIF('Pupil List'!$K:$K,\"Yes\",'Pupil List'!AG:AG)/Results!$B19)","v":""},{"$f":"IF($B19=0,\"\",AVERAGEIFS('Pupil List'!P:P,'Pupil List'!$C:$C,\"Yes\",'Pupil List'!$K:$K,\"Yes\"))","v":""},{"$f":"IF($B19=0,\"\",AVERAGEIFS('Pupil List'!Q:Q,'Pupil List'!$C:$C,\"Yes\",'Pupil List'!$K:$K,\"Yes\"))","v":""},{"$f":"IF($B19=0,\"\",AVERAGEIFS('Pupil List'!R:R,'Pupil List'!$C:$C,\"Yes\",'Pupil List'!$K:$K,\"Yes\"))","v":""}]
[{"$f":"'Pupil List'!K3&\" - No\"","v":"Custom 3 - No"},{"$f":"COUNTIFS('Pupil List'!C:C,\"Yes\",'Pupil List'!K:K,\"No\")","v":0},{"$f":"IF($B20=0,\"\",AVERAGEIFS('Pupil List'!M:M,'Pupil List'!$C:$C,\"Yes\",'Pupil List'!$K:$K,\"No\"))","v":""},{"$f":"IF($B20=0,\"\",SUMIF('Pupil List'!$K:$K,\"No\",'Pupil List'!T:T)/Results!$B20)","v":""},{"$f":"IF($B20=0,\"\",SUMIF('Pupil List'!$K:$K,\"No\",'Pupil List'!U:U)/Results!$B20)","v":""},{"$f":"IF($B20=0,\"\",SUMIF('Pupil List'!$K:$K,\"No\",'Pupil List'!Z:Z)/Results!$B20)","v":""},{"$f":"IF($B20=0,\"\",SUMIF('Pupil List'!$K:$K,\"No\",'Pupil List'!AA:AA)/Results!$B20)","v":""},{"$f":"IF($B20=0,\"\",AVERAGEIFS('Pupil List'!O:O,'Pupil List'!$C:$C,\"Yes\",'Pupil List'!$K:$K,\"No\"))","v":""},{"$f":"IF($B20=0,\"\",SUMIF('Pupil List'!$K:$K,\"No\",'Pupil List'!W:W)/Results!$B20)","v":""},{"$f":"IF($B20=0,\"\",SUMIF('Pupil List'!$K:$K,\"No\",'Pupil List'!X:X)/Results!$B20)","v":""},{"$f":"IF($B20=0,\"\",SUMIF('Pupil List'!$K:$K,\"No\",'Pupil List'!AC:AC)/Results!$B20)","v":""},{"$f":"IF($B20=0,\"\",SUMIF('Pupil List'!$K:$K,\"No\",'Pupil List'!AE:AE)/Results!$B20)","v":""},{"$f":"IF($B20=0,\"\",SUMIF('Pupil List'!$K:$K,\"No\",'Pupil List'!AG:AG)/Results!$B20)","v":""},{"$f":"IF($B20=0,\"\",AVERAGEIFS('Pupil List'!P:P,'Pupil List'!$C:$C,\"Yes\",'Pupil List'!$K:$K,\"No\"))","v":""},{"$f":"IF($B20=0,\"\",AVERAGEIFS('Pupil List'!Q:Q,'Pupil List'!$C:$C,\"Yes\",'Pupil List'!$K:$K,\"No\"))","v":""},{"$f":"IF($B20=0,\"\",AVERAGEIFS('Pupil List'!R:R,'Pupil List'!$C:$C,\"Yes\",'Pupil List'!$K:$K,\"No\"))","v":""}]
[{"$f":"IF(Sheet3!E10=\"\",\"\",Sheet3!E10)","v":""},{"$f":"IF(A21=\"\",\"\",COUNTIFS('Pupil List'!C:C,\"Yes\",'Pupil List'!E:E,A21))","v":""},{"$f":"IF($A$21=\"\",\"\",IF($B21=0,\"\",AVERAGEIFS('Pupil List'!M:M,'Pupil List'!$C:$C,\"Yes\",'Pupil List'!$E:$E,$A21)))","v":""},{"$f":"IF($A21=\"\",\"\",IF($B21=0,\"\",SUMIF('Pupil List'!$E:$E,A21,'Pupil List'!T:T)/Results!$B21))","v":""},{"$f":"IF($A21=\"\",\"\",IF($B21=0,\"\",SUMIF('Pupil List'!$E:$E,A21,'Pupil List'!U:U)/Results!$B21))","v":""},{"$f":"IF($A21=\"\",\"\",IF($B21=0,\"\",SUMIF('Pupil List'!$E:$E,$A21,'Pupil List'!Z:Z)/Results!$B21))","v":""},{"$f":"IF($A21=\"\",\"\",IF($B21=0,\"\",SUMIF('Pupil List'!$E:$E,$A21,'Pupil List'!AA:AA)/Results!$B21))","v":""},{"$f":"IF($A$21=\"\",\"\",IF($B21=0,\"\",AVERAGEIFS('Pupil List'!O:O,'Pupil List'!$C:$C,\"Yes\",'Pupil List'!$E:$E,$A21)))","v":""},{"$f":"IF($A21=\"\",\"\",IF($B21=0,\"\",SUMIF('Pupil List'!$E:$E,$A21,'Pupil List'!W:W)/Results!$B21))","v":""},{"$f":"IF($A21=\"\",\"\",IF($B21=0,\"\",SUMIF('Pupil List'!$E:$E,$A21,'Pupil List'!X:X)/Results!$B21))","v":""},{"$f":"IF($A21=\"\",\"\",IF($B21=0,\"\",SUMIF('Pupil List'!$E:$E,$A21,'Pupil List'!AC:AC)/Results!$B21))","v":""},{"$f":"IF($A21=\"\",\"\",IF($B21=0,\"\",SUMIF('Pupil List'!$E:$E,$A21,'Pupil List'!AE:AE)/Results!$B21))","v":""},{"$f":"IF($A21=\"\",\"\",IF($B21=0,\"\",SUMIF('Pupil List'!$E:$E,$A21,'Pupil List'!AG:AG)/Results!$B21))","v":""},{"$f":"IF($A$21=\"\",\"\",IF($B21=0,\"\",AVERAGEIFS('Pupil List'!P:P,'Pupil List'!$C:$C,\"Yes\",'Pupil List'!$E:$E,$A21)))","v":""},{"$f":"IF(B21=\"\",\"\",IF($B21=0,\"\",AVERAGEIFS('Pupil List'!Q:Q,'Pupil List'!$C:$C,\"Yes\",'Pupil List'!$E:$E,$A21)))","v":""},{"$f":"IF(C21=\"\",\"\",IF($B21=0,\"\",AVERAGEIFS('Pupil List'!R:R,'Pupil List'!$C:$C,\"Yes\",'Pupil List'!$E:$E,$A21)))","v":""}]
[{"$f":"IF(Sheet3!E11=\"\",\"\",Sheet3!E11)","v":""},{"$f":"IF(A22=\"\",\"\",COUNTIFS('Pupil List'!C:C,\"Yes\",'Pupil List'!E:E,A22))","v":""},{"$f":"IF($A$22=\"\",\"\",IF($B22=0,\"\",AVERAGEIFS('Pupil List'!M:M,'Pupil List'!$C:$C,\"Yes\",'Pupil List'!$E:$E,$A22)))","v":""},{"$f":"IF($A22=\"\",\"\",IF($B22=0,\"\",SUMIF('Pupil List'!$E:$E,A22,'Pupil List'!T:T)/Results!$B22))","v":""},{"$f":"IF($A22=\"\",\"\",IF($B22=0,\"\",SUMIF('Pupil List'!$E:$E,A22,'Pupil List'!U:U)/Results!$B22))","v":""},{"$f":"IF($A22=\"\",\"\",IF($B22=0,\"\",SUMIF('Pupil List'!$E:$E,$A22,'Pupil List'!Z:Z)/Results!$B22))","v":""},{"$f":"IF($A22=\"\",\"\",IF($B22=0,\"\",SUMIF('Pupil List'!$E:$E,$A22,'Pupil List'!AA:AA)/Results!$B22))","v":""},{"$f":"IF($A$22=\"\",\"\",IF($B22=0,\"\",AVERAGEIFS('Pupil List'!O:O,'Pupil List'!$C:$C,\"Yes\",'Pupil List'!$E:$E,$A22)))","v":""},{"$f":"IF($A22=\"\",\"\",IF($B22=0,\"\",SUMIF('Pupil List'!$E:$E,$A22,'Pupil List'!W:W)/Results!$B22))","v":""},{"$f":"IF($A22=\"\",\"\",IF($B22=0,\"\",SUMIF('Pupil List'!$E:$E,$A22,'Pupil List'!X:X)/Results!$B22))","v":""},{"$f":"IF($A22=\"\",\"\",IF($B22=0,\"\",SUMIF('Pupil List'!$E:$E,$A22,'Pupil List'!AC:AC)/Results!$B22))","v":""},{"$f":"IF($A22=\"\",\"\",IF($B22=0,\"\",SUMIF('Pupil List'!$E:$E,$A22,'Pupil List'!AE:AE)/Results!$B22))","v":""},{"$f":"IF($A22=\"\",\"\",IF($B22=0,\"\",SUMIF('Pupil List'!$E:$E,$A22,'Pupil List'!AG:AG)/Results!$B22))","v":""},{"$f":"IF($A$22=\"\",\"\",IF($B22=0,\"\",AVERAGEIFS('Pupil List'!P:P,'Pupil List'!$C:$C,\"Yes\",'Pupil List'!$E:$E,$A22)))","v":""},{"$f":"IF(B22=\"\",\"\",IF($B22=0,\"\",AVERAGEIFS('Pupil List'!Q:Q,'Pupil List'!$C:$C,\"Yes\",'Pupil List'!$E:$E,$A22)))","v":""},{"$f":"IF(C22=\"\",\"\",IF($B22=0,\"\",AVERAGEIFS('Pupil List'!R:R,'Pupil List'!$C:$C,\"Yes\",'Pupil List'!$E:$E,$A22)))","v":""}]
[{"$f":"IF(Sheet3!E12=\"\",\"\",Sheet3!E12)","v":""},{"$f":"IF(A23=\"\",\"\",COUNTIFS('Pupil List'!C:C,\"Yes\",'Pupil List'!E:E,A23))","v":""},{"$f":"IF($A$23=\"\",\"\",IF($B23=0,\"\",AVERAGEIFS('Pupil List'!M:M,'Pupil List'!$C:$C,\"Yes\",'Pupil List'!$E:$E,$A23)))","v":""},{"$f":"IF($A23=\"\",\"\",IF($B23=0,\"\",SUMIF('Pupil List'!$E:$E,A23,'Pupil List'!T:T)/Results!$B23))","v":""},{"$f":"IF($A23=\"\",\"\",IF($B23=0,\"\",SUMIF('Pupil List'!$E:$E,A23,'Pupil List'!U:U)/Results!$B23))","v":""},{"$f":"IF($A23=\"\",\"\",IF($B23=0,\"\",SUMIF('Pupil List'!$E:$E,$A23,'Pupil List'!Z:Z)/Results!$B23))","v":""},{"$f":"IF($A23=\"\",\"\",IF($B23=0,\"\",SUMIF('Pupil List'!$E:$E,$A23,'Pupil List'!AA:AA)/Results!$B23))","v":""},{"$f":"IF($A$23=\"\",\"\",IF($B23=0,\"\",AVERAGEIFS('Pupil List'!O:O,'Pupil List'!$C:$C,\"Yes\",'Pupil List'!$E:$E,$A23)))","v":""},{"$f":"IF($A23=\"\",\"\",IF($B23=0,\"\",SUMIF('Pupil List'!$E:$E,$A23,'Pupil List'!W:W)/Results!$B23))","v":""},{"$f":"IF($A23=\"\",\"\",IF($B23=0,\"\",SUMIF('Pupil List'!$E:$E,$A23,'Pupil List'!X:X)/Results!$B23))","v":""},{"$f":"IF($A23=\"\",\"\",IF($B23=0,\"\",SUMIF('Pupil List'!$E:$E,$A23,'Pupil List'!AC:AC)/Results!$B23))","v":""},{"$f":"IF($A23=\"\",\"\",IF($B23=0,\"\",SUMIF('Pupil List'!$E:$E,$A23,'Pupil List'!AE:AE)/Results!$B23))","v":""},{"$f":"IF($A23=\"\",\"\",IF($B23=0,\"\",SUMIF('Pupil List'!$E:$E,$A23,'Pupil List'!AG:AG)/Results!$B23))","v":""},{"$f":"IF($A$23=\"\",\"\",IF($B23=0,\"\",AVERAGEIFS('Pupil List'!P:P,'Pupil List'!$C:$C,\"Yes\",'Pupil List'!$E:$E,$A23)))","v":""},{"$f":"IF(B23=\"\",\"\",IF($B23=0,\"\",AVERAGEIFS('Pupil List'!Q:Q,'Pupil List'!$C:$C,\"Yes\",'Pupil List'!$E:$E,$A23)))","v":""},{"$f":"IF(C23=\"\",\"\",IF($B23=0,\"\",AVERAGEIFS('Pupil List'!R:R,'Pupil List'!$C:$C,\"Yes\",'Pupil List'!$E:$E,$A23)))","v":""}]
[{"$f":"IF(Sheet3!E13=\"\",\"\",Sheet3!E13)","v":""},{"$f":"IF(A24=\"\",\"\",COUNTIFS('Pupil List'!C:C,\"Yes\",'Pupil List'!E:E,A24))","v":""},{"$f":"IF($A$24=\"\",\"\",IF($B24=0,\"\",AVERAGEIFS('Pupil List'!M:M,'Pupil List'!$C:$C,\"Yes\",'Pupil List'!$E:$E,$A24)))","v":""},{"$f":"IF($A24=\"\",\"\",IF($B24=0,\"\",SUMIF('Pupil List'!$E:$E,A24,'Pupil List'!T:T)/Results!$B24))","v":""},{"$f":"IF($A24=\"\",\"\",IF($B24=0,\"\",SUMIF('Pupil List'!$E:$E,A24,'Pupil List'!U:U)/Results!$B24))","v":""},{"$f":"IF($A24=\"\",\"\",IF($B24=0,\"\",SUMIF('Pupil List'!$E:$E,$A24,'Pupil List'!Z:Z)/Results!$B24))","v":""},{"$f":"IF($A24=\"\",\"\",IF($B24=0,\"\",SUMIF('Pupil List'!$E:$E,$A24,'Pupil List'!AA:AA)/Results!$B24))","v":""},{"$f":"IF($A$24=\"\",\"\",IF($B24=0,\"\",AVERAGEIFS('Pupil List'!O:O,'Pupil List'!$C:$C,\"Yes\",'Pupil List'!$E:$E,$A24)))","v":""},{"$f":"IF($A24=\"\",\"\",IF($B24=0,\"\",SUMIF('Pupil List'!$E:$E,$A24,'Pupil List'!W:W)/Results!$B24))","v":""},{"$f":"IF($A24=\"\",\"\",IF($B24=0,\"\",SUMIF('Pupil List'!$E:$E,$A24,'Pupil List'!X:X)/Results!$B24))","v":""},{"$f":"IF($A24=\"\",\"\",IF($B24=0,\"\",SUMIF('Pupil List'!$E:$E,$A24,'Pupil List'!AC:AC)/Results!$B24))","v":""},{"$f":"IF($A24=\"\",\"\",IF($B24=0,\"\",SUMIF('Pupil List'!$E:$E,$A24,'Pupil List'!AE:AE)/Results!$B24))","v":""},{"$f":"IF($A24=\"\",\"\",IF($B24=0,\"\",SUMIF('Pupil List'!$E:$E,$A24,'Pupil List'!AG:AG)/Results!$B24))","v":""},{"$f":"IF($A$24=\"\",\"\",IF($B24=0,\"\",AVERAGEIFS('Pupil List'!P:P,'Pupil List'!$C:$C,\"Yes\",'Pupil List'!$E:$E,$A24)))","v":""},{"$f":"IF(B24=\"\",\"\",IF($B24=0,\"\",AVERAGEIFS('Pupil List'!Q:Q,'Pupil List'!$C:$C,\"Yes\",'Pupil List'!$E:$E,$A24)))","v":""},{"$f":"IF(C24=\"\",\"\",IF($B24=0,\"\",AVERAGEIFS('Pupil List'!R:R,'Pupil List'!$C:$C,\"Yes\",'Pupil List'!$E:$E,$A24)))","v":""}]
[{"$f":"IF(Sheet3!E14=\"\",\"\",Sheet3!E14)","v":""},{"$f":"IF(A25=\"\",\"\",COUNTIFS('Pupil List'!C:C,\"Yes\",'Pupil List'!E:E,A25))","v":""},{"$f":"IF($A$25=\"\",\"\",IF($B25=0,\"\",AVERAGEIFS('Pupil List'!M:M,'Pupil List'!$C:$C,\"Yes\",'Pupil List'!$E:$E,$A25)))","v":""},{"$f":"IF($A25=\"\",\"\",IF($B25=0,\"\",SUMIF('Pupil List'!$E:$E,A25,'Pupil List'!T:T)/Results!$B25))","v":""},{"$f":"IF($A25=\"\",\"\",IF($B25=0,\"\",SUMIF('Pupil List'!$E:$E,A25,'Pupil List'!U:U)/Results!$B25))","v":""},{"$f":"IF($A25=\"\",\"\",IF($B25=0,\"\",SUMIF('Pupil List'!$E:$E,$A25,'Pupil List'!Z:Z)/Results!$B25))","v":""},{"$f":"IF($A25=\"\",\"\",IF($B25=0,\"\",SUMIF('Pupil List'!$E:$E,$A25,'Pupil List'!AA:AA)/Results!$B25))","v":""},{"$f":"IF($A$25=\"\",\"\",IF($B25=0,\"\",AVERAGEIFS('Pupil List'!O:O,'Pupil List'!$C:$C,\"Yes\",'Pupil List'!$E:$E,$A25)))","v":""},{"$f":"IF($A25=\"\",\"\",IF($B25=0,\"\",SUMIF('Pupil List'!$E:$E,$A25,'Pupil List'!W:W)/Results!$B25))","v":""},{"$f":"IF($A25=\"\",\"\",IF($B25=0,\"\",SUMIF('Pupil List'!$E:$E,$A25,'Pupil List'!X:X)/Results!$B25))","v":""},{"$f":"IF($A25=\"\",\"\",IF($B25=0,\"\",SUMIF('Pupil List'!$E:$E,$A25,'Pupil List'!AC:AC)/Results!$B25))","v":""},{"$f":"IF($A25=\"\",\"\",IF($B25=0,\"\",SUMIF('Pupil List'!$E:$E,$A25,'Pupil List'!AE:AE)/Results!$B25))","v":""},{"$f":"IF($A25=\"\",\"\",IF($B25=0,\"\",SUMIF('Pupil List'!$E:$E,$A25,'Pupil List'!AG:AG)/Results!$B25))","v":""},{"$f":"IF($A$25=\"\",\"\",IF($B25=0,\"\",AVERAGEIFS('Pupil List'!P:P,'Pupil List'!$C:$C,\"Yes\",'Pupil List'!$E:$E,$A25)))","v":""},{"$f":"IF(B25=\"\",\"\",IF($B25=0,\"\",AVERAGEIFS('Pupil List'!Q:Q,'Pupil List'!$C:$C,\"Yes\",'Pupil List'!$E:$E,$A25)))","v":""},{"$f":"IF(C25=\"\",\"\",IF($B25=0,\"\",AVERAGEIFS('Pupil List'!R:R,'Pupil List'!$C:$C,\"Yes\",'Pupil List'!$E:$E,$A25)))","v":""}]
[{"$f":"IF(Sheet3!E15=\"\",\"\",Sheet3!E15)","v":""},{"$f":"IF(A26=\"\",\"\",COUNTIFS('Pupil List'!C:C,\"Yes\",'Pupil List'!E:E,A26))","v":""},{"$f":"IF($A$26=\"\",\"\",IF($B26=0,\"\",AVERAGEIFS('Pupil List'!M:M,'Pupil List'!$C:$C,\"Yes\",'Pupil List'!$E:$E,$A26)))","v":""},{"$f":"IF($A26=\"\",\"\",IF($B26=0,\"\",SUMIF('Pupil List'!$E:$E,A26,'Pupil List'!T:T)/Results!$B26))","v":""},{"$f":"IF($A26=\"\",\"\",IF($B26=0,\"\",SUMIF('Pupil List'!$E:$E,A26,'Pupil List'!U:U)/Results!$B26))","v":""},{"$f":"IF($A26=\"\",\"\",IF($B26=0,\"\",SUMIF('Pupil List'!$E:$E,$A26,'Pupil List'!Z:Z)/Results!$B26))","v":""},{"$f":"IF($A26=\"\",\"\",IF($B26=0,\"\",SUMIF('Pupil List'!$E:$E,$A26,'Pupil List'!AA:AA)/Results!$B26))","v":""},{"$f":"IF($A$26=\"\",\"\",IF($B26=0,\"\",AVERAGEIFS('Pupil List'!O:O,'Pupil List'!$C:$C,\"Yes\",'Pupil List'!$E:$E,$A26)))","v":""},{"$f":"IF($A26=\"\",\"\",IF($B26=0,\"\",SUMIF('Pupil List'!$E:$E,$A26,'Pupil List'!W:W)/Results!$B26))","v":""},{"$f":"IF($A26=\"\",\"\",IF($B26=0,\"\",SUMIF('Pupil List'!$E:$E,$A26,'Pupil List'!X:X)/Results!$B26))","v":""},{"$f":"IF($A26=\"\",\"\",IF($B26=0,\"\",SUMIF('Pupil List'!$E:$E,$A26,'Pupil List'!AC:AC)/Results!$B26))","v":""},{"$f":"IF($A26=\"\",\"\",IF($B26=0,\"\",SUMIF('Pupil List'!$E:$E,$A26,'Pupil List'!AE:AE)/Results!$B26))","v":""},{"$f":"IF($A26=\"\",\"\",IF($B26=0,\"\",SUMIF('Pupil List'!$E:$E,$A26,'Pupil List'!AG:AG)/Results!$B26))","v":""},{"$f":"IF($A$26=\"\",\"\",IF($B26=0,\"\",AVERAGEIFS('Pupil List'!P:P,'Pupil List'!$C:$C,\"Yes\",'Pupil List'!$E:$E,$A26)))","v":""},{"$f":"IF(B26=\"\",\"\",IF($B26=0,\"\",AVERAGEIFS('Pupil List'!Q:Q,'Pupil List'!$C:$C,\"Yes\",'Pupil List'!$E:$E,$A26)))","v":""},{"$f":"IF(C26=\"\",\"\",IF($B26=0,\"\",AVERAGEIFS('Pupil List'!R:R,'Pupil List'!$C:$C,\"Yes\",'Pupil List'!$E:$E,$A26)))","v":""}]
[{"$f":"IF(Sheet3!E16=\"\",\"\",Sheet3!E16)","v":""},{"$f":"IF(A27=\"\",\"\",COUNTIFS('Pupil List'!C:C,\"Yes\",'Pupil List'!E:E,A27))","v":""},{"$f":"IF($A$27=\"\",\"\",IF($B27=0,\"\",AVERAGEIFS('Pupil List'!M:M,'Pupil List'!$C:$C,\"Yes\",'Pupil List'!$E:$E,$A27)))","v":""},{"$f":"IF($A27=\"\",\"\",IF($B27=0,\"\",SUMIF('Pupil List'!$E:$E,A27,'Pupil List'!T:T)/Results!$B27))","v":""},{"$f":"IF($A27=\"\",\"\",IF($B27=0,\"\",SUMIF('Pupil List'!$E:$E,A27,'Pupil List'!U:U)/Results!$B27))","v":""},{"$f":"IF($A27=\"\",\"\",IF($B27=0,\"\",SUMIF('Pupil List'!$E:$E,$A27,'Pupil List'!Z:Z)/Results!$B27))","v":""},{"$f":"IF($A27=\"\",\"\",IF($B27=0,\"\",SUMIF('Pupil List'!$E:$E,$A27,'Pupil List'!AA:AA)/Results!$B27))","v":""},{"$f":"IF($A$27=\"\",\"\",IF($B27=0,\"\",AVERAGEIFS('Pupil List'!O:O,'Pupil List'!$C:$C,\"Yes\",'Pupil List'!$E:$E,$A27)))","v":""},{"$f":"IF($A27=\"\",\"\",IF($B27=0,\"\",SUMIF('Pupil List'!$E:$E,$A27,'Pupil List'!W:W)/Results!$B27))","v":""},{"$f":"IF($A27=\"\",\"\",IF($B27=0,\"\",SUMIF('Pupil List'!$E:$E,$A27,'Pupil List'!X:X)/Results!$B27))","v":""},{"$f":"IF($A27=\"\",\"\",IF($B27=0,\"\",SUMIF('Pupil List'!$E:$E,$A27,'Pupil List'!AC:AC)/Results!$B27))","v":""},{"$f":"IF($A27=\"\",\"\",IF($B27=0,\"\",SUMIF('Pupil List'!$E:$E,$A27,'Pupil List'!AE:AE)/Results!$B27))","v":""},{"$f":"IF($A27=\"\",\"\",IF($B27=0,\"\",SUMIF('Pupil List'!$E:$E,$A27,'Pupil List'!AG:AG)/Results!$B27))","v":""},{"$f":"IF($A$27=\"\",\"\",IF($B27=0,\"\",AVERAGEIFS('Pupil List'!P:P,'Pupil List'!$C:$C,\"Yes\",'Pupil List'!$E:$E,$A27)))","v":""},{"$f":"IF(B27=\"\",\"\",IF($B27=0,\"\",AVERAGEIFS('Pupil List'!Q:Q,'Pupil List'!$C:$C,\"Yes\",'Pupil List'!$E:$E,$A27)))","v":""},{"$f":"IF(C27=\"\",\"\",IF($B27=0,\"\",AVERAGEIFS('Pupil List'!R:R,'Pupil List'!$C:$C,\"Yes\",'Pupil List'!$E:$E,$A27)))","v":""}]
[{"$f":"IF(Sheet3!E17=\"\",\"\",Sheet3!E17)","v":""},{"$f":"IF(A28=\"\",\"\",COUNTIFS('Pupil List'!C:C,\"Yes\",'Pupil List'!E:E,A28))","v":""},{"$f":"IF($A$28=\"\",\"\",IF($B28=0,\"\",AVERAGEIFS('Pupil List'!M:M,'Pupil List'!$C:$C,\"Yes\",'Pupil List'!$E:$E,$A28)))","v":""},{"$f":"IF($A28=\"\",\"\",IF($B28=0,\"\",SUMIF('Pupil List'!$E:$E,A28,'Pupil List'!T:T)/Results!$B28))","v":""},{"$f":"IF($A28=\"\",\"\",IF($B28=0,\"\",SUMIF('Pupil List'!$E:$E,A28,'Pupil List'!U:U)/Results!$B28))","v":""},{"$f":"IF($A28=\"\",\"\",IF($B28=0,\"\",SUMIF('Pupil List'!$E:$E,$A28,'Pupil List'!Z:Z)/Results!$B28))","v":""},{"$f":"IF($A28=\"\",\"\",IF($B28=0,\"\",SUMIF('Pupil List'!$E:$E,$A28,'Pupil List'!AA:AA)/Results!$B28))","v":""},{"$f":"IF($A$28=\"\",\"\",IF($B28=0,\"\",AVERAGEIFS('Pupil List'!O:O,'Pupil List'!$C:$C,\"Yes\",'Pupil List'!$E:$E,$A28)))","v":""},{"$f":"IF($A28=\"\",\"\",IF($B28=0,\"\",SUMIF('Pupil List'!$E:$E,$A28,'Pupil List'!W:W)/Results!$B28))","v":""},{"$f":"IF($A28=\"\",\"\",IF($B28=0,\"\",SUMIF('Pupil List'!$E:$E,$A28,'Pupil List'!X:X)/Results!$B28))","v":""},{"$f":"IF($A28=\"\",\"\",IF($B28=0,\"\",SUMIF('Pupil List'!$E:$E,$A28,'Pupil List'!AC:AC)/Results!$B28))","v":""},{"$f":"IF($A28=\"\",\"\",IF($B28=0,\"\",SUMIF('Pupil List'!$E:$E,$A28,'Pupil List'!AE:AE)/Results!$B28))","v":""},{"$f":"IF($A28=\"\",\"\",IF($B28=0,\"\",SUMIF('Pupil List'!$E:$E,$A28,'Pupil List'!AG:AG)/Results!$B28))","v":""},{"$f":"IF($A$28=\"\",\"\",IF($B28=0,\"\",AVERAGEIFS('Pupil List'!P:P,'Pupil List'!$C:$C,\"Yes\",'Pupil List'!$E:$E,$A28)))","v":""},{"$f":"IF(B28=\"\",\"\",IF($B28=0,\"\",AVERAGEIFS('Pupil List'!Q:Q,'Pupil List'!$C:$C,\"Yes\",'Pupil List'!$E:$E,$A28)))","v":""},{"$f":"IF(C28=\"\",\"\",IF($B28=0,\"\",AVERAGEIFS('Pupil List'!R:R,'Pupil List'!$C:$C,\"Yes\",'Pupil List'!$E:$E,$A28)))","v":""}]
[{"$f":"IF(Sheet3!E18=\"\",\"\",Sheet3!E18)","v":""},{"$f":"IF(A29=\"\",\"\",COUNTIFS('Pupil List'!C:C,\"Yes\",'Pupil List'!E:E,A29))","v":""},{"$f":"IF($A$29=\"\",\"\",IF($B29=0,\"\",AVERAGEIFS('Pupil List'!M:M,'Pupil List'!$C:$C,\"Yes\",'Pupil List'!$E:$E,$A29)))","v":""},{"$f":"IF($A29=\"\",\"\",IF($B29=0,\"\",SUMIF('Pupil List'!$E:$E,A29,'Pupil List'!T:T)/Results!$B29))","v":""},{"$f":"IF($A29=\"\",\"\",IF($B29=0,\"\",SUMIF('Pupil List'!$E:$E,A29,'Pupil List'!U:U)/Results!$B29))","v":""},{"$f":"IF($A29=\"\",\"\",IF($B29=0,\"\",SUMIF('Pupil List'!$E:$E,$A29,'Pupil List'!Z:Z)/Results!$B29))","v":""},{"$f":"IF($A29=\"\",\"\",IF($B29=0,\"\",SUMIF('Pupil List'!$E:$E,$A29,'Pupil List'!AA:AA)/Results!$B29))","v":""},{"$f":"IF($A$29=\"\",\"\",IF($B29=0,\"\",AVERAGEIFS('Pupil List'!O:O,'Pupil List'!$C:$C,\"Yes\",'Pupil List'!$E:$E,$A29)))","v":""},{"$f":"IF($A29=\"\",\"\",IF($B29=0,\"\",SUMIF('Pupil List'!$E:$E,$A29,'Pupil List'!W:W)/Results!$B29))","v":""},{"$f":"IF($A29=\"\",\"\",IF($B29=0,\"\",SUMIF('Pupil List'!$E:$E,$A29,'Pupil List'!X:X)/Results!$B29))","v":""},{"$f":"IF($A29=\"\",\"\",IF($B29=0,\"\",SUMIF('Pupil List'!$E:$E,$A29,'Pupil List'!AC:AC)/Results!$B29))","v":""},{"$f":"IF($A29=\"\",\"\",IF($B29=0,\"\",SUMIF('Pupil List'!$E:$E,$A29,'Pupil List'!AE:AE)/Results!$B29))","v":""},{"$f":"IF($A29=\"\",\"\",IF($B29=0,\"\",SUMIF('Pupil List'!$E:$E,$A29,'Pupil List'!AG:AG)/Results!$B29))","v":""},{"$f":"IF($A$29=\"\",\"\",IF($B29=0,\"\",AVERAGEIFS('Pupil List'!P:P,'Pupil List'!$C:$C,\"Yes\",'Pupil List'!$E:$E,$A29)))","v":""},{"$f":"IF(B29=\"\",\"\",IF($B29=0,\"\",AVERAGEIFS('Pupil List'!Q:Q,'Pupil List'!$C:$C,\"Yes\",'Pupil List'!$E:$E,$A29)))","v":""},{"$f":"IF(C29=\"\",\"\",IF($B29=0,\"\",AVERAGEIFS('Pupil List'!R:R,'Pupil List'!$C:$C,\"Yes\",'Pupil List'!$E:$E,$A29)))","v":""}]
[{"$f":"IF(Sheet3!E19=\"\",\"\",Sheet3!E19)","v":""},{"$f":"IF(A30=\"\",\"\",COUNTIFS('Pupil List'!C:C,\"Yes\",'Pupil List'!E:E,A30))","v":""},{"$f":"IF($A$30=\"\",\"\",IF($B30=0,\"\",AVERAGEIFS('Pupil List'!M:M,'Pupil List'!$C:$C,\"Yes\",'Pupil List'!$E:$E,$A30)))","v":""},{"$f":"IF($A30=\"\",\"\",IF($B30=0,\"\",SUMIF('Pupil List'!$E:$E,A30,'Pupil List'!T:T)/Results!$B30))","v":""},{"$f":"IF($A30=\"\",\"\",IF($B30=0,\"\",SUMIF('Pupil List'!$E:$E,A30,'Pupil List'!U:U)/Results!$B30))","v":""},{"$f":"IF($A30=\"\",\"\",IF($B30=0,\"\",SUMIF('Pupil List'!$E:$E,$A30,'Pupil List'!Z:Z)/Results!$B30))","v":""},{"$f":"IF($A30=\"\",\"\",IF($B30=0,\"\",SUMIF('Pupil List'!$E:$E,$A30,'Pupil List'!AA:AA)/Results!$B30))","v":""},{"$f":"IF($A$30=\"\",\"\",IF($B30=0,\"\",AVERAGEIFS('Pupil List'!O:O,'Pupil List'!$C:$C,\"Yes\",'Pupil List'!$E:$E,$A30)))","v":""},{"$f":"IF($A30=\"\",\"\",IF($B30=0,\"\",SUMIF('Pupil List'!$E:$E,$A30,'Pupil List'!W:W)/Results!$B30))","v":""},{"$f":"IF($A30=\"\",\"\",IF($B30=0,\"\",SUMIF('Pupil List'!$E:$E,$A30,'Pupil List'!X:X)/Results!$B30))","v":""},{"$f":"IF($A30=\"\",\"\",IF($B30=0,\"\",SUMIF('Pupil List'!$E:$E,$A30,'Pupil List'!AC:AC)/Results!$B30))","v":""},{"$f":"IF($A30=\"\",\"\",IF($B30=0,\"\",SUMIF('Pupil List'!$E:$E,$A30,'Pupil List'!AE:AE)/Results!$B30))","v":""},{"$f":"IF($A30=\"\",\"\",IF($B30=0,\"\",SUMIF('Pupil List'!$E:$E,$A30,'Pupil List'!AG:AG)/Results!$B30))","v":""},{"$f":"IF($A$30=\"\",\"\",IF($B30=0,\"\",AVERAGEIFS('Pupil List'!P:P,'Pupil List'!$C:$C,\"Yes\",'Pupil List'!$E:$E,$A30)))","v":""},{"$f":"IF(B30=\"\",\"\",IF($B30=0,\"\",AVERAGEIFS('Pupil List'!Q:Q,'Pupil List'!$C:$C,\"Yes\",'Pupil List'!$E:$E,$A30)))","v":""},{"$f":"IF(C30=\"\",\"\",IF($B30=0,\"\",AVERAGEIFS('Pupil List'!R:R,'Pupil List'!$C:$C,\"Yes\",'Pupil List'!$E:$E,$A30)))","v":""}]
[{"$f":"IF(Sheet3!E20=\"\",\"\",Sheet3!E20)","v":""},{"$f":"IF(A31=\"\",\"\",COUNTIFS('Pupil List'!C:C,\"Yes\",'Pupil List'!E:E,A31))","v":""},{"$f":"IF($A$31=\"\",\"\",IF($B31=0,\"\",AVERAGEIFS('Pupil List'!M:M,'Pupil List'!$C:$C,\"Yes\",'Pupil List'!$E:$E,$A31)))","v":""},{"$f":"IF($A31=\"\",\"\",IF($B31=0,\"\",SUMIF('Pupil List'!$E:$E,A31,'Pupil List'!T:T)/Results!$B31))","v":""},{"$f":"IF($A31=\"\",\"\",IF($B31=0,\"\",SUMIF('Pupil List'!$E:$E,A31,'Pupil List'!U:U)/Results!$B31))","v":""},{"$f":"IF($A31=\"\",\"\",IF($B31=0,\"\",SUMIF('Pupil List'!$E:$E,$A31,'Pupil List'!Z:Z)/Results!$B31))","v":""},{"$f":"IF($A31=\"\",\"\",IF($B31=0,\"\",SUMIF('Pupil List'!$E:$E,$A31,'Pupil List'!AA:AA)/Results!$B31))","v":""},{"$f":"IF($A$31=\"\",\"\",IF($B31=0,\"\",AVERAGEIFS('Pupil List'!O:O,'Pupil List'!$C:$C,\"Yes\",'Pupil List'!$E:$E,$A31)))","v":""},{"$f":"IF($A31=\"\",\"\",IF($B31=0,\"\",SUMIF('Pupil List'!$E:$E,$A31,'Pupil List'!W:W)/Results!$B31))","v":""},{"$f":"IF($A31=\"\",\"\",IF($B31=0,\"\",SUMIF('Pupil List'!$E:$E,$A31,'Pupil List'!X:X)/Results!$B31))","v":""},{"$f":"IF($A31=\"\",\"\",IF($B31=0,\"\",SUMIF('Pupil List'!$E:$E,$A31,'Pupil List'!AC:AC)/Results!$B31))","v":""},{"$f":"IF($A31=\"\",\"\",IF($B31=0,\"\",SUMIF('Pupil List'!$E:$E,$A31,'Pupil List'!AE:AE)/Results!$B31))","v":""},{"$f":"IF($A31=\"\",\"\",IF($B31=0,\"\",SUMIF('Pupil List'!$E:$E,$A31,'Pupil List'!AG:AG)/Results!$B31))","v":""},{"$f":"IF($A$31=\"\",\"\",IF($B31=0,\"\",AVERAGEIFS('Pupil List'!P:P,'Pupil List'!$C:$C,\"Yes\",'Pupil List'!$E:$E,$A31)))","v":""},{"$f":"IF(B31=\"\",\"\",IF($B31=0,\"\",AVERAGEIFS('Pupil List'!Q:Q,'Pupil List'!$C:$C,\"Yes\",'Pupil List'!$E:$E,$A31)))","v":""},{"$f":"IF(C31=\"\",\"\",IF($B31=0,\"\",AVERAGEIFS('Pupil List'!R:R,'Pupil List'!$C:$C,\"Yes\",'Pupil List'!$E:$E,$A31)))","v":""}]
[{"$f":"IF(Sheet3!E21=\"\",\"\",Sheet3!E21)","v":""},{"$f":"IF(A32=\"\",\"\",COUNTIFS('Pupil List'!C:C,\"Yes\",'Pupil List'!E:E,A32))","v":""},{"$f":"IF($A$32=\"\",\"\",IF($B32=0,\"\",AVERAGEIFS('Pupil List'!M:M,'Pupil List'!$C:$C,\"Yes\",'Pupil List'!$E:$E,$A32)))","v":""},{"$f":"IF($A32=\"\",\"\",IF($B32=0,\"\",SUMIF('Pupil List'!$E:$E,A32,'Pupil List'!T:T)/Results!$B32))","v":""},{"$f":"IF($A32=\"\",\"\",IF($B32=0,\"\",SUMIF('Pupil List'!$E:$E,A32,'Pupil List'!U:U)/Results!$B32))","v":""},{"$f":"IF($A32=\"\",\"\",IF($B32=0,\"\",SUMIF('Pupil List'!$E:$E,$A32,'Pupil List'!Z:Z)/Results!$B32))","v":""},{"$f":"IF($A32=\"\",\"\",IF($B32=0,\"\",SUMIF('Pupil List'!$E:$E,$A32,'Pupil List'!AA:AA)/Results!$B32))","v":""},{"$f":"IF($A$32=\"\",\"\",IF($B32=0,\"\",AVERAGEIFS('Pupil List'!O:O,'Pupil List'!$C:$C,\"Yes\",'Pupil List'!$E:$E,$A32)))","v":""},{"$f":"IF($A32=\"\",\"\",IF($B32=0,\"\",SUMIF('Pupil List'!$E:$E,$A32,'Pupil List'!W:W)/Results!$B32))","v":""},{"$f":"IF($A32=\"\",\"\",IF($B32=0,\"\",SUMIF('Pupil List'!$E:$E,$A32,'Pupil List'!X:X)/Results!$B32))","v":""},{"$f":"IF($A32=\"\",\"\",IF($B32=0,\"\",SUMIF('Pupil List'!$E:$E,$A32,'Pupil List'!AC:AC)/Results!$B32))","v":""},{"$f":"IF($A32=\"\",\"\",IF($B32=0,\"\",SUMIF('Pupil List'!$E:$E,$A32,'Pupil List'!AE:AE)/Results!$B32))","v":""},{"$f":"IF($A32=\"\",\"\",IF($B32=0,\"\",SUMIF('Pupil List'!$E:$E,$A32,'Pupil List'!AG:AG)/Results!$B32))","v":""},{"$f":"IF($A$32=\"\",\"\",IF($B32=0,\"\",AVERAGEIFS('Pupil List'!P:P,'Pupil List'!$C:$C,\"Yes\",'Pupil List'!$E:$E,$A32)))","v":""},{"$f":"IF(B32=\"\",\"\",IF($B32=0,\"\",AVERAGEIFS('Pupil List'!Q:Q,'Pupil List'!$C:$C,\"Yes\",'Pupil List'!$E:$E,$A32)))","v":""},{"$f":"IF(C32=\"\",\"\",IF($B32=0,\"\",AVERAGEIFS('Pupil List'!R:R,'Pupil List'!$C:$C,\"Yes\",'Pupil List'!$E:$E,$A32)))","v":""}]
[{"$f":"IF(Sheet3!E22=\"\",\"\",Sheet3!E22)","v":""},{"$f":"IF(A33=\"\",\"\",COUNTIFS('Pupil List'!C:C,\"Yes\",'Pupil List'!E:E,A33))","v":""},{"$f":"IF($A$33=\"\",\"\",IF($B33=0,\"\",AVERAGEIFS('Pupil List'!M:M,'Pupil List'!$C:$C,\"Yes\",'Pupil List'!$E:$E,$A33)))","v":""},{"$f":"IF($A33=\"\",\"\",IF($B33=0,\"\",SUMIF('Pupil List'!$E:$E,A33,'Pupil List'!T:T)/Results!$B33))","v":""},{"$f":"IF($A33=\"\",\"\",IF($B33=0,\"\",SUMIF('Pupil List'!$E:$E,A33,'Pupil List'!U:U)/Results!$B33))","v":""},{"$f":"IF($A33=\"\",\"\",IF($B33=0,\"\",SUMIF('Pupil List'!$E:$E,$A33,'Pupil List'!Z:Z)/Results!$B33))","v":""},{"$f":"IF($A33=\"\",\"\",IF($B33=0,\"\",SUMIF('Pupil List'!$E:$E,$A33,'Pupil List'!AA:AA)/Results!$B33))","v":""},{"$f":"IF($A$33=\"\",\"\",IF($B33=0,\"\",AVERAGEIFS('Pupil List'!O:O,'Pupil List'!$C:$C,\"Yes\",'Pupil List'!$E:$E,$A33)))","v":""},{"$f":"IF($A33=\"\",\"\",IF($B33=0,\"\",SUMIF('Pupil List'!$E:$E,$A33,'Pupil List'!W:W)/Results!$B33))","v":""},{"$f":"IF($A33=\"\",\"\",IF($B33=0,\"\",SUMIF('Pupil List'!$E:$E,$A33,'Pupil List'!X:X)/Results!$B33))","v":""},{"$f":"IF($A33=\"\",\"\",IF($B33=0,\"\",SUMIF('Pupil List'!$E:$E,$A33,'Pupil List'!AC:AC)/Results!$B33))","v":""},{"$f":"IF($A33=\"\",\"\",IF($B33=0,\"\",SUMIF('Pupil List'!$E:$E,$A33,'Pupil List'!AE:AE)/Results!$B33))","v":""},{"$f":"IF($A33=\"\",\"\",IF($B33=0,\"\",SUMIF('Pupil List'!$E:$E,$A33,'Pupil List'!AG:AG)/Results!$B33))","v":""},{"$f":"IF($A$33=\"\",\"\",IF($B33=0,\"\",AVERAGEIFS('Pupil List'!P:P,'Pupil List'!$C:$C,\"Yes\",'Pupil List'!$E:$E,$A33)))","v":""},{"$f":"IF(B33=\"\",\"\",IF($B33=0,\"\",AVERAGEIFS('Pupil List'!Q:Q,'Pupil List'!$C:$C,\"Yes\",'Pupil List'!$E:$E,$A33)))","v":""},{"$f":"IF(C33=\"\",\"\",IF($B33=0,\"\",AVERAGEIFS('Pupil List'!R:R,'Pupil List'!$C:$C,\"Yes\",'Pupil List'!$E:$E,$A33)))","v":""}]
[{"$f":"IF(Sheet3!E23=\"\",\"\",Sheet3!E23)","v":""},{"$f":"IF(A34=\"\",\"\",COUNTIFS('Pupil List'!C:C,\"Yes\",'Pupil List'!E:E,A34))","v":""},{"$f":"IF($A$34=\"\",\"\",IF($B34=0,\"\",AVERAGEIFS('Pupil List'!M:M,'Pupil List'!$C:$C,\"Yes\",'Pupil List'!$E:$E,$A34)))","v":""},{"$f":"IF($A34=\"\",\"\",IF($B34=0,\"\",SUMIF('Pupil List'!$E:$E,A34,'Pupil List'!T:T)/Results!$B34))","v":""},{"$f":"IF($A34=\"\",\"\",IF($B34=0,\"\",SUMIF('Pupil List'!$E:$E,A34,'Pupil List'!U:U)/Results!$B34))","v":""},{"$f":"IF($A34=\"\",\"\",IF($B34=0,\"\",SUMIF('Pupil List'!$E:$E,$A34,'Pupil List'!Z:Z)/Results!$B34))","v":""},{"$f":"IF($A34=\"\",\"\",IF($B34=0,\"\",SUMIF('Pupil List'!$E:$E,$A34,'Pupil List'!AA:AA)/Results!$B34))","v":""},{"$f":"IF($A$34=\"\",\"\",IF($B34=0,\"\",AVERAGEIFS('Pupil List'!O:O,'Pupil List'!$C:$C,\"Yes\",'Pupil List'!$E:$E,$A34)))","v":""},{"$f":"IF($A34=\"\",\"\",IF($B34=0,\"\",SUMIF('Pupil List'!$E:$E,$A34,'Pupil List'!W:W)/Results!$B34))","v":""},{"$f":"IF($A34=\"\",\"\",IF($B34=0,\"\",SUMIF('Pupil List'!$E:$E,$A34,'Pupil List'!X:X)/Results!$B34))","v":""},{"$f":"IF($A34=\"\",\"\",IF($B34=0,\"\",SUMIF('Pupil List'!$E:$E,$A34,'Pupil List'!AC:AC)/Results!$B34))","v":""},{"$f":"IF($A34=\"\",\"\",IF($B34=0,\"\",SUMIF('Pupil List'!$E:$E,$A34,'Pupil List'!AE:AE)/Results!$B34))","v":""},{"$f":"IF($A34=\"\",\"\",IF($B34=0,\"\",SUMIF('Pupil List'!$E:$E,$A34,'Pupil List'!AG:AG)/Results!$B34))","v":""},{"$f":"IF($A$34=\"\",\"\",IF($B34=0,\"\",AVERAGEIFS('Pupil List'!P:P,'Pupil List'!$C:$C,\"Yes\",'Pupil List'!$E:$E,$A34)))","v":""},{"$f":"IF(B34=\"\",\"\",IF($B34=0,\"\",AVERAGEIFS('Pupil List'!Q:Q,'Pupil List'!$C:$C,\"Yes\",'Pupil List'!$E:$E,$A34)))","v":""},{"$f":"IF(C34=\"\",\"\",IF($B34=0,\"\",AVERAGEIFS('Pupil List'!R:R,'Pupil List'!$C:$C,\"Yes\",'Pupil List'!$E:$E,$A34)))","v":""}]
[{"$f":"IF(Sheet3!E24=\"\",\"\",Sheet3!E24)","v":""},{"$f":"IF(A35=\"\",\"\",COUNTIFS('Pupil List'!C:C,\"Yes\",'Pupil List'!E:E,A35))","v":""},{"$f":"IF($A$35=\"\",\"\",IF($B35=0,\"\",AVERAGEIFS('Pupil List'!M:M,'Pupil List'!$C:$C,\"Yes\",'Pupil List'!$E:$E,$A35)))","v":""},{"$f":"IF($A35=\"\",\"\",IF($B35=0,\"\",SUMIF('Pupil List'!$E:$E,A35,'Pupil List'!T:T)/Results!$B35))","v":""},{"$f":"IF($A35=\"\",\"\",IF($B35=0,\"\",SUMIF('Pupil List'!$E:$E,A35,'Pupil List'!U:U)/Results!$B35))","v":""},{"$f":"IF($A35=\"\",\"\",IF($B35=0,\"\",SUMIF('Pupil List'!$E:$E,$A35,'Pupil List'!Z:Z)/Results!$B35))","v":""},{"$f":"IF($A35=\"\",\"\",IF($B35=0,\"\",SUMIF('Pupil List'!$E:$E,$A35,'Pupil List'!AA:AA)/Results!$B35))","v":""},{"$f":"IF($A$35=\"\",\"\",IF($B35=0,\"\",AVERAGEIFS('Pupil List'!O:O,'Pupil List'!$C:$C,\"Yes\",'Pupil List'!$E:$E,$A35)))","v":""},{"$f":"IF($A35=\"\",\"\",IF($B35=0,\"\",SUMIF('Pupil List'!$E:$E,$A35,'Pupil List'!W:W)/Results!$B35))","v":""},{"$f":"IF($A35=\"\",\"\",IF($B35=0,\"\",SUMIF('Pupil List'!$E:$E,$A35,'Pupil List'!X:X)/Results!$B35))","v":""},{"$f":"IF($A35=\"\",\"\",IF($B35=0,\"\",SUMIF('Pupil List'!$E:$E,$A35,'Pupil List'!AC:AC)/Results!$B35))","v":""},{"$f":"IF($A35=\"\",\"\",IF($B35=0,\"\",SUMIF('Pupil List'!$E:$E,$A35,'Pupil List'!AE:AE)/Results!$B35))","v":""},{"$f":"IF($A35=\"\",\"\",IF($B35=0,\"\",SUMIF('Pupil List'!$E:$E,$A35,'Pupil List'!AG:AG)/Results!$B35))","v":""},{"$f":"IF($A$35=\"\",\"\",IF($B35=0,\"\",AVERAGEIFS('Pupil List'!P:P,'Pupil List'!$C:$C,\"Yes\",'Pupil List'!$E:$E,$A35)))","v":""},{"$f":"IF(B35=\"\",\"\",IF($B35=0,\"\",AVERAGEIFS('Pupil List'!Q:Q,'Pupil List'!$C:$C,\"Yes\",'Pupil List'!$E:$E,$A35)))","v":""},{"$f":"IF(C35=\"\",\"\",IF($B35=0,\"\",AVERAGEIFS('Pupil List'!R:R,'Pupil List'!$C:$C,\"Yes\",'Pupil List'!$E:$E,$A35)))","v":""}]
[{"$f":"IF(Sheet3!E25=\"\",\"\",Sheet3!E25)","v":""},{"$f":"IF(A36=\"\",\"\",COUNTIFS('Pupil List'!C:C,\"Yes\",'Pupil List'!E:E,A36))","v":""},{"$f":"IF($A$36=\"\",\"\",IF($B36=0,\"\",AVERAGEIFS('Pupil List'!M:M,'Pupil List'!$C:$C,\"Yes\",'Pupil List'!$E:$E,$A36)))","v":""},{"$f":"IF($A36=\"\",\"\",IF($B36=0,\"\",SUMIF('Pupil List'!$E:$E,A36,'Pupil List'!T:T)/Results!$B36))","v":""},{"$f":"IF($A36=\"\",\"\",IF($B36=0,\"\",SUMIF('Pupil List'!$E:$E,A36,'Pupil List'!U:U)/Results!$B36))","v":""},{"$f":"IF($A36=\"\",\"\",IF($B36=0,\"\",SUMIF('Pupil List'!$E:$E,$A36,'Pupil List'!Z:Z)/Results!$B36))","v":""},{"$f":"IF($A36=\"\",\"\",IF($B36=0,\"\",SUMIF('Pupil List'!$E:$E,$A36,'Pupil List'!AA:AA)/Results!$B36))","v":""},{"$f":"IF($A$36=\"\",\"\",IF($B36=0,\"\",AVERAGEIFS('Pupil List'!O:O,'Pupil List'!$C:$C,\"Yes\",'Pupil List'!$E:$E,$A36)))","v":""},{"$f":"IF($A36=\"\",\"\",IF($B36=0,\"\",SUMIF('Pupil List'!$E:$E,$A36,'Pupil List'!W:W)/Results!$B36))","v":""},{"$f":"IF($A36=\"\",\"\",IF($B36=0,\"\",SUMIF('Pupil List'!$E:$E,$A36,'Pupil List'!X:X)/Results!$B36))","v":""},{"$f":"IF($A36=\"\",\"\",IF($B36=0,\"\",SUMIF('Pupil List'!$E:$E,$A36,'Pupil List'!AC:AC)/Results!$B36))","v":""},{"$f":"IF($A36=\"\",\"\",IF($B36=0,\"\",SUMIF('Pupil List'!$E:$E,$A36,'Pupil List'!AE:AE)/Results!$B36))","v":""},{"$f":"IF($A36=\"\",\"\",IF($B36=0,\"\",SUMIF('Pupil List'!$E:$E,$A36,'Pupil List'!AG:AG)/Results!$B36))","v":""},{"$f":"IF($A$36=\"\",\"\",IF($B36=0,\"\",AVERAGEIFS('Pupil List'!P:P,'Pupil List'!$C:$C,\"Yes\",'Pupil List'!$E:$E,$A36)))","v":""},{"$f":"IF(B36=\"\",\"\",IF($B36=0,\"\",AVERAGEIFS('Pupil List'!Q:Q,'Pupil List'!$C:$C,\"Yes\",'Pupil List'!$E:$E,$A36)))","v":""},{"$f":"IF(C36=\"\",\"\",IF($B36=0,\"\",AVERAGEIFS('Pupil List'!R:R,'Pupil List'!$C:$C,\"Yes\",'Pupil List'!$E:$E,$A36)))","v":""}]

{"sheet":"Sheet1","index":3,"n_rows":38,"n_cols":8,"rows_kept":38,"cut":false,"hidden":true,"merged":[]}
["Prior Attainment Group (PAG)","Year","Average KS2 Reading Score for PAG","Average KS2 Writing Score for PAG","Average KS2 Maths Score for PAG","KS1 average points score gte","KS1 average points score lt","KS1 average points score"]
[1,"2021/22",63.01,62.82,63.15,0,1.75,"0 to <1.75"]
[2,"2021/22",67.27,66.680000000000007,67.89,1.75,2,">=1.75 to <2"]
[3,"2021/22",70.64,70.099999999999994,71.45,2,2.25,">=2 to <2.25"]
[4,"2021/22",74.02,73.23,74.89,2.25,2.5,">=2.25 to <2.5"]
[5,"2021/22",78.13,76.86,78.900000000000006,2.5,2.75,">=2.5 to <2.75"]
[6,"2021/22",82.19,80.13,81.97,2.75,3,">=2.75 to <3"]
[7,"2021/22",85.66,83.35,86.17,3,3.5,">=3 to <3.5"]
[8,"2021/22",87.15,84.65,87,3.5,4.0000099999999996,">=3.5 to <=4"]
[9,"2021/22",91.33,88.02,89.84,4.0000200000000001,5,">4 to <5"]
[10,"2021/22",92.64,89.09,92.8,5,5.0000099999999996,"5"]
[11,"2021/22",94.14,90.07,94,5.0000200000000001,6,">5 to <6"]
[12,"2021/22",96.13,92.49,95.11,6,6.0000099999999996,"6"]
[13,"2021/22",100.63,95.8,97.24,6.0000200000000001,7,">6 to <7"]
[14,"2021/22",100.88,96.77,100.35,7,7.0000099999999996,"7"]
[15,"2021/22",102.72,97.64,102.42,7.0000200000000001,8,">7 to <8"]
[16,"2021/22",105.46,101.57,104.19,8,8.0000009999999993,"8"]
[17,"2021/22",108.97,104.43,107.36,8.0000020000000003,9.5,">8 to <9.5"]
[18,"2021/22",110.13,105.16,110.33,9.5,10,">=9.5 to <10"]
[19,"2021/22",112.18,108.51,111.59,10,999,"10"]
[]
[]
[]
[]
[]
[]
[]
["Code","Score"]
["EM",60]
["PK1",64]
["PK2",67]
["PK3",70]
["PK4",73]
["PK5",76]
["PK6",79]
["WTS",91]
["EXS",103]
["GDS",113]

{"sheet":"Sheet3","index":4,"n_rows":35,"n_cols":7,"rows_kept":35,"cut":false,"hidden":true,"merged":[]}
["Yes",null,null,"Row Labels"]
["No",null,null,null,{"$f":"IF(D2=\"\",\"\",IF(D2=\"(blank)\",\"\",D2))","v":""}]
[null,null,null,"WBRI",{"$f":"IF(D3=\"\",\"\",IF(D3=\"(blank)\",\"\",D3))","v":"WBRI"}]
["F",null,null,"BCRB","BCRB",{"$f":"IF(E4=\"\",1,\"\")","v":""},{"$f":"IF((AND(F4=1,F3=\"\")),1,\"\")","v":""}]
["M",null,null,null,"",1,1]
[null,null,null,null,"",1,""]
["N",null,null,null,"",1,""]
["E",null,null,null,"",1,""]
["K",null,null,null,"",1,""]
[null,null,null,null,"",1,""]
["F",null,null,null,"",1,""]
["T",null,null,null,"",1,""]
[null,null,null,null,"",1,""]
[null,null,null,null,"",1,""]
[null,null,null,null,"",1,""]
[null,null,null,null,"",1,""]
[null,null,null,null,"",1,""]
[null,null,null,null,"",1,""]
[null,null,null,null,"",1,""]
[null,null,null,null,"",1,""]
[null,null,null,null,"",1,""]
[null,null,null,null,"",1,""]
[null,null,null,null,"",1,""]
[null,null,null,null,"",1,""]
[null,null,null,null,"",1,""]
[null,null,null,null,"",1,""]
[null,null,null,null,"",1,""]
[null,null,null,null,"",1,""]
[null,null,null,null,"",1,""]
[null,null,null,null,"",1,""]
[null,null,null,null,"",1,""]
[null,null,null,null,"",1,""]
[null,null,null,null,"",1,""]
[null,null,null,null,"",1,""]
[null,null,null,null,"",1,""]